{"text_format":"1","workbook":"xlsx","n_sheets":6,"sheets":["Kent Local Wellbeing Tool","Data","Districts","Charts","Slicer","Sheet1"],"not_rendered":{"charts":2,"images":14,"macros":1,"external_links":0,"defined_names":3,"comments":2,"pivot_tables":2},"unopened":[],"bounds":{"document_bytes":16777216,"sheet_cells":100000,"rows_first":2000,"rows_last":500,"rows_between":2000,"halvings":0,"cell_chars":16384,"cell_head_chars":4096},"cells_cut":0,"cells_raw":0,"read":"whole","date_system":"1900"}

{"sheet":"Kent Local Wellbeing Tool","index":0,"n_rows":146,"n_cols":41,"rows_kept":146,"cut":false,"hidden":false,"merged":[[22,32,28,36],[51,8,52,8],[51,7,52,7],[51,9,52,9],[70,9,70,10],[68,5,70,7],[59,5,65,7],[65,9,65,10],[63,9,63,10],[61,9,61,10],[59,9,59,10],[68,9,68,10],[93,3,93,12],[85,7,87,10],[82,7,84,9],[73,5,79,8],[89,7,91,12],[73,9,73,10],[75,9,75,10],[77,9,77,10],[79,9,79,10],[85,15,86,20],[80,15,81,22],[73,15,74,24],[88,15,91,22],[92,24,93,36],[80,24,81,34],[85,24,86,34],[82,24,84,34],[76,15,77,18],[83,15,84,22]]}
[]
[]
[]
[]
[null,null,null,null,null,null,null,"  Select a Ward:"]
[null,null,null,null,null,null,null,{"$f":"IFERROR(CONCATENATE(\"Ranked \",Data!GX3,IF(RIGHT(Data!GX3,1)=\"1\",\"st\",IF(Data!GX3=12,\"th\",IF(RIGHT(Data!GX3,1)=\"2\",\"nd\",(IF(RIGHT(Data!GX3,1)=\"3\",\"rd\",\"th\"))))), \" Overall\"), \"No Rank\")","v":"No Rank"}]
[null,null,null,null,null,null,null,"Kent Mental Health & Wellbeing Index\nLocal Wellbeing Tool"]
[null,null,null,null,null,null,null,{"$f":"IFERROR(CONCATENATE(\"Ranked \",Data!GZ3,IF(RIGHT(Data!GZ3,1)=\"1\",\"st\",IF(Data!GZ3=12,\"th\",IF(RIGHT(Data!GZ3,1)=\"2\",\"nd\",(IF(RIGHT(Data!GZ3,1)=\"3\",\"rd\",\"th\")))))), \"No Rank\")","v":"No Rank"}]
[null,null,null,null,null,null,null,{"$f":"IFERROR(CONCATENATE(\"Ranked \",Data!HB3,IF(RIGHT(Data!HB3,1)=\"1\",\"st\",IF(Data!HB3=12,\"th\",IF(RIGHT(Data!HB3,1)=\"2\",\"nd\",(IF(RIGHT(Data!HB3,1)=\"3\",\"rd\",\"th\")))))), \"No Rank\")","v":"No Rank"}]
[null,null,null,null,null,null,null,{"$f":"IFERROR(CONCATENATE(\"Ranked \",Data!HD3,IF(RIGHT(Data!HD3,1)=\"1\",\"st\",IF(Data!HD3=12,\"th\",IF(RIGHT(Data!HD3,1)=\"2\",\"nd\",(IF(RIGHT(Data!HD3,1)=\"3\",\"rd\",\"th\")))))), \"No Rank\")","v":"No Rank"}]
[]
[]
[]
[]
[]
[null,null,null,"Select district and ward:",null,null,null,null,null,null,null,null,null,{"$f":"IFERROR(CONCATENATE(\"Assets and Vulnerabilities: Benchmarked against Kent - \",Data!$C$2), \" \")","v":" "}]
[]
[]
[]
[]
[]
[]
[null,null,null,null,null,null,null,null,null,null,null,null,null,null,null,null,null,null,null,null,null,null,null,null,null,null,null,null,null,null,null,null,{"$f":"Sheet1!L5","v":"Attainment: Key Stage 4 pupils - % pupils achieving 5+ A*-C GCSEs (including English & Maths) at the end of Key Stage 4, 2019. Source: KCC, MIU."}]
[]
[]
[]
[]
[]
[null,null,null,{"$f":"IFERROR(CONCATENATE(\"Overall Wellbeing Index: \",Data!C2), \" \")","v":" "}]
[]
[]
[]
[]
[]
[]
[]
[]
[]
[]
[]
[]
[]
[]
[]
[]
[]
[]
[]
[]
[]
[]
[null,null,null,null,null,null,null,{"$f":"Charts!A2","v":""},{"$f":"Charts!A3","v":""},{"$f":"Charts!A4","v":"Kent"}]
[]
[]
[]
[null,null,null,{"$f":"IFERROR(CONCATENATE(\"Assets and Vulnerabilities: Summary - \",Data!$C$2), \" \")","v":" "}]
[]
[]
[]
[null,null,null,null,null,"Self",null,null,null,"Education"]
[]
[null,null,null,null,null,null,null,null,null,"Material Wellbeing"]
[]
[null,null,null,null,null,null,null,null,null,"Health"]
[]
[null,null,null,null,null,null,null,null,null,"Life Satisfaction"]
[]
[]
[null,null,null,null,null,"Supports",null,null,null,"Strong & Stable Families"]
[]
[null,null,null,null,null,null,null,null,null,"Social Capital"]
[]
[]
[null,null,null,null,null,"Systems & Structures",null,null,null,"Enabling Infrastructure",null,null,null,null,null,"Useful links"]
[]
[null,null,null,null,null,null,null,null,null,"Local Economy"]
[null,null,null,null,null,null,null,null,null,null,null,null,null,null,null,"Data Sources"]
[null,null,null,null,null,null,null,null,null,"Effective Public Services",null,null,null,null,null,null,null,null,null,null,null,null,null,null,null,null,null,null,null,null,null,null,null,null,null,null,null,null,null,null,"Wellbeing rank indicates ranking  within the 283 Wards in Kent."]
[]
[null,null,null,null,null,null,null,null,null,"Crime",null,null,null,null,null,"KPHO Health & Social Care Maps",null,null,null,null,null,null,null,null,"Ward-level data on a range of health and social care needs."]
[null,null,null,null,null,null,null,null,null,null,null,null,null,null,null,"Mind the Gap: Inequalities Action Plan for Kent - Analytical Report",null,null,null,null,null,null,null,null,"Analysis seeking to provide greater understanding of the true nature of the health inequalities in Kent."]
[]
[null,null,null,null,null,null,null,"  Asset  (within upper quartile in Kent)",null,null,null,null,null,null,null,null,null,null,null,null,null,null,null,null,"Containing a range of social and economic data at Ward-level."]
[null,null,null,null,null,null,null,null,null,null,null,null,null,null,null,"KCC Kent Analytics Area Profiles"]
[]
[null,null,null,null,null,null,null,"  Vulnerability  (within lower quartile in Kent)",null,null,null,null,null,null,null,"Public Health England Local Health",null,null,null,null,null,null,null,null,"Containing health information, including interactive maps and reports, at small area level."]
[]
[]
[null,null,null,null,null,null,null,null,null,null,null,null,null,null,null,"Other Links"]
[null,null,null,null,null,null,null,"  Average  (within interquartile range in Kent)"]
[]
[]
[null,null,null,null,null,null,null,null,null,null,null,null,null,null,null,"Live it Well",null,null,null,null,null,null,null,null,"Designed to  promote better wellbeing and mental health for all of the residents in Kent and Medway, and to help people connect with support in their local communities."]
[null,null,null,"https://www.kpho.org.uk/health-intelligence/disease-groups/mental-health/kent-mental-health-and-wellbeing-index"]
[]
[]
[]
[]
[]
[]
[]
[]
[]
[]
[]
[]
[]
[null,null,null,"Assets and Vulnerabilities: Key"]
[]
[null,null,null,"Education",null,null,null,null,null,null,null,null,null,null,null,null,null,null,"Social Capital"]
[]
[null,null,null,1,"% pupils achieving 5+ A*-C GCSEs (including English & Maths) at the end of Key Stage 4, 2017 to 2019. Source: KCC",null,null,null,null,null,null,null,null,null,null,null,null,null,25,"Member of a sports/hobby organisation (modelled from Mosaic segmentation tool). Source: Mosaic 2021"]
[null,null,null,2,"% pupils achieving a good level of development at early years foundation stage, 2017 to 2019. Source: KCC",null,null,null,null,null,null,null,null,null,null,null,null,null,26,"Member of a Children's/youth clubs organisation (modelled from Mosaic segmentation tool). Source: Mosaic 2021"]
[null,null,null,3,"Index of Multiple Deprivation: Education, skills and training domain. Source: IMD 2019",null,null,null,null,null,null,null,null,null,null,null,null,null,27,"Member of a Social club organisation, (modelled from Mosaic segmentation tool). Source: Mosaic 2021"]
[null,null,null,null,null,null,null,null,null,null,null,null,null,null,null,null,null,null,28,"Member of a Local community organisation (modelled from Mosaic segmentation tool). Source: Mosaic 2021"]
[null,null,null,"Material Wellbeing"]
[null,null,null,null,null,null,null,null,null,null,null,null,null,null,null,null,null,null,"Enabling Infrastructure"]
[null,null,null,4,"% of working age (aged 16-64) claiming benefits, July 2021. Source: DWP"]
[null,null,null,5,"Index of Multiple Deprivation: children affected by income deprivation (IDACI). Source: IMD 2019",null,null,null,null,null,null,null,null,null,null,null,null,null,29,"Index of Multiple Deprivation: Barriers to housing and services domain - Source: IMD 2019"]
[null,null,null,6,"Index of Multiple Deprivation: older people affected by income deprivation (IDAOPI). Source: IMD 2019",null,null,null,null,null,null,null,null,null,null,null,null,null,30,"Access to services - Distance to nearest GP, 2016. Source: KCC"]
[null,null,null,7,"Adequacy of income 'Very difficult' (modelled from Mosaic segmentation tool). Source: Mosaic 2019",null,null,null,null,null,null,null,null,null,null,null,null,null,31,"Access to services - Distance to nearest urgent care centre/A&E, 2016. Source: KCC"]
[null,null,null,8,"% of young people (aged 18 - 24) claiming benefits, Jul 2021. Source: DWP"]
[null,null,null,null,null,null,null,null,null,null,null,null,null,null,null,null,null,null,"Local Economy"]
[null,null,null,"Health"]
[null,null,null,9,"Deaths from all causes, (all ages, standardised mortality ratio) 2015-2019. Source: PHE Fingertips",null,null,null,null,null,null,null,null,null,null,null,null,null,32,"Jobs per 16-64 population (employed within the ward), 2021. Source: Nomis"]
[null,null,null,10,"Prevantable Deaths in under 75s, 2015-2019. Source: Fingertips.",null,null,null,null,null,null,null,null,null,null,null,null,null,33,"Travel time to nearest employment centres by car, public transport or cycle, 2017. Source: Department for Transport."]
[null,null,null,11,"Hospital admissions for self-harm (Age standardised rate), 2013/14- 2020/21. Source: NHS England HES. "]
[null,null,null,12,"\"Limited Day to Day activity\"(modelled from Mosaic segmentation tool). Source: Mosaic 2019",null,null,null,null,null,null,null,null,null,null,null,null,null,"Effective Public Services"]
[null,null,null,13,"Diagnosed with depression (modelled from GP-level recorded prevalence), 2020/21.  Source: QOF"]
[null,null,null,14,"Diagnosed with severe mental health condition (modelled from GP-level recorded prevalence), 2020/21.  Source: QOF",null,null,null,null,null,null,null,null,null,null,null,null,null,34,"Perception of local police as effective at catching criminals (modelled from Mosaic segmentation tool). Source: Mosaic 2021"]
[null,null,null,15,"Index of Multiple Deprivation: Health domain - Source: IMD 2019",null,null,null,null,null,null,null,null,null,null,null,null,null,35,"Perception of ablity to talk about issues with local GP (modelled from Mosaic segmentation tool). Source: Mosaic 2021"]
[null,null,null,16,"Alcohol-related hospital admissions (Age standardised rate), 2013/14- 2020/21. Source: NHS England HES"]
[null,null,null,null,null,null,null,null,null,null,null,null,null,null,null,null,null,null,"Crime"]
[null,null,null,"Life Satisfaction"]
[null,null,null,null,null,null,null,null,null,null,null,null,null,null,null,null,null,null,36,"Reported crime rate: all recorded crime excl. antisocial behaviour (rate per 1,000 population), Jul 2019 - Jun 2021. Source: Police.data.uk"]
[null,null,null,17,"\"Does not enjoy general happiness\" (modelled from Acorn segmentation tool). Source: CACI ACORN Wellbing",null,null,null,null,null,null,null,null,null,null,null,null,null,37,"Reported crime rate: burglary (rate per 1,000 population),  Jul 2019 - Jun 2021. Source: Police.data.uk"]
[null,null,null,18,"\"Not satisfied with: Life overall\" (modelled from Acorn segmentation tool). Source: CACI ACORN Wellbing",null,null,null,null,null,null,null,null,null,null,null,null,null,38,"Reported crime rate: antisocial behaviour (rate per 1,000 population),  Jul 2019 - Jun 2021. Source: Police.data.uk"]
[null,null,null,19,"\"More than usual difficulties: under strain\" (modelled from Acorn segmentation tool). Source: CACI ACORN Wellbing",null,null,null,null,null,null,null,null,null,null,null,null,null,39,"Reported crime rate: violence & sexual offences (rate per 1,000 population),  Jul 2019 - Jun 2021. Source: Police.data.uk"]
[null,null,null,null,null,null,null,null,null,null,null,null,null,null,null,null,null,null,40,"Index of Multiple Deprivation: Crime domain. Source: IMD 2019"]
[null,null,null,"Strong & Stable Families"]
[]
[null,null,null,20,"% living in households consisting of a lone parent with dependent children, 2011. Source: Census"]
[null,null,null,21,"% living in one person pensioner (aged 65+) households, 2011. Source: Census"]
[null,null,null,22,"% providing 50+ hours of unpaid care per week, 2011. Source: Census"]
[null,null,null,23,"Domestic abuse victims (troubled families programme), rate per 1,000 population, 2020/21. Source: KCC"]
[null,null,null,24,"Children's social care referrals progressing to an initial assessment, 2018/19- 2020/21. Source: KCC"]

{"sheet":"Data","index":1,"n_rows":292,"n_cols":212,"rows_kept":292,"cut":false,"hidden":true,"merged":[[2,130,2,136],[2,137,2,143],[2,88,2,94],[2,95,2,101],[2,102,2,108],[2,109,2,115],[2,116,2,122],[2,123,2,129],[2,81,2,87],[2,46,2,52],[2,53,2,59],[2,60,2,66],[2,67,2,73],[2,74,2,80]]}
[{"$f":"GETPIVOTDATA(\"Index Number\",Slicer!$A$3)","v":40186},null,null,null,null,null,null,null,null,null,null,null,null,null,null,null,null,null,null,null,null,0.78368794326241131,4.2553191489361701E-2,0.40070921985815605,9.5744680851063829E-2,5.6737588652482268E-2,0.50354609929078009,0.17375886524822695,0.53191489361702127,0.61702127659574468,0.61702127659574468,7.4468085106382975E-2,2.8368794326241134E-2,0.36170212765957449,0.1773049645390071,0.1773049645390071,0.8936170212765957,0.77659574468085102,0.42553191489361702,0.20921985815602837,7.4468085106382975E-2,0.11702127659574468,0.33333333333333331,0.49290780141843971,0.15957446808510639,0.24822695035460993]
[null,{"$f":"INDEX(B5:B287,$A$1)","v":{"$error":"#REF!"}},{"$f":"INDEX(C5:C287,$A$1)","v":{"$error":"#REF!"}},{"$error":"#REF!"},{"$error":"#REF!"},{"$error":"#REF!"},{"$error":"#REF!"},{"$error":"#REF!"},{"$error":"#REF!"},{"$error":"#REF!"},{"$error":"#REF!"},{"$error":"#REF!"},{"$error":"#REF!"},{"$error":"#REF!"},{"$error":"#REF!"},{"$error":"#REF!"},{"$error":"#REF!"},{"$error":"#REF!"},{"$error":"#REF!"},{"$error":"#REF!"},{"$error":"#REF!"},{"$error":"#REF!"},{"$error":"#REF!"},{"$error":"#REF!"},{"$error":"#REF!"},{"$error":"#REF!"},{"$error":"#REF!"},{"$error":"#REF!"},{"$error":"#REF!"},{"$error":"#REF!"},{"$error":"#REF!"},{"$error":"#REF!"},{"$error":"#REF!"},{"$error":"#REF!"},{"$error":"#REF!"},{"$error":"#REF!"},{"$error":"#REF!"},{"$error":"#REF!"},{"$error":"#REF!"},{"$error":"#REF!"},{"$error":"#REF!"},{"$error":"#REF!"},{"$error":"#REF!"},{"$error":"#REF!"},{"$error":"#REF!"},{"$error":"#REF!"},{"$f":"INDEX(AU5:AU287,$A$1)","v":{"$error":"#REF!"}},{"$error":"#REF!"},{"$error":"#REF!"},{"$error":"#REF!"},{"$error":"#REF!"},{"$error":"#REF!"},{"$error":"#REF!"},{"$error":"#REF!"},{"$error":"#REF!"},{"$error":"#REF!"},{"$error":"#REF!"},{"$error":"#REF!"},{"$error":"#REF!"},{"$error":"#REF!"},{"$error":"#REF!"},{"$error":"#REF!"},{"$error":"#REF!"},{"$error":"#REF!"},{"$error":"#REF!"},{"$error":"#REF!"},{"$error":"#REF!"},{"$error":"#REF!"},{"$error":"#REF!"},{"$error":"#REF!"},{"$error":"#REF!"},{"$error":"#REF!"},{"$error":"#REF!"},{"$error":"#REF!"},{"$error":"#REF!"},{"$error":"#REF!"},{"$error":"#REF!"},{"$error":"#REF!"},{"$error":"#REF!"},{"$error":"#REF!"},{"$error":"#REF!"},{"$error":"#REF!"},{"$error":"#REF!"},{"$error":"#REF!"},{"$error":"#REF!"},{"$error":"#REF!"},{"$error":"#REF!"},{"$error":"#REF!"},{"$error":"#REF!"},{"$error":"#REF!"},{"$error":"#REF!"},{"$error":"#REF!"},{"$f":"INDEX(CO5:CO287,$A$1)","v":{"$error":"#REF!"}},{"$error":"#REF!"},{"$error":"#REF!"},{"$error":"#REF!"},{"$error":"#REF!"},{"$error":"#REF!"},{"$error":"#REF!"},{"$error":"#REF!"},{"$error":"#REF!"},{"$error":"#REF!"},{"$error":"#REF!"},{"$error":"#REF!"},{"$error":"#REF!"},{"$error":"#REF!"},{"$error":"#REF!"},{"$error":"#REF!"},{"$error":"#REF!"},{"$error":"#REF!"},{"$error":"#REF!"},{"$error":"#REF!"},{"$error":"#REF!"},{"$error":"#REF!"},{"$error":"#REF!"},{"$error":"#REF!"},{"$error":"#REF!"},{"$error":"#REF!"},{"$error":"#REF!"},{"$error":"#REF!"},{"$error":"#REF!"},{"$error":"#REF!"},{"$error":"#REF!"},{"$error":"#REF!"},{"$error":"#REF!"},{"$error":"#REF!"},{"$error":"#REF!"},{"$error":"#REF!"},{"$error":"#REF!"},{"$error":"#REF!"},{"$error":"#REF!"},{"$error":"#REF!"},{"$error":"#REF!"},{"$error":"#REF!"},{"$error":"#REF!"},{"$error":"#REF!"},{"$error":"#REF!"},{"$error":"#REF!"},{"$error":"#REF!"},{"$error":"#REF!"},{"$error":"#REF!"},{"$error":"#REF!"},{"$error":"#REF!"},{"$error":"#REF!"},null,{"$error":"#REF!"},{"$error":"#REF!"},{"$error":"#REF!"},{"$error":"#REF!"}]
[null,null,{"$f":"CONCATENATE(\"  Wellbeing Index: \",C2)","v":{"$error":"#REF!"}},null,null,null,1,2,3,4,5,6,7,8,9,10,11,12,13,14,15,16,17,18,19,20,21,22,23,24,25,26,27,28,29,30,31,32,33,34,35,36,37,38,39,40,"Education",null,null,null,null,null,null,"material wellbeing",null,null,null,null,null,null,"health",null,null,null,null,null,null,"life satisfaction",null,null,null,null,null,null,"strong and stable families",null,null,null,null,null,null,"social capital",null,null,null,null,null,null,"enabling infrastructure",null,null,null,null,null,null,"local economy",null,null,null,null,null,null,"effective public services",null,null,null,null,null,null,"crime",null,null,null,null,null,null,"selfdomain",null,null,null,null,null,null,"supportsdomain",null,null,null,null,null,null,"structuresdomain",null,null,null,null,null,null,"overallindex",null,null,null,null,null,null,null,null,null,null,null,null,null,null,null,null,"Adjusted values of the catagories ------>",null,null,null,null,null,null,null,null,null,null,null,null,null,null,null,null,null,null,null,null,null,null,null,null,null,null,null,null,null,null,null,null,null,null,null,null,null,null,null,null,null,null,null,null,null,null,null,null,null,{"$f":"INDEX(GW5:GW288,$A$1)","v":{"$error":"#REF!"}},{"$f":"INDEX(GX5:GX288,$A$1)","v":{"$error":"#REF!"}},null,{"$error":"#REF!"},null,{"$error":"#REF!"},null,{"$error":"#REF!"}]
["ward11","ward01","wardname","District","ccg","Index Number","education1","education7","education5","matwellbeing1b","matwellbeing4","matwellbeing5","matwellbeing6","matwellbeing7","health1","health2","health7","health8b","health10","health11","health12","health13","lifesatisfaction1","lifesatisfaction2","lifesatisfaction3","strong2","strong3","strong7b","strong8b","strong12","social4a","social2a","social3","social5","infra1","infra6a","infra6e","economy3b","economy4a","services2","services3","crime2c","crime3","crime4","crime5","crime6","arithmeticmean","rank","percentilerank","sloperank","slopevar","tdecvar","bdecvar","arithmeticmean","rank","percentilerank","sloperank","slopevar","tdecvar","bdecvar","arithmeticmean","rank","percentilerank","sloperank","slopevar","tdecvar","bdecvar","arithmeticmean","rank","percentilerank","sloperank","slopevar","tdecvar","bdecvar","arithmeticmean","rank","percentilerank","sloperank","slopevar","tdecvar","bdecvar","arithmeticmean","rank","percentilerank","sloperank","slopevar","tdecvar","bdecvar","arithmeticmean","rank","percentilerank","sloperank","slopevar","tdecvar","bdecvar","arithmeticmean","rank","percentilerank","sloperank","slopevar","tdecvar","bdecvar","arithmeticmean","rank","percentilerank","sloperank","slopevar","tdecvar","bdecvar","arithmeticmean","rank","percentilerank","sloperank","slopevar","tdecvar","bdecvar","weightedindex","rank","percentilerank","sloperank","slopevar","tdecvar","bdecvar","weightedindex","rank","percentilerank","sloperank","slopevar","tdecvar","bdecvar","weightedindex","rank","percentilerank","sloperank","slopevar","tdecvar","bdecvar","weightedindex","rank","percentilerank","sloperank","slopevar","tdecvar","bdecvar","District","inverted rank","self inverted rank","supports inverted rank","structures inverted rank","self inverted % rank","supports inverted % rank","structures inverted % rank","Overall inverted Rank","Overall % Rank","education1","education7","education5","matwellbeing1b","matwellbeing4","matwellbeing5","matwellbeing6","matwellbeing7","health1","health2","health7","health8b","health10","health11","health12","health13","lifesatisfaction1","lifesatisfaction2","lifesatisfaction3","strong2","strong3","strong7b","strong8b","strong12","social4a","social2a","social3","social5","infra1","infra6a","infra6e","economy3b","economy4a","services2","services3","crime2c","crime3","crime4","crime5","crime6","Education Average","Material Wellbeing Average","Health Average","Life Satisfaction Average","Strong Average","Social Average","Infra Average","Economy Average","Services Average","Crime Average","Overall index","Overall rank","Self Index","self rank","Supports Index","supports rank","Structures index","structures rank"]
["E05004867","29UBGZ","Aylesford Green","Ashford","NHS Ashford CCG",1,0.74760059578657057,0.73356352777183476,0.64730259996817474,1.0009925641936954,0.70867706650825457,0.46328005287958635,0.2597261053989684,0.92570508601167056,1.3246630592151878,1.2025809051471892,0.52199521068067578,0.47836304768527965,0.25984345188367891,0.88829183907604792,0.67237608716956421,1.0318430923211996,1.6379597410101494,1.4736454759137938,1.6563636197780522,0.51581844272300126,1.031475299498374,0.76812254086672538,1.4862059454785044,1.0067956822844104,0.19468877691974476,0.57549740584624542,1.3000870438034231,0.17274909483481804,0.85398902169935387,1.1273609592691343,1.3392029107360828,0.30817715339144297,0.52199521068067578,0.61372789649153092,1.1574219861921238,0.99907835750521312,1.2999392942077981,0.99939742790785424,0.97008792758342333,0.4134234158009471,{"$f":"AVERAGE(G5:I5)","v":0.70948890784219343},{"$f":"RANK(AU5,$AU$5:$AU$287)","v":250},{"$f":"PERCENTRANK($AV$5:$AV$287,AV5)","v":0.88200000000000001},null,null,null,null,{"$f":"AVERAGE(J5:N5)","v":0.67167617499843502},{"$f":"RANK(BB5,$BB$5:$BB$287)","v":247},{"$f":"PERCENTRANK($BC$5:$BC$287,BC5)","v":0.872},null,null,null,null,{"$f":"AVERAGE(O5:V5)","v":0.79749458664735284},{"$f":"RANK(BI5,$BI$5:$BI$287)","v":226},{"$f":"PERCENTRANK($BJ$5:$BJ$287,BJ5)","v":0.79700000000000004},null,null,null,null,{"$f":"AVERAGE(W5:Y5)","v":1.5893229455673319},{"$f":"RANK(BP5,$BP$5:$BP$287)","v":12},{"$f":"PERCENTRANK($BJ$5:$BJ$287,BQ5)","v":3.9E-2},null,null,null,null,{"$f":"AVERAGE(Z5:AD5)","v":0.96168358217020311},{"$f":"RANK(BW5,$BW$5:$BW$287)","v":176},{"$f":"PERCENTRANK($BX$5:$BX$287,BX5)","v":0.62},null,null,null,null,{"$f":"AVERAGE(AE5:AH5)","v":0.56075558035105777},{"$f":"RANK(CD5,$CD$5:$CD$287)","v":270},{"$f":"PERCENTRANK($CE$5:$CE$287,CE5)","v":0.95299999999999996},null,null,null,null,{"$f":"AVERAGE(AI5:AK5)","v":1.1068509639015236},{"$f":"RANK(CK5,$CK$5:$CK$287)","v":97},{"$f":"PERCENTRANK($CL$5:$CL$287,CL5)","v":0.34},null,null,null,null,{"$f":"AVERAGE(AL5:AM5)","v":0.4150861820360594},{"$f":"RANK(CR5,$CR$5:$CR$287)","v":279},{"$f":"PERCENTRANK($CS$5:$CS$287,CS5)","v":0.98499999999999999},null,null,null,null,{"$f":"AVERAGE(AN5:AO5)","v":0.88557494134182735},{"$f":"RANK(CY5,$CY$5:$CY$287)","v":242},{"$f":"PERCENTRANK($CZ$5:$CZ$287,CZ5)","v":0.85399999999999998},null,null,null,null,{"$f":"AVERAGE(AP5:AT5)","v":0.9363852846010472},{"$f":"RANK(DF5,DF$5:DF$287)","v":215},{"$f":"PERCENTRANK(DG$5:DG$287,DG5)","v":0.75800000000000001},null,null,null,null,{"$f":"AVERAGE(G5:Y5)","v":0.87551437517892483},{"$f":"RANK(DM5,DM$5:DM$287)","v":206},{"$f":"PERCENTRANK(DN$5:DN$287,DN5)","v":0.72599999999999998},null,null,null,null,{"$f":"AVERAGE(Data!Z5:AH5)","v":0.78349335913947182},{"$f":"RANK(DT5,DT$5:DT$287)","v":224},{"$f":"PERCENTRANK(DU$5:DU$287,DU5)","v":0.79},null,null,null,null,{"$f":"AVERAGE(AI5:AT5)","v":0.88365013012213167},{"$f":"RANK(EA5,EA$5:EA$287)","v":257},{"$f":"PERCENTRANK(EB$5:EB$287,EB5)","v":0.90700000000000003},null,null,null,null,{"$f":"AVERAGE(G5:AT5)","v":0.85725037305301},{"$f":"RANK(EH5,EH$5:EH$287)","v":227},{"$f":"PERCENTRANK(EI$5:EI$287,EI5)","v":0.80100000000000005},null,null,null,null,"Ashford",{"$f":"RANK(EH5,EH$5:EH$287,1)","v":57},{"$f":"RANK(DM5,DM$5:DM$287,1)","v":78},{"$f":"RANK(DT5,DT$5:DT$287,1)","v":60},{"$f":"RANK(EA5,EA$5:EA$287,1)","v":27},{"$f":"PERCENTRANK(EQ$5:EQ$287,EQ5)","v":0.27300000000000002},{"$f":"PERCENTRANK(ER$5:ER$287,ER5)","v":0.20899999999999999},{"$f":"PERCENTRANK(ES$5:ES$287,ES5)","v":9.1999999999999998E-2},{"$f":"RANK(EH5,EH$5:EH$287,1)","v":57},{"$f":"PERCENTRANK(EW$5:EW$287,EW5)","v":0.19800000000000001},{"$f":"G5/G$292","v":0.43637384615384606},{"$f":"H5/H$292","v":0.45871796527015685},0.488549256878067,0.69504702334945379,0.50242581462944647,0.35167830228878716,0.1711515715809242,0.52803286002864236,0.67169154949992771,0.67980289984802489,0.39825575100303368,0.30740288755458478,0.11333703257925618,0.55223036217366228,0.35919761777701747,0.61627882813385237,0.79487230812657939,0.77532440497000787,0.63984356668293396,0.3737957062871709,0.63702933038111476,0.48753680175177638,0.8349251142794657,0.60582784928520417,7.8888716095345604E-2,0.16967674190210252,0.60545712967679355,6.0149300937409743E-2,0.5028803668548576,0.91890360133989646,0.96871158809041369,4.2513799992790202E-2,0.39825575100303368,0.20842837564701497,0.5533219811676513,0.86939752936054915,0.9500963448290034,0.88883547959558973,0.85907139688844492,0.22480573830491687,{"$f":"AVERAGE(EY5:FA5)","v":0.4612136894340233},{"$f":"AVERAGE(FB5:FF5)","v":0.44966711437545082},{"$f":"AVERAGE(FG5:FN5)","v":0.46227461607116993},{"$f":"AVERAGE(FO5:FQ5)","v":0.73668009325984041},{"$f":"AVERAGE(FR5:FV5)","v":0.58782296039694626},{"$f":"AVERAGE(FW5:FZ5)","v":0.22854297215291286},{"$f":"AVERAGE(GA5:GC5)","v":0.79683185209505591},{"$f":"AVERAGE(GD5:GE5)","v":0.22038477549791194},{"$f":"AVERAGE(GF5:GG5)","v":0.38087517840733315},{"$f":"AVERAGE(GH5:GL5)","v":0.7584412977957008},{"$f":"AVERAGE(EY5:GL5)","v":0.51946806230496867},{"$f":"RANK(GW5,$GW$5:$GW$287)","v":226},{"$f":"AVERAGE(Data!EY5:FQ5)","v":0.50211651834358972},{"$f":"RANK(GY5,GY$5:GY$287)","v":218},{"$f":"AVERAGE(Data!FR5:FZ5)","v":0.4281429656218203},{"$f":"RANK(HA5,HA$5:HA$287)","v":219},{"$f":"AVERAGE(Data!GA5:GL5)","v":0.61543516275618027},{"$f":"RANK(HC5,HC$5:HC$287)","v":222}]
["E05004868","29UBHA","Beaver","Ashford","NHS Ashford CCG",2,0.50591129115914479,0.46084898649932943,0.48780302383834623,1.0009925641936954,0.55700277797591469,0.64184371955269459,0.39855962889446689,0.92570508601167056,1.3246630592151878,1.2025809051471892,1.058653639878838,0.42646550505222819,0.3352784500020925,0.90671247697210045,0.69996160153191245,0.79941921216568579,1.3897113951699787,1.3636794222685795,1.2071172319878543,0.76233941810746952,0.99219206163940232,0.87777128583054675,1.4862059454785044,1.0067956822844104,0.23130496051066768,0.32968459475869022,1.3557364243421024,0.17583240202603362,1.1097624501601642,1.1696068715850805,1.2528798428132522,0.26214698933403591,1.058653639878838,0.69243460718609906,1.1453340140890882,0.96293556764170529,0.98390489655572932,0.9990283348312865,0.94697332629451081,1.250513271016177,{"$f":"AVERAGE(G6:I6)","v":0.4848544338322735},{"$f":"RANK(AU6,$AU$5:$AU$287)","v":277},{"$f":"PERCENTRANK($AV$5:$AV$287,AV6)","v":0.97799999999999998},null,null,null,null,{"$f":"AVERAGE(J6:N6)","v":0.70482075532568833},{"$f":"RANK(BB6,$BB$5:$BB$287)","v":242},{"$f":"PERCENTRANK($BC$5:$BC$287,BC6)","v":0.85399999999999998},null,null,null,null,{"$f":"AVERAGE(O6:V6)","v":0.84421685624565423},{"$f":"RANK(BI6,$BI$5:$BI$287)","v":211},{"$f":"PERCENTRANK($BJ$5:$BJ$287,BJ6)","v":0.74399999999999999},null,null,null,null,{"$f":"AVERAGE(W6:Y6)","v":1.3201693498088041},{"$f":"RANK(BP6,$BP$5:$BP$287)","v":66},{"$f":"PERCENTRANK($BJ$5:$BJ$287,BQ6)","v":0.23},null,null,null,null,{"$f":"AVERAGE(Z6:AD6)","v":1.0250608786680666},{"$f":"RANK(BW6,$BW$5:$BW$287)","v":148},{"$f":"PERCENTRANK($BX$5:$BX$287,BX6)","v":0.52100000000000002},null,null,null,null,{"$f":"AVERAGE(AE6:AH6)","v":0.52313959540937349},{"$f":"RANK(CD6,$CD$5:$CD$287)","v":276},{"$f":"PERCENTRANK($CE$5:$CE$287,CE6)","v":0.97499999999999998},null,null,null,null,{"$f":"AVERAGE(AI6:AK6)","v":1.1774163881861657},{"$f":"RANK(CK6,$CK$5:$CK$287)","v":43},{"$f":"PERCENTRANK($CL$5:$CL$287,CL6)","v":0.14799999999999999},null,null,null,null,{"$f":"AVERAGE(AL6:AM6)","v":0.660400314606437},{"$f":"RANK(CR6,$CR$5:$CR$287)","v":239},{"$f":"PERCENTRANK($CS$5:$CS$287,CS6)","v":0.84299999999999997},null,null,null,null,{"$f":"AVERAGE(AN6:AO6)","v":0.91888431063759368},{"$f":"RANK(CY6,$CY$5:$CY$287)","v":222},{"$f":"PERCENTRANK($CZ$5:$CZ$287,CZ6)","v":0.78300000000000003},null,null,null,null,{"$f":"AVERAGE(AP6:AT6)","v":1.0286710792678817},{"$f":"RANK(DF6,$DF$5:$DF$287)","v":135},{"$f":"PERCENTRANK($DG$5:$DG$287,DG6)","v":0.47499999999999998},null,null,null,null,{"$f":"AVERAGE(G6:Y6)","v":0.82594263039562676},{"$f":"RANK(DM6,DM$5:DM$287)","v":220},{"$f":"PERCENTRANK(DN$5:DN$287,DN6)","v":0.77600000000000002},null,null,null,null,{"$f":"AVERAGE(Data!Z6:AH6)","v":0.80198475277531422},{"$f":"RANK(DT6,DT$5:DT$287)","v":219},{"$f":"PERCENTRANK(DU$5:DU$287,DU6)","v":0.77300000000000002},null,null,null,null,{"$f":"AVERAGE(AI6:AT6)","v":0.98618115094883063},{"$f":"RANK(EA6,EA$5:EA$287)","v":152},{"$f":"PERCENTRANK(EB$5:EB$287,EB6)","v":0.53500000000000003},null,null,null,null,{"$f":"AVERAGE(G6:AT6)","v":0.86862366409701741},{"$f":"RANK(EH6,EH$5:EH$287)","v":224},{"$f":"PERCENTRANK(EI$5:EI$287,EI6)","v":0.79},null,null,null,null,"Ashford",{"$f":"RANK(EH6,EH$5:EH$287,1)","v":60},{"$f":"RANK(DM6,DM$5:DM$287,1)","v":64},{"$f":"RANK(DT6,DT$5:DT$287,1)","v":65},{"$f":"RANK(EA6,EA$5:EA$287,1)","v":132},{"$f":"PERCENTRANK(EQ$5:EQ$287,EQ6)","v":0.223},{"$f":"PERCENTRANK(ER$5:ER$287,ER6)","v":0.22600000000000001},{"$f":"PERCENTRANK(ES$5:ES$287,ES6)","v":0.46400000000000002},{"$f":"RANK(EH6,EH$5:EH$287,1)","v":60},{"$f":"PERCENTRANK(EW$5:EW$287,EW6)","v":0.20899999999999999},{"$f":"G6/G$292","v":0.29530000000000001},0.28818187025451386,0.3681675383519471,0.69504702334945379,0.3948943569661203,0.48722691215389075,0.26263862367324775,0.52803286002864236,0.67169154949992771,0.67980289984802489,0.80769879066947914,0.27405278967477709,0.14623983916292971,0.56368204403014288,0.37393438672699708,0.47746129128303155,0.67440186510769984,0.71746831508752973,0.46630231785882503,0.55244089319050949,0.61276837646329163,0.55713220559897703,0.8349251142794657,0.60582784928520417,9.3725748601796249E-2,9.7202537015283919E-2,0.63137332841889482,6.1222873984517402E-2,0.65349522520531855,0.95333793281983292,0.90626985088540746,3.6163825094143932E-2,0.80769879066947914,0.23515799304972457,0.54754315481724125,0.83794609016613419,0.71911392327488688,0.88850721877305261,0.83860202266661399,0.67998702639098141,{"$f":"AVERAGE(EY6:FA6)","v":0.31721646953548704},{"$f":"AVERAGE(FB6:FF6)","v":0.47356795523427098},{"$f":"AVERAGE(FG6:FN6)","v":0.49932044886191385},{"$f":"AVERAGE(FO6:FQ6)","v":0.61939083268468487},{"$f":"AVERAGE(FR6:FV6)","v":0.63261888776348951},{"$f":"AVERAGE(FW6:FZ6)","v":0.22088112200512311},{"$f":"AVERAGE(GA6:GC6)","v":0.83770100297018635},{"$f":"AVERAGE(GD6:GE6)","v":0.42193130788181155},{"$f":"AVERAGE(GF6:GG6)","v":0.39135057393348294},{"$f":"AVERAGE(GH6:GL6)","v":0.79283125625433382},{"$f":"AVERAGE(EY6:GL6)","v":0.53306668135944846},{"$f":"RANK(GW6,$GW$5:$GW$287)","v":218},{"$f":"AVERAGE(Data!EY6:FQ6)","v":0.48274869861722003},{"$f":"RANK(GY6,GY$5:GY$287)","v":226},{"$f":"AVERAGE(Data!FR6:FZ6)","v":0.44962432520421558},209,{"$f":"AVERAGE(Data!GA6:GL6)","v":0.67531858781773479},89]
["E05004869","29UBHB","Biddenden","Ashford","NHS Ashford CCG",3,0.92469197248012536,0.61245536770036402,0.99255232285639095,1.0009925641936954,1.115102464613398,1.1133080402235167,1.11050429457241,0.92570508601167056,1.3246630592151878,1.2025809051471892,1.1740859272293152,1.09495356361903,1.2142845274229686,1.1893882376117748,1.1756068795015298,1.1602253658222268,1.0667524959167543,1.0653968472530244,1.0507090546472242,1.1418085368505042,1.0414135337515984,0.974537499098027,1.4862059454785044,1.0067956822844104,1.173945711047611,1.6343932069441103,0.66973514896237718,2.2307056844109669,0.68651194597608256,0.36957102586544671,0.92405752303082367,0.6216643308393025,1.1740859272293152,0.4028220207221665,1.4588183940025323,1.1297402423324343,0.81099177344862605,1.1103503439229863,1.1147649313891814,0.78634932508373001,0.84323322101229348,{"$f":"RANK(AU7,$AU$5:$AU$287)","v":216},0.76200000000000001,null,null,null,null,1.0531224899229381,133,0.46800000000000003,null,null,null,null,1.1919735581961528,70,0.24399999999999999,null,null,null,null,1.0609527992723342,134,0.47099999999999997,null,null,null,null,1.1301522394926089,98,0.34300000000000003,null,null,null,null,1.4271949378412665,26,8.7999999999999995E-2,null,null,null,null,0.66004683162411759,267,0.94299999999999995,null,null,null,null,0.89787512903430877,140,0.49199999999999999,null,null,null,null,0.93082020736234938,214,0.755,null,null,null,null,0.99043932323539163,174,0.61299999999999999,null,null,null,null,1.0796820513704104,116,0.40699999999999997,null,null,null,null,{"$f":"AVERAGE(Data!Z7:AH7)","v":1.2621712165364567},38,0.13100000000000001,null,null,null,null,0.882477315320219,258,0.91100000000000003,null,null,null,null,1.0615806927177134,110,0.38600000000000001,null,null,null,null,"Ashford",174,168,246,26,0.59199999999999997,0.86799999999999999,8.7999999999999995E-2,174,0.61299999999999999,0.53974193548387095,0.38298561672450093,0.74912521557603839,0.69504702334945379,0.7905663815807481,0.84511793477114561,0.73178841599874267,0.52803286002864236,0.67169154949992771,0.67980289984802489,0.89576774484401234,0.70363270913877118,0.5296396890025612,0.73941498540010042,0.6280342186719241,0.69295645252768212,0.51767573854178495,0.56053385305659165,0.40588275487577929,0.82742898106485929,0.64316708929262822,0.6185509085064903,0.8349251142794657,0.60582784928520417,0.47568776883507796,0.48187621963893984,0.31189905542642482,0.77670674710465926,0.40425973925954484,0.30123461685137748,0.66841643148018048,8.5760130928277042E-2,0.89576774484401234,0.13680254707980014,0.69740880470824551,0.98309944172510166,0.59273561701932942,0.9875138287337184,0.98719161385337495,0.42759029565014794,0.55728425592813668,0.71811052314574653,0.69261753111662538,0.49469744882471867,0.70597998848572951,0.51154244775127544,0.45797026253036766,0.4907639378861447,0.41710567589402281,0.79562615939633452,0.62578221311217919,120,{"$f":"AVERAGE(Data!EY7:FQ7)","v":0.64670726204843698},119,{"$f":"AVERAGE(Data!FR7:FZ7)","v":0.61956330371486101},54,{"$f":"AVERAGE(Data!GA7:GL7)","v":0.5973150676777591},243]
["E05004870","29UBHC","Bockhanger","Ashford","NHS Ashford CCG",4,0.94673612830375697,1.2237683972861997,0.89397675883424299,1.0009925641936954,0.68025965201174232,0.98156224875438602,0.89068765899568236,0.92570508601167056,1.3246630592151878,1.2025809051471892,0.80148752966678871,0.68577746890212987,0.60712583446321067,1.0899764679484141,0.81189201816143919,0.78698158479075486,1.5324719878566366,1.3796224225739051,1.3574834798174558,0.94698483410619594,0.9254616065251603,0.68628462174518512,1.4862059454785044,1.0067956822844104,0.62808843457890939,0.58565558956742869,1.3855895946100305,0.70154097467837018,0.5181662756816372,1.052275680432075,1.054092722974755,2.8148307566262178,0.80148752966678871,0.87212082179606532,1.311621372859098,1.0928985502411008,1.039718662630791,1.0687764892935263,1.0775270737196232,1.2477482047124004,1.0214937614747333,151,0.53100000000000003,null,null,null,null,0.89584144199343529,198,0.69799999999999995,null,null,null,null,0.91381060853688911,184,0.64800000000000002,null,null,null,null,1.4231926300826661,48,0.16600000000000001,null,null,null,null,1.0103465380278913,158,0.55600000000000005,null,null,null,null,0.82521864835868464,195,0.68700000000000006,null,null,null,null,0.87484489302948898,221,0.78,null,null,null,null,1.8081591431465034,13,4.2000000000000003E-2,null,null,null,null,1.0918710973275816,50,0.17299999999999999,null,null,null,null,1.1053337961194882,60,0.20899999999999999,null,null,null,null,1.0065132238386574,158,0.55600000000000005,null,null,null,null,{"$f":"AVERAGE(Data!Z8:AH8)","v":0.92806747595268824},182,0.64100000000000001,null,null,null,null,1.16260534505284,15,4.9000000000000002E-2,null,null,null,null,1.0356905669285692,136,0.47799999999999998,null,null,null,null,"Ashford",148,126,102,269,0.443,0.35799999999999998,0.95,148,0.52100000000000002,0.55260909090909094,0.76525689720447965,0.67472567114083226,0.69504702334945379,0.48227891937513739,0.74510901794087814,0.58693596621978539,0.52803286002864236,0.67169154949992771,0.67980289984802489,0.61149415074284674,0.44069034006799662,0.26481267848561485,0.67761300191838292,0.43372999781031607,0.47003279127132441,0.74368100486749644,0.72585635510610902,0.52438791885319735,0.68624701171852909,0.5715562823315895,0.43559327031274908,0.8349251142794657,0.60582784928520417,0.25450409100207622,0.17267172936849928,0.64527610121270274,0.24426871380253437,0.3051276306668172,0.85770214446514881,0.76247731204987967,0.38831285993728099,0.61149415074284674,0.29618130004198384,0.6270391829689691,0.95103981813196392,0.75990694751481769,0.95053923185530786,0.95421524388141743,0.67848347640294238,0.66419721975146762,0.6074807573827794,0.53123342620555425,0.66464175960893435,0.62682990558550744,0.32918015884645313,0.64176902906061528,0.49990350534006389,0.46161024150547647,0.8588369435572899,0.59667943991530648,161,{"$f":"AVERAGE(Data!EY8:FQ8)","v":0.59335727024418616},165,{"$f":"AVERAGE(Data!FR8:FZ8)","v":0.49454112925703886},173,{"$f":"AVERAGE(Data!GA8:GL8)","v":0.67854327488828137},85]
["E05004871","29UBHD","Boughton Aluph and Eastwell","Ashford","NHS Ashford CCG",5,1.1757898317675073,1.0398515923509277,1.1004554446076946,1.0009925641936954,0.90585449524214079,0.94836235988867168,1.0239904561632156,0.92570508601167056,1.3246630592151878,1.2025809051471892,1.1385657381282066,1.2341477853372567,0.71503865890442553,1.1298020829676416,1.1728875835549271,1.2852429362924407,0.52418524509502107,0.67812367023460884,0.35578749410730814,1.0654960699581641,1.4001489924034014,1.2263367200116355,1.4862059454785044,1.0067956822844104,1.2065961946436203,1.6106872748255801,0.72536872109079309,0.90982395400581773,0.88333495056510491,0.77343299900658069,1.139625074094621,3.7544050261871935,1.1385657381282066,1.0630929881893789,0.69851008419468685,1.0111755169953844,1.0992802728426196,0.98362548975924291,1.0129873944840579,0.76468150446125627,1.1053656229087101,113,0.39700000000000002,null,null,null,null,0.96098099229987888,180,0.63400000000000001,null,null,null,null,1.1503660936934093,87,0.30399999999999999,null,null,null,null,0.51936546981231269,245,0.86499999999999999,null,null,null,null,1.2369966820272231,50,0.17299999999999999,null,null,null,null,1.1131190361414527,98,0.34300000000000003,null,null,null,null,0.93213100788876879,196,0.69099999999999995,null,null,null,null,2.4464853821577002,6,1.7000000000000001E-2,null,null,null,null,0.88080153619203294,245,0.86499999999999999,null,null,null,null,0.9743500357085122,188,0.66300000000000003,null,null,null,null,0.99379089416893363,162,0.56999999999999995,null,null,null,null,{"$f":"AVERAGE(Data!Z9:AH9)","v":1.1819399505224366},67,0.23400000000000001,null,null,null,null,1.1935597532423612,9,2.8000000000000001E-2,null,null,null,null,1.0960550895704999,92,0.32200000000000001,null,null,null,null,"Ashford",192,122,217,275,0.42899999999999999,0.76500000000000001,0.97099999999999997,192,0.67700000000000005,0.68630754716981124,0.65024853140533212,0.83056469990533788,0.69504702334945379,0.64221731479224808,0.71990680929861328,0.67477843856699182,0.52803286002864236,0.67169154949992771,0.67980289984802489,0.86866765025160153,0.79308089267665849,0.31188147783672809,0.70237165987108086,0.62658151289506903,0.76762447366276121,0.25437764141725283,0.35677904876999228,0.13743862548810845,0.77212798734708155,0.86471869515275512,0.77837096366238978,0.8349251142794657,0.60582784928520417,0.488917882925543,0.47488688261541334,0.33780789211169421,0.31679051552708887,0.52016102398126829,0.6304195318622845,0.82434708474988894,0.51792945264994639,0.86866765025160153,0.36103743361957669,0.33393264363653674,0.87992447201127177,0.80343918660208558,0.87480836904176362,0.89706146346715576,0.41580806410175641,0.722373592826827,0.65199648920718989,0.67771276456773155,0.24953177189178455,0.77119412194537929,0.40460079329493487,0.65830921353114713,0.6932985514507739,0.34748503862805669,0.77420831104480659,0.62498277039038508,123,{"$f":"AVERAGE(Data!EY9:FQ9)","v":0.61038950824913873},156,{"$f":"AVERAGE(Data!FR9:FZ9)","v":0.60826375365629282},64,{"$f":"AVERAGE(Data!GA9:GL9)","v":0.66062803133126125},120]
["E05004872","29UBHE","Bybrook","Ashford","NHS Ashford CCG",6,0.6666051554935265,0.94663348573989936,0.91542450498993067,1.0009925641936954,0.83868300433037279,0.96024466411297993,0.80761255135656862,0.92570508601167056,1.3246630592151878,1.2025809051471892,1.0776432122928956,0.73548137982200723,0.62014309508301135,1.0939031439485345,0.8474957720812244,1.004676726831863,1.1684441073219098,1.0970875346152253,1.0440393145638707,0.73645310085070714,0.89814296227651969,0.77217965240422215,1.4862059454785044,1.0067956822844104,0.59818369560472373,0.58357568094305057,1.2299187932438194,0.48358147197441353,1.2926178343129098,1.1718210733845198,1.1741200287013069,0.47853339302168307,1.0776432122928956,0.84546571085858979,1.051581972511298,1.0678861016043923,1.0463508818657574,1.0494042835248945,1.0618228960344351,0.89314715805908429,0.84288771540778551,217,0.76500000000000001,null,null,null,null,0.90664757400105744,196,0.69099999999999995,null,null,null,null,0.98832341180273919,147,0.51700000000000002,null,null,null,null,1.1031903188336687,121,0.42499999999999999,null,null,null,null,0.97995546865887273,173,0.60899999999999999,null,null,null,null,0.7238149104415017,224,0.79,null,null,null,null,1.2128529787995788,28,9.5000000000000001E-2,null,null,null,null,0.77808830265728934,191,0.67300000000000004,null,null,null,null,0.94852384168494397,201,0.70899999999999996,null,null,null,null,1.0237222642177126,144,0.50700000000000001,null,null,null,null,0.96200311932376659,177,0.624,null,null,null,null,{"$f":"AVERAGE(Data!Z10:AH10)","v":0.86611522056226342},203,0.71599999999999997,null,null,null,null,1.0175328788476474,115,0.40400000000000003,null,null,null,null,0.95708726995959259,181,0.63800000000000001,null,null,null,null,"Ashford",103,107,81,169,0.375,0.28299999999999997,0.59499999999999997,103,0.36099999999999999,0.38909687500000001,0.59195661997288751,0.69091327867799612,0.69504702334945379,0.59459521350498079,0.72892672835385852,0.53219200734877536,0.52803286002864236,0.67169154949992771,0.67980289984802489,0.82218686693578302,0.47263077905771234,0.27049047286628475,0.68005412499786611,0.45275028100590337,0.6000534388154416,0.56702484270528364,0.57720717355584739,0.40330627333946489,0.53368197834619968,0.55468454758322017,0.49011190022644102,0.8349251142794657,0.60582784928520417,0.24238656424904489,0.17205849963843714,0.57277941953365374,0.16837765496460358,0.76117153055306008,0.95514271237235271,0.84929898859527619,6.6014864297724393E-2,0.82218686693578302,0.28712894718797649,0.50272366287463355,0.92927399677805822,0.76475428714161631,0.93331014628398301,0.94030824692021808,0.48566336256842169,0.55732225788362788,0.61575876651714212,0.5812075516283679,0.51584609653353197,0.60384627794410606,0.28890053459643483,0.85520441050689622,0.44410086561675371,0.39492630503130499,0.81066200793845944,0.58549426123698756,173,{"$f":"AVERAGE(Data!EY10:FQ10)","v":0.5762083846770597},178,{"$f":"AVERAGE(Data!FR10:FZ10)","v":0.4638703920118078},199,{"$f":"AVERAGE(Data!GA10:GL10)","v":0.69141480104242536},58]
["E05004873","29UBHF","Charing","Ashford","NHS Ashford CCG",7,1.1094429927162761,1.1161209523054052,0.98079379037132774,1.0009925641936954,0.86700371185581415,1.0147329969651426,1.1930072841230954,0.92570508601167056,1.3246630592151878,1.2025809051471892,1.1306706178910715,1.0656154447566515,0.51319133531591277,1.1837462057988708,0.9601993187835135,0.80905556739862905,1.5175617825705332,1.3725438331896214,1.5422465449599381,1.2459199727037098,0.56059416256226202,0.72245168511360403,1.4862059454785044,1.0067956822844104,1.1225409069519798,1.0798380694215544,0.84864622523445654,2.077790311476881,1.0624096206785476,1.1442983875124588,1.3487538241043431,1.1220997834731881,1.1306706178910715,0.74824381820675523,1.5986208975784311,1.1311586190243679,0.72633233161413147,1.1110688584718678,1.1166173804575352,1.0941232031438473,1.0687859117976697,125,0.439,null,null,null,null,1.0002883286298836,160,0.56299999999999994,null,null,null,null,1.0237153067883782,134,0.47099999999999997,null,null,null,null,1.4774507202400311,33,0.113,null,null,null,null,1.0043934896284981,159,0.56000000000000005,null,null,null,null,1.282203878271218,56,0.19500000000000001,null,null,null,null,1.1851539440984498,38,0.13100000000000001,null,null,null,null,1.1263852006821298,71,0.248,null,null,null,null,1.1734323578925931,26,8.7999999999999995E-2,null,null,null,null,1.03586007854235,125,0.439,null,null,null,null,1.0963091575562918,102,0.35799999999999998,null,null,null,null,{"$f":"AVERAGE(Data!Z11:AH11)","v":1.1278647734697071},82,0.28699999999999998,null,null,null,null,1.1111997785130452,29,9.9000000000000005E-2,null,null,null,null,1.1078763574238359,79,0.27600000000000002,null,null,null,null,"Ashford",205,182,202,255,0.64100000000000001,0.71199999999999997,0.9,205,0.72299999999999998,0.64758095238095248,0.69794191348642309,0.74025050642480572,0.69504702334945379,0.61467354709556898,0.77028910576011289,0.78615536652161633,0.52803286002864236,0.67169154949992771,0.67980289984802489,0.86264407575328494,0.68477961733463966,0.22384086521498722,0.73590746553514685,0.51295891463072452,0.4832167028903141,0.73644535127133592,0.72213211939806421,0.59576080894835548,0.90287492187279372,0.34621762068977446,0.45854894921197331,{"$f":"AC11/AC$292","v":0.8349251142794657},{"$f":"AD11/AD$292","v":0.60582784928520417},{"$f":"AE11/AE$292","v":0.4548583247325616},{"$f":"AF11/AF$292","v":0.31837399011709394},{"$f":"AG11/AG$292","v":0.39521885099194221},{"$f":"AH11/AH$292","v":0.72346332609939479},{"$f":"AI11/AI$292","v":0.62561101632644367},{"$f":"AJ11/AJ$292","v":0.93270917415334309},{"$f":"AK11/AK$292","v":0.9756202353032517},{"$f":"AL11/AL$292","v":0.15479643848205171},{"$f":"AM11/AM$292","v":0.86264407575328494},{"$f":"AN11/AN$292","v":0.2541113814579658},{"$f":"AO11/AO$292","v":0.76424337254405417},{"$f":"AP11/AP$292","v":0.98433371247314272},{"$f":"AQ11/AQ$292","v":0.53085993820831623},{"$f":"AR11/AR$292","v":0.9881528550167743},{"$f":"AS11/AS$292","v":0.98883206928382206},{"$f":"AT11/AT$292","v":0.59494737133544251},0.69525779076406036,0.67883958055107896,0.6068552613383813,0.68477942653925183,0.62967889106784225,0.47297862298524818,0.84464680859434615,0.50872025711766833,0.50917737700100996,0.8174251892634995,0.65215805582476205,86,{"$f":"AVERAGE(Data!EY11:FQ11)","v":0.65206061291433581},114,{"$f":"AVERAGE(Data!FR11:FZ11)","v":0.56003432747557824},107,{"$f":"AVERAGE(Data!GA11:GL11)","v":0.72140513669482431},15]
["E05004874","29UBHG","Downs North","Ashford","NHS Ashford CCG",8,1.0496434345486632,1.1592361850282094,1.1452364545120606,1.0009925641936954,1.0123184252192319,1.1389890157360503,1.0694695122417137,0.92570508601167056,1.3246630592151878,1.2025809051471892,1.2172245083991795,1.1654247352747089,0.8881075540404596,1.1300113325888448,1.1410304807815639,1.0363130181848772,1.5875920232996368,1.4239185751848777,1.521387237044419,1.2218705098252123,1.0339680265040099,0.92541958436818961,1.4862059454785044,1.0067956822844104,1.199469928024693,1.875481819411486,0.74516124817584783,2.1816179964712186,0.36692622656816498,0.57296136966720113,0.96915282860788343,0.6059719172130198,1.2172245083991795,0.73281720105727466,1.3221041673387772,1.1179969884343297,0.87694666050513959,1.0973057508224988,1.1015034785988402,0.96225840889599734,1.1180386913629776,108,0.379,null,null,null,null,1.0294949206804724,147,0.51700000000000002,null,null,null,null,1.1381694492040015,93,0.32600000000000001,null,null,null,null,1.5109659451763111,28,9.5000000000000001E-2,null,null,null,null,1.1348519496920653,96,0.33600000000000002,null,null,null,null,1.5004327480208115,15,4.9000000000000002E-2,null,null,null,null,0.63634680828108314,271,0.95699999999999996,null,null,null,null,0.91159821280609965,131,0.46,null,null,null,null,1.0274606841980258,97,0.34,null,null,null,null,1.0312022574513611,133,0.46800000000000003,null,null,null,null,1.1652549529816967,67,0.23400000000000001,null,null,null,null,{"$f":"AVERAGE(Data!Z12:AH12)","v":1.2973323045048413},30,0.10199999999999999,null,null,null,null,0.91193079217569206,240,0.84699999999999998,null,null,null,null,1.118975108832603,66,0.23,null,null,null,null,"Ashford",218,217,254,44,0.76500000000000001,0.89700000000000002,0.152,218,0.76900000000000002,0.612676,{"$f":"H12/H$292","v":0.72490308464337516},{"$f":"I12/I$292","v":0.86436300244900599},{"$f":"J12/J$292","v":0.69504702334945379},{"$f":"K12/K$292","v":0.71769630130855477},{"$f":"L12/L$292","v":0.86461249710602595},{"$f":"M12/M$292","v":0.70474774762006187},{"$f":"N12/N$292","v":0.52803286002864236},{"$f":"O12/O$292","v":0.67169154949992771},{"$f":"P12/P$292","v":0.67980289984802489},{"$f":"Q12/Q$292","v":0.9286802844410843},{"$f":"R12/R$292","v":0.74891848478790302},{"$f":"S12/S$292","v":0.38736967992261107},{"$f":"T12/T$292","v":0.70250174549048927},{"$f":"U12/U$292","v":0.6095627704920783},{"$f":"V12/V$292","v":0.61894853702041908},{"$f":"W12/W$292","v":0.77042976352109815},{"$f":"X12/X$292","v":0.74916174892497622},{"$f":"Y12/Y$292","v":0.58770298045234459},{"$f":"Z12/Z$292","v":0.88544711158543932},{"$f":"AA12/AA$292","v":0.63856881486125239},{"$f":"AB12/AB$292","v":0.58737516533785405},0.8349251142794657,0.60582784928520417,0.48603028954181116,0.55295756571905053,0.34702537235279368,0.75961496368875869,0.21606834600530439,0.46701658567026949,0.70103609257169153,8.3595323683579956E-2,0.9286802844410843,0.24887234185657953,0.63205063141116813,0.97288046755859081,0.6409405581232841,0.97591234083628298,0.97544779718538654,0.5232437345932347,0.73398069569746038,0.70202728588254781,0.66843449393781718,0.70243149763280632,0.71042881106984301,0.53640704782560356,0.46137367474908847,0.50613780406233211,0.44046148663387386,0.81768497965935583,0.65575914278735392,79,{"$f":"AVERAGE(Data!EY12:FQ12)","v":0.69299205057400404},74,{"$f":"AVERAGE(Data!FR12:FZ12)","v":0.63308580518351443},41,{"$f":"AVERAGE(Data!GA12:GL12)","v":0.61381204199470474},225]
["E05004875","29UBHH","Downs West","Ashford","NHS Ashford CCG",9,1.3427869162980486,0.76019727251784264,1.04403440433735,1.0009925641936954,1.1543453098829337,1.059790722364941,1.1127964694373247,0.92570508601167056,1.3246630592151878,1.2025809051471892,0.91790454147234457,1.1004126675343657,0.63900020677948477,1.1881166970708366,0.88620369798362264,0.65689852259593529,1.086627293410922,1.1353213269881255,1.0045673657452068,1.070704872374076,1.0965765150540212,0.83500214957524943,1.4862059454785044,1.0067956822844104,1.2216850802830095,1.7721308891056724,0.77777905394482993,1.9722235470810945,0.12064755256472927,0.68334357809699375,1.088824194401252,1.0237213968835017,0.91790454147234457,0.61063199954555769,1.3568493023409665,1.1188734337002351,0.91633087379719957,1.0890706320695818,1.1122277294719773,1.1299843783801324,1.0490061977177472,132,0.46400000000000002,null,null,null,null,1.050726030378113,134,0.47099999999999997,null,null,null,null,0.98947253722487083,145,0.51,null,null,null,null,1.0755053287147514,127,0.44600000000000001,null,null,null,null,1.0990570329532523,116,0.40699999999999997,null,null,null,null,1.4359546426036516,22,7.3999999999999996E-2,null,null,null,null,0.63093844168765834,273,0.96399999999999997,null,null,null,null,0.97081296917792315,109,0.38200000000000001,null,null,null,null,0.98374065094326202,150,0.52800000000000002,null,null,null,null,1.0732974094838255,90,0.315,null,null,null,null,1.028576054157212,147,0.51700000000000002,null,null,null,null,{"$f":"AVERAGE(Data!Z13:AH13)","v":1.2487893039089852},40,0.13800000000000001,null,null,null,null,0.93070080106037256,223,0.78700000000000003,null,null,null,null,1.0487614594223094,124,0.436,null,null,null,null,"Ashford",160,137,244,61,0.48199999999999998,0.86099999999999999,0.21199999999999999,160,0.56299999999999994,0.783783606557377,0.47537279710799807,0.78798112724902603,0.69504702334945379,0.81838810664385786,0.8044926599064729,0.73329888923309783,0.52803286002864236,0.67169154949992771,0.67980289984802489,0.70031439950661001,0.70714080683811276,0.27871546013150406,0.73862449823974197,0.47342887894914704,0.39233935345497534,0.52732061915893291,0.59732299707363334,0.38805849065787934,0.77590262550791911,0.67723522166380357,0.52998611002929708,0.8349251142794657,0.60582784928520417,0.49503196322454041,0.52248610060261724,0.36221564992026178,0.68670616053101707,7.1044573117769003E-2,0.55698830947002287,0.78760030018898564,0.14122489690260556,0.70031439950661001,0.20737697685072665,0.64866103553749654,0.973643149827778,0.66972559236256035,0.96858826182439406,0.98494476845593737,0.61444747139594957,0.68237917697146699,0.7158519078323049,0.58025723080850544,0.50423403563014846,0.68477538415313788,0.51660996856960917,0.47187772759225916,0.42076964820460777,0.4280190061941116,0.84226984877332389,0.61490083884798452,140,{"$f":"AVERAGE(Data!EY13:FQ13)","v":0.6200608959702324},151,{"$f":"AVERAGE(Data!FR13:FZ13)","v":0.61003519944934725},62,{"$f":"AVERAGE(Data!GA13:GL13)","v":0.61037997795340304},230]
["E05004876","29UBHJ","Godinton","Ashford","NHS Ashford CCG",10,1.3963946884763574,0.8526927581473901,1.1488653868643885,1.0009925641936954,1.0976780674867026,0.94305576651237022,0.95276242008201439,0.92570508601167056,1.3246630592151878,1.2025809051471892,0.94116556751765068,1.2485760594072706,0.6459223646074661,1.0242682501027807,1.2615182318194074,1.4086931938367675,0.91554599039646389,0.96235578603576255,0.90489620675188009,1.0745345702047586,1.3276096364203782,1.185232723449883,1.4862059454785044,1.0067956822844104,1.0560172425148877,1.2027690662135366,0.91144824106008859,0.40879840177242527,0.82234945705655405,0.96715132933722925,1.0289882489033138,1.0028567563331388,0.94116556751765068,1.4303504610516615,0.46681247471370468,1.0059497715164758,1.095990790237426,0.99432497688335986,1.0146509071683232,0.98969388951973736,1.1326509444960455,96,0.33600000000000002,null,null,null,null,0.98403878085729057,169,0.59499999999999997,null,null,null,null,1.1321734539567148,96,0.33600000000000002,null,null,null,null,0.92759932772803555,166,0.58499999999999996,null,null,null,null,1.2160757115675869,59,0.20499999999999999,null,null,null,null,0.89475823789023456,166,0.58499999999999996,null,null,null,null,0.93949634509903246,192,0.67700000000000005,null,null,null,null,0.97201116192539472,107,0.375,null,null,null,null,0.94858146788268316,200,0.70499999999999996,null,null,null,null,1.0201220670650646,148,0.52100000000000002,null,null,null,null,1.0609648606638111,129,0.45300000000000001,null,null,null,null,{"$f":"AVERAGE(Data!Z14:AH14)","v":1.0732679454887637},110,0.38600000000000001,null,null,null,null,0.98002371918654785,164,0.57799999999999996,null,null,null,null,1.0394507123062462,132,0.46400000000000002,null,null,null,null,"Ashford",152,155,174,120,0.54600000000000004,0.61299999999999999,0.42099999999999999,152,0.53500000000000003,0.81507441860465113,0.53321283325802071,0.86710192579656831,0.69504702334945379,0.77821312883060434,0.71587854661405592,0.62784133805029962,0.52803286002864236,0.67169154949992771,0.67980289984802489,0.71806137727043773,0.8023527064863013,0.28173472739254657,0.636763732182411,0.67392989176536855,0.84135640114128263,0.44429794967589681,0.506321187404283,0.34955610561137768,0.77867787448492254,0.81991907911675777,0.75228175268790043,0.8349251142794657,0.60582784928520417,0.42790265445495163,0.35461834291964006,0.4244660682616907,0.14233902709854188,0.48424907831318759,0.78831791385148087,0.7443180064278857,0.13834656817019336,0.71806137727043773,0.48576189041957735,0.22316631826923464,0.87537703068767514,0.80103497787210975,0.88432418677735636,0.89853460432869936,0.53816222551959214,0.73846305921974675,0.66900257937461127,0.66321166069828763,0.43339174756385246,0.75832633397085014,0.33733152318370607,0.67229499953085137,0.42820397272031552,0.35446410434440601,0.79948660503708657,0.62217206358266641,129,{"$f":"AVERAGE(Data!EY14:FQ14)","v":0.64033003172685021},127,{"$f":"AVERAGE(Data!FR14:FZ14)","v":0.57121752917656377},97,{"$f":"AVERAGE(Data!GA14:GL14)","v":0.63163784815895252},192]
["E05004877","29UBHK","Great Chart with Singleton North","Ashford","NHS Ashford CCG",11,1.07502071183596,0.9313518289184195,1.1077525636806682,1.0009925641936954,1.0602368184127418,1.1157221267727562,1.0527004613635682,0.92570508601167056,1.3246630592151878,1.2025809051471892,1.2139793276509352,1.3694418910205615,0.27515121260015818,0.96272566514916191,1.3626415843483293,1.4711038602290722,1.0116646053813116,1.1198396643573361,0.60115854307723871,1.1444786533489952,1.3544645477536943,1.4036960953223827,1.4862059454785044,1.0067956822844104,1.246794208897265,1.3808401721982224,0.79363569326807248,0.61254765152946544,1.0421191778553245,1.0262154107207746,1.1259247969520791,0.35370851633339961,1.2139793276509352,1.3576457541248033,0.50075242731345682,1.0476673048038168,0.89554944417216475,1.032768739086223,1.0585902150860398,1.4834808104218815,1.0380417014783492,139,0.48899999999999999,null,null,null,null,1.0310714113508863,145,0.51,null,null,null,null,1.1477859381700743,89,0.312,null,null,null,null,0.91088760427196214,174,0.61299999999999999,null,null,null,null,1.2791281848375975,33,0.113,null,null,null,null,1.0084544314732562,134,0.47099999999999997,null,null,null,null,1.0647531285093927,124,0.436,null,null,null,null,0.78384392199216735,185,0.65200000000000002,null,null,null,null,0.92919909071913009,215,0.75800000000000001,null,null,null,null,1.1036113027140251,62,0.216,null,null,null,null,1.062338551545577,127,0.44600000000000001,null,null,null,null,{"$f":"AVERAGE(Data!Z15:AH15)","v":1.1588287388978904},75,0.26200000000000001,null,null,null,null,1.0115334937100748,120,0.42099999999999999,null,null,null,null,1.0688073263491966,105,0.36799999999999999,null,null,null,null,"Ashford",179,157,209,164,0.55300000000000005,0.73699999999999999,0.57799999999999996,179,0.63100000000000001,0.62748869565217402,0.58240056891838843,0.83607217369059272,0.69504702334945379,0.7516686687997256,0.84695048045045507,0.69369745520795967,0.52803286002864236,0.67169154949992771,0.67980289984802489,0.92620437686647772,0.88002280626594853,0.1200138842084276,0.59850413946410985,0.72795213916997337,0.87863180922758255,0.490942579231821,0.58917767917773978,0.23222402481648216,0.82936392173342788,0.83650441682908705,0.89094313541785675,0.8349251142794657,0.60582784928520417,0.5052062883705043,0.40711992639064848,0.3696001672698726,0.21328223494067966,0.61366277686279613,0.83646061087050705,0.81443699784548118,4.8794964044736544E-2,0.92620437686647772,0.46107061590967496,0.23939179353864404,0.91167960905760193,0.65453691361806621,0.91851496900357521,0.93744551287408817,0.80666693298435932,0.68198714608705169,0.7030792975672473,0.68535295056880896,0.43744809440868099,0.79951288750900829,0.37380215424292629,0.75485346185959479,0.48749967045560716,0.35023120472415947,0.84576878750753814,0.65045412354666654,90,{"$f":"AVERAGE(Data!EY15:FQ15)","v":0.65034346388810038},117,{"$f":"AVERAGE(Data!FR15:FZ15)","v":0.61030811716852751},61,{"$f":"AVERAGE(Data!GA15:GL15)","v":0.68073883945633407},80]
["E05004878","29UBHL","Highfield","Ashford","NHS Ashford CCG",12,1.212858167297457,1.0938199698625757,1.1555328713623541,1.0009925641936954,1.3126385868729573,1.2117514118540331,1.2080994128394329,0.92570508601167056,1.3246630592151878,1.2025809051471892,1.2236052660665133,1.1419702895620856,0.20215201304999747,0.90329128152605953,1.2286921984177592,1.2576476119634259,1.0538530789842193,1.0744604930681765,0.85312846298648293,1.2675628115549116,1.3572945101579295,1.2399021399328485,1.4862059454785044,1.0067956822844104,1.0635979680747598,0.7349415819003714,0.89542759223761292,0.53562114468369459,1.1663146157929292,1.1620459171793847,1.3587615487668072,4.4411521580668047,1.2236052660665133,1.0299265932149329,0.70497697038972151,1.1205015553940143,1.0555639435540312,1.096703531750326,1.1194665559314796,1.3979536875074186,1.1540703361741287,79,0.27600000000000002,null,null,null,null,1.1318374123543578,106,0.372,null,null,null,null,1.0605753281185273,119,0.41799999999999998,null,null,null,null,0.99381401167962624,151,0.53100000000000003,null,null,null,null,1.2715522178817209,35,0.12,null,null,null,null,0.80739707172410968,204,0.71899999999999997,null,null,null,null,1.2290406939130403,20,6.7000000000000004E-2,null,null,null,null,2.8323787120666593,3,7.0000000000000001E-3,null,null,null,null,0.86745178180232718,250,0.88200000000000001,null,null,null,null,1.1580378548274539,19,6.3E-2,null,null,null,null,1.0835496173832249,112,0.39300000000000002,null,null,null,null,{"$f":"AVERAGE(Data!Z16:AH16)","v":1.0652610418116715},117,0.41099999999999998,null,null,null,null,1.4064143619678635,2,3.0000000000000001E-3,null,null,null,null,1.1762941112550169,36,0.124,null,null,null,null,"Ashford",248,172,167,282,0.60599999999999998,0.58799999999999997,0.996,248,0.875,0.70794430379746831,0.68399648012937908,0.87213418520180974,0.69504702334945379,0.93061218217932729,0.919846811163332,0.796100618441268,0.52803286002864236,0.67169154949992771,0.67980289984802489,0.93354847745277636,0.73384632490235069,8.8173510330620999E-2,0.56155516644653347,0.65639352599635925,0.75114288429513576,0.51141588425237017,0.56530248018798102,0.32955852934583618,0.91855873533191967,0.83825217468257163,0.78698110213761985,0.8349251142794657,0.60582784928520417,0.43097439652427494,0.21668645564416114,0.41700517085651462,0.18649728643050442,0.68679655938787143,0.94717505466103546,0.98285931668011239,0.61266791683865085,0.93354847745277636,0.34977378099744677,0.33702423021784467,0.9750599405804119,0.77148790637577247,0.97537674442299538,0.99135518609085105,0.76016016225723015,0.75469165637621904,0.77392789903240478,0.63451929234646609,0.46875896459539579,0.79690899514335611,0.31279082736386377,0.8722769769096731,0.77310819714571366,0.34339900560764569,0.89468798794545223,0.67937848144959578,47,{"$f":"AVERAGE(Data!EY16:FQ16)","v":0.66400766825518931},100,{"$f":"AVERAGE(Data!FR16:FZ16)","v":0.58174536501913721},89,{"$f":"AVERAGE(Data!GA16:GL16)","v":0.77694043966358317},1]
["E05004879","29UBHM","Isle of Oxney","Ashford","NHS Ashford CCG",13,0.94352027498360358,0.98716309730991181,1.0311370514556886,1.0009925641936954,0.94372980645263904,1.0330423381638836,0.97987381008357322,0.92570508601167056,1.3246630592151878,1.2025809051471892,1.2828642357656437,1.0955200249285308,1.3498660605845976,1.169456041021266,1.22220855794931,0.95675034724890151,0.49038102946130685,0.59533478770773995,0.50113310651475718,1.1261685235252124,0.91502571040584757,1.1405629365738581,1.4862059454785044,1.0067956822844104,1.0301680874813972,1.525121910173004,0.65331409774293936,2.2483006200642062,0.21445922003209528,0.46591204355628518,1.2031891976642484,0.42527231603883997,1.2828642357656437,0.75210898103912482,1.4224533830589965,1.1059491684868419,0.88169367247405162,1.0932148240829291,1.0939304831989827,1.1665905131577308,0.98727347458306802,166,0.58499999999999996,null,null,null,null,0.97666872098109236,171,0.60199999999999998,null,null,null,null,1.2004886539825781,67,0.23400000000000001,null,null,null,null,0.52894964122793464,243,0.85799999999999998,null,null,null,null,1.1349517596535665,95,0.33300000000000002,null,null,null,null,1.3642261788653867,36,0.124,null,null,null,null,0.62785348708420963,274,0.96799999999999997,null,null,null,null,0.85406827590224177,152,0.53500000000000003,null,null,null,null,1.0872811820490607,53,0.184,null,null,null,null,1.0682757322801071,94,0.32900000000000001,null,null,null,null,1.0018906412736368,161,0.56699999999999995,null,null,null,null,{"$f":"AVERAGE(Data!Z17:AH17)","v":1.2368515015254866},44,0.152,null,null,null,null,0.92563650321298097,226,0.79700000000000004,null,null,null,null,1.031880593412106,140,0.49199999999999999,null,null,null,null,"Ashford",144,123,240,58,0.432,0.84699999999999998,0.20200000000000001,144,0.50700000000000001,0.550732,0.61730092929134173,0.77824689759145993,0.69504702334945379,0.6690695088148928,0.78418782207387783,0.64570691609599651,0.52803286002864236,0.67169154949992771,0.67980289984802489,0.97876005219197515,0.70399672522042955,0.58877686767567994,0.72702360268342203,0.65292982724913962,0.57142891899659731,0.23797306550953978,0.31322159744780509,0.19358478441965937,0.81609520673060643,0.56511117218688156,0.72392929084776636,0.8349251142794657,0.60582784928520417,0.41742846747301682,0.44965922364349209,0.30425168859434698,0.7828331067280947,0.12628655463338528,0.37976146966190477,0.87032615378795175,5.866736708928251E-2,0.97876005219197515,0.25542403094867233,0.68002399593451568,0.96239646015532565,0.6444100422296718,0.97227398763562711,0.96874145278937718,0.63435265538080998,0.64875994229426726,0.66440882607257257,0.69680130542064955,0.24825981579233472,0.70917772666598489,0.48854312160973762,0.45879139269441388,0.5187137096406288,0.46772401344159398,0.8364349196381623,0.61547497975488108,138,{"$f":"AVERAGE(Data!EY17:FQ17)","v":0.60986914989409824},160,{"$f":"AVERAGE(Data!FR17:FZ17)","v":0.61111790219654161},59,{"$f":"AVERAGE(Data!GA17:GL17)","v":0.62761868520320829},202]
["E05004880","29UBHN","Kennington","Ashford","NHS Ashford CCG",14,1.2417114064375385,1.1019969967582797,1.2037534516103361,1.0009925641936954,1.1882962789749643,1.2528251695436496,1.4451691137810183,0.92570508601167056,1.3246630592151878,1.2025809051471892,0.73028091505899717,1.2029642164304901,0.67636446933716188,1.1172760660856842,1.350974176624564,0.88860050790248135,1.1030915456363546,0.91803479258265097,1.6683619639066058,1.2079626440133056,1.0293559309929763,1.1645232744972174,1.4862059454785044,1.0067956822844104,1.421378263891703,0.9068997005769176,0.81904706875520195,1.0155766338893895,1.41062558680548,0.97866232039724321,1.1360772337380405,0.74561147644545234,0.73028091505899717,1.1774357669825635,0.84886806371353374,1.1088274008887737,1.0463364083847604,1.0624561695397516,1.1060393109773237,1.1335141062556711,1.1824872849353849,61,0.21199999999999999,null,null,null,null,1.1625976425009996,93,0.32600000000000001,null,null,null,null,1.0617130394752194,118,0.41399999999999998,null,null,null,null,1.2298294340418705,90,0.315,null,null,null,null,1.178968695453283,69,0.24099999999999999,null,null,null,null,1.0407254167783029,121,0.42499999999999999,null,null,null,null,1.1751217136469212,47,0.16300000000000001,null,null,null,null,0.73794619575222475,210,0.74099999999999999,null,null,null,null,1.0131519153480486,117,0.41099999999999998,null,null,null,null,1.091434679209256,73,0.255,null,null,null,null,1.1338759308020274,84,0.29399999999999998,null,null,null,null,{"$f":"AVERAGE(Data!Z18:AH18)","v":1.117527238264403},90,0.315,null,null,null,null,1.0403945632656326,85,0.29699999999999999,null,null,null,null,1.1021530647201434,84,0.29399999999999998,null,null,null,null,"Ashford",200,200,194,199,0.70499999999999996,0.68400000000000005,0.70199999999999996,200,0.70499999999999996,0.72478591549295779,0.68910980569362845,0.90852849081334153,0.69504702334945379,0.84245808732993943,0.9510261146604756,0.9523223113975634,0.52803286002864236,0.67169154949992771,0.67980289984802489,0.55716713165002685,0.77304188846723609,0.29501279074384157,0.69458452670715165,0.72171916161473082,0.53072573123241717,0.53531042369462734,0.48300272415218698,0.64447845675769411,0.87536856438060306,0.63572042855818123,0.73913721132731025,0.8349251142794657,0.60582784928520417,0.57594848608284521,0.2673857168819202,0.3814343737077478,0.35361241478703476,0.83066162979004166,0.79770043774772748,0.8217807566463865,0.1028589460091078,0.55716713165002685,0.39986943031887984,0.40581340631795643,0.96490109667394031,0.76474370880041731,0.94491812029080846,0.97946455045757941,0.61636681860935938,0.77414140399997589,0.79377727935321496,0.61546820997041962,0.55426386820150286,0.73819583356615281,0.39459524786488703,0.81671427472805191,0.33001303882956734,0.40284141831841813,0.854078858966421,0.65833635214341035,70,{"$f":"AVERAGE(Data!EY18:FQ18)","v":0.67778146805967721},88,{"$f":"AVERAGE(Data!FR18:FZ18)","v":0.58548446214336802},85,{"$f":"AVERAGE(Data!GA18:GL18)","v":0.68218716944268598},74]
["E05004881","29UBHP","Little Burton Farm","Ashford","NHS Ashford CCG",15,1.3167654045649879,0.98716309730991181,1.1179254348199967,1.0009925641936954,1.0156461251601148,1.0944347259337015,1.0972958534706292,0.92570508601167056,1.3246630592151878,1.2025809051471892,1.1530875333889459,1.228189645193867,0.62472180956931811,1.0930649680491589,1.0426468656947872,1.238323739373649,1.0913770139290833,1.1684740499904289,0.84633468742112905,1.0376998268874218,1.2685515097133966,1.0696320665691654,1.4862059454785044,1.0067956822844104,1.1442759896931356,1.1913855781404299,0.87665502417199204,0.61433254049484287,0.98816521404078483,1.0973661406451722,1.1897153350835021,5.7500509961273441E-2,1.1530875333889459,1.2677295068839438,0.82814409822675561,1.1450618453539392,1.0106378315851012,1.1197671200809152,1.1227221313142035,0.7275106367635128,1.1406179788982989,88,0.308,null,null,null,null,1.0268148709539622,149,0.52400000000000002,null,null,null,null,1.1134098157040129,104,0.36499999999999999,null,null,null,null,1.0353952504468804,139,0.48899999999999999,null,null,null,null,1.1737770061865798,71,0.248,null,null,null,null,0.95666228312510004,144,0.50700000000000001,null,null,null,null,1.0917488965898199,104,0.36499999999999999,null,null,null,null,0.60529402167510971,256,0.90400000000000003,null,null,null,null,1.0479368025553497,81,0.28299999999999997,null,null,null,null,1.0251399130195344,142,0.5,null,null,null,null,1.0825996088651291,115,0.40400000000000003,null,null,null,null,{"$f":"AVERAGE(Data!Z19:AH19)","v":1.0772815737148109},108,0.379,null,null,null,null,0.97561732527733758,167,0.58799999999999997,null,null,null,null,1.0493083658799702,123,0.432,null,null,null,null,"Ashford",161,169,176,117,0.59499999999999997,0.62,0.41099999999999998,161,0.56699999999999995,0.76859487179487174,0.61730092929134173,0.8437501107723836,0.69504702334945379,0.72005551742073715,0.83079110354508789,0.72308445669041188,0.52803286002864236,0.67169154949992771,0.67980289984802489,0.87974704017538363,0.78925210721048278,0.27248759039664289,0.67953305054900148,0.55700414914635932,0.73960150397940805,0.52962557282580303,0.61476553373188736,0.32693413362917473,0.75198501561480169,0.78344534200641902,0.6789085973155361,0.8349251142794657,0.60582784928520417,0.46366547221586363,0.35126209292076127,0.40826269070347676,0.21390371329702651,0.58189142099414737,0.89445504595177638,0.86057984371524399,7.9323374658859351E-3,0.87974704017538363,0.43053412333075841,0.39590602095842981,0.99643229366076169,0.73865242324263802,0.99588884003437672,0.99423819454007412,0.39559579736297806,0.74321530395286572,0.69940219220686672,0.65863998635065379,0.49044174672895502,0.73101838370028527,0.35927349228428207,0.77897543688705584,0.44383968882063479,0.41322007214459411,0.82416150976816582,0.64327853182390082,101,{"$f":"AVERAGE(Data!EY19:FQ19)","v":0.65616326336236985},107,{"$f":"AVERAGE(Data!FR19:FZ19)","v":0.56579843195983948},103,{"$f":"AVERAGE(Data!GA19:GL19)","v":0.6809877817860378},79]
["E05004882","29UBHQ","Norman","Ashford","NHS Ashford CCG",16,0.55533292815351754,0.94663348573989936,0.74962781898737418,1.0009925641936954,0.86437301343823569,0.44279836423880159,0.5319853797965991,0.92570508601167056,1.3246630592151878,1.2025809051471892,0.91888915303157714,0.65233779527694069,0.47659306131098256,0.92445929078378442,0.77279850620059554,1.0333050739562692,1.575890337415961,1.3836922133338876,1.4601000534798205,0.76685077273880742,1.1670447906166701,1.0466686794017566,1.4862059454785044,1.0067956822844104,0.38988105882357876,0.54335329316857084,1.501831962113944,0.29999966359412128,1.0835529026036541,1.0195107465566426,1.2783868279419652,3.2760368931037691,0.91888915303157714,0.76594030658388235,1.0793092416255607,1.0785399288292976,0.4919821920803692,1.088228246072976,1.0900473016237211,1.2647255027713009,0.75053141096026366,237,0.83599999999999997,null,null,null,null,0.75317088153580047,232,0.81899999999999995,null,null,null,null,0.91320335561531585,185,0.65200000000000002,null,null,null,null,1.4732275347432229,35,0.12,null,null,null,null,1.0947131741040299,119,0.41799999999999998,null,null,null,null,0.68376649442505366,236,0.83299999999999996,null,null,null,null,1.1271501590340873,78,0.27300000000000002,null,null,null,null,2.097463023067673,9,2.8000000000000001E-2,null,null,null,null,0.92262477410472155,219,0.77300000000000002,null,null,null,null,1.002704634275533,164,0.57799999999999996,null,null,null,null,0.9338293731427364,185,0.65200000000000002,null,null,null,null,{"$f":"AVERAGE(Data!Z20:AH20)","v":0.91207020535781824},188,0.66300000000000003,null,null,null,null,1.2029291035687264,7,2.1000000000000001E-2,null,null,null,null,1.0096634795189268,156,0.54900000000000004,null,null,null,null,"Ashford",128,99,96,277,0.34699999999999998,0.33600000000000002,0.97799999999999998,128,0.45,0.32414736842105257,0.59195661997288751,0.56577883963298436,0.69504702334945379,0.6128084792699533,0.33613054571168527,0.35056211877662269,0.52803286002864236,0.67169154949992771,0.67980289984802489,0.70106560796206141,0.41920153092814638,0.20787763911414947,0.57471482513601069,0.41284541158717292,0.61715201160091138,0.76475114649868381,0.72799758116821811,0.56402810033805006,0.55571011517069058,0.72075575813871195,0.66433345371363939,0.8349251142794657,0.60582784928520417,0.15798145454046836,0.1601995344376104,0.69941076128119894,0.10445652444025146,0.63806145901463596,0.83099568857074102,0.92472031262899279,0.45193738636915681,0.70106560796206141,0.2601212929320677,0.51597907677008537,0.93854495235224944,0.35957870071261933,0.96783906781969753,0.9653026611856701,0.68771515965716656,0.4939609426756415,0.50451620542727138,0.53554393445955062,0.68559227600165062,0.67631045811754231,0.28051206867488232,0.79792582007145663,0.57650149716560906,0.38805018485107656,0.78379610834548052,0.57727635225267548,177,{"$f":"AVERAGE(Data!EY20:FQ20)","v":0.54450485046550723},194,{"$f":"AVERAGE(Data!FR20:FZ20)","v":0.5004000628096934},168,{"$f":"AVERAGE(Data!GA20:GL20)","v":0.68682178049792875},67]
["E05004883","29UBHR","North Willesborough","Ashford","NHS Ashford CCG",17,1.1296094773195178,1.1946449620444699,1.0762597829352434,1.0009925641936954,1.1219554527056583,1.1221088136128414,1.1845028294147479,0.92570508601167056,1.3246630592151878,1.2025809051471892,1.0248849662104342,1.0688747149065683,0.33168005376223275,0.93723479244682206,1.1201731372394026,1.0747827220635704,0.37330672745038468,0.4173416270471661,0.43728147472156542,1.1519670364350232,1.0091930147218053,0.99005509288976079,1.4862059454785044,1.0067956822844104,0.98476887717783745,0.66634732604440117,1.0237833937079943,0.63977991923823185,0.920327949431335,1.0741515724399349,1.3280341152967574,3.2903688759956435,1.0248849662104342,1.0973614791442665,0.93286768495302885,1.0568077579674533,1.0461088157645542,1.0633853455666158,1.0445753540723264,1.1878354612251438,1.1335047407664103,95,0.33300000000000002,null,null,null,null,1.0710529491877228,128,0.45,null,null,null,null,1.010609293873926,137,0.48199999999999998,null,null,null,null,0.4093099430730387,264,0.93200000000000005,null,null,null,null,1.128843354361901,99,0.34699999999999998,null,null,null,null,0.82866987904211631,194,0.68400000000000005,null,null,null,null,1.1075045457226758,96,0.33600000000000002,null,null,null,null,2.1576269211030388,8,2.4E-2,null,null,null,null,1.0151145820486476,111,0.39,null,null,null,null,1.0797425469192186,85,0.29699999999999999,null,null,null,null,0.95097806044465083,184,0.64800000000000002,null,null,null,null,{"$f":"AVERAGE(Data!Z21:AH21)","v":0.99543292088644109},149,0.52400000000000002,null,null,null,null,1.255559114838958,6,1.7000000000000001E-2,null,null,null,null,1.052354720362346,119,0.41799999999999998,null,null,null,null,"Ashford",165,100,135,278,0.35099999999999998,0.47499999999999998,0.98199999999999998,165,0.58099999999999996,0.65935211267605631,0.74704519167388694,0.81230311323732463,0.69504702334945379,0.79542489653434256,0.85179864771172742,0.78055119058968003,0.52803286002864236,0.67169154949992771,0.67980289984802489,0.78193501311556302,0.68687407061704286,0.1446703112455873,0.58265705718180749,0.59842033360822189,0.64192496066607674,0.1811590191494386,0.21957462221971202,0.16891927297202464,0.834790492814939,0.62326800332124044,0.62840011569102183,0.8349251142794657,0.60582784928520417,0.39903251538345808,0.19646247248002197,0.47678111855634575,0.22276420569826277,0.54194473825419054,0.87553302266193955,0.96063264689311667,0.45391451883163791,0.78193501311556302,0.37267536949707708,0.44597061552605471,0.91963362721644282,0.76457736648156327,0.94574450286535183,0.92503450776216978,0.64590494306701096,0.73956680586242263,0.73017092364276925,0.59849702447278152,0.18988430478039175,0.70544231507837418,0.32376007802952217,0.79270346926974888,0.61792476597360046,0.4093229925115659,0.84017898947850767,0.61707342264016563,137,{"$f":"AVERAGE(Data!EY21:FQ21)","v":0.59090442873287052},168,{"$f":"AVERAGE(Data!FR21:FZ21)","v":0.53580576527888435},132,{"$f":"AVERAGE(Data!GA21:GL21)","v":0.71945840601434308},18]
["E05004884","29UBHS","Park Farm North","Ashford","NHS Ashford CCG",18,1.4154296441133363,1.2221838637724987,1.1501347618559326,1.0009925641936954,1.3214056339865763,1.2120786768263561,1.3172289918243096,0.92570508601167056,1.3246630592151878,1.2025809051471892,1.3072410111111241,1.5362172231841518,0.49857411910702909,1.2997554328032259,1.449894327374647,1.4583473458891738,0.667764779716149,0.86391869402000776,0.94213572135553869,1.0763286137895156,1.5980869801569444,1.2380328944739099,1.4862059454785044,1.0067956822844104,1.5393485879358604,1.8133190821669496,0.50124252569406536,0.60870341434623487,0.79340670825098336,1.1455357094966612,1.3494515424893299,0.31971296846234104,1.3072410111111241,1.4456839900260445,0.64292877029877493,1.1269038075226323,1.3030648143874637,1.0969362638793296,1.1117394373452039,1.3076288869001014,1.2625827565805892,29,9.9000000000000005E-2,null,null,null,null,1.1554821905685215,97,0.34,null,null,null,null,1.2596591779789659,42,0.14499999999999999,null,null,null,null,0.82460639836389849,191,0.67300000000000004,null,null,null,null,1.2810900232366569,32,0.109,null,null,null,null,1.1156534025357776,96,0.33600000000000002,null,null,null,null,1.0961313200789915,102,0.35799999999999998,null,null,null,null,0.81347698978673255,170,0.59899999999999998,null,null,null,null,1.0443063801624097,83,0.28999999999999998,null,null,null,null,1.1892546420069461,7,2.1000000000000001E-2,null,null,null,null,1.1640132548161999,71,0.248,null,null,null,null,{"$f":"AVERAGE(Data!Z22:AH22)","v":1.2075626362584881},59,0.20499999999999999,null,null,null,null,1.0791861591808325,48,0.16600000000000001,null,null,null,null,1.1483637369501047,49,0.17,null,null,null,null,"Ashford",235,213,225,236,0.751,0.79400000000000004,0.83299999999999996,235,0.82899999999999996,0.82618510638297871,0.76426604370401319,0.86805998190332412,0.69504702334945379,0.93682769414679889,0.92009523970919693,0.86801367824145725,0.52803286002864236,0.67169154949992771,0.67980289984802489,0.99735828982635344,0.98719500304836383,0.21746521134464877,0.80802770195512486,0.77456441173233737,0.87101285071831913,0.32405419892143933,0.45453079341771901,0.36394151202880365,0.7799779555470383,0.98696331298989171,0.78579466910870277,0.8349251142794657,0.60582784928520417,0.62375056049328659,0.53462981894518002,0.23343118626183498,0.21194371458877845,0.46720583798186471,0.93371770617492178,0.97612492946075535,4.4105194193433742E-2,0.99735828982635344,0.4909693163087005,0.30736120894142799,0.9806311774520251,0.95238071711594108,0.97558372972005913,0.98451235631317224,0.71104457588331049,0.81950371066343874,0.78960329909510985,0.75088973974663742,0.38084216812265398,0.79869778024206051,0.40093882007227,0.7923494912058473,0.52073174200989358,0.39916526262506424,0.92083051129690163,0.69936028176695686,33,{"$f":"AVERAGE(Data!EY22:FQ22)","v":0.71348273946352248},56,{"$f":"AVERAGE(Data!FR22:FZ22)","v":0.62191602016659797},52,{"$f":"AVERAGE(Data!GA22:GL22)","v":0.73508291994766373},7]
["E05004885","29UBHT","Park Farm South","Ashford","NHS Ashford CCG",19,0.98994915729331701,1.4127240187950407,1.1710051836183339,1.0009925641936954,1.1410766875878653,1.0424762594294605,1.0708381590228091,0.92570508601167056,1.3246630592151878,1.2025809051471892,1.0531834737435686,1.5162234016687073,0.48991263023966281,1.3032965490465751,1.0900588483402276,1.6061961332046577,1.072507381975552,1.168076312960002,0.75547439854539078,1.0016152031200654,1.5948201155508184,1.4271506791275355,1.4862059454785044,1.0067956822844104,1.3892503034942745,1.7319250318895365,0.73334137002966526,0.3712170882318363,0.96223729964564719,1.0856358988521024,1.3156744014722539,0.23094167869059859,1.0531834737435686,1.627529041897128,0.30532226665854595,1.1404591223065954,1.3139781771715915,1.1124411254975177,1.1193306142459394,1.1970830811072195,1.1912261199022305,56,0.19500000000000001,null,null,null,null,1.0362177512491002,142,0.5,null,null,null,null,1.198264375075722,68,0.23699999999999999,null,null,null,null,0.99868603116031496,148,0.52100000000000002,null,null,null,null,1.3033175251122668,24,8.1000000000000003E-2,null,null,null,null,1.0564334484113282,118,0.41399999999999998,null,null,null,null,1.1211825333233347,86,0.30099999999999999,null,null,null,null,0.64206257621708362,247,0.872,null,null,null,null,0.966425654277837,173,0.60899999999999999,null,null,null,null,1.1766584240657727,10,3.1E-2,null,null,null,null,1.1229968531599428,88,0.308,null,null,null,null,{"$f":"AVERAGE(Data!Z23:AH23)","v":1.1935912688007386},62,0.216,null,null,null,null,1.0386513484407258,89,0.312,null,null,null,null,1.1135769452633564,70,0.24399999999999999,null,null,null,null,"Ashford",214,196,222,195,0.69099999999999995,0.78300000000000003,0.68700000000000006,214,0.755,0.57783249999999997,0.88341617713511067,0.88381185597775913,0.69504702334945379,0.80898114445943592,0.79134916086665008,0.70564964405116504,0.52803286002864236,0.67169154949992771,0.67980289984802489,0.80352533260370052,0.97434668941536295,0.21368729260615768,0.81022913150737408,0.58233263947387559,0.95931704935653062,0.52046848090903075,0.6145562736137038,0.29183533611279111,0.72583574232394898,0.98494572849368689,0.90583004755284025,0.8349251142794657,0.60582784928520417,0.56293010060313142,0.51063200918793294,0.34152079515573081,0.12925363443736754,0.56662349743599372,0.88489381240043219,0.95169225562657067,3.1858975364667468E-2,0.80352533260370052,0.5527257868840284,0.14596363599236267,0.99242700617191659,0.96035704811631417,0.98937331004879303,0.99123480152531651,0.65093348749796831,0.78168684437095648,0.70581196655106948,0.71186657303886924,0.4756200302118419,0.81147289638702913,0.38608413484604071,0.80106985515433216,0.41769215398418397,0.34934471143819557,0.91686513067206177,0.67798057529505185,49,{"$f":"AVERAGE(Data!EY23:FQ23)","v":0.68399542320077344},80,{"$f":"AVERAGE(Data!FR23:FZ23)","v":0.62241122459103437},50,{"$f":"AVERAGE(Data!GA23:GL23)","v":0.71013407913900528},26]
["E05004886","29UBHU","Rolvenden and Tenterden West","Ashford","NHS Ashford CCG",20,0.95052840816242823,0.91999974099389137,1.0355660081532778,1.0009925641936954,1.0086620088807547,1.1231003223171172,1.1333872624870136,0.92570508601167056,1.3246630592151878,1.2025809051471892,1.2532102719662472,1.0766022113666518,1.6862773935719668,1.1149911177598695,1.1251701506714802,1.0810138848782291,0.73229158348194434,0.85232443201147856,0.61198707040617328,1.1908039849357352,0.77184710343433915,1.1088843220704732,1.4862059454785044,1.0067956822844104,1.1068038741287634,1.193746779130902,0.744503741948502,2.1048034013844061,0.65250712756991947,0.73440274531336791,1.1176161500472519,1.4951260238036208,1.2532102719662472,0.68026046244633309,1.4691448011117596,1.1435374855372475,0.99842051301764545,1.1213845364099932,1.1273074960821727,1.2276745265028628,0.9686980524365324,177,0.624,null,null,null,null,1.0383694487780502,140,0.49199999999999999,null,null,null,null,1.2330636243221027,54,0.187,null,null,null,null,0.7322010286331988,209,0.73699999999999999,null,null,null,null,1.1129074076406926,109,0.38200000000000001,null,null,null,null,1.2874644491481435,54,0.187,null,null,null,null,0.83484200764351313,230,0.81200000000000006,null,null,null,null,1.3741681478849341,42,0.14499999999999999,null,null,null,null,1.0747026317790462,61,0.21199999999999999,null,null,null,null,1.1236649115099844,42,0.14499999999999999,null,null,null,null,1.0610028148250668,128,0.45,null,null,null,null,{"$f":"AVERAGE(Data!Z24:AH24)","v":1.1904883149773373},64,0.223,null,null,null,null,1.0850493449840353,41,0.14099999999999999,null,null,null,null,1.0973510114070177,88,0.308,null,null,null,null,"Ashford",196,156,220,243,0.54900000000000004,0.77600000000000002,0.85799999999999998,196,0.69099999999999995,0.55482264150943394,0.57530178813504618,0.78158963637152779,0.69504702334945379,0.71510403743505968,0.85255130713588545,0.74686759302257,0.52803286002864236,0.67169154949992771,0.67980289984802489,0.95613558863081438,0.69183986957850518,0.73551084126793631,0.69316402751307449,0.60108984454868064,0.64564658631430438,0.35536789251302731,0.44843074124115662,0.23640702151197679,0.86293428022631302,0.47668542687982723,0.70382248551761595,0.8349251142794657,0.60582784928520417,0.44848161245250229,0.35195825746810655,0.3467191683681829,0.73286898160022784,0.3842356463023589,0.59860626000377148,0.80842694330219034,0.20625633029735085,0.95613558863081438,0.23102352690030115,0.70234548995199109,0.99510579644607122,0.72972306033602241,0.99732732384313671,0.99829881173203849,0.66756808584228011,0.63723802200533597,0.7075205641943223,0.70936015090015858,0.34673521842205357,0.6968390312376852,0.47000700497225489,0.59708961653610693,0.58119595946408265,0.46668450842614612,0.87760461563990977,0.64509199472802048,97,{"$f":"AVERAGE(Data!EY24:FQ24)","v":0.64023177628710781},128,{"$f":"AVERAGE(Data!FR24:FZ24)","v":0.59602479734193836},72,{"$f":"AVERAGE(Data!GA24:GL24)","v":0.68958773863236056},64]
["E05004888","29UBHX","Saxon Shore","Ashford","NHS Ashford CCG",21,1.1778755856897767,1.133069698961956,1.131161650099791,1.0009925641936954,1.2059848375391513,1.167255450884247,1.1872577267834143,0.92570508601167056,1.3246630592151878,1.2025809051471892,1.1438888284605848,1.2158297172104107,1.3661218675357716,1.3637412968061811,1.2615571951202667,1.0824493893797573,1.3831521410706542,1.2794816718444653,1.5989719850980966,1.2016891164344117,1.1543602549857996,0.98649383360463205,1.4862059454785044,1.0067956822844104,1.3173387238741854,1.7439979993372039,0.6792567489211836,2.2030276666462787,0.69190916623541976,0.6730114742241019,1.0366920719782116,1.070847173409549,1.1438888284605848,0.60986487259466293,1.306131679114455,1.1097390008651142,1.0915157899399495,1.0966292221463234,1.0901431731445117,0.98161479138675223,1.1473689782505079,84,0.29399999999999998,null,null,null,null,1.0974391330824358,121,0.42499999999999999,null,null,null,null,1.2451040323594187,46,0.159,null,null,null,null,1.4205352660044053,49,0.17,null,null,null,null,1.1671089665575516,75,0.26200000000000001,null,null,null,null,1.4859052846947129,16,5.2999999999999999E-2,null,null,null,null,0.80053757081257759,241,0.85099999999999998,null,null,null,null,1.1073680009350668,75,0.26200000000000001,null,null,null,null,0.95799827585455899,185,0.65200000000000002,null,null,null,null,1.0739283954965302,89,0.312,null,null,null,null,1.2185126661606458,45,0.156,null,null,null,null,{"$f":"AVERAGE(Data!Z25:AH25)","v":1.3087962190629565},26,8.7999999999999995E-2,null,null,null,null,0.99183227029163623,141,0.496,null,null,null,null,1.170822346802963,41,0.14099999999999999,null,null,null,null,"Ashford",243,239,258,143,0.84299999999999997,0.91100000000000003,0.503,243,0.85799999999999998,0.68752500000000005,0.70854044283777684,0.85374009557877795,0.69504702334945379,0.8549986207636241,0.88606969532314328,0.78236658382274415,0.52803286002864236,0.67169154949992771,0.67980289984802489,0.87272889697303002,0.7813094419681188,0.59586723269612341,0.84780622439331377,0.67395070679004965,0.64650395604286703,0.67121877744383374,0.67316962058170926,0.61767351429050854,0.87082235688192322,0.71292190962769242,0.62613974072517153,0.8349251142794657,0.60582784928520417,0.53379122429822978,0.51419154179537907,0.31633331281593335,0.7670695711676675,0.40743794885597623,0.54856668782332918,0.74989056203198756,0.14772601424918735,0.87272889697303002,0.20711645256104702,0.62441475708538707,0.96569437055605556,0.79776430096843776,0.9753106555871951,0.96538756120240632,0.53376908388511324,0.74993517947218491,0.74930295665752156,0.72120761352643203,0.65402063743868388,0.73012739415989136,0.53284641251930243,0.56863173290376434,0.51022745561110872,0.41576560482321706,0.84758519443984159,0.68264682637218699,45,{"$f":"AVERAGE(Data!EY25:FQ25)","v":0.7225285864332458},46,{"$f":"AVERAGE(Data!FR25:FZ25)","v":0.64244695787518524},32,{"$f":"AVERAGE(Data!GA25:GL25)","v":0.64965060764826277},149]
["E05004889","29UBHY","Singleton South","Ashford","NHS Ashford CCG",22,1.1872438024592911,1.2637672504990678,1.0668116240556247,1.0009925641936954,1.1267419082648393,0.90116667558396013,0.90727539301053195,0.92570508601167056,1.3246630592151878,1.2025809051471892,1.2519579432584471,0.98578728792467274,0.24960034805903417,0.9528854522829846,1.1091640193759817,1.3691713618436721,1.5551360385966506,1.4024115264189201,1.5216038272211578,1.018410934487874,1.1296555985033208,1.2151461011126383,1.4862059454785044,1.0067956822844104,0.71226433047909377,0.50267302783443923,1.0824630351892748,0.48875335313426377,1.020945730216166,1.1975437701948672,1.2141477191151666,0.187417083590001,1.2519579432584471,1.3250920844812604,0.83730396935649476,1.1318165358984948,1.2053230725663984,1.1003946414057666,1.1166266439901407,0.88774976928506444,1.1726075590046612,69,0.24099999999999999,null,null,null,null,0.9723763254129395,175,0.61699999999999999,null,null,null,null,1.0557262971383961,123,0.432,null,null,null,null,1.4930504640789095,31,0.106,null,null,null,null,1.1712428523733496,72,0.251,null,null,null,null,0.69653843665926785,233,0.82199999999999995,null,null,null,null,1.1442124065087333,68,0.23699999999999999,null,null,null,null,0.7196875134242241,214,0.755,null,null,null,null,1.0811980269188775,59,0.20499999999999999,null,null,null,null,1.0883821326291729,78,0.27300000000000002,null,null,null,null,1.121298214390662,90,0.315,null,null,null,null,{"$f":"AVERAGE(Data!Z26:AH26)","v":0.96026311205598014},171,0.60199999999999998,null,null,null,null,1.0396932469465225,87,0.30399999999999999,null,null,null,null,1.0605838261321165,112,0.39300000000000002,null,null,null,null,"Ashford",172,194,113,197,0.68400000000000005,0.39700000000000002,0.69499999999999995,172,0.60599999999999998,0.69299322033898303,0.79026930835130749,0.80517215006842868,0.69504702334945379,0.79881831639673218,0.68408031940665048,0.59786677635628216,0.52803286002864236,0.67169154949992771,0.67980289984802489,0.95518012563072807,0.63348091013504992,0.10886925406311269,0.59238670814715977,0.59253902850855089,0.81775158323082264,0.75467945975754325,0.73784631379510757,0.58778664796927038,0.73800702537481699,0.69766454885135343,0.77126814053538739,0.8349251142794657,0.60582784928520417,0.28861252015142769,0.14820557093492762,0.50410852518735227,0.17017844608651256,0.60119457077839678,0.97610909278570868,0.87825299342721685,2.5854649896310533E-2,0.95518012563072807,0.45001505118149288,0.4002850271473673,0.98490623143583844,0.88094347996556555,0.97865951174780375,0.98884027270092389,0.48272844422106226,0.7628115595862397,0.66076905910755224,0.63146275738292212,0.69343747384064047,0.72953853566524551,0.27777626559005503,0.81851888566377407,0.49051738776351927,0.42515003916443006,0.8632155880142387,0.65215154116216612,87,{"$f":"AVERAGE(Data!EY26:FQ26)","v":0.66969970815167257},92,{"$f":"AVERAGE(Data!FR26:FZ26)","v":0.5287553045207164},140,{"$f":"AVERAGE(Data!GA26:GL26)","v":0.71691412090986784},21]
["E05004890","29UBHZ","South Willesborough","Ashford","NHS Ashford CCG",23,0.86070453831367388,1.1392328795643378,0.93998431475889943,1.0009925641936954,0.99316953343947956,0.84767596555013824,0.65293233115105109,0.92570508601167056,1.3246630592151878,1.2025809051471892,1.0449994685849988,0.9874430027083978,0.21532089510214489,0.88370425576115297,0.92923271052945333,1.3065446467792314,0.36627764046383116,0.50674482184745995,0.14042971286064448,0.82113287059580997,1.4675281697253288,1.2468497453269194,1.4862059454785044,1.0067956822844104,0.630891240189278,0.58882048302093959,1.1372374954091502,0.36019657558659607,1.1083464230980795,1.0993844563938588,1.3234271299345346,0.35558349868984696,1.0449994685849988,1.0483211898349598,0.81970867924487423,1.1216022046394662,1.1856874433122944,1.0988726939064022,1.1032327699991045,1.4636764220488154,0.97997391087897034,171,0.60199999999999998,null,null,null,null,0.88409509606920689,200,0.70499999999999996,null,null,null,null,0.98681111797846954,149,0.52400000000000002,null,null,null,null,0.33781739172397857,269,0.95,null,null,null,null,1.2057024826821947,61,0.21199999999999999,null,null,null,null,0.67928644855149101,237,0.83599999999999997,null,null,null,null,1.1770526698088244,45,0.156,null,null,null,null,0.70029148363742288,221,0.78,null,null,null,null,0.93401493453991702,212,0.748,null,null,null,null,1.1946143067812165,5,1.4E-2,null,null,null,null,0.85622833326224401,213,0.751,null,null,null,null,{"$f":"AVERAGE(Data!Z27:AH27)","v":0.97173980084632638},160,0.56299999999999994,null,null,null,null,1.0644035316406031,60,0.20899999999999999,null,null,null,null,0.94467097298217007,189,0.66600000000000004,null,null,null,null,"Ashford",95,71,124,224,0.248,0.436,0.79,95,0.33300000000000002,0.50239252336448592,0.71239445351099617,0.70944970478270564,0.69504702334945379,0.7041204456665815,0.64347524268040146,0.43026246607301066,0.52803286002864236,0.67169154949992771,0.67980289984802489,0.7972813536285126,0.63454489596745633,9.3917438081568341E-2,0.54937836839859688,0.49641589335476494,0.78034713786794974,0.17774793006273212,0.26661204061097943,5.4247175724044874E-2,0.59504646576741349,0.90633143394726801,0.79139083253016462,0.8349251142794657,0.60582784928520417,0.25563979969348144,0.17360485053325828,0.52961726909983753,0.12541641530625183,0.65266138286031916,0.89610016022938221,0.95730018691205576,4.9053622494964887E-2,0.7972813536285126,0.35602077729028547,0.39187334938426199,0.97601772504996831,0.8665922408993515,0.97730593518482545,0.97697918906916437,0.79589797317288113,0.64141222721939595,0.60018760755961797,0.5879224420808502,0.16620238213258548,0.74670433916190315,0.27106958365820727,0.83535391000058568,0.42316748806173876,0.37394706333727373,0.9185586126752382,0.5909511332279791,168,{"$f":"AVERAGE(Data!EY27:FQ27)","v":0.53300849486846513},203,{"$f":"AVERAGE(Data!FR27:FZ27)","v":0.53531111449359392},134,{"$f":"AVERAGE(Data!GA27:GL27)","v":0.72442365801466435},12]
["E05004887","29UBHW","St Michaels","Ashford","NHS Ashford CCG",24,1.2346419154120776,1.1648035224891142,1.0192411651822175,1.0009925641936954,1.2021806216256781,1.1471091244743463,1.3373528031203339,0.92570508601167056,1.3246630592151878,1.2025809051471892,1.1466782772682558,1.0885904792791761,1.6721791437352036,1.1050428242992598,1.1256800893437955,1.0909611126907475,0.99455018787538574,1.0350581444848619,1.0124678440631782,1.1275380662606418,0.89732453121075761,1.0368972405666641,1.4862059454785044,1.0067956822844104,1.2661992491421861,1.0789826633010013,0.94699287474270433,1.3802417585923807,1.1726172972379691,0.94391740680372971,1.2357602007571629,0.59847288710872926,1.1466782772682558,0.95485841420817186,1.1205726267322833,1.1194826368288666,1.2710165457398621,1.1114610654601467,1.0989886962135595,0.4555494194410431,1.139562201027803,90,0.315,null,null,null,null,1.1226680398851447,113,0.39700000000000002,null,null,null,null,1.2195469863723518,58,0.20200000000000001,null,null,null,null,1.014025392141142,145,0.51,null,null,null,null,1.1109522931601956,110,0.38600000000000001,null,null,null,null,1.1681041364445681,81,0.28299999999999997,null,null,null,null,1.1174316349329538,87,0.30399999999999999,null,null,null,null,0.87257558218849252,147,0.51700000000000002,null,null,null,null,1.0377155204702275,91,0.31900000000000001,null,null,null,null,1.0112996727366954,159,0.56000000000000005,null,null,null,null,1.1489725721005988,80,0.28000000000000003,null,null,null,null,{"$f":"AVERAGE(Data!Z28:AH28)","v":1.1363531123976947},78,0.27300000000000002,null,null,null,null,1.0191146228166483,114,0.4,null,null,null,null,1.1071758088822601,80,0.28000000000000003,null,null,null,null,"Ashford",204,204,206,170,0.71899999999999997,0.72599999999999998,0.59899999999999998,204,0.71899999999999997,0.72065945945945942,0.72838449779350245,0.76926852117354338,0.69504702334945379,0.85230157246097404,0.87077651396307487,0.88127465531660254,0.52803286002864236,0.67169154949992771,0.67980289984802489,0.87485710429572727,0.69954370078143813,0.72936154718537838,0.68697940500604282,0.60136226464184472,0.65158766974559323,0.48263726121662509,0.54457184790966062,0.39111039916704443,0.81708766677406253,0.55417909234445772,0.65813140158690631,0.8349251142794657,0.60582784928520417,0.51306929277641,0.31812178650667955,0.44101938443191446,0.48058472887129561,0.6905079592732517,0.76938011499145487,0.89388636850888059,8.2560813946290099E-2,0.87485710429572727,0.32427984679207134,0.53570562272248401,0.97417327811144294,0.92895735955158631,0.98850167269109768,0.97322080563630575,0.24771244118675617,0.73943749280883508,0.76548652502374959,0.69939826762549706,0.47277316943111009,0.69403022485401933,0.43819879814657492,0.78459148092452902,0.47870895912100869,0.42999273475727767,0.82251311143543782,0.66414851143515763,62,{"$f":"AVERAGE(Data!EY28:FQ28)","v":0.68732898699171363},78,{"$f":"AVERAGE(Data!FR28:FZ28)","v":0.58032736853959954},91,{"$f":"AVERAGE(Data!GA28:GL28)","v":0.69031194897561232},62]
["E05004891","29UBJA","Stanhope","Ashford","NHS Ashford CCG",25,0.25823561694114505,0.42484659967816879,0.22332449522425155,1.0009925641936954,0.22612290954654513,0.33985858771921973,0,0.92570508601167056,1.3246630592151878,1.2025809051471892,0.51940255222900167,0.46866737668113823,0.23828497336496815,0.90928630349533002,0.63546750780367767,1.2736466512111675,0.98444057566421339,0.91590054244622354,1.1808146531651424,9.358789455782961E-3,1.5496924920768815,0.90307527421624201,1.4862059454785044,1.0067956822844104,0,0.92857753684741351,1.1100007969735601,0,0.78380319386676556,1.1717280088859596,1.3086717550133411,0.17968411433612111,0.51940255222900167,0.45948901986035151,0.91085099292754279,0.98059668265480238,1.0425335907903654,1.0058147462259162,0.95736509510242396,0.91612821955870827,0.30213557061452179,279,0.98499999999999999,null,null,null,null,0.49853582949422615,269,0.95,null,null,null,null,0.82149991614345752,217,0.76500000000000001,null,null,null,null,1.0270519237585265,140,0.49199999999999999,null,null,null,null,0.99102563670236421,169,0.59499999999999997,null,null,null,null,0.50964458345524344,278,0.98199999999999998,null,null,null,null,1.0880676525886888,106,0.372,null,null,null,null,0.34954333328256137,282,0.996,null,null,null,null,0.68517000639394721,279,0.98499999999999999,null,null,null,null,0.98048766686644329,181,0.63800000000000001,null,null,null,null,0.68696005051252318,254,0.89700000000000002,null,null,null,null,{"$f":"AVERAGE(Data!Z29:AH29)","v":0.77707850192586614},229,0.80800000000000005,null,null,null,null,0.85300566428760816,267,0.94299999999999995,null,null,null,null,0.75705038621305099,256,0.90400000000000003,null,null,null,null,"Ashford",28,30,55,17,0.10199999999999999,0.191,5.6000000000000001E-2,28,9.5000000000000001E-2,0.15073191489361704,0.26566856226926644,0.1685533414972252,0.69504702334945379,0.16031277489347154,0.25798842493748675,0,0.52803286002864236,0.67169154949992771,0.67980289984802489,0.3962776846958363,0.3011723116815645,0.10393377856411128,0.56528213207617706,0.33948026905397005,0.76069847393104184,0.47773124882122675,0.4818798379192844,0.45614178568706792,6.7819896011277791E-3,0.95707533762996611,0.57319295751390686,0.8349251142794657,0.60582784928520417,0,0.2737771003920792,0.51693300050775837,0,0.46155070809855392,0.95506685618611464,0.94662689568920266,2.4787867675137045E-2,0.3962776846958363,0.1560472492526721,0.43544522392676488,0.85331478436593722,0.76196431509135343,0.89454285890803487,0.84780456100578738,0.49815969030410345,0.19498460622003622,0.32827621664181089,0.47729238741883173,0.47191762414252642,0.59556064966193412,0.19767752522495941,0.78774815332462378,0.21053277618548666,0.29574623658971849,0.77115724193504331,0.46151322295141012,256,{"$f":"AVERAGE(Data!EY29:FQ29)","v":0.39265404598144193},258,{"$f":"AVERAGE(Data!FR29:FZ29)","v":0.41872370546772308},222,{"$f":"AVERAGE(Data!GA29:GL29)","v":0.60263239126662482},237]
["E05004892","29UBJB","Stour","Ashford","NHS Ashford CCG",26,1.0673306278095063,1.0375779799945613,0.99022962933761083,1.0009925641936954,0.98450765219390679,0.95467414207583101,0.84750559097503109,0.92570508601167056,1.3246630592151878,1.2025809051471892,0.89493030098255122,1.0017646538403138,0.6701503281283604,0.9800610223988806,1.0327832728808302,1.1111757554478436,1.4054488978672088,1.2435152199116801,1.4666018986593472,1.0234865153773212,0.97879892046368755,1.2308411522388558,1.4862059454785044,1.0067956822844104,0.69809419571030484,0.51103909989936203,1.1930476676441704,0.51424264241420614,0.99741863306893352,1.167549107368772,1.2367345432128047,1.9050119950710325,0.89493030098255122,1.1539787370640511,0.88720057283235665,0.98070792748431601,0.92830612973908988,0.99364866671300589,0.99462170369535907,1.2335120995700821,1.0317127457138928,146,0.51400000000000001,null,null,null,null,0.942677007090027,187,0.65900000000000003,null,null,null,null,1.0272636622551445,131,0.46,null,null,null,null,1.3718553388127457,58,0.20200000000000001,null,null,null,null,1.1452256431685559,89,0.312,null,null,null,null,0.72910590141701082,221,0.78,null,null,null,null,1.1339007612168368,72,0.251,null,null,null,null,1.3999711480267918,40,0.13800000000000001,null,null,null,null,1.0205896549482039,104,0.36499999999999999,null,null,null,null,1.0261593054403706,141,0.496,null,null,null,null,1.0601157151090106,131,0.46,null,null,null,null,{"$f":"AVERAGE(Data!Z30:AH30)","v":0.96028353572342473},170,0.59899999999999998,null,null,null,null,1.1144683680668628,27,9.1999999999999998E-2,null,null,null,null,1.0539592706346097,117,0.41099999999999998,null,null,null,null,"Ashford",167,153,114,257,0.53900000000000003,0.4,0.90700000000000003,167,0.58799999999999997,0.623,0.64882677746795547,0.74737217118441801,0.69504702334945379,0.69797949240775359,0.7246981160475221,0.55848030214822075,0.52803286002864236,0.67169154949992771,0.67980289984802489,0.68278622451041426,0.64374819236295222,0.29230234212745959,0.60928112760167885,0.55173480791144069,0.66366107164380517,0.68203899121031153,0.65424670567479959,0.56653972505620587,0.74168512252344376,0.60449689991022781,0.78122998206756333,0.8349251142794657,0.60582784928520417,0.28287072159224014,0.15067218127247889,0.55560834935037806,0.17905353126739845,0.58734039356557144,0.95166066438728047,0.89459115851492232,0.2628011130969351,0.68278622451041426,0.3919031790349341,0.42413880547382959,0.85341158956565633,0.67847803714938826,0.88372269586109464,0.88079753605186273,0.67074236159234302,0.67306631621745783,0.64084755879631849,0.5993760269382129,0.63427514064710566,0.71363299361318089,0.29205119587062389,0.81119740548925812,0.47279366880367468,0.40802099225438182,0.79343044404406904,0.62050034726084058,131,{"$f":"AVERAGE(Data!EY30:FQ30)","v":0.62743528316215713},139,{"$f":"AVERAGE(Data!FR30:FZ30)","v":0.52626330572760005},143,{"$f":"AVERAGE(Data!GA30:GL30)","v":0.680197813233686},81]
["E05004893","29UBJC","Tenterden North","Ashford","NHS Ashford CCG",27,1.0496434345486632,1.133069698961956,1.1230510287409752,1.0009925641936954,1.1283970692197389,1.0966302807940242,1.3897938048643395,0.92570508601167056,1.3246630592151878,1.2025809051471892,1.1462824187650134,0.85884369070217759,1.6955355624801649,1.1033297031592475,1.227850159201588,0.92919131512281483,0.64538499415428885,0.77010517292660885,0.74713174024012885,1.1698333598047548,3.4882251062816123E-2,1.0114717911028186,1.4862059454785044,1.0067956822844104,1.1007822361930737,0.48003175297536776,1.1333072453614763,1.3668272108451747,1.0152690857620887,1.1335589112566555,1.3426978983837372,1.5355241698277355,1.1462824187650134,1.2241727320150408,1.3389216430658422,1.095544089642742,0.84334683191605653,1.0841783040953048,1.0913048942880939,1.1297006913449732,1.101921387417198,115,0.40400000000000003,null,null,null,null,1.1083037610166937,117,0.41099999999999998,null,null,null,null,1.186034601724173,73,0.255,null,null,null,null,0.72087396910700885,211,0.74399999999999999,null,null,null,null,0.94183780594666078,183,0.64500000000000002,null,null,null,null,1.0202371113437732,130,0.45700000000000002,null,null,null,null,1.1638419651341605,55,0.191,null,null,null,null,1.3409032942963743,46,0.159,null,null,null,null,1.2815471875404416,11,3.5000000000000003E-2,null,null,null,null,1.0488149622574339,118,0.41399999999999998,null,null,null,null,1.0788516678131301,118,0.41399999999999998,null,null,null,null,{"$f":"AVERAGE(Data!Z31:AH31)","v":0.9766819416787107},155,0.54600000000000004,null,null,null,null,1.1650418058636069,14,4.5999999999999999E-2,null,null,null,null,1.0817205208480287,96,0.33600000000000002,null,null,null,null,"Ashford",188,166,129,270,0.58499999999999996,0.45300000000000001,0.95299999999999996,188,0.66300000000000003,0.612676,0.70854044283777684,0.84761863393492909,0.69504702334945379,0.79999176426235263,0.8324577606805742,0.91583167394966369,0.52803286002864236,0.67169154949992771,0.67980289984802489,0.87455508442605412,0.55190515186612377,0.73954901649831473,0.68591439746462446,0.65594369072366721,0.5549690055179296,0.31319369279327103,0.40517298408791536,0.28861261606393429,0.84773759669802007,2.154294634834027E-2,0.64199355683531556,0.8349251142794657,0.60582784928520417,0.44604161928467112,0.14153013206835588,0.52778693172041469,0.47591393351831568,0.59785181932254028,0.92395550628253109,0.97123968521996273,0.21182935438835876,0.87455508442605412,0.41574178964958369,0.64009046398610747,0.95334196530824356,0.61638320035157124,0.96423716529369907,0.9664163353755868,0.6142932119347071,0.72294502559090201,0.75427221645413733,0.67679134948058339,0.33565976431504024,0.59040541268926916,0.39781815414793931,0.83101567027501133,0.54319221940720641,0.52791612681784561,0.82293437565276162,0.64136853773525582,105,{"$f":"AVERAGE(Data!EY31:FQ31)","v":0.65060559199122014},115,{"$f":"AVERAGE(Data!FR31:FZ31)","v":0.50481107555978921},165,{"$f":"AVERAGE(Data!GA31:GL31)","v":0.72916129846157884},10]
["E05004894","29UBJD","Tenterden South","Ashford","NHS Ashford CCG",28,0.4482788636799927,0.81346476200985907,0.9280261329677959,1.0009925641936954,0.83567315332170733,1.1226679585449577,1.088759619401287,0.92570508601167056,1.3246630592151878,1.2025809051471892,1.1307245705745046,0.88617792895893477,1.6754193019499501,1.1016954602442859,1.0105327460030094,0.89450742699417995,1.3587925927059055,1.2465659234902471,1.3770788765070689,1.1128776946779355,0.46702768133395722,1.0708759642930541,1.4862059454785044,1.0067956822844104,0.94585313175919528,0.74238815592018514,1.0428368051730217,1.2275529114416053,0.95517969419459292,0.87654563604984492,1.197769666616288,1.7160711831275826,1.1307245705745046,1.098409575711613,1.2338425536372559,1.1301468970667414,0.96531735294304499,1.1056914747983011,1.1214864189147355,0.42025904548532184,0.72992325288588267,242,0.85399999999999998,null,null,null,null,0.99475967629466366,161,0.56699999999999995,null,null,null,null,1.1532876748859051,86,0.30099999999999999,null,null,null,null,1.3274791309010736,62,0.216,null,null,null,null,1.0287565936135725,147,0.51700000000000002,null,null,null,null,0.98965775107350185,138,0.48499999999999999,null,null,null,null,1.009831665620242,154,0.54200000000000004,null,null,null,null,1.4233978768510436,38,0.13100000000000001,null,null,null,null,1.1661260646744345,28,9.5000000000000001E-2,null,null,null,null,0.94858023784162904,205,0.72299999999999998,null,null,null,null,1.0722266806274439,121,0.42499999999999999,null,null,null,null,{"$f":"AVERAGE(Data!Z32:AH32)","v":1.0113793302624299},142,0.5,null,null,null,null,1.0792870057599855,47,0.16300000000000001,null,null,null,null,1.0606541243350782,111,0.39,null,null,null,null,"Ashford",173,163,142,237,0.57399999999999995,0.5,0.83599999999999997,173,0.60899999999999999,0.26166,0.50868246078368085,0.70042431105194713,0.69504702334945379,0.59246134052332367,0.85222309754339576,0.71745933913010229,0.52803286002864236,0.67169154949992771,0.67980289984802489,0.86268523890194915,0.56947052153648414,0.73077482088723433,0.68489842667990164,0.53984810283476059,0.53425369900465314,0.65939752814886166,0.65585176264097778,0.53195750584408352,0.80646380477862611,0.28843185217745915,0.67969811446383732,0.8349251142794657,0.60582784928520417,0.3832636906954508,0.218881965832703,0.48565438890478146,0.42742018160787881,0.56246755265431414,0.71446588165262648,0.86640593939318966,0.23673626110825988,0.86268523890194915,0.37303131399023448,0.58985591631416889,0.98345331248874446,0.70552870639249143,0.98337036382458676,0.99314389664502889,0.22852272365031093,0.49025559061187601,0.67704473211498362,0.65917815739911689,0.61573559887797435,0.64306934699691842,0.37880505676020354,0.71444645790004346,0.5497107500051045,0.48144361515220169,0.77880380060023247,0.62017141393196795,132,{"$f":"AVERAGE(Data!EY32:FQ32)","v":0.63034855201249496},136,{"$f":"AVERAGE(Data!FR32:FZ32)","v":0.5256185513361562},144,{"$f":"AVERAGE(Data!GA32:GL32)","v":0.67497225891799195},91]
["E05004895","29UBJE","Victoria","Ashford","NHS Ashford CCG",29,0.8346044006931479,0.56685601436163602,0.75486475731218927,1.0009925641936954,0.71264771052568465,0.70766910028610197,0.44115106532998416,0.92570508601167056,1.3246630592151878,1.2025809051471892,0.57640218693174583,0.69029355240618717,0.62900095380398879,0.93126135132950005,0.84482387703847761,1.1424209140400523,0.56858896065017406,0.73860202567862177,0.54900817159776139,0.69244385149768961,1.0988673551084183,1.1122721400771651,1.4862059454785044,1.0067956822844104,0.39307768453496356,0.5740848250869528,1.2430245175797139,0.33873459912081644,0.96760717736087509,1.04068869446055,1.1895132620673818,3.5708763912238086,0.57640218693174583,0.91571837564288194,0.76583712394315295,0.91039968317071307,0.49817425598183329,0.88394515035307841,0.94954697151693912,1.1651006684973788,0.71877505745565784,246,0.86799999999999999,null,null,null,null,0.75763310526942729,230,0.81200000000000006,null,null,null,null,0.91768084998904098,181,0.63800000000000001,null,null,null,null,0.61873305264218581,230,0.81200000000000006,null,null,null,null,1.0793169948892376,126,0.443,null,null,null,null,0.6372304065806117,251,0.88600000000000001,null,null,null,null,1.0659363779629356,122,0.42899999999999999,null,null,null,null,2.0736392890777773,10,3.1E-2,null,null,null,null,0.84077774979301745,261,0.92100000000000004,null,null,null,null,0.88143334590398847,242,0.85399999999999998,null,null,null,null,0.79695456087121019,230,0.81200000000000006,null,null,null,null,{"$f":"AVERAGE(Data!Z33:AH33)","v":0.88283406675207066},201,0.70899999999999996,null,null,null,null,1.1194841617625284,24,8.1000000000000003E-2,null,null,null,null,0.91303632996179895,202,0.71199999999999997,null,null,null,null,"Ashford",82,54,83,260,0.187,0.28999999999999998,0.91800000000000004,82,0.28699999999999998,0.48715789473684212,0.35447105487774255,0.56973139957485774,0.69504702334945379,0.50524085429891152,0.53719530168404528,0.29070507956773778,0.52803286002864236,0.67169154949992771,0.67980289984802489,0.43976550194197322,0.44359243945945753,0.27435404308583095,0.57894350786554571,0.45132289780085072,0.68232256181160356,0.27592596338696962,0.38859833347218137,0.21207864170565294,0.50179000418909603,0.67865002268383035,0.70597277517587287,0.8349251142794657,0.60582784928520417,0.1592767408029758,0.16926026374168768,0.57888282182242068,0.11794359536247059,0.5697856060893649,0.84825767767714533,0.86043367432538764,0.49261122385226352,0.43976550194197322,0.31098748268810811,0.36611928901238383,0.79222938754842831,0.3641043407220737,0.78615552703094915,0.84088114080988829,0.6335425280004312,0.47045344972981412,0.51124422378575818,0.52772442516415186,0.29220097952160129,0.6654331531226938,0.25634085543238871,0.75949231936396588,0.4661883628971184,0.33855338585024597,0.68338258482235414,0.51808455937594178,228,{"$f":"AVERAGE(Data!EY33:FQ33)","v":0.47715683199980263},232,{"$f":"AVERAGE(Data!FR33:FZ33)","v":0.48361435414922482},188,{"$f":"AVERAGE(Data!GA33:GL33)","v":0.60873944830819982},231]
["E05004896","29UBJF","Washford","Ashford","NHS Ashford CCG",30,0.94099353308919753,1.0014676660993276,0.80226016129465882,1.0009925641936954,1.0394625619761719,1.0360368593836478,0.95349531807091581,0.92570508601167056,1.3246630592151878,1.2025809051471892,0.94154985948473391,1.1231780260452875,0.33780770223947104,1.1046468553308353,1.1478942592508925,1.4045512296989346,1.0205099980791865,1.1222667613021853,0.71720215783187558,0.91722753772887722,1.4984371572237107,1.1960285958328871,1.4862059454785044,1.0067956822844104,0.95668838158921443,1.0694489728673298,0.80936275113034806,0.32237885751654821,0.79312417592864226,1.0394701240226303,1.2896418002036003,0,0.94154985948473391,0.96596632405404848,0.58553559776266084,1.1394214125309836,1.1837321604130522,1.1123012073959693,1.1183679892259879,0.99305073780077568,0.91490712016106135,197,0.69499999999999995,null,null,null,null,0.99113847792722021,163,0.57399999999999995,null,null,null,null,1.0733589870515665,114,0.4,null,null,null,null,0.95332630573774901,156,0.54900000000000004,null,null,null,null,1.220938983709678,56,0.19500000000000001,null,null,null,null,0.78946974077586018,210,0.74099999999999999,null,null,null,null,1.0407453667182909,138,0.48499999999999999,null,null,null,null,0.47077492974236695,275,0.97099999999999997,null,null,null,null,0.7757509609083546,272,0.96,null,null,null,null,1.1093747014733537,55,0.191,null,null,null,null,1.0077507665128982,157,0.55300000000000005,null,null,null,null,{"$f":"AVERAGE(Data!Z34:AH34)","v":1.0291748757390922},131,0.46,null,null,null,null,0.93018011573525705,224,0.79,null,null,null,null,0.98929999585549966,165,0.58099999999999996,null,null,null,null,"Ashford",119,127,153,60,0.44600000000000001,0.53900000000000003,0.20899999999999999,119,0.41799999999999998,0.54925714285714289,0.62624597963903128,0.60550290643457028,0.69504702334945379,0.73694048976482085,0.78646097873622201,0.62832429544272772,0.52803286002864236,0.67169154949992771,0.67980289984802489,0.71835457246231627,0.72177014950229967,0.14734303395637502,0.6867332403141887,0.61322954705087973,0.83888257074591333,0.49523508870809774,0.5904546399700924,0.27705099364675412,0.66468293278052615,0.92542053052420792,0.75913402535755958,0.8349251142794657,0.60582784928520417,0.38765417976824867,0.31531092147991202,0.3769243378759401,0.11224870923441108,0.46703946586899547,0.84726442990261108,0.93286158977682199,0,0.71835457246231627,0.32805220848402761,0.27992358954933527,0.99152399160020366,0.86516316867732224,0.98924887089233626,0.99038233898346273,0.53998756662837866,0.59366867631024811,0.67496112946437337,0.63472594542249061,0.45424690744164814,0.75799809044539268,0.29803453708962796,0.74905516184947618,0.35917728623115813,0.30398789901668144,0.87526118735634084,0.61320725888421923,143,{"$f":"AVERAGE(Data!EY34:FQ34)","v":0.61033473483986744},158,{"$f":"AVERAGE(Data!FR34:FZ34)","v":0.55356984450949731},115,{"$f":"AVERAGE(Data!GA34:GL34)","v":0.6624834827354843},115]
["E05004897","29UBJG","Weald Central","Ashford","NHS Ashford CCG",31,1.1713729411085845,1.2319950365899859,0.9821836466146362,1.0009925641936954,1.0611244491290597,1.0666655832166516,1.1300141956928624,0.92570508601167056,1.3246630592151878,1.2025809051471892,0.9638249144335731,1.159109428457386,1.0880134294760684,1.1285822025455319,1.1242454842980329,0.98379329594301523,0.94487699039092132,0.98558316608741414,0.90333948596395874,1.1198903444407717,1.0437419417252405,1.0096067444536918,1.4862059454785044,1.0067956822844104,1.2163269337282068,1.6207170924973704,0.7060306013751273,2.3347991560353067,0.51339796514285774,0.35006127505926327,0.77581944763867183,0.77672885182854512,0.9638249144335731,0.48951414386602266,1.4693673992237413,1.1130139641189676,0.76669544695514502,1.0947988606943539,1.1000756625071768,1.0003487945302236,1.1285172081044021,99,0.34699999999999998,null,null,null,null,1.036900375648788,141,0.496,null,null,null,null,1.1218515899394981,101,0.35399999999999998,null,null,null,null,0.94459988081409796,162,0.56999999999999995,null,null,null,null,1.1332481316765239,97,0.34,null,null,null,null,1.4694684459090026,18,0.06,null,null,null,null,0.5464262292802643,278,0.98199999999999998,null,null,null,null,0.87027688313105911,148,0.52100000000000002,null,null,null,null,0.97944077154488196,158,0.55600000000000005,null,null,null,null,1.0149865457611733,154,0.54200000000000004,null,null,null,null,1.0725613612902853,119,0.41799999999999998,null,null,null,null,{"$f":"AVERAGE(Data!Z35:AH35)","v":1.2826793824465146},32,0.109,null,null,null,null,0.86780389383321177,264,0.93200000000000005,null,null,null,null,1.0584106758133152,114,0.4,null,null,null,null,"Ashford",170,165,252,20,0.58099999999999996,0.89,6.7000000000000004E-2,170,0.59899999999999998,0.68372941176470603,0.7704012468069017,0.74129949531326234,0.69504702334945379,0.75229796612965538,0.80971140260384011,0.74464484501662886,0.52803286002864236,0.67169154949992771,0.67980289984802489,0.73534930451304881,0.74486017894502476,0.4745634827788508,0.70161328860425598,0.60059586808979304,0.58758059637324289,0.45853175474541386,0.51854173495924494,0.34895475348713423,0.81154562844744671,0.64460509190211834,0.64080978884250661,0.8349251142794657,0.60582784928520417,0.49286081957133776,0.4778440232856116,0.32880203168704131,0.81295092862317331,0.302319761136776,0.28533236289301056,0.56118851233709166,0.10715166485208129,0.73534930451304881,0.16624409358853748,0.70245190613363895,0.96854424208040379,0.5603604299022602,0.97368278447850087,0.97418337987898762,0.54395600423628776,0.73181005129495669,0.70594681942564408,0.64950714608152116,0.44200941439726432,0.70754269455134833,0.52811445079179098,0.38294687878895939,0.42125048468256504,0.43434799986108819,0.80414536811528803,0.61945463462028982,134,{"$f":"AVERAGE(Data!EY35:FQ35)","v":0.64459208751879216},121,{"$f":"AVERAGE(Data!FR35:FZ35)","v":0.62779680843598962},47,{"$f":"AVERAGE(Data!GA35:GL35)","v":0.57339703716921875},255]
["E05004898","29UBJH","Weald East","Ashford","NHS Ashford CCG",32,0.86324762864593041,1.133069698961956,1.1003575074301108,1.0009925641936954,1.1550189402220614,1.1645411019895135,1.0846999761327891,0.92570508601167056,1.3246630592151878,1.2025809051471892,1.1374159004066371,1.4519504606301765,0.59853315907198301,1.1767130867020075,1.3978033969264649,1.4145142816419563,0.89279119303938514,0.95807952829837939,0.66748174093969548,1.1056609550323553,1.2353885909914086,1.0044758439784733,1.4862059454785044,1.0067956822844104,1.5034014175708768,1.9801110783702329,0.83899454644731308,0.95784525879516291,0.7971769185877734,0.79407156474973883,1.1512630365188004,0.42179977804147462,1.1374159004066371,1.4162607954142765,0.31460823578154629,1.0738121022017622,1.0231053474179053,1.0252413373123874,1.0716349398664762,1.228901173141502,1.0322249450126657,145,0.51,null,null,null,null,1.0661915337099459,130,0.45700000000000002,null,null,null,null,1.2130217812177004,61,0.21199999999999999,null,null,null,null,0.83945082075915334,190,0.67,null,null,null,null,1.1677054035530303,74,0.25800000000000001,null,null,null,null,1.3200880752958963,45,0.156,null,null,null,null,0.91417050661877086,203,0.71599999999999997,null,null,null,null,0.77960783922405585,190,0.67,null,null,null,null,0.8654345155979114,252,0.89,null,null,null,null,1.0845389799880063,82,0.28699999999999998,null,null,null,null,1.0868504850319365,107,0.375,null,null,null,null,{"$f":"AVERAGE(Data!Z36:AH36)","v":1.2354310354387488},45,0.156,null,null,null,null,0.95460759412002316,193,0.68,null,null,null,null,1.080608241599895,97,0.34,null,null,null,null,"Ashford",187,177,239,91,0.624,0.84299999999999997,0.31900000000000001,187,0.65900000000000003,0.50387692307692311,0.70854044283777684,0.83049078218071937,0.69504702334945379,0.81886568562572459,0.88400921893270523,0.71478415819519392,0.52803286002864236,0.67169154949992771,0.67980289984802489,0.86779038265227204,0.9330439847803077,0.2610647744160734,0.73153513908203982,0.7467363278938105,0.84483310530080347,0.43325545708995622,0.50407133352835054,0.25784428776322488,0.80123408426171372,0.7629642389521577,0.63755314335339996,0.8349251142794657,0.60582784928520417,0.6091846149764415,0.58380592678446019,0.39072401523238376,0.33351099626791891,0.4694259657693533,0.64724187454849313,0.8327653975923146,5.8188321889913575E-2,0.86779038265227204,0.48097689345431355,0.15040292511378711,0.93443079978518928,0.74776464969399981,0.91182031322508073,0.94899740381151154,0.66823509499729927,0.68096938269847307,0.72814778922634404,0.71706227043415738,0.39839035946051055,0.72850088602638818,0.47930638831530104,0.649811079303387,0.46298935227109284,0.31568990928405033,0.84224965230261617,0.64732715855021528,93,{"$f":"AVERAGE(Data!EY36:FQ36)","v":0.66396401768852276},101,{"$f":"AVERAGE(Data!FR36:FZ36)","v":0.61774777593257169},55,{"$f":"AVERAGE(Data!GA36:GL36)","v":0.64317000187779405},164]
["E05004899","29UBJJ","Weald North","Ashford","NHS Ashford CCG",33,1.2884205435700469,1.1492815435899608,1.1500602782288785,1.0009925641936954,1.2147997773494286,1.1965734583579615,1.1952010208729991,0.92570508601167056,1.3246630592151878,1.2025809051471892,1.2071065198939541,1.2521856133017006,0.64450208563806832,1.2240063466858062,1.1822949373036105,1.1124526529498666,0.8850465789844485,0.88839674324150408,1.2832344820304777,1.2173555045743278,1.0172361291054184,0.98892942053276789,1.4862059454785044,1.0067956822844104,1.3350280839067965,1.8062529722867899,0.61330254681588658,2.6167166774722417,0.54476959603768638,0.59240871110906956,0.78305282628220796,0.63338134686635983,1.2071065198939541,0.32219375505525777,1.4114337509034194,1.1212018509758814,0.88667962839490733,1.1088392213756886,1.1045929000822716,1.2565397558950058,1.1959207884629621,54,0.187,null,null,null,null,1.106654381357151,118,0.41399999999999998,null,null,null,null,1.143724015016923,92,0.32200000000000001,null,null,null,null,1.01889260141881,144,0.50700000000000001,null,null,null,null,1.1433045363950858,91,0.31900000000000001,null,null,null,null,1.5928250701204285,7,2.1000000000000001E-2,null,null,null,null,0.64007704447632141,270,0.95299999999999996,null,null,null,null,0.92024393338015698,129,0.45300000000000001,null,null,null,null,0.8668137529793386,251,0.88600000000000001,null,null,null,null,1.0955706713447508,70,0.24399999999999999,null,null,null,null,1.1225002208719186,89,0.312,null,null,null,null,{"$f":"AVERAGE(Data!Z37:AH37)","v":1.3430914402730159},19,6.3E-2,null,null,null,null,0.91434998857264249,238,0.84,null,null,null,null,1.1096881755473829,77,0.26900000000000002,null,null,null,null,"Ashford",207,195,265,46,0.68700000000000006,0.93600000000000005,0.159,207,0.73,0.75205,0.71867816656515848,0.86800376565971771,0.69504702334945379,0.86124808688069432,0.90832514757229454,0.78760097204441926,0.52803286002864236,0.67169154949992771,0.67980289984802489,0.92096077470547943,0.80467225707721923,0.28111523822451351,0.76093625810660681,0.63160712150994025,0.66442371172159409,0.42949713562742714,0.46740935156326946,0.49570596580896231,0.88217524412809256,0.62823535423353427,0.62768563763374541,0.8349251142794657,0.60582784928520417,0.54095902782342353,0.53254648287761819,0.28561810640946589,0.9111114535894731,0.32079327408877339,0.48286797021617817,0.56642077225593235,8.7376522248674204E-2,0.92096077470547943,0.10942034962672792,0.6747559046343643,0.9756693374751837,0.64805416508755531,0.98616987957340618,0.97818366633073295,0.68326402602571135,0.7795773107416254,0.75605081797510088,0.67690122633666328,0.46420415099988627,0.71576983991200838,0.56755876767499513,0.4566940055202946,0.50416864847707688,0.39208812713054608,0.8542682148985179,0.65524572995805219,80,{"$f":"AVERAGE(Data!EY37:FQ37)","v":0.68035833083122876},87,{"$f":"AVERAGE(Data!FR37:FZ37)","v":0.64989825225111353},28,{"$f":"AVERAGE(Data!GA37:GL37)","v":0.61949472018906004},217]
["E05004900","29UBJK","Weald South","Ashford","NHS Ashford CCG",34,1.1557665941137225,0.68562278722902048,1.0402755211823274,1.0009925641936954,1.1173804098686226,1.1083047299825997,1.1959369777741133,0.92570508601167056,1.3246630592151878,1.2025809051471892,1.0419823713785343,1.0968230730125799,0.89919256841061956,1.2152755372626525,1.0925250747727429,0.98678785665089108,1.159422950254595,0.99124067383707182,1.3427058664155016,1.2082389769019952,0.88986378907535457,0.90203276985333125,1.4862059454785044,1.0067956822844104,1.1931849756163744,1.2621188104278711,0.84385151039459849,2.0758206359588178,0.79407332029900979,0.92767205862125568,1.2265995471503097,0.61402616125816867,1.0419823713785343,0.78559723422846917,1.5674718931676099,1.095912393791368,1.116992418433165,1.0891910402448273,1.0737315578114213,1.1681987514171137,0.96055496750835678,180,0.63400000000000001,null,null,null,null,1.0696639535661403,129,0.45300000000000001,null,null,null,null,1.1074788057312994,105,0.36799999999999999,null,null,null,null,1.1644564968357229,106,0.372,null,null,null,null,1.0986274327187193,117,0.41099999999999998,null,null,null,null,1.3437439830994156,38,0.13100000000000001,null,null,null,null,0.98278164202352514,170,0.59899999999999998,null,null,null,null,0.82800426631835156,164,0.57799999999999996,null,null,null,null,1.1765345636980395,24,8.1000000000000003E-2,null,null,null,null,1.1088052323395792,57,0.19800000000000001,null,null,null,null,1.0833255056164914,113,0.39700000000000002,null,null,null,null,{"$f":"AVERAGE(Data!Z38:AH38)","v":1.2075681217768066},58,0.20200000000000001,null,null,null,null,1.0417873956501043,84,0.29399999999999998,null,null,null,null,1.098818661262646,87,0.30399999999999999,null,null,null,null,"Ashford",197,171,226,200,0.60199999999999998,0.79700000000000004,0.70499999999999996,197,0.69499999999999995,0.67462,0.42873926796204259,0.78514412401102252,0.69504702334945379,0.79218136046834864,0.84131989589506406,0.78808594516657826,0.52803286002864236,0.67169154949992771,0.67980289984802489,0.79497946217582505,0.70483408242349399,0.3922046781713826,0.75550851708983413,0.58365015012953747,0.58936912834826816,0.56264703795188553,0.52151830150887357,0.51867941333347645,0.87556881322543467,0.54957140899132917,0.57253126720296732,0.8349251142794657,0.60582784928520417,0.48348360023564235,0.37211672106819749,0.3929859279746753,0.72277750713404321,0.4675983794580939,0.7561386515301215,0.88726001545043087,8.4706426556263217E-2,0.79497946217582505,0.26679698996750251,0.74935214960409657,0.95366246340978211,0.81638459479125158,0.96869534941057656,0.95085408551581052,0.63522716121539213,0.62950113065768842,0.72893341698161751,0.64650505846078676,0.53428158426474515,0.68768489059688021,0.49284093910313959,0.70366568214621539,0.43984294436604415,0.50807456978579957,0.86496473086856263,0.65123749089609473,89,{"$f":"AVERAGE(Data!EY38:FQ38)","v":0.64779240512429914},118,{"$f":"AVERAGE(Data!FR38:FZ38)","v":0.60108757882188435},69,{"$f":"AVERAGE(Data!GA38:GL38)","v":0.6943046440904288},54]
["E05004901","29UBJL","Wye","Ashford","NHS Ashford CCG",35,1.3621171821568938,1.3264109571181626,1.1928601501752667,1.0009925641936954,1.1100250082425276,1.0938890529202105,1.1207347393350546,0.92570508601167056,1.3246630592151878,1.2025809051471892,1.2188023262795884,0.86901733318433594,1.2634050228369755,1.3169109508089807,1.0305494764945169,1.1560502487328006,0.42261241366760699,0.50264743216794083,0.46067289623275964,1.1210757348972746,0.38046963893394803,0.92133862177713932,1.4862059454785044,1.0067956822844104,0.93179949983200794,0.99237693610157518,0.82030459992817573,1.6835684485877256,1.0918673068233389,1.1198409405595746,1.3349624176582149,1.0109006527473834,1.2188023262795884,1.050381479082563,1.6305302826586929,1.1349186001331946,0.91635889324136721,1.1140122473504155,1.116807468294039,1.1258956806729044,1.293796096483441,21,7.0000000000000007E-2,null,null,null,null,1.0502692901406319,135,0.47499999999999998,null,null,null,null,1.1727474153374469,82,0.28699999999999998,null,null,null,null,0.4619775806894359,250,0.88200000000000001,null,null,null,null,0.98317712467425533,171,0.60199999999999998,null,null,null,null,1.1070123711123712,104,0.36499999999999999,null,null,null,null,1.1822235550137095,40,0.13800000000000001,null,null,null,null,1.114851489513486,74,0.25800000000000001,null,null,null,null,1.3404558808706279,7,2.1000000000000001E-2,null,null,null,null,1.0815985779383843,84,0.29399999999999998,null,null,null,null,1.0474024634169139,139,0.48899999999999999,null,null,null,null,{"$f":"AVERAGE(Data!Z39:AH39)","v":1.0382150119800846},128,0.45,null,null,null,null,1.15543985795844,18,0.06,null,null,null,null,1.0777465052060848,102,0.35799999999999998,null,null,null,null,"Ashford",182,145,156,266,0.51,0.54900000000000004,0.93899999999999995,182,0.64100000000000001,0.7950666666666667,0.82944218506803224,0.90030681161521442,0.69504702334945379,0.78696665291173762,0.83037688031705015,0.73852996666577631,0.52803286002864236,0.67169154949992771,0.67980289984802489,0.92988407909676485,0.55844287899846912,0.55106478610887089,0.8186928882203155,0.55054146633390133,0.69046282119328517,0.2050861790337703,0.26445629401715676,0.17795524212203045,0.81240463973167976,0.23497442879951336,0.58478492830684037,0.8349251142794657,0.60582784928520417,0.37756909958057933,0.29258739230788627,0.38202001235255761,0.58619968665920219,0.64295748289542842,0.91277408956503636,0.96564423007407696,0.13945624356161845,0.92988407909676485,0.35672047294318932,0.77949810623763138,0.98760564631286585,0.6697460711430745,0.9907706208749244,0.98900040353331997,0.61222417520214722,0.84160522111663771,0.715790676654532,0.68132292116244486,0.21583257172431916,0.61458339208054058,0.40959404772505636,0.84045860084484725,0.53467016132919165,0.56810928959041029,0.84986938341326623,0.64723562259595258,94,{"$f":"AVERAGE(Data!EY39:FQ39)","v":0.64220263847868897},124,{"$f":"AVERAGE(Data!FR39:FZ39)","v":0.52347701681143644},146,{"$f":"AVERAGE(Data!GA39:GL39)","v":0.74802346845333967},5]
["E05004902","29UCGC","Barham Downs","Canterbury","NHS Canterbury & Coastal CCG",36,0.82923379545200093,1.4550958854364171,1.1492684366696748,1.277693850652118,1.2891076599501352,1.0703793098793755,1.1871353246375571,1.7531202243009214,0.91983857584920081,0.69771671221404741,1.081458721601978,1.1417628936773732,1.1941090288423735,0.87916495538864126,1.0719886470994884,0.92951998931121205,0.9193957914223102,0.96387698107425945,0.76494191068385742,1.1281720920803424,0.99229644374560033,0.94349005985258361,1.2973152816075293,1.1028687952605163,1.2208308248312056,1.3580729179015805,0.8051130377360729,2.1424002877713839,0.6629036083267148,0.81074703796768388,0.78043726449032713,1.2085789986622366,1.081458721601978,0.72834038089506492,1.506912595182528,1.1392331303113521,0.88792590043150688,1.1195617867496213,1.1137538280021571,0.91862101030318799,1.1445327058526977,85,0.29699999999999999,null,null,null,null,1.3154872738840215,21,7.0000000000000007E-2,null,null,null,null,0.98944494049803922,146,0.51400000000000001,null,null,null,null,0.8827382277268091,180,0.63400000000000001,null,null,null,null,1.0928285345093143,122,0.42899999999999999,null,null,null,null,1.3816042670600606,31,0.106,null,null,null,null,0.7513626369282419,255,0.9,null,null,null,null,1.1450188601321072,69,0.24099999999999999,null,null,null,null,1.1176264880387965,42,0.14499999999999999,null,null,null,null,1.035819131159565,126,0.443,null,null,null,null,1.0828846681127866,114,0.4,null,null,null,null,{"$f":"AVERAGE(Data!Z40:AH40)","v":1.221173304531868},52,0.18,null,null,null,null,0.9965395219103631,133,0.46800000000000003,null,null,null,null,1.0880960674463529,95,0.33300000000000002,null,null,null,null,"Canterbury",189,170,232,151,0.59899999999999998,0.81899999999999995,0.53100000000000003,189,0.66600000000000004,0.48402307692307683,0.90991250051349459,0.86740612615489709,0.8871767277941679,0.91392962578387882,0.81253051186570768,0.7822859245467112,1,0.46641883307896248,0.39440992469233194,0.82509790614506273,0.73371304936165826,0.52083965527704223,0.54655639100506981,0.57267915333377739,0.55516530953466503,0.44616618865065655,0.50712152890930784,0.29549258061028988,0.81754712326000778,0.61283284185887354,0.59884471785724025,0.72880956575902067,0.66363875216510615,0.49468581530129346,0.40040734438442666,0.37494522479585013,0.74595979655218048,0.390357722727385,0.66083392975319932,0.56452880726926069,0.16672645995710489,0.82509790614506273,0.24735196717619207,0.72040091907713,0.99136014849886889,0.64896503724282573,0.99570622244411566,0.98629622079219803,0.49951518600738082,0.75378056786382286,0.87918455799809314,0.57686002780357126,0.41626009939008474,0.68433460018004966,0.5039995452584376,0.53857348658328175,0.49591218305108381,0.483876443126661,0.82436856299707784,0.64139341808013706,104,{"$f":"AVERAGE(Data!EY40:FQ40)","v":0.65899605337793443},105,{"$f":"AVERAGE(Data!FR40:FZ40)","v":0.60418568688155538},66,{"$f":"AVERAGE(Data!GA40:GL40)","v":0.6414283772575603},166]
["E05004903","29UCGD","Barton","Canterbury","NHS Canterbury & Coastal CCG",37,0.72187763443366171,0.76352649061109368,0.99271872456844168,1.277693850652118,0.92041043189657634,0.91491147376279258,0.76792642489368024,1.7531202243009214,0.91983857584920081,0.69771671221404741,0.93159789526950199,1.2846027979044803,1.3083321154179544,0.61658005507578317,0.87704487725014613,1.1871277263443067,0.2193498788119532,0.25329878186375482,0.29195282737156897,0.88043881727484152,1.0456938497689856,1.1746540641977996,1.2973152816075293,1.1028687952605163,1.09270316977142,0.95748267300213707,1.4082075202575715,0.62438103413079804,1.0975495243985482,1.0656364682146215,1.2893100540346938,2.1149779525717216,0.93159789526950199,1.9656470322239368,0.50658783139613639,0.98976318503934624,0.83043295900197223,1.0110210221530718,0.97068719202423936,1.6403528550610422,0.82604094987106569,220,0.77600000000000002,null,null,null,null,1.1268124811012179,111,0.39,null,null,null,null,0.97785509441567753,155,0.54600000000000004,null,null,null,null,0.25486716268242565,274,0.96799999999999997,null,null,null,null,1.1001941616219344,115,0.40400000000000003,null,null,null,null,1.0206935992904818,128,0.45,null,null,null,null,1.1508320155492877,62,0.216,null,null,null,null,1.5232879239206119,31,0.106,null,null,null,null,1.2361174318100365,19,6.3E-2,null,null,null,null,1.0884514426559344,77,0.26900000000000002,null,null,null,null,0.87892776307852549,204,0.71899999999999997,null,null,null,null,{"$f":"AVERAGE(Data!Z41:AH41)","v":1.064860578363511},118,0.41399999999999998,null,null,null,null,1.2011303309490693,8,2.4E-2,null,null,null,null,1.0174234168788101,148,0.52100000000000002,null,null,null,null,"Canterbury",136,80,166,276,0.28000000000000003,0.58499999999999996,0.97499999999999998,136,0.47799999999999998,0.42135937500000004,0.47745465108772822,0.74925080665626831,0.8871767277941679,0.65253693521870393,0.69451406732821308,0.50604006199985152,1,0.46641883307896248,0.39440992469233194,0.7107617308013281,0.82550400025116244,0.57066082872079349,0.38331346990389964,0.46853604196120419,0.70902416218234043,0.10644653839356015,0.13326728208245928,0.11277966754282058,0.63802342508063925,0.64581057173733802,0.7455673478576984,0.72880956575902067,0.66363875216510615,0.44276794738977804,0.28229934441463611,0.65580938389333054,0.21740248629062539,0.64630351614194992,0.86859242402395087,0.9326216213929811,0.29176643588042095,0.7107617308013281,0.66755417240100057,0.24218149114803963,0.86129147054488731,0.60694474156512845,0.89917317176596123,0.85960208171158248,0.89196867078309094,0.54935494424799891,0.74805355846818733,0.56607862394900288,0.11749782933961334,0.68436993251996048,0.39956979049709251,0.815839187186294,0.50126408334087458,0.45486783177452011,0.82379602727413004,0.59420863643610722,163,{"$f":"AVERAGE(Data!EY41:FQ41)","v":0.54049763708925236},196,{"$f":"AVERAGE(Data!FR41:FZ41)","v":0.55779209162090815},110,{"$f":"AVERAGE(Data!GA41:GL41)","v":0.70656346068002696},32]
["E05004904","29UCGE","Blean Forest","Canterbury","NHS Canterbury & Coastal CCG",38,1.0288802076772385,1.0417540026899281,1.2748522861582432,1.277693850652118,1.3546829727394789,1.1951009715274838,1.0430778078856719,1.7531202243009214,0.91983857584920081,0.69771671221404741,1.0401443271028699,1.4634128350491791,1.2319594976999857,1.1803568309493493,1.6735170085915902,1.6743120892952192,0.85848008290885458,1.0013578337721882,0.36383419774611431,1.1578309117870313,0.8039856207142686,1.5278091346512142,1.2973152816075293,1.1028687952605163,2.2125367996733796,3.3917282910717783,1.8474381099016621,1.2230595002480829,0.70266386800824232,1.0148138032802314,0.98982663363410772,1.3034369162774249,1.0401443271028699,2.6064934332863325,0.97318568154437735,1.1113875886115627,1.1537039560242737,1.0954637462620629,1.0960843944706513,1.1282128649464016,1.1151621655084698,110,0.38600000000000001,null,null,null,null,1.324735165421135,16,5.2999999999999999E-2,null,null,null,null,1.2351572345939301,52,0.18,null,null,null,null,0.74122403814238569,205,0.72299999999999998,null,null,null,null,1.177961948804112,70,0.24399999999999999,null,null,null,null,2.1686906752237256,1,0,null,null,null,null,0.90243476830752722,208,0.73399999999999999,null,null,null,null,1.1717906216901475,63,0.219,null,null,null,null,1.7898395574153549,1,0,null,null,null,null,1.1169705100629905,49,0.17,null,null,null,null,1.1617943323584048,72,0.251,null,null,null,null,{"$f":"AVERAGE(Data!Z42:AH42)","v":1.6182858272128291},1,0,null,null,null,null,1.1846181011207115,11,3.5000000000000003E-2,null,null,null,null,1.2713520493293422,7,2.1000000000000001E-2,null,null,null,null,"Canterbury",277,212,283,273,0.748,1,0.96399999999999997,277,0.97799999999999998,0.60055652173913054,0.65143816225089213,0.96219007472322293,0.8871767277941679,0.96042009585101351,0.90720737514616423,0.68735642043599976,1,0.46641883307896248,0.39440992469233194,0.79357712803864588,0.94040986935622373,0.53734905657600474,0.73380037007579824,0.89402840800884187,1,0.41660489442898352,0.52684121067182299,0.14054701998241895,0.83903983957581252,0.49653386935075389,0.96971920437918901,0.72880956575902067,0.66363875216510615,0.8965292720077489,1,0.8603612970438218,0.42585562613293904,0.41377096747273734,0.82716724475556624,0.71599047651028203,0.17981234414042171,0.79357712803864588,0.885192274198633,0.46524520510252443,0.96712897085835359,0.84321623057130624,0.97427411468002834,0.97064887119168175,0.61348418201715282,0.73806158623774853,0.8884321238454691,0.71999919872835116,0.36133104169440849,0.73954824624597637,0.79568654879612744,0.65230956291286191,0.48669473608953379,0.67521873965057866,0.87375047386370464,0.72575818822005889,16,{"$f":"AVERAGE(Data!EY42:FQ42)","v":0.71054379436055926},59,{"$f":"AVERAGE(Data!FR42:FZ42)","v":0.76449860293493233},1,{"$f":"AVERAGE(Data!GA42:GL42)","v":0.72079233412811117},16]
["E05004905","29UCGF","Chartham and Stone Street","Canterbury","NHS Canterbury & Coastal CCG",39,0.84026530892030238,0.86845055761452072,1.1916721637376366,1.277693850652118,1.1268598037383477,1.1267627963846087,1.0577075700358753,1.7531202243009214,0.91983857584920081,0.69771671221404741,1.0917997107877333,1.2319175351931242,0.90511786619133239,0.7903028332133667,1.0313522694430011,1.3068043546802921,0.82518338782679634,0.861639915031436,0.92305975259880102,1.1061327549209947,1.2514474814591869,1.0873883732774168,1.2973152816075293,1.1028687952605163,1.2369055815779113,1.7707377490473792,0.67764582239576643,1.4411434093746427,0.79118109198176334,0.67229330519121211,0.96325298568002615,0.55381537626290622,1.0917997107877333,0.97767392026248989,0.99607806887306205,1.0970433343823183,1.1771172119763567,1.0785894814645627,1.0756263277051679,1.4542129135108708,0.96679601009081984,178,0.627,null,null,null,null,1.2684288490223743,46,0.159,null,null,null,null,0.9968562321965122,142,0.5,null,null,null,null,0.86996101848567775,183,0.64500000000000002,null,null,null,null,1.1690305373051288,73,0.255,null,null,null,null,1.281608140598925,58,0.20200000000000001,null,null,null,null,0.80890912761766731,237,0.83599999999999997,null,null,null,null,0.82280754352531971,167,0.58799999999999997,null,null,null,null,0.98687599456777597,148,0.52100000000000002,null,null,null,null,1.1765178538078551,11,3.5000000000000003E-2,null,null,null,null,1.0435402730743928,142,0.5,null,null,null,null,{"$f":"AVERAGE(Data!Z43:AH43)","v":1.2190650276579271},55,0.191,null,null,null,null,0.99405697733987253,136,0.47799999999999998,null,null,null,null,1.0681883541353321,106,0.372,null,null,null,null,"Canterbury",178,142,229,148,0.5,0.80800000000000005,0.52100000000000002,178,0.627,0.4904621621621621,0.54306662973922415,0.89941018322021959,0.8871767277941679,0.79890189992457294,0.85533151028563537,0.69699698690896228,1,0.46641883307896248,0.39440992469233194,0.83298755403841584,0.79164770226282366,0.39478914071121629,0.49131287783330135,0.55097033541500984,0.78050225106501803,0.40044660908764768,0.45333186667974157,0.35657257700662609,0.8015759812510288,0.77288205690313283,0.69017874305777194,0.72880956575902067,0.66363875216510615,0.50119937474398979,0.5220753542400739,0.31558309616324992,0.50179000189452061,0.46589526056517105,0.54798131354256552,0.6967684448789403,7.6400199950794945E-2,0.83298755403841584,0.33202822990069508,0.47618923525011009,0.95464660739432505,0.86032845188789953,0.95926662634227366,0.95253201859086467,0.7907520357573482,0.64431299170720191,0.84768142498266763,0.58787982738713496,0.4034503509246718,0.73141701982721208,0.46016195676045857,0.57021500632889233,0.45469387699460539,0.40410873257540258,0.90350514799454218,0.63820611690458307,108,{"$f":"AVERAGE(Data!EY43:FQ43)","v":0.63603872483715984},133,{"$f":"AVERAGE(Data!FR43:FZ43)","v":0.61085921401976606},60,{"$f":"AVERAGE(Data!GA43:GL43)","v":0.6621479981749504},116]
["E05004906","29UCGG","Chestfield and Swalecliffe","Canterbury","NHS Canterbury & Coastal CCG",40,0.80151153834018596,0.83382176436349553,1.1073222912989853,1.277693850652118,1.1128173295439745,1.1100804837506368,1.3931697889700523,1.7531202243009214,0.91983857584920081,0.69771671221404741,1.0381142198782278,0.88101585472140853,1.2809962161573532,1.0071665964058023,1.0282645814078897,0.5319775793256557,1.1103652113301017,0.96404139022071689,1.3363436199124716,1.1375477231157611,0.73206450410019452,0.8548659519097439,1.2973152816075293,1.1028687952605163,1.2798161196800097,0.68558674803813635,1.0786797265074448,1.1972322740142984,0.98936707458588657,0.84612179104970819,1.2962723742212443,1.260416322135498,1.0381142198782278,0.89592097028609063,1.1250918316077938,1.0163819309563162,1.141187331044782,1.0251443970370815,1.0073548952902798,0.90622435467874674,0.91421853133422226,198,0.69799999999999995,null,null,null,null,1.3293763354435406,15,4.9000000000000002E-2,null,null,null,null,0.92313629199494807,178,0.627,null,null,null,null,1.1369167404877636,111,0.39,null,null,null,null,1.024932451198749,149,0.52400000000000002,null,null,null,null,1.0603287170599724,116,0.40699999999999997,null,null,null,null,1.043920413285613,135,0.47499999999999998,null,null,null,null,1.1492652710068629,68,0.23699999999999999,null,null,null,null,1.0105064009469422,120,0.42099999999999999,null,null,null,null,1.0192585818014412,150,0.52800000000000002,null,null,null,null,1.0623883067706972,126,0.443,null,null,null,null,{"$f":"AVERAGE(Data!Z44:AH44)","v":1.0406641249148483},127,0.44600000000000001,null,null,null,null,1.045633124397638,80,0.28000000000000003,null,null,null,null,1.0524738111412133,118,0.41399999999999998,null,null,null,null,"Canterbury",166,158,157,204,0.55600000000000005,0.55300000000000005,0.71899999999999997,166,0.58499999999999996,0.46784161849710987,0.52141226855782696,0.83574742719283934,0.8871767277941679,0.78894630538094912,0.84266787983381686,0.91805634437483097,1,0.46641883307896248,0.39440992469233194,0.79202825965666923,0.56615329932614589,0.55873761232791341,0.6261320321043442,0.54932082674298155,0.31772904390219447,0.53884020241492991,0.50720802897036887,0.51622171476656387,0.82434131736883354,0.45211607206641097,0.54259390910502969,0.72880956575902067,0.66363875216510615,0.51858690632846527,0.20213492626836937,0.50234661914721457,0.41686287508784731,0.58259914914576505,0.68966763003022091,0.93765781134645143,0.17387754684998874,0.79202825965666923,0.30426407796081706,0.5378660926503509,0.88445509105677411,0.8340681113509717,0.91173409731768729,0.89207354555498697,0.49277430193151095,0.60833377141592537,0.88736945147675284,0.53386622897894287,0.52075664871728755,0.64229992329288021,0.40998283170797417,0.73664153017414591,0.48295290325332896,0.42106508530558395,0.80302102944238618,0.62448862519408599,124,{"$f":"AVERAGE(Data!EY44:FQ44)","v":0.63658149208499726},132,{"$f":"AVERAGE(Data!FR44:FZ44)","v":0.53904788258847747},128,{"$f":"AVERAGE(Data!GA44:GL44)","v":0.66942214290434954},101]
["E05004907","29UCGH","Gorrell","Canterbury","NHS Canterbury & Coastal CCG",41,0.59947583832913653,0.87842511504890297,0.98957001879370277,1.277693850652118,1.0215573307038124,0.88823282472896825,1.0431161643247744,1.7531202243009214,0.91983857584920081,0.69771671221404741,0.97562216365030519,0.95555293696879784,1.2867577808611204,1.0078393893457132,0.86099008312257375,0.94001737457531931,0.27285138970770362,0.26272614301714264,0.30648541863812395,0.91163866137860361,0.9508736234413544,0.75505324694829734,1.2973152816075293,1.1028687952605163,0.85893429952143741,0.63715738640886299,1.053201165743975,0.61396130311924735,0.90754898754776225,0.17407768475774035,1.2150288615519145,0.66273399031403768,0.97562216365030519,1.1175558268861798,0.90886342391634944,1.1107140282694936,1.210070881978462,1.1003334180318647,1.0886070184653276,0.84670068234009421,0.82249032405724742,222,0.78300000000000003,null,null,null,null,1.1967440789421189,81,0.28299999999999997,null,null,null,null,0.95554187707338467,167,0.58799999999999997,null,null,null,null,0.28068765045432337,273,0.96399999999999997,null,null,null,null,1.0035499217272601,160,0.56299999999999994,null,null,null,null,0.79081353869838067,208,0.73399999999999999,null,null,null,null,0.76555184461913905,250,0.88200000000000001,null,null,null,null,0.81917807698217149,169,0.59499999999999997,null,null,null,null,1.0132096254012646,116,0.40699999999999997,null,null,null,null,1.0712852058170483,91,0.31900000000000001,null,null,null,null,0.89145207025433637,197,0.69499999999999995,null,null,null,null,{"$f":"AVERAGE(Data!Z45:AH45)","v":0.90900041815886923},192,0.67700000000000005,null,null,null,null,0.94315474730912741,209,0.73699999999999999,null,null,null,null,0.91091125164929332,204,0.71899999999999997,null,null,null,null,"Canterbury",80,87,92,75,0.30399999999999999,0.32200000000000001,0.26200000000000001,80,0.28000000000000003,0.34991354838709676,0.54930400185158645,0.74687433255211355,0.8871767277941679,0.72424634339929983,0.67426216582445386,0.68738169615798594,1,0.46641883307896248,0.39440992469233194,0.74435000461612644,0.61405188686047341,0.56125065870951196,0.6265502918164465,0.45995922920035698,0.56143498012428961,0.13240985628789231,0.13822726960737969,0.11839352244648224,0.6606328682429462,0.5872505021811868,0.47924156053810929,0.72880956575902067,0.66363875216510615,0.34804381213732499,0.18785625844089143,0.49048112418541828,0.21377445259875621,0.53441971290053014,0.14188943667208501,0.87889036725786862,9.1425791959492769E-2,0.74435000461612644,0.37953357998605725,0.43449503839711279,0.96654283895701565,0.88441354690518781,0.97860506143065773,0.96402720353939442,0.4604073323906433,0.54869729426359892,0.79461338663518144,0.55355322613731239,0.12967688278058476,0.62391464977727384,0.31003891184059773,0.51839983894349462,0.41788789828780959,0.40701430919158499,0.85079919664457981,0.55638360211669713,200,{"$f":"AVERAGE(Data!EY45:FQ45)","v":0.54929554070562947},190,{"$f":"AVERAGE(Data!FR45:FZ45)","v":0.48441432180541777},185,{"$f":"AVERAGE(Data!GA45:GL45)","v":0.62158332625101431},214]
["E05004908","29UCGJ","Greenhill and Eddington","Canterbury","NHS Canterbury & Coastal CCG",42,0.6684075189372265,1.0531684647239317,0.89914033553925332,1.277693850652118,0.99232779395280024,1.0122980545190698,1.2178589645753479,1.7531202243009214,0.91983857584920081,0.69771671221404741,0.88066509505229185,0.91545905261049498,0.31588229504783555,0.74203398719416436,0.81915878202136039,0.77723960542210757,0.46071709864886945,0.66791213924000614,0.57982730367736635,0.96228523515044495,1.0592160222210343,0.64383704697435196,1.2973152816075293,1.1028687952605163,0.99703315915179946,0.63442544604221673,1.0622291598398399,0.68400931074856752,0.90079073632009232,0.78094368547995208,1.1612971849242757,0.29767682215150587,0.88066509505229185,0.87630614038628785,0.95333049253642899,1.0848166692468451,1.1426551855052114,1.0738706243796952,1.0569954796203513,1.1138644147722421,0.87357210640013727,210,0.74099999999999999,null,null,null,null,1.2506597776000514,55,0.191,null,null,null,null,0.7584992631764379,238,0.84,null,null,null,null,0.56948551385541402,237,0.83599999999999997,null,null,null,null,1.0131044762427754,157,0.55300000000000005,null,null,null,null,0.84442426894560585,189,0.66600000000000004,null,null,null,null,0.94767720224144003,188,0.66300000000000003,null,null,null,null,0.58917095860189883,258,0.91100000000000003,null,null,null,null,0.91481831646135836,226,0.79700000000000004,null,null,null,null,1.0944404747048688,71,0.248,null,null,null,null,0.87634030811465335,205,0.72299999999999998,null,null,null,null,{"$f":"AVERAGE(Data!Z46:AH46)","v":0.93813549522181128},178,0.627,null,null,null,null,0.94360104419793167,207,0.73,null,null,null,null,0.91042244603874756,205,0.72299999999999998,null,null,null,null,"Canterbury",79,79,106,77,0.27600000000000002,0.372,0.26900000000000002,79,0.27600000000000002,0.39014891304347821,0.65857594732425273,0.67862286166994445,0.8871767277941679,0.70352368352020023,0.76844072826083742,0.80253186498447293,1,0.46641883307896248,0.39440992469233194,0.6719025991730091,0.58828698740876939,0.13777973508862343,0.46130525967639646,0.43761205774260747,0.46421429456994295,0.223577695121225,0.35140648846181255,0.22398389195168841,0.69733468083059169,0.65416173677892031,0.40865127376290161,0.72880956575902067,0.66363875216510615,0.40400205432691749,0.18705078697260261,0.49468550682123802,0.23816438468488801,0.53044004598408068,0.63654143700027166,0.84002359256715997,4.1065253345901984E-2,0.6719025991730091,0.29760267775727456,0.45575315064926425,0.94400696899034364,0.83514093310796367,0.95506980985761292,0.93603327838974681,0.60568197775960231,0.5757825740125585,0.8323346009119359,0.45274121142883039,0.2663226918449087,0.6305192018593081,0.33097568320141152,0.66900169185050407,0.35648392625945552,0.3766779142032694,0.85518659362105398,0.56339197400617858,190,{"$f":"AVERAGE(Data!EY46:FQ46)","v":0.54262728913488012},195,{"$f":"AVERAGE(Data!FR46:FZ46)","v":0.49738874912246511},171,{"$f":"AVERAGE(Data!GA46:GL46)","v":0.64577181038185261},156]
["E05004909","29UCGK","Harbledown","Canterbury","NHS Canterbury & Coastal CCG",43,1.0673306278095063,1.4028071989428037,1.2630462553508455,1.277693850652118,1.2504643981906147,1.1528110510557474,1.3686166397943826,1.7531202243009214,0.91983857584920081,0.69771671221404741,1.2985158634572829,1.2546495108280089,1.086729581596706,0.74374265487613245,1.1045826405928043,1.1570069759491808,0.54298945885999461,0.49263014716948267,0.79111870056281475,1.2232778919766829,1.0064348465270148,1.3006501240712562,1.2973152816075293,1.1028687952605163,1.4813202900567666,1.3093543748747705,0.77920080371029332,1.5760698885056612,0.67876096882950254,0.87443258873974572,1.0232894207650718,1.6584980675538532,1.2985158634572829,0.96449256455535859,1.0758976365257109,1.1447778555974242,1.2587618336448119,1.1175886077495245,1.1292285264031372,0.62138708502027384,1.2443946940343851,35,0.12,null,null,null,null,1.3605412327987569,7,2.1000000000000001E-2,null,null,null,null,1.0328478144204203,128,0.45,null,null,null,null,0.6089127688640974,232,0.81899999999999995,null,null,null,null,1.1861093878886,66,0.23,null,null,null,null,1.2864863392868728,55,0.191,null,null,null,null,0.85882765944477335,226,0.79700000000000004,null,null,null,null,1.478506965505568,34,0.11700000000000001,null,null,null,null,1.0201951005405347,105,0.36799999999999999,null,null,null,null,1.0543487816830344,110,0.38600000000000001,null,null,null,null,1.0855479509501367,108,0.379,null,null,null,null,{"$f":"AVERAGE(Data!Z47:AH47)","v":1.2307213662878322},46,0.159,null,null,null,null,1.0704692515701415,56,0.19500000000000001,null,null,null,null,1.1136883595871194,69,0.24099999999999999,null,null,null,null,"Canterbury",215,176,238,228,0.62,0.84,0.80400000000000005,215,0.75800000000000001,0.623,0.87721490996144647,0.95327951638788289,0.8871767277941679,0.88653298324099528,0.87510487614370092,0.90187656890627921,1,0.46641883307896248,0.39440992469233194,0.99070144669754046,0.80625559261680724,0.4740035013443552,0.46236749860659887,0.59009155844461847,0.69103423629713412,0.26350298706747755,0.25918593173682025,0.30560452124969256,0.88646699253918682,0.62156458488837985,0.82553859306385691,0.72880956575902067,0.66363875216510615,0.60023724868709538,0.38604341577757029,0.36287776599642679,0.54876989145884514,0.39969549530334092,0.71274355237814946,0.74019576265751008,0.22879390751868556,0.99070144669754046,0.32755170443302667,0.5143481106096609,0.99618516590464212,0.92000066655806123,0.99395133349413067,1,0.33788938188344098,0.81783147544977641,0.91013823121702875,0.60941032397229355,0.2760978133513301,0.74520369768311012,0.47448208047998441,0.61754493677966682,0.60974767710811295,0.42094990752134376,0.84960530956805491,0.66234412380101215,64,{"$f":"AVERAGE(Data!EY47:FQ47)","v":0.66882955864562166},94,{"$f":"AVERAGE(Data!FR47:FZ47)","v":0.6248829789261654},48,{"$f":"AVERAGE(Data!GA47:GL47)","v":0.68017137728651578},82]
["E05004910","29UCGL","Harbour","Canterbury","NHS Canterbury & Coastal CCG",44,1.2512774377222762,1.0860936452367134,1.1932588366935268,1.277693850652118,1.1466864002406798,0.86541830565652467,1.0148256619446456,1.7531202243009214,0.91983857584920081,0.69771671221404741,0.94111094953348751,1.1205524128053843,1.2902680644962969,1.0084338407580014,0.93545639983861006,0.90380355857905648,0.56280361821507707,0.65438463613384412,0.64757245434996424,1.067390925640173,0.90862706635343782,1.3426233013610505,1.2973152816075293,1.1028687952605163,0.82536526367417362,0.51382522634306804,1.0426062899855892,0.63343771806122762,1.4241825422391861,1.1474766636988247,1.2209499308935501,1.1539727249910245,0.94111094953348751,1.3322822092126743,0.75220869901608178,1.04155114926278,0.9978838180445101,0.97629604810447701,1.0644514701397998,1.3517263301612348,1.1768766398841721,66,0.23,null,null,null,null,1.211548888558978,74,0.25800000000000001,null,null,null,null,0.97714756425926064,157,0.55300000000000005,null,null,null,null,0.62158690289962848,229,0.80800000000000005,null,null,null,null,1.1437650740445413,90,0.315,null,null,null,null,0.7538086245160146,217,0.76500000000000001,null,null,null,null,1.2642030456105202,9,2.8000000000000001E-2,null,null,null,null,1.047541837262256,84,0.29399999999999998,null,null,null,null,1.042245454114378,88,0.308,null,null,null,null,1.0863817631425603,80,0.28000000000000003,null,null,null,null,1.0142271360642305,155,0.54600000000000004,null,null,null,null,{"$f":"AVERAGE(Data!Z48:AH48)","v":0.97045109647630712},163,0.57399999999999995,null,null,null,null,1.1170077112748025,26,8.7999999999999995E-2,null,null,null,null,1.0352116997201193,137,0.48199999999999998,null,null,null,null,"Canterbury",147,129,121,258,0.45300000000000001,0.42499999999999999,0.91100000000000003,147,0.51700000000000002,0.73036960000000006,0.6791649914072535,0.90060771879870616,0.8871767277941679,0.81295822313550259,0.65694354551032286,0.66873911906418504,1,0.46641883307896248,0.39440992469233194,0.71801970653121239,0.72008289314867169,0.56278175417425569,0.62691984842415338,0.49974072065944214,0.53980590856242416,0.27311844108983901,0.34428930629829974,0.25015344694205705,0.7735011234339374,0.56115943050384176,0.85217948371150831,0.72880956575902067,0.66363875216510615,0.33444149678844937,0.1514936286894315,0.48554703681293887,0.22055592224782855,0.83864478478232818,0.93529976362665412,0.88317336906375377,0.15919338954075021,0.71801970653121239,0.45245689230853814,0.35960402736122843,0.90635733330553769,0.7293308020709357,0.86828977332952573,0.94263600790384938,0.73502328127539041,0.77004743673531995,0.80516352310083561,0.5660224486589317,0.28918706477673189,0.7158576711146829,0.29800952113466206,0.8857059724909121,0.43860654803598131,0.40603045983488328,0.8363274395770478,0.62577640701308912,121,{"$f":"AVERAGE(Data!EY48:FQ48)","v":0.61745793206904154},153,{"$f":"AVERAGE(Data!FR48:FZ48)","v":0.53014738223467361},138,{"$f":"AVERAGE(Data!GA48:GL48)","v":0.7106690942583086},25]
["E05004911","29UCGM","Herne and Broomfield","Canterbury","NHS Canterbury & Coastal CCG",45,0.86904370784489604,0.85300831316113745,1.0825516528121295,1.277693850652118,1.1158532884658561,1.1336121196110562,1.2449306720647044,1.7531202243009214,0.91983857584920081,0.69771671221404741,0.97996090901282529,1.0705039144367412,0,0.61293692420992152,0.9727178671779797,0.98103185109228619,1.0536843765307131,1.0906729622514626,1.1236101863955554,1.0665860226297088,1.1545354013915485,1.0603669813277172,1.2973152816075293,1.1028687952605163,1.1551463276696987,0.93800077062082576,0.95334508588880573,0.73535410699764503,1.1480917985147836,0.88649373154153577,0.96366670630763818,0.43081196509074188,0.97996090901282529,1.0588770222436099,0.82370710007486059,1.0873907251430179,1.282966040031239,1.0759216487304117,1.0610380896303755,0.59166289384573789,0.93486789127272107,191,0.67300000000000004,null,null,null,null,1.3050420310189312,24,8.1000000000000003E-2,null,null,null,null,0.77933834424912518,232,0.81899999999999995,null,null,null,null,1.089322508392577,124,0.436,null,null,null,null,1.1363344964434039,94,0.32900000000000001,null,null,null,null,0.94546157279424381,151,0.53100000000000003,null,null,null,null,0.99941741212131918,161,0.56699999999999995,null,null,null,null,0.70538643705178361,219,0.77300000000000002,null,null,null,null,0.94129206115923525,205,0.72299999999999998,null,null,null,null,1.0197958794761566,149,0.52400000000000002,null,null,null,null,0.99118358463597678,164,0.57799999999999996,null,null,null,null,{"$f":"AVERAGE(Data!Z49:AH49)","v":1.051502085932666},122,0.42899999999999999,null,null,null,null,0.94921571918056502,199,0.70199999999999996,null,null,null,null,0.99216488779110823,162,0.56999999999999995,null,null,null,null,"Canterbury",122,120,162,85,0.42099999999999999,0.56999999999999995,0.29699999999999999,122,0.42899999999999999,0.5072600896860987,0.5334101587088601,0.81705187888862485,0.8871767277941679,0.79109868790691884,0.86053086723858896,0.82037129346650817,1,0.46641883307896248,0.39440992469233194,0.74766024627621408,0.68792101737098033,0,0.38104862023513153,0.5196465896493998,0.58593129522539567,0.51133401599563122,0.57383229500984745,0.43404403516236584,0.77291783818399395,0.71303007838134769,0.6730279340277795,0.72880956575902067,0.66363875216510615,0.46807017915409171,0.27655539893628084,0.44397764137782481,0.25604206794631884,0.67606586285066339,0.72257450090063924,0.69706770943622798,5.9431575367641362E-2,0.74766024627621408,0.35960564774364839,0.39378485111965655,0.94624691125288729,0.93769097572841797,0.95689393223528174,0.93961325349266145,0.32172636719410042,0.61924070909452789,0.87183551528123682,0.47287956581605201,0.50640344872261489,0.71028483370344964,0.36116132185362909,0.69856935772917694,0.4035459108219277,0.37669524943165245,0.82043428798066986,0.60683944664789569,150,{"$f":"AVERAGE(Data!EY49:FQ49)","v":0.60627087244136979},161,{"$f":"AVERAGE(Data!FR49:FZ49)","v":0.55511882843686267},113,{"$f":"AVERAGE(Data!GA49:GL49)","v":0.64653015279983661},155]
["E05004912","29UCGN","Heron","Canterbury","NHS Canterbury & Coastal CCG",46,0.84964209536835877,0.71358821921232873,0.93360684001341676,1.277693850652118,0.6433818802090453,0.76323317366325383,0.68927871480574121,1.7531202243009214,0.91983857584920081,0.69771671221404741,0.32232200397930522,0.48281549305435451,0.17375602271662013,0.6978135506518931,0.54116643970776634,0.38365215871707192,0.87376534197473088,0.9727814725630648,0.8044127506419122,0.83147423312379365,0.42191999716906714,1.1139693753299238,1.2973152816075293,1.1028687952605163,0.46011929605082535,0.28184556996439386,1.2784640932330444,0.52641397019222214,1.2755225411986084,1.2221190682952128,1.0182881213965644,0.82878129423957281,0.32232200397930522,1.1483594401840589,1.0033770318344799,0.90668833690865891,1.0194034809289154,0.9060968190819918,0.90326653773471322,1.4030110784123506,0.83227905153136816,218,0.76900000000000002,null,null,null,null,1.025341568726216,151,0.53100000000000003,null,null,null,null,0.52738511961128243,270,0.95299999999999996,null,null,null,null,0.88365318839323592,179,0.63100000000000001,null,null,null,null,0.95350953649816605,180,0.63400000000000001,null,null,null,null,0.63671073236012155,252,0.89,null,null,null,null,1.171976576963462,48,0.16600000000000001,null,null,null,null,0.57555164910943901,262,0.92500000000000004,null,null,null,null,1.0758682360092693,60,0.20899999999999999,null,null,null,null,1.0276932506133261,138,0.48499999999999999,null,null,null,null,0.76282029054185019,240,0.84699999999999998,null,null,null,null,{"$f":"AVERAGE(Data!Z50:AH50)","v":0.81271006799236856},216,0.76200000000000001,null,null,null,null,0.99643631284953627,134,0.47099999999999997,null,null,null,null,0.84413029716052235,232,0.81899999999999995,null,null,null,null,"Canterbury",52,44,68,150,0.152,0.23699999999999999,0.52800000000000002,52,0.18,0.49593538461538467,0.44622684139177587,0.70463632917164309,0.8871767277941679,0.45613394387736877,0.57937427932849239,0.45421362290504214,1,0.46641883307896248,0.39440992469233194,0.24591526729180607,0.31026409217679696,7.5787909469010914E-2,0.43381444346827269,0.28910263121073515,0.22914017116042296,0.42402255485726298,0.51180642068141979,0.31073993494551561,0.60254049194009762,0.2605737756412812,0.70705003121631738,0.72880956575902067,0.66363875216510615,0.18644228542822891,8.3097921111874001E-2,0.59538721193560562,0.18329145134465133,0.75110478841192074,0.99614023697492127,0.7365780758865641,0.11433242793411225,0.24591526729180607,0.38999480738086628,0.47967860792011452,0.78899977573010349,0.74505903887362868,0.80585658743864286,0.79989702404333785,0.76291020120719433,0.54893285172626782,0.67537971478101422,0.30560665906854234,0.41552297016139944,0.59252252334436462,0.26205471745508996,0.82794103375780193,0.18012384761295916,0.43483670765049043,0.78054452545858133,0.50856044094379516,234,{"$f":"AVERAGE(Data!EY50:FQ50)","v":0.45869049011139013},240,{"$f":"AVERAGE(Data!FR50:FZ50)","v":0.44564794294913146},214,{"$f":"AVERAGE(Data!GA50:GL50)","v":0.63470556992443439},182]
["E05004913","29UCGP","Little Stour","Canterbury","NHS Canterbury & Coastal CCG",47,0.94099353308919753,1.183628672039124,1.203726409070323,1.277693850652118,1.1953795481299552,1.1234940555851589,1.1695031472152071,1.7531202243009214,0.91983857584920081,0.69771671221404741,1.2443901975278231,1.1510589800047462,1.2348716369362469,0.78008674058804472,1.1059730950050597,1.1784061718642387,1.1670849669604799,1.0597746963840866,1.1291661705527387,1.0528938528002598,1.0029486928593292,1.1285920978798212,1.2973152816075293,1.1028687952605163,1.260598130856359,1.5928343366956517,0.69230551488080783,1.7612745680682367,0.99391627525883541,0.47440783684134102,0.89635655918617907,0.62159272466113258,1.2443901975278231,0.72621564795847404,1.2577410373619717,1.1429867032417593,1.1957701106789485,1.1160601635876461,1.1235364094182281,0.96919792247133796,1.1094495380662148,111,0.39,null,null,null,null,1.3038381651766719,25,8.5000000000000006E-2,null,null,null,null,1.0390427637486759,127,0.44600000000000001,null,null,null,null,1.1186752779657685,116,0.40699999999999997,null,null,null,null,1.116923744081491,107,0.375,null,null,null,null,1.3267531376252637,42,0.14499999999999999,null,null,null,null,0.78822689042878513,246,0.86799999999999999,null,null,null,null,0.93299146109447784,122,0.42899999999999999,null,null,null,null,0.99197834266022289,143,0.503,null,null,null,null,1.109510261879584,54,0.187,null,null,null,null,1.1324161781036168,85,0.29699999999999999,null,null,null,null,{"$f":"AVERAGE(Data!Z51:AH51)","v":1.2101812523231679},57,0.19800000000000001,null,null,null,null,0.98018096568280644,162,0.56999999999999995,null,null,null,null,1.1042427560767729,82,0.28699999999999998,null,null,null,null,"Canterbury",202,199,227,122,0.70199999999999996,0.80100000000000005,0.42899999999999999,202,0.71199999999999997,0.54925714285714289,0.74015639480113671,0.9085080805557153,0.8871767277941679,0.84747986303515688,0.85285019211139612,0.77066685810133695,1,0.46641883307896248,0.39440992469233194,0.94940632120171897,0.73968684644698668,0.53861925683351686,0.48496177081834851,0.59083436878847262,0.70381512467026031,0.5663652764112479,0.55757588871010733,0.43619027930653653,0.76299559836452469,0.61941156955431287,0.71633125264335207,0.72880956575902067,0.66363875216510615,0.51079969594983377,0.46962321271092139,0.32241018930000737,0.6132560875612203,0.58527799353975574,0.38668632809494669,0.64837895660429967,8.5750252679018577E-2,0.94940632120171897,0.24663038577637467,0.60128092510026221,0.99462650594466473,0.87396143533317516,0.9925919789853821,0.99495928693632996,0.5270172085019611,0.73264053940466489,0.87163472820841148,0.60851905581632482,0.52004381480929718,0.69823734769726331,0.4790222963804957,0.54011442607966742,0.51757828694036878,0.42395565543831842,0.87663128314030259,0.65695556632301833,74,{"$f":"AVERAGE(Data!EY51:FQ51)","v":0.68338837632708127},81,{"$f":"AVERAGE(Data!FR51:FZ51)","v":0.60080843600092204},70,{"$f":"AVERAGE(Data!GA51:GL51)","v":0.65721396489149086},129]
["E05004914","29UCGQ","Marshside","Canterbury","NHS Canterbury & Coastal CCG",48,0.74306541802738002,1.2449314268951897,1.0154715405381485,1.277693850652118,1.0397477865652032,1.0049025221367252,0.94318187523829244,1.7531202243009214,0.91983857584920081,0.69771671221404741,0.96283585333127908,1.1073080158977089,0.85611618403897705,0.64748048974915451,0.77433730311643056,0.74117369393533938,1.501721251296205,1.3529003872779339,1.3837730616455906,0.94651401280283187,1.3211636338604875,1.0332082681099666,1.2973152816075293,1.1028687952605163,1.0514923093497748,1.3613900561666106,0.73914752580684318,1.2669215261643165,1.0299133857700458,0.56092245009304043,0.6910498704907454,1.3144142546741469,0.96283585333127908,0.86906146767815473,1.0237530191490396,1.110123907962109,1.0332876660503323,1.1013479833730258,1.089463144432427,1.3747158025999886,1.0011561284869062,163,0.57399999999999995,null,null,null,null,1.2037292517786522,79,0.27600000000000002,null,null,null,null,0.83835085351651728,212,0.748,null,null,null,null,1.4127982334065765,51,0.17699999999999999,null,null,null,null,1.1402139983282662,92,0.32200000000000001,null,null,null,null,1.1047378543718862,105,0.36799999999999999,null,null,null,null,0.76062856878461049,251,0.88600000000000001,null,null,null,null,1.138625054002713,70,0.24399999999999999,null,null,null,null,0.94640724341359717,203,0.71599999999999997,null,null,null,null,1.1417877008835764,31,0.106,null,null,null,null,1.0509113775108343,136,0.47799999999999998,null,null,null,null,{"$f":"AVERAGE(Data!Z52:AH52)","v":1.1244468232365417},86,0.30099999999999999,null,null,null,null,1.0134074004670277,117,0.41099999999999998,null,null,null,null,1.0562056596859768,115,0.40400000000000003,null,null,null,null,"Canterbury",169,148,198,167,0.52100000000000002,0.69799999999999995,0.58799999999999997,169,0.59499999999999997,0.43372666666666659,0.77849073655671019,0.76642341083618382,0.8871767277941679,0.73714270344333377,0.76282674109135162,0.62152805158228852,1,0.46641883307896248,0.39440992469233194,0.73459470128293802,0.71157185561548619,0.37341586689469536,0.4025235509609863,0.41366746965401668,0.44267356048735645,0.72875822725923334,0.71179717570776069,0.53454343036205954,0.68590582387596777,0.81593808927011857,0.65578996550398738,0.72880956575902067,0.66363875216510615,0.42606913239240274,0.40138535263873232,0.34422475134701952,0.44112789253226636,0.60647526853934608,0.45720375113667922,0.49987049171272979,0.1813266951035466,0.73459470128293802,0.29514231157010506,0.48941963738356176,0.96602931653566448,0.75520667699301203,0.97950738681834626,0.9647853547435854,0.74752418259667142,0.65954693801985353,0.80173484478222823,0.49240947033334664,0.65836627777635115,0.71001643931484004,0.40320178222760522,0.52118317046291829,0.45796069819324231,0.39228097447683341,0.88261058353745592,0.61854161834668342,135,{"$f":"AVERAGE(Data!EY52:FQ52)","v":0.62640471757718574},140,{"$f":"AVERAGE(Data!FR52:FZ52)","v":0.57365436949829129},95,{"$f":"AVERAGE(Data!GA52:GL52)","v":0.63975714786801552},173]
["E05004915","29UCGR","North Nailbourne","Canterbury","NHS Canterbury & Coastal CCG",49,1.1655928125919688,1.5132533494539928,1.2923853454867564,1.277693850652118,1.3152484036554013,1.1998220916479316,1.299053485793358,1.7531202243009214,0.91983857584920081,0.69771671221404741,1.0069117086817478,1.1603376032803572,1.241443505203579,0.78159389559682668,1.1229586968777328,0.94371738787540849,0.8475613333937484,0.93001187882384628,0.75250624106525266,1.2161932733497889,0.75186445828455339,1.4265719123223672,1.2973152816075293,1.1028687952605163,1.3864497946267487,1.5475597771892238,0.70214599032523262,1.8107397519028303,0.87326137974593754,1.14087336783761,1.0901126969177732,1.9040169380046283,1.0069117086817478,0.8962555201968273,1.2209809917675345,1.1370397729243376,1.1850340193562845,1.1185663375935468,1.1179802535223213,0.61951659432184214,1.3237438358442393,15,4.9000000000000002E-2,null,null,null,null,1.3689876112099462,2,3.0000000000000001E-3,null,null,null,null,0.98431476069736257,151,0.53100000000000003,null,null,null,null,0.84335981776094915,188,0.66300000000000003,null,null,null,null,1.158962744164951,83,0.28999999999999998,null,null,null,null,1.3617238285110089,37,0.127,null,null,null,null,1.0347491481671069,143,0.503,null,null,null,null,1.4554643233431881,35,0.12,null,null,null,null,1.0586182559821808,71,0.248,null,null,null,null,1.0356273955436666,127,0.44600000000000001,null,null,null,null,1.1168824790760106,92,0.32200000000000001,null,null,null,null,{"$f":"AVERAGE(Data!Z53:AH53)","v":1.2490787816520876},39,0.13400000000000001,null,null,null,null,1.1092124650725326,30,0.10199999999999999,null,null,null,null,1.1443256429545845,52,0.18,null,null,null,null,"Canterbury",232,192,245,254,0.67700000000000005,0.86499999999999999,0.89700000000000002,232,0.81899999999999995,0.68035555555555549,0.94628000318970795,0.97542308677379308,0.8871767277941679,0.93246244569838488,0.9107912020313077,0.85603657483593909,1,0.46641883307896248,0.39440992469233194,0.76822233332732504,0.74564942152726454,0.54148573679489997,0.48589873400965422,0.59990843885966827,0.56364485086687421,0.41130622229948666,0.48930419042410084,0.2906887542596937,0.88133301553472909,0.46434433537215652,0.90546269715998051,0.72880956575902067,0.66363875216510615,0.56179532256164311,0.45627469077135258,0.32699294862034195,0.63047931082173136,0.51422909645016157,0.92991746588280033,0.78853233767862319,0.26266384251526809,0.76822233332732504,0.30437769458940167,0.58370726441402832,0.98945148990472531,0.86611466805037707,0.99482089844452859,0.99003897562113108,0.33687227199952507,0.86735288183968551,0.91729339007195987,0.57070478414462245,0.39709972232776036,0.72871767319819847,0.49388556819376728,0.7442263000038617,0.51544308792129656,0.44404247950171499,0.83545966080405754,0.67233855034157686,53,{"$f":"AVERAGE(Data!EY53:FQ53)","v":0.68134015979047979},85,{"$f":"AVERAGE(Data!FR53:FZ53)","v":0.62434784875178462},49,{"$f":"AVERAGE(Data!GA53:GL53)","v":0.69407902823982459},55]
["E05004916","29UCGS","Northgate","Canterbury","NHS Canterbury & Coastal CCG",50,0.25371973781071688,0.87908413312321232,0.59786523872320374,1.277693850652118,0.32906413312505584,0.55163913259784747,0.33008218028256225,1.7531202243009214,0.91983857584920081,0.69771671221404741,0.48416685584917124,1.090262197507317,0.9720362491904283,0.47549384495544972,0.45728523616003308,1.0769802964361801,0.81762374360290802,0.88655079999220343,0.82810055777912628,0.66406112318229993,1.0093467813501869,1.0763845685609752,1.2973152816075293,1.1028687952605163,0.80354168812514359,0.58772157142150516,1.8868394196514404,0.27771772595918931,1.1060535386020498,1.096973432272965,1.1947847487584851,1.1060160498849967,0.48416685584917124,2.2499345454283071,0.60673694950689117,0.71209553652340707,0.55850197834733961,0.78494220563721295,0.78332400083681208,1.3415597499034866,0.57688970321904431,270,0.95299999999999996,null,null,null,null,0.84831990419170111,213,0.751,null,null,null,null,0.77172249602022858,234,0.82599999999999996,null,null,null,null,0.84409170045807924,187,0.65900000000000003,null,null,null,null,1.0299953099923014,145,0.51,null,null,null,null,0.88895510128931965,170,0.59899999999999998,null,null,null,null,1.1326039065444997,73,0.255,null,null,null,null,0.79509145286708394,179,0.63100000000000001,null,null,null,null,1.4283357474675991,4,0.01,null,null,null,null,0.83608469424965148,258,0.91100000000000003,null,null,null,null,0.77254335263956331,236,0.83299999999999996,null,null,null,null,{"$f":"AVERAGE(Data!Z54:AH54)","v":0.9673107727909761},165,0.58099999999999996,null,null,null,null,1.0020907992959269,129,0.45300000000000001,null,null,null,null,0.88523025617054041,217,0.76500000000000001,null,null,null,null,"Canterbury",67,48,119,155,0.16600000000000001,0.41799999999999998,0.54600000000000004,67,0.23400000000000001,0.14809599999999998,0.54971610444213048,0.45123659028375607,0.8871767277941679,0.2332942929355582,0.41875214014123252,0.21751407629755679,1,0.46641883307896248,0.39440992469233194,0.36939464355535229,0.70061797065448705,0.42397721876028277,0.29560345672455873,0.24429150680348577,0.64323748441040129,0.39677805014666168,0.46643815131547245,0.31989039612722364,0.48122202697408728,0.62336296812782432,0.68319449318469616,0.72880956575902067,0.66363875216510615,0.3255984916450021,0.17328085300010471,0.87871068681761455,9.6698203196637106E-2,0.65131119384474523,0.89413495225460626,0.86424680092718797,0.15257764768143334,0.36939464355535229,0.76410116811791085,0.29005919617379977,0.61966520991212082,0.40819651392332795,0.69810514047740735,0.69368067005169121,0.72949503712296027,0.38301623157529557,0.55134744743370301,0.44224387983498281,0.39436886586311926,0.63604556124214684,0.36857205866483961,0.80323098234217982,0.26098614561839284,0.52708018214585528,0.62982851429750153,0.51040819457690634,233,{"$f":"AVERAGE(Data!EY54:FQ54)","v":0.45404439832440113},244,{"$f":"AVERAGE(Data!FR54:FZ54)","v":0.51716844898556591},155,{"$f":"AVERAGE(Data!GA54:GL54)","v":0.5945806811702119},245]
["E05004917","29UCGT","Reculver","Canterbury","NHS Canterbury & Coastal CCG",51,0.92634575399119046,0.8011485794683525,1.0934367732634771,1.277693850652118,1.152055299145452,1.0746227620775919,1.3642044973584782,1.7531202243009214,0.91983857584920081,0.69771671221404741,1.118010636770149,0.88254994587554236,0.41100405104626381,0.81478651617309772,0.80259859244446363,0.70005346863582929,0.4302698227837109,0.41168241040585091,0.52996300417571807,1.1716498275481149,0.72194229884103311,0.79699275807282177,1.2973152816075293,1.1028687952605163,1.1558977034618365,0.85493175239729502,1.1442725341151483,1.0528891181604971,1.174794835950336,0.75821822524105886,0.7044017415613758,0.44883357958711695,1.118010636770149,1.017313679029459,1.0989242412204006,1.1083118837233432,1.3125089310550693,1.0842181637872128,1.0846433660634738,1.1019316088411923,0.94031036890767339,188,0.66300000000000003,null,null,null,null,1.3243393267069123,17,5.6000000000000001E-2,null,null,null,null,0.7933198123760743,229,0.80800000000000005,null,null,null,null,0.45730507912175994,253,0.89300000000000002,null,null,null,null,1.0181537922660031,154,0.54200000000000004,null,null,null,null,1.0519977770336941,119,0.41799999999999998,null,null,null,null,0.87913826758425684,219,0.77300000000000002,null,null,null,null,0.783422108178633,187,0.65900000000000003,null,null,null,null,1.0581189601249297,72,0.251,null,null,null,null,1.1383227906940583,34,0.11700000000000001,null,null,null,null,0.90321586719112934,189,0.66600000000000004,null,null,null,null,{"$f":"AVERAGE(Data!Z55:AH55)","v":1.0331955632738659},129,0.45300000000000001,null,null,null,null,1.0010092410691824,130,0.45700000000000002,null,null,null,null,0.96179931097316107,180,0.63400000000000001,null,null,null,null,"Canterbury",104,95,155,154,0.33300000000000002,0.54600000000000004,0.54200000000000004,104,0.36499999999999999,0.54070724637681156,0.50098080444248261,0.82526738351937334,0.8871767277941679,0.81676457377583611,0.81575173854196226,0.89896910178515954,1,0.46641883307896248,0.39440992469233194,0.85298515516199713,0.56713912808703071,0.17926939927079433,0.50653381369404371,0.42876525197502369,0.41811408584555348,0.20880218151294802,0.21659715657635348,0.20472160505869574,0.84905392776887667,0.44586469441213306,0.50586108285757136,0.72880956575902067,0.66363875216510615,0.46837463980397964,0.2520637501086912,0.53289352230334441,0.36660420410605399,0.69179022571777415,0.61801808200564445,0.50952855930287544,6.1917701629158488E-2,0.85298515516199713,0.34549030418161036,0.52535630527092514,0.96445249387256704,0.95928320922923538,0.96427261536329534,0.96051715016297201,0.59919331953451882,0.62231847811288921,0.88373242837942523,0.47670444897571723,0.21004031438266577,0.63864560459254149,0.40498402908051734,0.60644562234209809,0.45745142839557779,0.43542330472626778,0.8895437576325177,0.58988358429767174,169,{"$f":"AVERAGE(Data!EY55:FQ55)","v":0.5647039005889225},185,{"$f":"AVERAGE(Data!FR55:FZ55)","v":0.53479601547608624},135,{"$f":"AVERAGE(Data!GA55:GL55)","v":0.67106709345271465},98]
["E05004919","29UCGW","Seasalter","Canterbury","NHS Canterbury & Coastal CCG",52,0.78366809438088814,0.87352124526066133,1.0539119458125301,1.277693850652118,1.0775715467213649,1.1315656344056764,1.3173129914677029,1.7531202243009214,0.91983857584920081,0.69771671221404741,1.0676622771341115,0.89419920791433916,1.2822760874879029,1.0079382156778181,1.0283658795593591,0.72802293429457376,1.4281939954037237,1.2727052626378172,1.3222933339487846,1.0983182248203367,0.82548529920179081,0.57792035605693004,1.2973152816075293,1.1028687952605163,1.1444005875342342,0.98932884889934869,1.1211809774795898,1.0688797849188942,1.0656787920065653,0.89546422692560323,1.0424154166935795,0.84734949094241696,1.0676622771341115,0.95752508202447628,1.1414921098862256,1.0742462053728445,1.093817111924779,1.0669536560135391,1.0587196165019233,0.9618536996431517,0.90370042848469312,200,0.70499999999999996,null,null,null,null,1.3114528495095565,22,7.3999999999999996E-2,null,null,null,null,0.95325248626641912,169,0.59499999999999997,null,null,null,null,1.3410641973301083,61,0.21199999999999999,null,null,null,null,0.98038159138942049,172,0.60599999999999998,null,null,null,null,1.0809475497080168,108,0.379,null,null,null,null,1.0011861452085826,158,0.55600000000000005,null,null,null,null,0.9575058840382642,112,0.39300000000000002,null,null,null,null,1.049508595955351,78,0.27300000000000002,null,null,null,null,1.0511180578912476,113,0.39700000000000002,null,null,null,null,1.1009251586907127,101,0.35399999999999998,null,null,null,null,{"$f":"AVERAGE(Data!Z56:AH56)","v":1.0250775728643522},134,0.47099999999999997,null,null,null,null,1.0227648070891011,109,0.38200000000000001,null,null,null,null,1.0604113463992981,113,0.39700000000000002,null,null,null,null,"Canterbury",171,183,150,175,0.64500000000000002,0.52800000000000002,0.61699999999999999,171,0.60199999999999998,0.45742641509433957,0.54623747375136211,0.79543616535287232,0.8871767277941679,0.76395834967616838,0.8589773696549704,0.86806903144115544,1,0.46641883307896248,0.39440992469233194,0.81457192192088368,0.57462510930137012,0.55929585929406256,0.62661172984702374,0.54937494237170093,0.43481913494456453,0.69307677664834921,0.66960436996895945,0.51079417157702833,0.79591306275812324,0.50981186621308894,0.36681314122264563,0.72880956575902067,0.66363875216510615,0.46371595978822416,0.29168870970696864,0.52213966726958227,0.37217197525970519,0.62753610205351018,0.72988628551270041,0.7540305398530972,0.11689395656192979,0.81457192192088368,0.32518547491248084,0.54570647807328365,0.93480855616594905,0.79944628536248108,0.94891805608739332,0.93756010563618897,0.5230236673234393,0.59970001806619133,0.87563629571329249,0.5525159319313625,0.62449177273144574,0.61299727762359679,0.41242907800612005,0.70381764247310263,0.46573293924140674,0.43544597649288225,0.82875133411509039,0.63107886090040188,113,{"$f":"AVERAGE(Data!EY56:FQ56)","v":0.6563623319163302},106,{"$f":"AVERAGE(Data!FR56:FZ56)","v":0.52385585557138492},145,{"$f":"AVERAGE(Data!GA56:GL56)","v":0.67146395245527801},96]
["E05004918","29UCGU","St Stephens","Canterbury","NHS Canterbury & Coastal CCG",53,0.64587797589097584,0.84439427203748108,0.98332221875400161,1.277693850652118,0.75692548481498889,1.0225845178911144,0.60196926444602683,1.7531202243009214,0.91983857584920081,0.69771671221404741,0.90777597087244677,1.5561436377214835,1.0949493528203789,0.73049900168095416,0.9292190455891689,1.3653282588764295,1.136729694899641,1.0806681820561257,1.1277845850459263,1.0148178563114505,1.1588540609140372,1.2452580097043162,1.2973152816075293,1.1028687952605163,1.4032015793177988,1.130104071076717,2.1472817480858444,0.47808997867087716,0.88213219833513778,1.1151767257666279,1.1833606833676245,0.24806508809433267,0.90777597087244677,2.9445505900353663,0.3651899612951896,0.94005813397004567,0.81333449316194195,0.92490358987765198,0.9472010552433392,0.86382537786213776,0.82453148889415273,221,0.78,null,null,null,null,1.0824586684210338,126,0.443,null,null,null,null,1.0251838194530136,133,0.46800000000000003,null,null,null,null,1.115060820667231,118,0.41399999999999998,null,null,null,null,1.1638228007595699,78,0.27300000000000002,null,null,null,null,1.2896693442878093,52,0.18,null,null,null,null,1.0602232024897968,127,0.44600000000000001,null,null,null,null,0.57792052948338968,261,0.92100000000000004,null,null,null,null,1.654870275665278,2,3.0000000000000001E-3,null,null,null,null,0.89786453002302324,235,0.82899999999999996,null,null,null,null,1.0227653066533386,152,0.53500000000000003,null,null,null,null,{"$f":"AVERAGE(Data!Z57:AH57)","v":1.2197545978832318},53,0.184,null,null,null,null,1.0112978223234868,121,0.42499999999999999,null,null,null,null,1.0636476518811091,109,0.38200000000000001,null,null,null,null,"Canterbury",175,132,231,163,0.46400000000000002,0.81499999999999995,0.57399999999999995,175,0.61699999999999999,0.37699843750000001,0.52802355582117388,0.74215882844836234,0.8871767277941679,0.53663215771288097,0.77624923620921804,0.39667936149540273,1,0.46641883307896248,0.39440992469233194,0.69258681617190943,1,0.47758875420417518,0.45413422764906891,0.49640859325279685,0.81545625072273553,0.55163441058915585,0.5685685118417857,0.43565658091579623,0.73540324644126209,0.71569724140996582,0.79038053839948763,0.72880956575902067,0.66363875216510615,0.56858321659175137,0.33319416359251075,1,0.16646557847224325,0.51945277075169183,0.9089723224952948,0.85598321037006564,3.4221192013674996E-2,0.69258681617190943,1,0.17458423573858947,0.81803815785748446,0.59444785808050671,0.82258279132211554,0.8388036903924142,0.46971916542414871,0.54906027392317869,0.71934749664233388,0.59962542497149751,0.51861983444891258,0.72678586883496854,0.51706073966412636,0.7614694345390175,0.36340400409279222,0.58729211786929469,0.7087183326153339,0.6257086430387292,122,{"$f":"AVERAGE(Data!EY57:FQ57)","v":0.61035690568946976},157,{"$f":"AVERAGE(Data!FR57:FZ57)","v":0.63357470031459417},40,{"$f":"AVERAGE(Data!GA57:GL57)","v":0.64411601755149128},162]
["E05004920","29UCGX","Sturry North","Canterbury","NHS Canterbury & Coastal CCG",54,0.9982400291343374,0.97488139683415032,0.95390888710732757,1.277693850652118,0.86219939860984685,0.88752720906137994,1.1059645822641782,1.7531202243009214,0.91983857584920081,0.69771671221404741,0.87342899484933911,0.80958815967862041,0.99997095344275488,0.4966475948641248,0.75787520694190658,0.65071357582021883,1.1361116296688014,1.2272303847097172,1.0356650337021396,0.91974675357720292,0.87104686096268868,0.51008592465799418,1.2973152816075293,1.1028687952605163,0.84805993067222585,0.70547702813440516,1.1624804057938418,0.81633287844551439,0.90500429585160613,0.98362032039623981,0.93993077657132595,0.51235437553683871,0.87342899484933911,0.79325870577999658,1.0500224762692427,1.1038045309199471,0.93923089914978375,1.090052278290226,1.0870644775910445,1.259088270151435,0.97567677102527173,174,0.61299999999999999,null,null,null,null,1.1773010529776891,88,0.308,null,null,null,null,0.77572247170752651,233,0.82199999999999995,null,null,null,null,1.1330023493602195,113,0.39700000000000002,null,null,null,null,0.94021272321318627,184,0.64800000000000002,null,null,null,null,0.88308756076149675,174,0.61299999999999999,null,null,null,null,0.94285179760639071,191,0.67300000000000004,null,null,null,null,0.69289168519308886,227,0.80100000000000005,null,null,null,null,0.9216405910246197,220,0.77600000000000002,null,null,null,null,1.0958480912204871,69,0.24099999999999999,null,null,null,null,0.96938538945816488,173,0.60899999999999999,null,null,null,null,{"$f":"AVERAGE(Data!Z58:AH58)","v":0.91482376212354644},186,0.65600000000000003,null,null,null,null,0.96140503344641892,187,0.65900000000000003,null,null,null,null,0.95471491650435181,184,0.64800000000000002,null,null,null,null,"Canterbury",100,111,98,97,0.39,0.34300000000000003,0.34,100,0.35099999999999998,0.58267187499999995,0.60962083555847668,0.7199592245552261,0.8871767277941679,0.61126746679409494,0.67372652929423116,0.72879688422766553,1,0.46641883307896248,0.39440992469233194,0.66638182338485141,0.5202528481651123,0.43616161849399293,0.30875425070860502,0.40487306746996943,0.38864533080814617,0.55133447468456065,0.64567881714980191,0.40007133768222519,0.66650852099009794,0.53795025323387125,0.32375779526759746,0.72880956575902067,0.66363875216510615,0.34363747187244598,0.2079992757649452,0.54137302048513847,0.28423796962682879,0.53292124458164114,0.80174166697166194,0.67989833950331213,7.0680552426729298E-2,0.66638182338485141,0.26939890537607264,0.50197812359805871,0.96053019752634827,0.68646270499614748,0.96946130988811197,0.96266119051526688,0.68464982229921756,0.63741731170456761,0.78019352162203182,0.44823721210024647,0.53236154317219586,0.58413297748313864,0.34431193443733954,0.67152041701887166,0.36853118790579037,0.38568851448706565,0.85275304504501848,0.57702200939437231,178,{"$f":"AVERAGE(Data!EY58:FQ58)","v":0.57874746681802214},175,{"$f":"AVERAGE(Data!FR58:FZ58)","v":0.47754584724056126},190,{"$f":"AVERAGE(Data!GA58:GL58)","v":0.64889715675561821},152]
["E05004921","29UCGY","Sturry South","Canterbury","NHS Canterbury & Coastal CCG",55,1.1993246073680379,1.2774074124241932,1.1625246468954225,1.277693850652118,1.1752663763182629,1.1282416010169525,1.2679239783907208,1.7531202243009214,0.91983857584920081,0.69771671221404741,0.88169376540287059,0.98514178350698778,1.0749681503303021,0.51455960259322142,0.91248150970373298,0.7739684319139829,0.81835696589395734,0.86231250913581714,0.78741316521692906,1.1661375783773908,0.83453018762529685,0.60252445508269947,1.2973152816075293,1.1028687952605163,1.0530760185846737,0.69734645809503715,1.1014705832660434,0.79553323547980559,1.3719509087202082,1.0810549947036963,1.0790868722221909,0.49653457038972071,0.88169376540287059,1.1222978988292815,0.93544568300404984,1.1260208171471022,1.1171572718970468,1.1052477462271164,1.1095833403410551,1.3131413494420225,1.2130855555625513,46,0.159,null,null,null,null,1.3204492061357953,19,6.3E-2,null,null,null,null,0.84504606643929325,209,0.73699999999999999,null,null,null,null,0.82269421341556781,192,0.67700000000000005,null,null,null,null,1.0006752595906865,163,0.57399999999999995,null,null,null,null,0.91185657385638996,159,0.56000000000000005,null,null,null,null,1.1773642585486985,44,0.152,null,null,null,null,0.68911416789629565,230,0.81200000000000006,null,null,null,null,1.0288717909166656,95,0.33300000000000002,null,null,null,null,1.1542301050108688,24,8.1000000000000003E-2,null,null,null,null,1.0247344141646146,150,0.52800000000000002,null,null,null,null,{"$f":"AVERAGE(Data!Z59:AH59)","v":0.96120028815322145},169,0.59499999999999997,null,null,null,null,1.0616012681938634,63,0.219,null,null,null,null,1.0214992920208257,147,0.51700000000000002,null,null,null,null,"Canterbury",137,134,115,221,0.47099999999999997,0.40400000000000003,0.78,137,0.48199999999999998,0.70004477611940286,0.7987988863460781,0.87741120207321854,0.8871767277941679,0.83322036853498627,0.8564540785880842,0.83552318013378868,1,0.46641883307896248,0.39440992469233194,0.67268742224153888,0.63306609982960149,0.46887346743757113,0.31988972902819096,0.4874670453122471,0.46226055277410988,0.39713386969476416,0.45368573647562466,0.30417309464512921,0.8450593922863443,0.51539790324044199,0.38242966477300566,0.72880956575902067,0.66363875216510615,0.42671085807472608,0.2056020996524687,0.51296043672328029,0.27699576679310983,0.80788764112117806,0.8811599512224717,0.78055681427941448,6.8498171206875513E-2,0.67268742224153888,0.38114403692952065,0.44720306402457538,0.97986279963143852,0.8165050824741491,0.98297572432846081,0.98260300231286513,0.71404206747244536,0.7920849548462332,0.88247487101020528,0.48813413429931918,0.38499756693850601,0.62706705564478382,0.35556729031089618,0.82320146887435464,0.3705927967242072,0.41417355047704801,0.89519773524387181,0.62303563028780573,128,{"$f":"AVERAGE(Data!EY59:FQ59)","v":0.62361552604209469},145,{"$f":"AVERAGE(Data!FR59:FZ59)","v":0.50640049327416703},163,{"$f":"AVERAGE(Data!GA59:GL59)","v":0.70959381477041106},27]
["E05004922","29UCGZ","Tankerton","Canterbury","NHS Canterbury & Coastal CCG",56,1.3977507216933911,1.2044708018980628,1.2683665691152965,1.277693850652118,1.2801396410185895,1.183942668359357,1.3750914781521808,1.7531202243009214,0.91983857584920081,0.69771671221404741,1.1765550422398052,0.96506533575189524,1.2882905893694712,1.0087585357239994,1.3033969551381359,1.0076809672403888,1.0264518091279784,1.1758983652120845,0.82773944368071117,1.2558892470536693,0.51153820136881567,0.78334604263142571,1.2973152816075293,1.1028687952605163,1.1684792632666423,0.88731850398196277,1.0595505843065713,1.1481563086273996,1.4793972930748771,1.0706962231907753,1.3203906602270676,0.75104290595502188,1.1765550422398052,1.2227787888820381,1.0644994130441954,1.1274168159534206,1.1300021722689555,1.0982721075181203,1.1151252601781052,1.0933803534693396,1.2901960309022502,24,8.1000000000000003E-2,null,null,null,null,1.3739975724966336,1,0,null,null,null,null,1.0459128391908679,124,0.436,null,null,null,null,1.0100298726735912,147,0.51700000000000002,null,null,null,null,0.99019151358439128,170,0.59899999999999998,null,null,null,null,1.0658761650456441,115,0.40400000000000003,null,null,null,null,1.2901613921642401,4,0.01,null,null,null,null,0.96379897409741355,111,0.39,null,null,null,null,1.1436391009631168,36,0.124,null,null,null,null,1.1128393418775884,53,0.184,null,null,null,null,1.1651562256177705,68,0.23699999999999999,null,null,null,null,{"$f":"AVERAGE(Data!Z60:AH60)","v":1.023829136456059},136,0.47799999999999998,null,null,null,null,1.1374630863334769,21,7.0000000000000007E-2,null,null,null,null,1.1250496887710972,63,0.219,null,null,null,null,"Canterbury",221,216,148,263,0.76200000000000001,0.52100000000000002,0.92900000000000005,221,0.78,0.815865934065934,0.75318956648815993,0.95729500363620934,0.8871767277941679,0.90757163223472304,0.89873704906542884,0.90614328964645008,1,0.46641883307896248,0.39440992469233194,0.89765155379990935,0.62016468940164848,0.56191923036906066,0.62712170372753606,0.69630239718113085,0.60184775209056729,0.49811854240024556,0.61867166507461779,0.31975089986568395,0.91009930866893407,0.315921125829005,0.49719934511816394,0.72880956575902067,0.66363875216510615,0.47347274106683307,0.26161249600025366,0.49343808061102767,0.39977517333361778,0.87115856827429794,0.87271659297911797,0.95510375844783446,0.10360822513412937,0.89765155379990935,0.41526839206635996,0.50889902836150591,0.98107759715366105,0.8258931307833437,0.97677179083387933,0.98751070673891472,0.59454343468564308,0.84211683473010102,0.91992573974815384,0.6082295105426434,0.47884703578018245,0.62313361950804591,0.40707462275293305,0.89965963990041686,0.50062988946701936,0.46208371021393291,0.87315933203908835,0.67906314406058299,48,{"$f":"AVERAGE(Data!EY60:FQ60)","v":0.70675559971646129},63,{"$f":"AVERAGE(Data!FR60:FZ60)","v":0.52710739872799572},142,{"$f":"AVERAGE(Data!GA60:GL60)","v":0.74918356493821647},4]
["E05004923","29UCHA","West Bay","Canterbury","NHS Canterbury & Coastal CCG",57,0.6750207020990735,0.81346476200985907,0.85282902034851704,1.277693850652118,0.89310442022125491,0.91313417608233483,1.2423812029738697,1.7531202243009214,0.91983857584920081,0.69771671221404741,0.89662351397496431,0.70997835845432444,0.37161596983683476,0.76234054427899012,0.74567607673802205,0.56373056942217792,1.4494549795432299,1.3745475997362959,1.4542890662223948,0.93468880137138932,0.68993045338279635,0.42654493883205657,1.2973152816075293,1.1028687952605163,0.85600067446986705,0.41711212352661248,1.4243567190270916,0.81092063384216706,1.2128630475889814,0.99529571211237089,1.1599829046664918,0.35107577783109722,0.89662351397496431,0.76039275256721817,1.1634082382794895,0.94233493676463831,1.0597380355571941,0.96048224909354241,0.92158524997853308,0.77819538570531632,0.78043816148581646,229,0.80800000000000005,null,null,null,null,1.2158867748461,72,0.251,null,null,null,null,0.7084400400960702,249,0.879,null,null,null,null,1.4260972151673068,46,0.159,null,null,null,null,0.89026965409085757,197,0.69499999999999995,null,null,null,null,0.87709753771643462,176,0.62,null,null,null,null,1.1227138881226149,84,0.29399999999999998,null,null,null,null,0.62384964590303071,251,0.88600000000000001,null,null,null,null,0.96190049542335387,179,0.63100000000000001,null,null,null,null,0.93246717141984481,217,0.76500000000000001,null,null,null,null,0.96666106973465427,175,0.61699999999999999,null,null,null,null,{"$f":"AVERAGE(Data!Z61:AH61)","v":0.88441538014666954},200,0.70499999999999996,null,null,null,null,0.93349815034331973,217,0.76500000000000001,null,null,null,null,0.93820691375995757,194,0.68400000000000005,null,null,null,null,"Canterbury",90,109,84,67,0.38200000000000001,0.29399999999999998,0.23400000000000001,90,0.315,0.39400902255639103,0.50868246078368085,0.64366956683906851,0.8871767277941679,0.6331779834356992,0.69316491139749647,0.81869127119488061,1,0.46641883307896248,0.39440992469233194,0.68407805975737423,0.45624217536491668,0.16208933099928041,0.47392937359949355,0.39835603244774986,0.33669384162391924,0.70339434863310968,0.72318635471510062,0.5617833499895496,0.67733650395076905,0.42609448325298888,0.27073330649421706,0.72880956575902067,0.66363875216510615,0.34685509485487515,0.12297922702847344,0.66333014766078491,0.28235348664470433,0.71420709027682461,0.81125819262992327,0.83907290876449858,4.8431771261337596E-2,0.68407805975737423,0.25823728590042166,0.55618379380320315,0.82001943060710436,0.77453865618605644,0.85422543292238962,0.81611934912236272,0.42315645786544831,0.51545368339304687,0.80644217876444879,0.42152719644550357,0.66278801777925322,0.55332252232442036,0.35387948904720951,0.78817939722374886,0.36625491550935591,0.40721053985181244,0.73761186534067225,0.56802031414527643,187,{"$f":"AVERAGE(Data!EY61:FQ61)","v":0.57574492467911431},180,{"$f":"AVERAGE(Data!FR61:FZ61)","v":0.46468117420121552},197,{"$f":"AVERAGE(Data!GA61:GL61)","v":0.63329403575807874},188]
["E05004924","29UCHB","Westgate","Canterbury","NHS Canterbury & Coastal CCG",58,0.76311090372300261,0.99816108235906065,1.0666678150176256,1.277693850652118,1.0611550625872408,0.90651193880273673,0.78306695650886293,1.7531202243009214,0.91983857584920081,0.69771671221404741,0.84996686799500909,1.3261901568798744,1.1696147647702864,0.73654301696769553,0.8753673756147653,1.2567039218914273,1.2820354717643303,1.1807481539171565,1.3239268396175006,1.021388414655245,0.8159475340084742,1.3493145697217317,1.2973152816075293,1.1028687952605163,1.0957959203601075,0.39930990505046515,1.8691281758807523,0.67470222752225983,0.94790966544846034,1.0461296008940209,1.2317534611616137,2.055291340180541,0.84996686799500909,2.3831255721008495,0.38417676356877972,4.6686669275882532E-2,0.8741123350622414,0,0.40257510827775062,0.78479615273432324,0.942646600366563,187,0.65900000000000003,null,null,null,null,1.156309606570376,95,0.33300000000000002,null,null,null,null,0.97899267402278833,153,0.53900000000000003,null,null,null,null,1.2622368217663291,79,0.27600000000000002,null,null,null,null,1.1173669190506992,106,0.372,null,null,null,null,1.0097340572033962,133,0.46800000000000003,null,null,null,null,1.075264242501365,115,0.40400000000000003,null,null,null,null,1.452629104087775,36,0.124,null,null,null,null,1.3836511678348147,6,1.7000000000000001E-2,null,null,null,null,0.42163405307003954,283,1,null,null,null,null,1.0646389311280455,125,0.439,null,null,null,null,{"$f":"AVERAGE(Data!Z62:AH62)","v":1.069530091563009},112,0.39300000000000002,null,null,null,null,0.91721029472495597,233,0.82199999999999995,null,null,null,null,1.0215108513049855,146,0.51400000000000001,null,null,null,null,"Canterbury",138,159,172,51,0.56000000000000005,0.60599999999999998,0.17699999999999999,138,0.48499999999999999,0.44542720000000008,0.62417827955866079,0.80506361072585497,0.8871767277941679,0.75231966993861454,0.68813793657013889,0.51601720995164724,1,0.46641883307896248,0.39440992469233194,0.64848141594947417,0.85222862770026253,0.51015588708885717,0.45789165128390952,0.46763988488074887,0.75057925575895534,0.62214868230705,0.62122326897355329,0.51142518525107183,0.74016470181663463,0.50392143318247196,0.85642651384363855,0.72880956575902067,0.66363875216510615,0.44402114301309464,0.11773051104995327,0.87046247077122174,0.23492376249601929,0.55818652019370296,0.85269252037341092,0.89098809592781536,0.28353252018121683,0.64848141594947417,0.80933422579512426,0.18366114560845043,4.062671823247211E-2,0.6388690135093531,0,0.35650455055368513,0.42674573280397554,0.6248896967615053,0.76873030885091376,0.56847568505418777,0.58493237884389171,0.69859219335337441,0.41678447183257222,0.76728904549830979,0.46600696806534547,0.49649768570178732,0.29254920301989717,0.57176611411825251,183,{"$f":"AVERAGE(Data!EY62:FQ62)","v":0.63268017113180319},134,{"$f":"AVERAGE(Data!FR62:FZ62)","v":0.5733443171219067},96,{"$f":"AVERAGE(Data!GA62:GL62)","v":0.47413520492739014},281]
["E05004925","29UCHC","Wincheap","Canterbury","NHS Canterbury & Coastal CCG",59,0.7525585443538213,0.92798986441769371,1.0745285544413297,1.277693850652118,0.91822649515447319,0.89181481545244179,0.80417570502279279,1.7531202243009214,0.91983857584920081,0.69771671221404741,0.82294218961688104,1.2450255910935621,1.2074347823819112,0.64829765136234085,0.75161342867106473,1.1014962567150717,1.2051051172992484,1.0972444452051018,1.0981090171912158,0.98589554280994574,1.1159887395378532,1.0163782254712899,1.2973152816075293,1.1028687952605163,0.99172083164293623,0.89860308404910438,1.3800170144375756,0.6209688530385109,0.8866662625642312,0.97135195270480812,1.2522226205614715,0.56426554391524708,0.82294218961688104,1.9002825322320676,0.63070174379572319,0.93190554627745237,0.99456835835831237,0.93473429093619764,0.96896715525076837,0.70944677635672293,0.91835898773761482,196,0.69099999999999995,null,null,null,null,1.1290062181165497,109,0.38200000000000001,null,null,null,null,0.92429564848800994,176,0.62,null,null,null,null,1.1334861932318552,112,0.39300000000000002,null,null,null,null,1.1036893169374269,111,0.39,null,null,null,null,0.97282744579203173,142,0.5,null,null,null,null,1.036746945276837,142,0.5,null,null,null,null,0.693603866766064,225,0.79400000000000004,null,null,null,null,1.2654921380138955,12,3.9E-2,null,null,null,null,0.90792442543589069,231,0.81499999999999995,null,null,null,null,1.0102595695471179,156,0.54900000000000004,null,null,null,null,{"$f":"AVERAGE(Data!Z63:AH63)","v":1.0455284853172513},125,0.439,null,null,null,null,0.96400458104749021,186,0.65600000000000003,null,null,null,null,1.0043185790455098,158,0.55600000000000005,null,null,null,null,"Canterbury",126,128,159,98,0.45,0.56000000000000005,0.34300000000000003,126,0.443,0.4392677966101694,0.58029823768639854,0.81099647489811622,0.8871767277941679,0.65098860488799803,0.6769812736483618,0.52992723057400981,1,0.46641883307896248,0.39440992469233194,0.6278629632072309,0.80007112512861434,0.52665200633728682,0.40303156131721529,0.40152789223120894,0.65787989214049858,0.58481576936198354,0.57728972842519544,0.42419308283314472,0.71444425058666916,0.68922402679578998,0.64510773093221208,0.72880956575902067,0.66363875216510615,0.40184947674498034,0.26493958446333798,0.64268092236510976,0.21621440303282791,0.52212270189241405,0.79174181097032659,0.90579444958053656,7.7841826406791284E-2,0.6278629632072309,0.64535570849514379,0.3015159056646895,0.81094377977933774,0.72690760727767112,0.83132593558698042,0.85807888535827237,0.38577327807601891,0.61018750306489478,0.74901476738090755,0.53473177476666867,0.5287661935401079,0.68824486524775952,0.38142109665156398,0.73988632081442562,0.35285239480701108,0.47343580707991662,0.72260589721565616,0.59729906724983406,160,{"$f":"AVERAGE(Data!EY63:FQ63)","v":0.60209416446594177},162,{"$f":"AVERAGE(Data!FR63:FZ63)","v":0.55187874587167274},118,{"$f":"AVERAGE(Data!GA63:GL63)","v":0.62377207102461774},209]
["E05004926","29UDGA","Bean and Darenth","Dartford","NHS Dartford, Gravesham & Swanley CCG",60,1.0613953280575457,0.90779260798530437,0.84854388664217428,1.0883465160093189,0.86551181082760509,0.93101014018517969,1.0198437497384274,1.1206910188980148,1.1367034299289784E-2,0.99542918711954964,0.86210648672798007,1.0660594893171196,1.3796558935053513,1.1596530865915771,0.7542460699343857,0.61404953813377849,0.67590935632673754,0.71505522879973271,0.86105055150869925,1.022371084813319,1.2770982554192412,1.0087877988692557,0.50315351229780847,1.0205498045351347,0.933614732645348,0.83041022919664165,1.0472856697391546,0.54204737346249598,0.74224421094578052,1.108929179534563,1.2674718532707265,2.3654836087246722,0.86210648672798007,0.88730261619420936,0.92617430200734274,0.99282137346629962,0.96516396483772782,0.99766883207633617,1.0069557655567298,0.84712977837969028,0.93924394089500807,189,0.66600000000000004,null,null,null,null,1.0050806471317091,158,0.55600000000000005,null,null,null,null,0.85532084820362897,204,0.71899999999999997,null,null,null,null,0.75067171221172313,203,0.71599999999999997,null,null,null,null,0.9663920911869518,175,0.61699999999999999,null,null,null,null,0.83833950126091006,191,0.67300000000000004,null,null,null,null,1.03954841458369,140,0.49199999999999999,null,null,null,null,1.6137950477263261,23,7.8E-2,null,null,null,null,0.90673845910077611,230,0.81200000000000006,null,null,null,null,0.96194794286335683,196,0.69099999999999995,null,null,null,null,0.89145878845304061,196,0.69099999999999995,null,null,null,null,{"$f":"AVERAGE(Data!Z64:AH64)","v":0.90947982899759994},191,0.67300000000000004,null,null,null,null,1.0807876643101715,45,0.156,null,null,null,null,0.95231218533270567,186,0.65600000000000003,null,null,null,null,"Dartford",98,88,93,239,0.308,0.32600000000000001,0.84299999999999997,98,0.34300000000000003,0.61953557046979868,0.56766832354270225,0.64043537793273653,0.75570192365449951,0.61361584447632422,0.70673464889944282,0.67204588567094381,0.63925508551183607,5.7638361910932346E-3,0.56270280452724153,0.65774332655031187,0.68506496667496031,0.60177042683522153,0.72092933406928073,0.40293430523174728,0.36674735974238531,0.32800661499558514,0.3762097321583181,0.33261878575035203,0.7408768087429507,0.78872373083122138,0.64028999403138931,0.28266304884152965,0.61410423589331453,0.37830463959641486,0.24483394833913241,0.48772624769559864,0.18873482735121586,0.43707826636173586,0.90387999364979033,0.9168249725255796,0.32632431028982528,0.65774332655031187,0.30133719529116737,0.44277074896363916,0.86395270471409857,0.70541659848187477,0.88729811591820795,0.89172009209165537,0.46064066037425111,0.60921309064841245,0.67747067764260938,0.50045704497778021,0.34561171096808513,0.61333156366808106,0.32489991574559046,0.752594410845702,0.49203381842006855,0.37205397212740327,0.76180563431601755,0.5604182154854922,195,{"$f":"AVERAGE(Data!EY64:FQ64)","v":0.53976232383604117},197,{"$f":"AVERAGE(Data!FR64:FZ64)","v":0.48513972014697415},184,{"$f":"AVERAGE(Data!GA64:GL64)","v":0.64958224876767823},150]
["E05004927","29UDGB","Brent","Dartford","NHS Dartford, Gravesham & Swanley CCG",61,1.0673306278095063,0.96127507316571537,1.0970743407418051,1.0883465160093189,1.2052310519549332,1.1273162075428171,1.0711279578484563,1.1206910188980148,1.1367034299289784E-2,0.99542918711954964,1.1512465612868514,1.1006562105897157,1.5129787760252469,1.0723801250756553,0.95327632635188553,0.92032830576377944,0.75681860682297342,0.89056883509003981,0.43017461364961807,1.1354407138118703,1.1377199923596977,1.1835040921292355,0.50315351229780847,1.0205498045351347,0.89972094597856467,0.65754004035005131,1.1372887362379753,0.5106994884183973,1.2693878211986238,1.1408225010693165,1.2831151765244357,0.8980333722261129,1.1512465612868514,1.0913648504625297,0.80652228205263565,1.0529949465864783,0.93641442345538495,1.0627107414227845,1.0523745015959047,0.93024046590776044,1.0418933472390088,136,0.47799999999999998,null,null,null,null,1.1225425504507078,114,0.4,null,null,null,null,0.96470781581399678,162,0.56999999999999995,null,null,null,null,0.69252068518754373,218,0.76900000000000002,null,null,null,null,0.99607362302674929,165,0.58099999999999996,null,null,null,null,0.80131230274624721,205,0.72299999999999998,null,null,null,null,1.2311084995974586,19,6.3E-2,null,null,null,null,1.0246399667564821,94,0.32900000000000001,null,null,null,null,0.94894356625758269,198,0.69799999999999995,null,null,null,null,1.0069470157936626,162,0.56999999999999995,null,null,null,null,0.97545354610764079,171,0.60199999999999998,null,null,null,null,{"$f":"AVERAGE(Data!Z65:AH65)","v":0.90951303623541513},190,0.67,null,null,null,null,1.0562689703157349,67,0.23400000000000001,null,null,null,null,0.9848615586488183,168,0.59199999999999997,null,null,null,null,"Dartford",116,113,94,217,0.39700000000000002,0.32900000000000001,0.76500000000000001,116,0.40699999999999997,0.623,0.60111241758007772,0.82801282419652866,0.75570192365449951,0.85446421467923828,0.85575160757965152,0.70584061262698694,0.63925508551183607,5.7638361910932346E-3,0.56270280452724153,0.87834247225580597,0.70729731106397375,0.65992244017316792,0.66667376509317133,0.50926050471285067,0.549675482634292,0.36727041439218833,0.46855214733574785,0.16617393415758955,0.82281444092226086,0.70264504176354992,0.75118456917792886,0.28266304884152965,0.61410423589331453,0.36457073384151711,0.19386577694944726,0.52964113221368869,0.17781984471080448,0.7474922943800828,0.92987600475520937,0.92814056061953254,0.12388592325394611,0.87834247225580597,0.37063885203936048,0.38556940535527595,0.91631572049807997,0.68440420636127186,0.94514452924026993,0.93194112351019776,0.50583345487182463,0.68404174725886879,0.76220268881044251,0.56745482708144956,0.33399883196184194,0.63468226731971678,0.31647437192886441,0.8685029532516082,0.50111419775487609,0.37810412869731824,0.79672780689632883,0.60479167924552102,153,{"$f":"AVERAGE(Data!EY65:FQ65)","v":0.60025125254557576},163,{"$f":"AVERAGE(Data!FR65:FZ65)","v":0.4932565360348935},176,{"$f":"AVERAGE(Data!GA65:GL65)","v":0.69563204559507152},48]
["E05004928","29UDGC","Castle","Dartford","NHS Dartford, Gravesham & Swanley CCG",62,1.1604211186560496,1.1979170774739758,1.2010741311710733,1.0883465160093189,1.1350525369703197,1.1509589377504157,0.94507617866496429,1.1206910188980148,1.1367034299289784E-2,0.99542918711954964,1.0690793259141791,1.3900278343153778,1.275788630487259,1.0865943547061265,1.1594479272999347,1.6145315037417556,0.96099156936776176,1.1811602904433327,0.6335611100293248,1.1181163318844434,1.6191959307136998,1.4688439905957662,0.50315351229780847,1.0205498045351347,0.99470125159616785,1.3214769575409362,0.83341595694331727,0.55224025754576789,0.62510065193427988,1.1811929903256979,1.2566051994826317,0.22599331273702344,1.0690793259141791,1.7652697938653699,0.33678571962835818,1.0196282824782503,1.1343080520479725,0.9560698908740568,1.0264805611380132,0.66651733319814743,1.186470775767033,60,0.20899999999999999,null,null,null,null,1.0880250376586065,125,0.439,null,null,null,null,1.075283224735434,112,0.39300000000000002,null,null,null,null,0.92523765661347301,169,0.59499999999999997,null,null,null,null,1.1459719140053706,88,0.308,null,null,null,null,0.92545860590654727,158,0.55600000000000005,null,null,null,null,1.0209662805808699,149,0.52400000000000002,null,null,null,null,0.6475363193256013,244,0.86099999999999999,null,null,null,null,1.051027756746864,75,0.26200000000000001,null,null,null,null,0.96060082394728785,198,0.69799999999999995,null,null,null,null,1.0725008570167383,120,0.42099999999999999,null,null,null,null,{"$f":"AVERAGE(Data!Z66:AH66)","v":1.0479659992947825},124,0.436,null,null,null,null,0.93858592613533176,213,0.751,null,null,null,null,1.0268060347648764,142,0.5,null,null,null,null,"Dartford",142,164,160,71,0.57799999999999996,0.56299999999999994,0.248,142,0.5,0.67733684210526302,0.74909133774730363,0.9065062835649782,0.75570192365449951,0.80471024460319573,0.87369892728227905,0.62277633968959289,0.63925508551183607,5.7638361910932346E-3,0.56270280452724153,0.8156530579439093,0.89325162576294459,0.55646619735681413,0.67551042083124435,0.61940176245085399,0.96429543456344058,0.46635186916282301,0.62144010505261482,0.24474094668118929,0.81026006317576993,1,0.9322933039295187,0.28266304884152965,0.61410423589331453,0.40305715551956278,0.38961757668488017,0.38812603780861588,0.1922838754821545,0.36809705649423241,0.96278169273432135,0.90896458530277391,3.1176336051122338E-2,0.8156530579439093,0.59950397858308413,0.16100518552168178,0.88728006466510356,0.82904020131005651,0.85030120775965923,0.90901047674344471,0.36242969182659091,0.77764482113918165,0.73922850414828067,0.6366306424534427,0.44417764029887569,0.72786413036802655,0.34327116137380331,0.74661444484377582,0.42341469699751583,0.38025458205238294,0.76761232846097094,0.6288075969238609,117,{"$f":"AVERAGE(Data!EY66:FQ66)","v":0.65550816024647995},108,{"$f":"AVERAGE(Data!FR66:FZ66)","v":0.55693392192614954},111,{"$f":"AVERAGE(Data!GA66:GL66)","v":0.64043696124466509},170]
["E05004929","29UDGD","Greenhithe","Dartford","NHS Dartford, Gravesham & Swanley CCG",63,1.1104701235676608,0.94663348573989936,1.0348515885183796,1.0883465160093189,1.0020897896294387,1.1045924528046269,0.89450543192522003,1.1206910188980148,1.1367034299289784E-2,0.99542918711954964,1.1362909489697395,1.2913391766435991,1.3118696548459867,1.1277845395209087,1.1883687470324047,1.408826096618508,1.1444018803244655,1.2241420456749059,1.010265380380645,1.0532252074461135,1.495041738516631,1.2475985496790269,0.50315351229780847,1.0205498045351347,0.95920265684132588,1.1901373809542157,0.90455713513929314,0.3682965338668604,1.0059433359360739,1.0622281453882534,1.1974776590101188,0.35958929796025907,1.1362909489697395,1.6037098041528082,0.33463517902136841,1.0714992680973559,1.1529442823199949,1.0294787825871068,1.0760764669912359,1.0187563681549385,1.0306517326086466,147,0.51700000000000002,null,null,null,null,1.0420450418533238,138,0.48499999999999999,null,null,null,null,1.0589094231312484,120,0.42099999999999999,null,null,null,null,1.1262697687933387,114,0.4,null,null,null,null,1.0639137624949428,133,0.46800000000000003,null,null,null,null,0.85554842670042375,184,0.64800000000000002,null,null,null,null,1.0885497134448154,105,0.36799999999999999,null,null,null,null,0.74794012346499927,204,0.71899999999999997,null,null,null,null,0.96917249158708829,166,0.58499999999999996,null,null,null,null,1.0697510336301264,93,0.32600000000000001,null,null,null,null,1.0606455315011873,130,0.45700000000000002,null,null,null,null,{"$f":"AVERAGE(Data!Z67:AH67)","v":0.97130694658626782},162,0.56999999999999995,null,null,null,null,1.0040524615491047,126,0.443,null,null,null,null,1.0235664289097055,145,0.51,null,null,null,null,"Dartford",139,154,122,158,0.54200000000000004,0.42899999999999999,0.55600000000000005,139,0.48899999999999999,0.64818048780487814,0.59195661997288751,0.78105043077935832,0.75570192365449951,0.71044457719947529,0.83850188694462435,0.58945176198789184,0.63925508551183607,5.7638361910932346E-3,0.56270280452724153,0.86693210202023452,0.82983289289052198,0.57220381246157603,0.70111740006672496,0.63485187995249259,0.84143577868540376,0.55535758374434241,0.64405395916078945,0.39025960034407187,0.76323571956535763,0.92332355223845897,0.79186610784047173,0.28266304884152965,0.61410423589331453,0.38867297473777657,0.35089408078090334,0.42125684528620627,0.12823673010237824,0.59236025400432246,0.86581432523143187,0.86619471587385666,4.9606232404944973E-2,0.86693210202023452,0.54463652605593249,0.15997708911135183,0.93241817260626336,0.84266100217493878,0.91558897581899978,0.95293064409096773,0.55396542320228681,0.67372917951904132,0.70667104705966544,0.6268550633494111,0.52989038108306796,0.6750385328758266,0.32226515772681608,0.77478976503653696,0.45826916721258976,0.35230680758364219,0.83951284357869116,0.62415982954454674,125,{"$f":"AVERAGE(Data!EY67:FQ67)","v":0.63995023283683894},129,{"$f":"AVERAGE(Data!FR67:FZ67)","v":0.51825036614293296},154,{"$f":"AVERAGE(Data!GA67:GL67)","v":0.67859045521629424},83]
["E05004930","29UDGE","Heath","Dartford","NHS Dartford, Gravesham & Swanley CCG",64,1.5197937112264268,1.0841683971332197,1.2081753807149243,1.0883465160093189,1.3456591943071219,1.2549953702401215,1.3347588775005679,1.1206910188980148,1.1367034299289784E-2,0.99542918711954964,1.1817078498066602,1.3020252135418466,1.0175520037847345,1.0244157349329388,1.1749367037244791,1.0007033697422061,1.297274957372017,1.3116688642687713,0.97064851089509652,1.2876911504739321,1.2343326816948181,1.1067535800725645,0.50315351229780847,1.0205498045351347,1.3956423192282035,1.177458503796166,0.99495690321250552,0.71382162692483875,1.1425266890839498,1.0423470534844221,1.0300197129521527,0.17055569907741497,1.1817078498066602,1.0643175943290282,0.83142703917178951,1.1216680474891989,1.0331544973952489,1.105431809250806,1.1130216884582724,0.51055088593078546,1.2707124963581904,26,8.7999999999999995E-2,null,null,null,null,1.2288901953910289,66,0.23,null,null,null,null,0.96351713711896314,163,0.57399999999999995,null,null,null,null,1.1931974441786284,102,0.35799999999999998,null,null,null,null,1.0304961458148516,144,0.50700000000000001,null,null,null,null,1.0704698382904285,111,0.39,null,null,null,null,1.0716311518401749,119,0.41799999999999998,null,null,null,null,0.67613177444203765,234,0.82599999999999996,null,null,null,null,0.94787231675040884,202,0.71199999999999997,null,null,null,null,0.97676538570486249,185,0.65200000000000002,null,null,null,null,1.1181219945009107,91,0.31900000000000001,null,null,null,null,{"$f":"AVERAGE(Data!Z68:AH68)","v":1.0482622313595522},123,0.432,null,null,null,null,0.94556071386914387,203,0.71599999999999997,null,null,null,null,1.0506351636045754,122,0.42899999999999999,null,null,null,null,"Dartford",162,193,161,81,0.68,0.56699999999999995,0.28299999999999997,162,0.56999999999999995,0.88710232558139546,0.67796107946337947,0.91186592554343571,0.75570192365449951,0.95402257087923592,0.95267352531806238,0.87956533755008459,0.63925508551183607,5.7638361910932346E-3,0.56270280452724153,0.90158288344685378,0.83669989195102912,0.44383002060665611,0.63685542006874574,0.62767619650664774,0.5976803107020745,0.62954412970197393,0.69010416570936661,0.37495583565752177,0.93314504330281012,0.76231211941766441,0.70247007742678402,0.28266304884152965,0.61410423589331453,0.56552017242180019,0.3471559048216365,0.46335647573935834,0.24854469943584162,0.67278878995973068,0.84960939388376155,0.74506411530264893,2.3528580228650616E-2,0.90158288344685378,0.36145332259896573,0.39747547739647349,0.97607502146766534,0.75510934702306332,0.9831394247156825,0.9856478670473483,0.27762038739760392,0.82564311019607028,0.83624368858274367,0.57659892050004269,0.56486804368962085,0.6589389049764206,0.40614431310465915,0.75582076638204709,0.46255573183775217,0.37946439999771964,0.79551840953027264,0.64534774140850792,96,{"$f":"AVERAGE(Data!EY68:FQ68)","v":0.68239701413532283},84,{"$f":"AVERAGE(Data!FR68:FZ68)","v":0.5465857530334155},121,{"$f":"AVERAGE(Data!GA68:GL68)","v":0.66075788420570414},119]
["E05004931","29UDGF","Joyce Green","Dartford","NHS Dartford, Gravesham & Swanley CCG",65,0.73388354174442882,0.85751023135726256,0.89555238759643274,1.0883465160093189,0.76174478237944299,0.68224093271923325,0.34144400782047807,1.1206910188980148,1.1367034299289784E-2,0.99542918711954964,1.0712150402950078,0.87178046921772545,0.87232619334032979,0.9388138197503183,0.71838703362481404,1.394445604284795,5.2597872683374562E-2,0.23063305862879641,0.11263925375929906,0.47891329030984414,0.9178948927829198,0.77566809091894307,0.50315351229780847,1.0205498045351347,0.61218236052409036,1.1139034824851619,1.2743619305305647,0.32659758504481678,0.62877664464733851,1.0433111614987465,1.0840421157967188,0.79950497344685145,1.0712150402950078,1.2178294273270789,0.68810196444699523,1.0121199586271163,1.0579402735500938,1.0040585069859342,1.0102943034780267,1.0474740181044879,0.82898205356604138,219,0.77300000000000002,null,null,null,null,0.79889345156529767,222,0.78300000000000003,null,null,null,null,0.8592205477414786,203,0.71599999999999997,null,null,null,null,0.13195672835715669,279,0.98499999999999999,null,null,null,null,0.73923591816893008,236,0.83299999999999996,null,null,null,null,0.83176133964615839,193,0.68,null,null,null,null,0.91870997398093446,202,0.71199999999999997,null,null,null,null,0.93536000687092957,120,0.42099999999999999,null,null,null,null,0.95296569588703706,190,0.67,null,null,null,null,1.0263774121491318,140,0.49199999999999999,null,null,null,null,0.72373936765936397,250,0.88200000000000001,null,null,null,null,{"$f":"AVERAGE(Data!Z69:AH69)","v":0.78035832771436486},227,0.80100000000000005,null,null,null,null,0.97205569901703293,173,0.60899999999999999,null,null,null,null,0.81097353307903997,243,0.85799999999999998,null,null,null,null,"Dartford",41,34,57,111,0.11700000000000001,0.19800000000000001,0.39,41,0.14099999999999999,0.42836721311475418,0.53622533514083448,0.67591487115473814,0.75570192365449951,0.54004886134164776,0.51789264717809891,0.22500117366175357,0.63925508551183607,5.7638361910932346E-3,0.56270280452724153,0.81728249920555573,0.56021850945211749,0.38048625615784254,0.58363870170597509,0.38377764474966586,0.83284688272887608,2.5524798574474143E-2,0.12134223724122162,4.3511884113653351E-2,0.34705182439126941,0.56688315192240846,0.49232605495578363,0.28266304884152965,0.61410423589331453,0.24805888249979349,0.32841766406151918,0.59347681396098662,0.11371762293212626,0.37026170324861363,0.85039523121399663,0.78414118662058374,0.11029368712218195,0.81728249920555573,0.41358753741515841,0.32895689450810528,0.88074632468687497,0.77322471243542967,0.89298090997404389,0.89467656887490754,0.56958111465213679,0.54683580647010899,0.53557993826956718,0.51583964183979591,6.3459639976449711E-2,0.46060566320086116,0.32091774586360633,0.66826604036106474,0.46378809316386882,0.37127221596163185,0.80224192612467848,0.49770827087055486,239,{"$f":"AVERAGE(Data!EY69:FQ69)","v":0.45450016660030951},243,{"$f":"AVERAGE(Data!FR69:FZ69)","v":0.39852214438430345},235,{"$f":"AVERAGE(Data!GA69:GL69)","v":0.64051069749646572},{"$f":"RANK(HC69,HC$5:HC$287)","v":169}]
["E05004932","29UDGG","Joydens Wood","Dartford","NHS Dartford, Gravesham & Swanley CCG",66,1.370724088853168,1.1648035224891142,1.1752871494454671,1.0883465160093189,1.256929253960537,1.2111809089603263,1.3540788411916993,1.1206910188980148,1.1367034299289784E-2,0.99542918711954964,0.96378855253089679,1.2451991618353664,2.1202646416897579,1.5313533522143647,1.1971639030527592,0.99899236129772517,1.4012566907522872,1.1686392586590675,1.5921834387668288,1.1513496356645367,1.0977804570694278,1.0313495264261607,0.50315351229780847,1.0205498045351347,1.5176440791470731,1.3250283066739836,0.82467041043411238,1.1117109225579211,1.26825576749152,1.2029416380164613,0.90337771317822235,0.73326626566250752,0.96378855253089679,1.1774077375928262,0.85325765446818769,1.0943982262504808,1.1630438405544676,1.0841564424066716,1.0750992312266898,0.36980444448978012,{"$f":"AVERAGE(G70:I70)","v":1.2369382535959164},38,{"$f":"PERCENTRANK($AV$5:$AV$287,AV70)","v":0.13100000000000001},null,null,null,null,{"$f":"AVERAGE(J70:N70)","v":1.2062453078039792},{"$f":"RANK(BB70,$BB$5:$BB$287)","v":77},{"$f":"PERCENTRANK($BC$5:$BC$287,BC70)","v":0.26900000000000002},null,null,null,null,{"$f":"AVERAGE(O70:V70)","v":1.1329447742549636},{"$f":"RANK(BI70,$BI$5:$BI$287)","v":95},{"$f":"PERCENTRANK($BJ$5:$BJ$287,BJ70)","v":0.33300000000000002},null,null,null,null,{"$f":"AVERAGE(W70:Y70)","v":1.3873597960593944},{"$f":"RANK(BP70,$BP$5:$BP$287)","v":54},{"$f":"PERCENTRANK($BJ$5:$BJ$287,BQ70)","v":0.187},null,null,null,null,{"$f":"AVERAGE(Z70:AD70)","v":0.96083658719861376},{"$f":"RANK(BW70,$BW$5:$BW$287)","v":177},{"$f":"PERCENTRANK($BX$5:$BX$287,BX70)","v":0.624},null,null,null,null,{"$f":"AVERAGE(AE70:AH70)","v":1.1947634297032725},{"$f":"RANK(CD70,$CD$5:$CD$287)","v":76},{"$f":"PERCENTRANK($CE$5:$CE$287,CE70)","v":0.26500000000000001},null,null,null,null,{"$f":"AVERAGE(AI70:AK70)","v":1.1248583728954011},{"$f":"RANK(CK70,$CK$5:$CK$287)","v":83},{"$f":"PERCENTRANK($CL$5:$CL$287,CL70)","v":0.28999999999999998},null,null,null,null,{"$f":"AVERAGE(AL70:AM70)","v":0.8485274090967021},{"$f":"RANK(CR70,$CR$5:$CR$287)","v":154},{"$f":"PERCENTRANK($CS$5:$CS$287,CS70)","v":0.54200000000000004},null,null,null,null,{"$f":"AVERAGE(AN70:AO70)","v":1.0153326960305069},{"$f":"RANK(CY70,$CY$5:$CY$287)","v":110},{"$f":"PERCENTRANK($CZ$5:$CZ$287,CZ70)","v":0.38600000000000001},null,null,null,null,{"$f":"AVERAGE(AP70:AT70)","v":0.95730043698561806},{"$f":"RANK(DF70,$DF$5:$DF$287)","v":200},{"$f":"PERCENTRANK($DG$5:$DG$287,DG70)","v":0.70499999999999996},null,null,null,null,{"$f":"AVERAGE(G70:Y70)","v":1.2088252043171335},{"$f":"RANK(DM70,DM$5:DM$287)","v":48},{"$f":"PERCENTRANK(DN$5:DN$287,DN70)","v":0.16600000000000001},null,null,null,null,{"$f":"AVERAGE(Data!Z70:AH70)","v":1.06480407275624},{"$f":"RANK(DT70,DT$5:DT$287)","v":119},{"$f":"PERCENTRANK(DU$5:DU$287,DU70)","v":0.41799999999999998},null,null,null,null,{"$f":"AVERAGE(AI70:AT70)","v":0.99073312615572584},{"$f":"RANK(EA70,EA$5:EA$287)","v":145},{"$f":"PERCENTRANK(EB$5:EB$287,EB70)","v":0.51},null,null,null,null,{"$f":"AVERAGE(G70:AT70)","v":1.1109928262675102},{"$f":"RANK(EH70,EH$5:EH$287)","v":73},{"$f":"PERCENTRANK(EI$5:EI$287,EI70)","v":0.255},null,null,null,null,"Dartford",{"$f":"RANK(EH70,EH$5:EH$287,1)","v":211},{"$f":"RANK(DM70,DM$5:DM$287,1)","v":236},{"$f":"RANK(DT70,DT$5:DT$287,1)","v":165},{"$f":"RANK(EA70,EA$5:EA$287,1)","v":139},{"$f":"PERCENTRANK(EQ$5:EQ$287,EQ70)","v":0.83299999999999996},{"$f":"PERCENTRANK(ER$5:ER$287,ER70)","v":0.58099999999999996},{"$f":"PERCENTRANK(ES$5:ES$287,ES70)","v":0.48899999999999999},{"$f":"RANK(EH70,EH$5:EH$287,1)","v":211},{"$f":"PERCENTRANK(EW$5:EW$287,EW70)","v":0.74399999999999999},{"$f":"G70/G$292","v":0.80009051094890515},0.72838449779350245,0.88704365393890749,0.75570192365449951,0.89111632674139796,0.91941373944383398,0.89229660360262164,0.63925508551183607,5.7638361910932346E-3,0.56270280452724153,0.73532156223388234,0.8001826641521318,0.9248049201540447,0.95200673822332882,0.63955043950981938,0.59665839342905214,0.68000458873865655,0.61485245444300929,0.6150511385963523,0.8343430839246172,0.67797876479689179,0.65461019935003117,0.28266304884152965,0.61410423589331453,0.61495580170483632,0.39066463848590827,0.38405319244633357,0.38708529790145252,0.74682567271509348,0.98050885502693008,0.65345770395418501,0.10115589366950654,0.73532156223388234,0.39985991124665465,0.40791191237871582,0.95234483550883109,0.85004254176353,0.96421772213329227,0.95206524285313432,0.20108720985458564,{"$f":"AVERAGE(EY70:FA70)","v":0.80517288756043826},{"$f":"AVERAGE(FB70:FF70)","v":0.81955673579083776},{"$f":"AVERAGE(FG70:FN70)","v":0.65212391980257434},{"$f":"AVERAGE(FO70:FQ70)","v":0.63663606059267275},{"$f":"AVERAGE(FR70:FV70)","v":0.61273986656127688},{"$f":"AVERAGE(FW70:FZ70)","v":0.44418973263463268},{"$f":"AVERAGE(GA70:GC70)","v":0.79359741056540278},{"$f":"AVERAGE(GD70:GE70)","v":0.41823872795169442},{"$f":"AVERAGE(GF70:GG70)","v":0.40388591181268524},{"$f":"AVERAGE(GH70:GL70)","v":0.78395151042267464},{"$f":"AVERAGE(EY70:GL70)","v":0.66063648021293431},{"$f":"RANK(GW70,$GW$5:$GW$287)","v":67},{"$f":"AVERAGE(Data!EY70:FQ70)","v":0.71790536220179535},{"$f":"RANK(GY70,GY$5:GY$287)","v":51},{"$f":"AVERAGE(Data!FR70:FZ70)","v":0.53782869592721283},129,{"$f":"AVERAGE(Data!GA70:GL70)","v":0.66206658861152845},117]
["E05004933","29UDGH","Littlebrook","Dartford","NHS Dartford, Gravesham & Swanley CCG",67,0.73080438435098427,1.1002897054284073,0.84382041430572541,1.0883465160093189,0.74751916704921051,0.74402141073787076,0.43908966750236839,1.1206910188980148,1.1367034299289784E-2,0.99542918711954964,0.74846029440438122,0.83050863617131254,1.0590310341629019,0.9694118551672678,0.74130442389218054,0.79954099842415838,0.2169018897828586,0.42174591592633243,0.28547782383592502,0.51753919057019182,1.1470037898702423,0.75872566125380436,0.50315351229780847,1.0205498045351347,0.39681527496094759,0.70164656837249961,1.2483234441552049,0.27228392961500963,0.95790945415221473,1.1064330627552628,1.175295474153401,1.4055791550548749,0.74846029440438122,1.0449166758491109,0.98346479889391403,0.79199887230422161,0.80231311073490663,0.90563041884757645,0.79401725415390467,1.0967318197535632,0.89163816802837237,{"$f":"RANK(AU71,$AU$5:$AU$287)","v":206},0.72599999999999998,null,null,null,null,0.82793355603935681,217,0.76500000000000001,null,null,null,null,0.76938168295513032,235,0.82899999999999996,null,null,null,null,0.30804187651503867,272,0.96,null,null,null,null,0.78939439170543635,219,0.77300000000000002,null,null,null,null,0.65476730427591545,245,0.86499999999999999,null,null,null,null,1.0798793303536263,110,0.38600000000000001,null,null,null,null,1.077019724729628,80,0.28000000000000003,null,null,null,null,1.0141907373715124,114,0.4,null,null,null,null,0.87813829515883446,244,0.86099999999999999,null,null,null,null,0.73125059881410837,248,0.875,null,null,null,null,{"$f":"AVERAGE(Data!Z71:AH71)","v":0.72956013062564928},244,0.86099999999999999,null,null,null,null,0.98439586592144446,156,0.54900000000000004,null,null,null,null,0.80681382360390574,245,0.86499999999999999,null,null,null,null,"Dartford",39,36,40,128,0.124,0.13800000000000001,0.45,39,0.13400000000000001,0.42656991150442469,0.6880421882681258,0.63687035455731733,0.75570192365449951,0.52996342651007777,0.5647905299795225,0.28934668135317254,0.63925508551183607,5.7638361910932346E-3,0.56270280452724153,0.57103707188285779,0.53369664344568424,0.46192210714278631,0.60266078818341029,0.39602060244371051,0.47753402937006517,0.10525857348752105,0.22189183671286425,0.11027841159451245,0.3750426724745124,0.70837862676981445,0.48157248695929478,0.28266304884152965,0.61410423589331453,0.16079122825654729,0.20686992239899646,0.58135055880207631,9.4806216139621355E-2,0.56407500035449998,0.90184542727687733,0.85014924632805389,0.1939031184318066,0.57103707188285779,0.35486456893802615,0.47015928280655406,0.68919705613184445,0.58639257795662192,0.80544178441387626,0.70315019111591115,0.59636584924571168,0.58382748477662261,0.55581152940182166,0.4514172353983561,0.14580960726496592,0.49235221418769315,0.26095448139931032,0.77202322465314366,0.38247009515733221,0.41251192587229013,0.676109491772793,0.48428667444347673,247,{"$f":"AVERAGE(Data!EY71:FQ71)","v":0.45154246349056437},246,{"$f":"AVERAGE(Data!FR71:FZ71)","v":0.38950877739285633},242,{"$f":"AVERAGE(Data!GA71:GL71)","v":0.60721509790688677},232]
["E05004934","29UDGJ","Longfield, New Barn and Southfleet","Dartford","NHS Dartford, Gravesham & Swanley CCG",68,1.3172583586692481,1.1919442926110262,1.1942222839437895,1.0883465160093189,1.2682875505245346,1.1983330962027734,1.517521007840493,1.1206910188980148,1.1367034299289784E-2,0.99542918711954964,1.1578453029334652,1.2618574614079701,1.2539266801114535,1.4285198310236977,1.1846583989392099,0.76702362074797537,1.5204482943604314,1.3760962513943569,1.5091397998259353,1.219382603505949,1.0310487537465229,0.94992192165849176,0.50315351229780847,1.0205498045351347,1.7614696919263739,1.4082094254433155,0.66655373873775114,1.3753100124844218,0.82816938738446044,1.0164336497879494,1.1247608528890434,1.5565458772839624,1.1578453029334652,1.0640026748364706,0.88917479718039272,1.071609049822565,1.031185753433314,1.0557846166514819,1.0736251942742638,0.64363729569603334,1.2344749784080211,41,0.14099999999999999,null,null,null,null,1.2386358378950271,61,0.21199999999999999,null,null,null,null,1.0075784395728264,139,0.48899999999999999,null,null,null,null,1.4685614485269081,37,0.127,null,null,null,null,0.94481131914878136,182,0.64100000000000001,null,null,null,null,1.3028857171479657,48,0.16600000000000001,null,null,null,null,0.9897879633538178,167,0.58799999999999997,null,null,null,null,1.3571955901087138,44,0.152,null,null,null,null,0.97658873600843166,162,0.56999999999999995,null,null,null,null,0.97516838197553157,187,0.65900000000000003,null,null,null,null,1.1769955782559227,58,0.20200000000000001,null,null,null,null,{"$f":"AVERAGE(Data!Z72:AH72)","v":1.1039554960373075},99,0.34699999999999998,null,null,null,null,1.0427312043477834,83,0.28999999999999998,null,null,null,null,1.1202822475842926,65,0.22600000000000001,null,null,null,null,"Dartford",219,226,185,201,0.79700000000000004,0.65200000000000002,0.70899999999999996,219,0.77300000000000002,0.76888260869565228,0.74535638690037331,0.9013348770677756,0.75570192365449951,0.89916893867660141,0.90966089782974713,1,0.63925508551183607,5.7638361910932346E-3,0.56270280452724153,0.88337697593778475,0.81088752401776398,0.5469305767205167,0.88807753145522139,0.63286973302366678,0.45811269335745186,0.73784612336079891,0.72400114188400733,0.58297186717562943,0.88364421230390899,0.63676589978339637,0.60292709946607004,0.28266304884152965,0.61410423589331453,0.71375497157814172,0.41518933847095535,0.31041745655032854,0.47886755008620169,0.4876762051544008,0.82848756969437276,0.81359505963528711,0.21472935088863726,0.88337697593778475,0.36134637266452641,0.42508261139816544,0.93251370461328642,0.75367043641356557,0.93898463202527804,0.95075989418547258,0.34998829754043992,0.80519129088793362,0.8407573691345368,0.59859020940384267,0.68160637747347863,0.60402089925764391,0.47955732917140681,0.70991961149468696,0.54905316341321098,0.39321449203134595,0.78518339295560846,0.65828616122781802,71,{"$f":"AVERAGE(Data!EY72:FQ72)","v":0.70804744873619263},62,{"$f":"AVERAGE(Data!FR72:FZ72)","v":0.54870375699709406},120,{"$f":"AVERAGE(Data!GA72:GL72)","v":0.6616842591792681},118]
["E05004935","29UDGK","Newtown","Dartford","NHS Dartford, Gravesham & Swanley CCG",69,0.90595112725436733,0.83477175780666535,1.0206326247391067,1.0883465160093189,1.0498656574396521,1.055607396862249,0.92378789487313762,1.1206910188980148,1.1367034299289784E-2,0.99542918711954964,0.92803145369452544,1.1734414105767059,1.5074131292230717,1.0570877972753678,0.97254718866535839,1.0919092171097611,0.49439060059543916,0.7390957535958953,0.35841214906359392,1.0437812512628055,1.303928745893306,1.2230563941678481,0.50315351229780847,1.0205498045351347,0.78848116547656155,0.58541224502611844,1.0930607083966517,0.42625599913150164,0.97196217043570188,1.1551112837802937,1.2482011207903432,0.3597751682985853,0.92803145369452544,1.3151837053471143,0.61692623558006643,0.91694461241345426,1.106478727381828,1.0252507608963131,0.84718030948244416,0.68855864276817402,0.92045183660004648,195,0.68700000000000006,null,null,null,null,1.0476596968164744,136,0.47799999999999998,null,null,null,null,0.96715330224545371,161,0.56699999999999995,null,null,null,null,0.53063283441830944,241,0.85099999999999998,null,null,null,null,1.0188939416313807,153,0.53900000000000003,null,null,null,null,0.72330252950770835,225,0.79400000000000004,null,null,null,null,1.125091525002113,81,0.28299999999999997,null,null,null,null,0.6439033109965554,246,0.86799999999999999,null,null,null,null,0.96605497046359035,174,0.61299999999999999,null,null,null,null,0.91688261058844278,223,0.78700000000000003,null,null,null,null,0.91204099553163498,186,0.65600000000000003,null,null,null,null,{"$f":"AVERAGE(Data!Z73:AH73)","v":0.88751998068752624},198,0.69799999999999995,null,null,null,null,0.93163368257240364,220,0.77600000000000002,null,null,null,null,0.91240157330394123,203,0.71599999999999997,null,null,null,null,"Dartford",81,98,86,64,0.34300000000000003,0.30099999999999999,0.223,81,0.28299999999999997,0.52880291970802928,0.52200632625395382,0.77031872015702885,0.75570192365449951,0.74431589946822774,0.80131707571811051,0.60874801080199425,0.63925508551183607,5.7638361910932346E-3,0.56270280452724153,0.7080407175836041,0.75407011417973413,0.65749484814277437,0.65716688081467234,0.51955540955494206,0.652153934795625,0.23991883803507202,0.38885809697020984,0.13845251432778666,0.7563920125954221,0.80529398645324402,0.77628890059888533,0.28266304884152965,0.61410423589331453,0.31949590414987766,0.17259998289577894,0.50904391534601412,0.14841756706541856,0.57235008930808506,0.94152268613434131,0.90288550023569547,4.9631873677509257E-2,0.7080407175836041,0.4466500625928515,0.29493032876325576,0.79792478197943928,0.80870037485648594,0.91182869429101521,0.75022928457264182,0.37441501409358796,0.60704265537300406,0.70986759903093366,0.56461856822371081,0.25574314977768947,0.64694843687647918,0.28738934236427233,0.80558609189270725,0.37883629563055665,0.3707901956780536,0.72861962995863405,0.56495132295811079,189,{"$f":"AVERAGE(Data!EY73:FQ73)","v":0.56077073454718074},188,{"$f":"AVERAGE(Data!FR73:FZ73)","v":0.48714439487105388},183,{"$f":"AVERAGE(Data!GA73:GL73)","v":0.62992578400737598},195]
["E05004936","29UDGL","Princes","Dartford","NHS Dartford, Gravesham & Swanley CCG",70,0.98014023849549048,0.81622473555866804,0.80449508815137682,1.0883465160093189,0.8078353642096151,0.7679805074822118,0.48335529002975913,1.1206910188980148,1.1367034299289784E-2,0.99542918711954964,0.70401193314345645,0.75092494070894211,0.95647068161732163,0.90536300177001694,0.61851013029702051,0.80138521822092379,2.4609076093985521E-2,5.1754268351432368E-2,0,0.58939332815792167,0.96965487964770725,0.82201963737920558,0.50315351229780847,1.0205498045351347,0.38320949367688384,0.56013867115385096,1.3628309346433687,0.31258889659845829,0.83612316239071927,1.1346357046062059,1.1638533339502439,0.96065136637887538,0.70401193314345645,1.0331978354696438,1.1126807189861976,1.038303946766626,0.90442853737886697,1.0401640189666199,1.0302888284894531,0.67334332414115994,0.86695335406851182,213,0.751,null,null,null,null,0.85364173932578402,211,0.74399999999999999,null,null,null,null,0.71793276589706523,248,0.875,null,null,null,null,2.5454448148472631E-2,282,0.996,null,null,null,null,0.78095423240355544,224,0.79,null,null,null,null,0.65469199901814046,246,0.86799999999999999,null,null,null,null,1.0448707336490564,134,0.47099999999999997,null,null,null,null,0.83233164976116591,162,0.56999999999999995,null,null,null,null,1.0729392772279207,63,0.219,null,null,null,null,0.93730573114854521,213,0.751,null,null,null,null,0.66783653844507329,255,0.9,null,null,null,null,{"$f":"AVERAGE(Data!Z74:AH74)","v":0.72483768423225992},246,0.86799999999999999,null,null,null,null,0.96930689255567215,176,0.62,null,null,null,null,0.77110290248037017,253,0.89300000000000002,null,null,null,null,"Dartford",31,29,38,108,9.9000000000000005E-2,0.13100000000000001,0.379,31,0.106,0.57210704225352116,0.51040835009330165,0.60718970926076021,0.75570192365449951,0.57272537821677039,0.58297800516877418,0.31851637475358413,0.63925508551183607,5.7638361910932346E-3,0.56270280452724153,0.53712523680731983,0.48255503059373861,0.41718791840901764,0.56284310670480842,0.33042127703987612,0.47863550848411834,1.1942340599669043E-2,2.7229308520999897E-2,0,0.42711286982432761,0.59884962730872748,0.52174595023966153,0.28266304884152965,0.61410423589331453,0.15527810811703188,0.16514845031317307,0.63467727784592765,0.10883995443896202,0.49235986875123394,0.92483319259822738,0.84187258136675902,0.13252423031228552,0.53712523680731983,0.35088472888395317,0.53193278439614211,0.90353161917983149,0.66102644281275424,0.92509211935005609,0.91238292728148596,0.36614143594885767,0.56323503386919438,0.57383535346109282,0.42215433984465173,1.3057216373556313E-2,0.48889514642151211,0.26598594767877365,0.75302188090540678,0.33482473355980269,0.44140875664004764,0.75363490891459706,0.47658537318256222,251,{"$f":"AVERAGE(Data!EY74:FQ74)","v":0.41975201246268051},254,{"$f":"AVERAGE(Data!FR74:FZ74)","v":0.38982439142473946},241,{"$f":"AVERAGE(Data!GA74:GL74)","v":0.63164226397407541},191]
["E05004937","29UDGM","Stone","Dartford","NHS Dartford, Gravesham & Swanley CCG",71,0.92976356911405889,0.83745912664590216,0.92002344235686295,1.0883465160093189,0.84615539801980733,0.86314289824376222,0.64391437101977345,1.1206910188980148,1.1367034299289784E-2,0.99542918711954964,0.87008674523993557,0.93179176034359679,1.5074993143696733,1.1133011548871312,0.72737574602303534,0.78243048749818556,0.65733118257084544,0.78946329256993963,0.71191879718811268,0.87602267466586936,1.1313830616745963,1.0540488568979112,0.50315351229780847,1.0205498045351347,0.53740759925483716,0.54010784472867712,1.0807539189819551,0.34503466684856537,0.98567206641930005,1.2001658621724725,1.2915778093489481,7.2488733880223801,0.87008674523993557,1.1843915413594002,0.7721527424143575,0.92777726365560031,0.665450015260039,1.0186949230125,0.98901724929986401,0.92453664278589454,0.89574871270560796,202,0.71199999999999997,null,null,null,null,0.91245004043813527,194,0.68400000000000005,null,null,null,null,0.86741017872254977,200,0.70499999999999996,null,null,null,null,0.71957109077629922,213,0.751,null,null,null,null,0.91703158201426405,189,0.66600000000000004,null,null,null,null,0.62582600745350869,257,0.90700000000000003,null,null,null,null,1.1591385793135736,58,0.20200000000000001,null,null,null,null,4.0594800666311581,1,0,null,null,null,null,0.97827214188687883,160,0.56299999999999994,null,null,null,null,0.90509521880277943,233,0.82199999999999995,null,null,null,null,0.86039426539035746,211,0.74399999999999999,null,null,null,null,{"$f":"AVERAGE(Data!Z75:AH75)","v":0.78760688220948394},223,0.78700000000000003,null,null,null,null,1.5065330207492245,1,0,null,null,null,null,1.037858730782321,134,0.47099999999999997,null,null,null,null,"Dartford",150,73,61,283,0.255,0.21199999999999999,1,150,0.52800000000000002,0.5427022222222222,0.523686813790745,0.69438430974314869,0.75570192365449951,0.59989286410505471,0.65521627188616871,0.42431990574950607,0.63925508551183607,5.7638361910932346E-3,0.56270280452724153,0.66383185721466964,0.59878261733469085,0.65753243988771715,0.692113416927433,0.38857960624403648,0.46731460191960977,0.31899096248326186,0.41535780997658223,0.27501006236933906,0.63482319994547076,0.69873141366895097,0.66901774292714911,{"$f":"AC75/AC$292","v":0.28266304884152965},{"$f":"AD75/AD$292","v":0.61410423589331453},{"$f":"AE75/AE$292","v":0.21775983287712819},{"$f":"AF75/AF$292","v":0.1592426628484454},{"$f":"AG75/AG$292","v":0.50331258110183896},{"$f":"AH75/AH$292","v":0.12013720841754784},{"$f":"AI75/AI$292","v":0.58042330494270122},{"$f":"AJ75/AJ$292","v":0.97824634061343896},{"$f":"AK75/AK$292","v":0.93426200078154165},{"$f":"AL75/AL$292","v":1},{"$f":"AM75/AM$292","v":0.66383185721466964},{"$f":"AN75/AN$292","v":0.40223168362856171},{"$f":"AO75/AO$292","v":0.36913855991485123},{"$f":"AP75/AP$292","v":0.80735135013157455},{"$f":"AQ75/AQ$292","v":0.48636242475481506},{"$f":"AR75/AR$292","v":0.90599811963983923},{"$f":"AS75/AS$292","v":0.87583445350085187},{"$f":"AT75/AT$292","v":0.5027319078402237},0.58692444858537207,0.61487721018141306,0.50457764753081147,0.33645294494306105,0.5798679282552831,0.25011307131124011,0.83097721544589387,0.83191592860733476,0.38568512177170644,0.71565565117346086,0.55718358353058262,198,{"$f":"AVERAGE(Data!EY75:FQ75)","v":0.52005996903888718},209,{"$f":"AVERAGE(Data!FR75:FZ75)","v":0.43331021405793063},217,{"$f":"AVERAGE(Data!GA75:GL75)","v":0.70886766691358893},29]
["E05004938","29UDGN","Sutton-at-Hone and Hawley","Dartford","NHS Dartford, Gravesham & Swanley CCG",72,1.0202902202008808,0.98276453481394144,1.0962328737058824,1.0883465160093189,1.227730043653511,1.1106661491690411,1.1997678243188754,1.1206910188980148,1.1367034299289784E-2,0.99542918711954964,1.0817335381386866,1.0468855703971764,0.39889722765989311,1.234803864731209,1.0122550451488286,0.88725935034064651,1.3422124377473461,1.3508336099796043,1.1231210086156505,1.1773321898701277,1.1085390739973002,1.2622221707326995,0.50315351229780847,1.0205498045351347,1.0228901772698507,0.78473076694079147,0.95399704470361446,0.65080464836446683,0.80381307417210202,1.0269618761602564,1.1211089123518119,0.93092120521356703,1.0817335381386866,1.0413095174334641,0.89436714133356399,1.1224199519408833,0.98580407898414468,1.1077091801070174,1.10776488740129,0.59148192980081782,1.0330958762402349,144,0.50700000000000001,null,null,null,null,1.1494403104097521,98,0.34300000000000003,null,null,null,null,0.83357885222940997,214,0.755,null,null,null,null,1.2720556854475336,73,0.255,null,null,null,null,1.0143593502866142,156,0.54900000000000004,null,null,null,null,0.85310565931968085,186,0.65600000000000003,null,null,null,null,0.98396128756139012,169,0.59499999999999997,null,null,null,null,1.0063273716761267,96,0.33600000000000002,null,null,null,null,0.967838329383514,170,0.59899999999999998,null,null,null,null,0.98303600564683047,177,0.624,null,null,null,null,1.0174361607867026,154,0.54200000000000004,null,null,null,null,{"$f":"AVERAGE(Data!Z76:AH76)","v":0.94269104319019925},176,0.62,null,null,null,null,0.98461627441980049,155,0.54600000000000004,null,null,null,null,0.99077254341741872,163,0.57399999999999995,null,null,null,null,"Dartford",121,130,108,129,0.45700000000000002,0.379,0.45300000000000001,121,0.42499999999999999,0.59554255319148941,{"$f":"H76/H$292","v":0.6145503840939901},{"$f":"I76/I$292","v":0.8273777300456514},{"$f":"J76/J$292","v":0.75570192365449951},{"$f":"K76/K$292","v":0.87041516718881473},{"$f":"L76/L$292","v":0.84311246150482433},{"$f":"M76/M$292","v":0.79061035604785723},{"$f":"N76/N$292","v":0.63925508551183607},{"$f":"O76/O$292","v":5.7638361910932346E-3},{"$f":"P76/P$292","v":0.56270280452724153},{"$f":"Q76/Q$292","v":0.82530757716114778},{"$f":"R76/R$292","v":0.67274353409305698},{"$f":"S76/S$292","v":0.17398871420205281},{"$f":"T76/T$292","v":0.76764882377307908},{"$f":"U76/U$292","v":0.5407681916988395},{"$f":"V76/V$292","v":0.5299247111774289},{"$f":"W76/W$292","v":0.65135147810804772},{"$f":"X76/X$292","v":0.71070978874446189},{"$f":"Y76/Y$292","v":0.43385506865060536},{"$f":"Z76/Z$292","v":0.85317173834254212},{"$f":"AA76/AA$292","v":0.684623184242246},{"$f":"AB76/AB$292","v":0.80114789955887733},0.28266304884152965,0.61410423589331453,0.41447942746398336,0.23136604692259072,0.44428126190428335,0.22660289296085837,0.47333373538928636,0.83706904934354076,0.81095343073120352,0.12842288109925709,0.82530757716114778,0.35363954043016022,0.42756488509610097,0.97672932837732751,0.72050199292663208,0.98516485319955915,0.98099265250567658,0.32162796503744928,0.67915688911037686,0.77981899878156646,0.50985602410299247,0.5986387785010383,0.64714202137570198,0.32918240731292892,0.70711873848801021,0.47686522913020246,0.39060221276313056,0.79700335840932901,0.60512694542483969,152,{"$f":"AVERAGE(Data!EY76:FQ76)","v":0.6216489573455799},146,{"$f":"AVERAGE(Data!FR76:FZ76)","v":0.50582663734780287},164,{"$f":"AVERAGE(Data!GA76:GL76)","v":0.65344232427477844},139]
["E05004939","29UDGP","Swanscombe","Dartford","NHS Dartford, Gravesham & Swanley CCG",73,0.83536743750336528,0.89291457684540831,0.8259558102467196,1.0883465160093189,0.73044987524260863,0.82626522801742408,0.43191482452620705,1.1206910188980148,1.1367034299289784E-2,0.99542918711954964,0.95544637363793961,0.78697611671811918,1.3998224821792991,1.162435145810393,0.75978616627228601,0.84159025848182989,0.35116945162784957,0.5109470687688934,0.42054780114020024,0.54602670640197648,1.1648084709036066,1.0789258979322063,0.50315351229780847,1.0205498045351347,0.38530491124131538,0.56461235842182533,1.3776126421292449,0.35020058596032194,1.0731451791575684,1.1257045340172174,1.1827591437693759,0.53425871782206547,0.95544637363793961,0.88152270667755606,0.98326334572481822,0.53219490604953079,0.43428726744668905,0.63503190092952444,0.62653953221646441,0.51676914243345362,0.85141260819849773,214,0.755,null,null,null,null,0.83953349253871468,215,0.75800000000000001,null,null,null,null,0.86410659556483826,202,0.71199999999999997,null,null,null,null,0.42755477384564772,260,0.91800000000000004,null,null,null,null,0.86269287841414644,200,0.70499999999999996,null,null,null,null,0.66943262443817697,242,0.85399999999999998,null,null,null,null,1.1272029523147207,77,0.26900000000000002,null,null,null,null,0.74485254573000259,206,0.72599999999999998,null,null,null,null,0.93239302620118714,213,0.751,null,null,null,null,0.54896454981513243,278,0.98199999999999998,null,null,null,null,0.78670644070235352,233,0.82199999999999995,null,null,null,null,{"$f":"AVERAGE(Data!Z77:AH77)","v":0.77679943220260439},230,0.81200000000000006,null,null,null,null,0.79007689582351681,282,0.996,null,null,null,null,0.78548850032625905,248,0.875,null,null,null,null,"Dartford",36,51,54,2,0.17699999999999999,0.187,3.0000000000000001E-3,36,0.124,0.48760327868852454,0.55836467101181753,0.62338711034065997,0.75570192365449951,0.5178619302907419,0.62722224024817119,0.28461867894721476,0.63925508551183607,5.7638361910932346E-3,0.56270280452724153,0.72895690475803299,0.5057220282508208,0.61056657428855365,0.72265887553573538,0.40589394262040879,0.50264837951214147,0.17041619862209076,0.26882295541182538,0.16245515285965259,0.3956865855624111,0.71937462836272636,0.6848075061193899,0.28266304884152965,0.61410423589331453,0.15612718017941266,0.16646744962091559,0.64156119398737166,0.12193592362105427,0.63193276221443972,0.91755346133653537,0.85554808707780938,7.3702310583165065E-2,0.72895690475803299,0.29937427791551996,0.4700629752644766,0.46311576362549461,0.31741078006133244,0.56477920440799345,0.55483856240520468,0.28100166598663462,0.55645168668033396,0.56493197173049281,0.50561416821050353,0.20056476896452291,0.53932720095587428,0.27152293685218853,0.80167810354292823,0.401329607670599,0.38471862658999828,0.43622919529733195,0.47704067697739572,250,{"$f":"AVERAGE(Data!EY77:FQ77)","v":0.48108539848795079},229,{"$f":"AVERAGE(Data!FR77:FZ77)","v":0.42030308357645846},220,{"$f":"AVERAGE(Data!GA77:GL77)","v":0.51318972963638654},277]
["E05004940","29UDGQ","Town","Dartford","NHS Dartford, Gravesham & Swanley CCG",74,1.2088281738962523,1.085468963671218,1.0174108723564086,1.0883465160093189,1.0737214763262206,0.90930761738994348,0.63952139255831597,1.1206910188980148,1.1367034299289784E-2,0.99542918711954964,0.97316812759118643,1.0529435094851052,0.98099602666736141,0.93676489737115409,0.76979396029989844,1.086427636201508,0.65839844451156537,0.92763272443133615,0.31637508395212732,1.0617262560568428,1.2800013043052894,1.2892637469467219,0.50315351229780847,1.0205498045351347,0.74515948412134025,0.86038315623081874,1.1295543277647335,0.50174074504353905,0.94052072909540219,1.1396480825722772,1.1164251390646545,2.9639118020287714,0.97316812759118643,1.2977955699956183,0.32452209014940453,0.91113221700381442,0.3883708508326395,0.94293009858247012,0.96376965170581097,0.96468589593350307,1.1039026699746264,114,0.4,null,null,null,null,0.9663176042363627,178,0.627,null,null,null,null,0.85086129737938165,208,0.73399999999999999,null,null,null,null,0.63413541763167636,225,0.79400000000000004,null,null,null,null,1.0309389248283594,143,0.503,null,null,null,null,0.809209428290108,203,0.71599999999999997,null,null,null,null,1.0655313169107778,123,0.432,null,null,null,null,1.9685399648099788,11,3.5000000000000003E-2,null,null,null,null,0.81115883007251144,268,0.94599999999999995,null,null,null,null,0.83417774281164758,259,0.91400000000000003,null,null,null,null,0.88697856121240926,198,0.69799999999999995,null,null,null,null,{"$f":"AVERAGE(Data!Z78:AH78)","v":0.93239248192246982},180,0.63400000000000001,null,null,null,null,1.0772400212129627,51,0.17699999999999999,null,null,null,null,0.9542751313723391,185,0.65200000000000002,null,null,null,null,"Dartford",99,86,104,233,0.30099999999999999,0.36499999999999999,0.82199999999999995,99,0.34699999999999998,0.705592,0.67877436040418804,0.76788711439414503,0.75570192365449951,0.76122879224291884,0.69026015075394176,0.42142506710229094,0.63925508551183607,5.7638361910932346E-3,0.56270280452724153,0.74247770013187953,0.67663645177821274,0.42788524332062705,0.58236493434964265,0.41124031921308923,0.64888000459868034,0.31950888544617456,0.48805245349425286,0.12221384224356902,0.7693961341733625,0.7905166262004486,0.81831151978910155,0.28266304884152965,0.61410423589331453,0.30194177557977575,0.25367101441930057,0.52603917896273011,0.17470051055863059,0.5538354677451609,0.92891874490197723,0.80756542625265604,0.40887895861530266,0.74247770013187953,0.44074487101273774,0.15514238367364924,0.79286683815466663,0.28385150557287264,0.83861505242531142,0.85347618234162725,0.5245637203386837,0.71741782493277773,0.6535742038530975,0.50724391176380834,0.3099250603946655,0.65499831297955136,0.31408811988010926,0.76343987963326476,0.57567832937359109,0.29794362734319346,0.65867465976663231,0.55675329662357498,199,{"$f":"AVERAGE(Data!EY78:FQ78)","v":0.54778162996622548},191,{"$f":"AVERAGE(Data!FR78:FZ78)","v":0.50348267160202154},166,{"$f":"AVERAGE(Data!GA78:GL78)","v":0.61091140426387713},229]
["E05004941","29UDGR","West Hill","Dartford","NHS Dartford, Gravesham & Swanley CCG",75,1.3601253811140059,0.92495485629547414,1.1860664113745938,1.0883465160093189,1.2402344302227037,1.1572616134778955,1.06379401963356,1.1206910188980148,1.1367034299289784E-2,0.99542918711954964,1.1263452306587336,1.2492716603043101,1.0095153193322659,1.0174366565777786,1.1396699457844013,1.1946870629064057,1.0979790522736514,1.1170194618731359,0.71708132352957044,1.0594001914858939,1.2553173114032472,1.2609749418873033,0.50315351229780847,1.0205498045351347,1.0681145672355961,0.99896320931355587,1.1364721935407758,0.57977833663224621,1.2471259914054993,1.1926638158428025,1.08835599776457,0.7655275967290418,1.1263452306587336,1.2106368723123255,0.71652742885151977,1.0813062156010302,1.0517581872745516,1.0765765569856651,1.0771539115426143,0.93952495004000269,1.1570488829280248,77,0.26900000000000002,null,null,null,null,1.1340655196482987,103,0.36099999999999999,null,null,null,null,0.96796526212284184,160,0.56299999999999994,null,null,null,null,0.97735994589211928,153,0.53900000000000003,null,null,null,null,1.0198791523218775,151,0.53100000000000003,null,null,null,null,0.94583207668054348,150,0.52800000000000002,null,null,null,null,1.1760486016709573,46,0.159,null,null,null,null,0.9459364136938877,117,0.41099999999999998,null,null,null,null,0.96358215058192265,176,0.62,null,null,null,null,1.0452639642887729,121,0.42499999999999999,null,null,null,null,1.04301453587814,144,0.50700000000000001,null,null,null,null,{"$f":"AVERAGE(Data!Z79:AH79)","v":0.98696934092572897},152,0.53500000000000003,null,null,null,null,1.0477918962506965,74,0.25800000000000001,null,null,null,null,1.0318375751256146,141,0.496,null,null,null,null,"Dartford",143,140,132,210,0.49199999999999999,0.46400000000000002,0.74099999999999999,143,0.503,0.79390405405405395,0.57840036150022589,0.89517926223930333,0.75570192365449951,0.87928031452513666,0.87848332127019146,0.70100777131737446,0.63925508551183607,5.7638361910932346E-3,0.56270280452724153,0.85934402566595292,0.80279970950079038,0.4403246254888819,0.63251668948700668,0.6088359437366232,0.7135390531697674,0.53282942291191737,0.58769389501886571,0.27700431606337728,0.76771051598457218,0.77527202705477138,0.80035626810688154,0.28266304884152965,0.61410423589331453,0.43280454161303145,0.2945292557611936,0.52926086413851536,0.20187232633797297,0.73438318308149741,0.97213147799284438,0.78726163044460051,0.10560642402638118,0.85934402566595292,0.41114487093861912,0.34254609055549334,0.94095217383470919,0.7687063648479836,0.95747638890056241,0.95388478625633644,0.51088204484122757,0.7558278925978611,0.77074568325580772,0.5782283359709196,0.46584254466472008,0.6480212191762138,0.36461674696267832,0.83125876383964747,0.48247522484616706,0.37684548074705626,0.82638035173616387,0.62968647402380307,114,{"$f":"AVERAGE(Data!EY79:FQ79)","v":0.63918770609653375},130,{"$f":"AVERAGE(Data!FR79:FZ79)","v":0.52206367597019809},148,{"$f":"AVERAGE(Data!GA79:GL79)","v":0.69535995511551751},51]
["E05004942","29UDGS","Wilmington","Dartford","NHS Dartford, Gravesham & Swanley CCG",76,1.3240802074023923,1.1057863506855574,1.133347440588693,1.0883465160093189,1.205337678359375,1.116053184039725,1.3239526493233591,1.1206910188980148,1.1367034299289784E-2,0.99542918711954964,1.2176816990634263,1.1664761226734885,1.2622603665544152,1.1000005991590514,0.95604176217547499,0.83486916141894962,1.3854969631471394,1.3236363308004218,1.4190258371071518,1.2350252539819317,0.8044955856099294,0.95663647507473781,0.50315351229780847,1.0205498045351347,1.3241514021979648,0.89380882963593933,0.88508671089071433,0.97349886760546167,0.66745016789451506,0.94464784351490005,1.0720292159237004,0.8409644496704346,1.2176816990634263,1.182593547553491,0.88316085021332003,1.1228586527961411,1.0521677582294466,1.1095768584394365,1.1035585930576812,0.9467557312347783,1.187737999558881,59,0.20499999999999999,null,null,null,null,1.1708762093259586,90,0.315,null,null,null,null,0.94301574155795564,171,0.60199999999999998,null,null,null,null,1.3760530436849043,56,0.19500000000000001,null,null,null,null,0.90397212629990842,192,0.67700000000000005,null,null,null,null,1.0191364525825199,131,0.46,null,null,null,null,0.8947090757777052,210,0.74099999999999999,null,null,null,null,1.0293230743669304,92,0.32200000000000001,null,null,null,null,1.0328771988834056,93,0.32600000000000001,null,null,null,null,1.0669835187514969,96,0.33600000000000002,null,null,null,null,1.1099936899381473,97,0.34,null,null,null,null,{"$f":"AVERAGE(Data!Z80:AH80)","v":0.95515627131440239},174,0.61299999999999999,null,null,null,null,1.011953780632606,119,0.41799999999999998,null,null,null,null,1.0457432979561425,127,0.44600000000000001,null,null,null,null,"Dartford",157,187,110,165,0.65900000000000003,0.38600000000000001,0.58099999999999996,157,0.55300000000000005,0.77286451612903229,0.69147939558925642,0.85538981291205718,0.75570192365449951,0.85453980885413749,0.84720178774694732,0.87244436319692786,0.63925508551183607,5.7638361910932346E-3,0.56270280452724153,0.92902909762483699,0.74959412126084402,0.55056551646998586,0.68384477098955254,0.51073785939411265,0.49863413562902564,0.67235667728924298,0.69640057079410833,0.54816137108320406,0.89497989768965491,0.49684881881794779,0.60718890890868082,0.28266304884152965,0.61410423589331453,0.53655175037804115,0.26352607076125717,0.41218936996959477,0.33896140761732402,0.39303501187898698,0.76997548856628617,0.77545166300898505,0.11601312433736195,0.92902909762483699,0.40162106623519994,0.42220755883293326,0.977111085660752,0.76900571103201532,0.9868259128740885,0.97726772504833825,0.51481390027777474,0.77324457487678211,0.79382859379286974,0.56135901776083663,0.63897287305551842,0.57915698203022559,0.38780714968155422,0.64615405448475272,0.52252111098109943,0.41191431253406663,0.84500486697859378,0.62940095772757121,115,{"$f":"AVERAGE(Data!EY80:FQ80)","v":0.66824565551831261},95,{"$f":"AVERAGE(Data!FR80:FZ80)","v":0.49411261209748275},174,{"$f":"AVERAGE(Data!GA80:GL80)","v":0.6693631121147966},102]
["E05004943","29UEGJ","Aylesham","Dover","NHS South Kent Coast CCG",77,0.41569719188370241,1.0236025645930422,0.56899897853805126,0.92038443490098953,0.77077713763211453,0.86360709176314121,0.43446838755829759,0.79643088061186162,0.61447564260200305,0.71658353656360174,1.1077913182723462,0.65194268272761657,1.2785042297330582,1.1307925734372166,0.64905346941279096,1.1387984450059374,1.7022587768552404,1.667489977651603,2.2628102755124004,0.66653558932291868,1.059543850316452,0.49668778223734733,0.90786258477888682,0.5338308533038616,0.36118017883475106,0.89217222321321465,0.77365285443909682,0.68750341394830927,0.99159498443258887,0.98822196075348012,0.5525484767510338,0.57400434054964244,1.1077913182723462,0.85339800280918376,1.4380649813888833,0.92157170619284368,1.1042306563402617,0.93067802785572284,0.88026006313890159,0.55933844332135962,0.66943291167159868,255,0.9,null,null,null,null,0.75713358649328089,231,0.81499999999999995,null,null,null,null,0.91099273721932128,187,0.65900000000000003,null,null,null,null,1.8775196766730813,2,3.0000000000000001E-3,null,null,null,null,0.73289213199189329,238,0.84,null,null,null,null,0.67862716760884301,238,0.84,null,null,null,null,0.84412180731236752,228,0.80400000000000005,null,null,null,null,0.84089782941099434,159,0.56000000000000005,null,null,null,null,1.1457314920990336,34,0.11700000000000001,null,null,null,null,0.87921577936981787,243,0.85799999999999998,null,null,null,null,0.98497197869763242,166,0.58499999999999996,null,null,null,null,{"$f":"AVERAGE(Data!Z81:AH81)","v":0.70877437004387078},250,0.88200000000000001,null,null,null,null,0.90847524681718739,241,0.85099999999999998,null,null,null,null,0.89987849718640245,212,0.748,null,null,null,null,"Dover",72,118,34,43,0.41399999999999998,0.11700000000000001,0.14799999999999999,72,0.251,0.24264210526315785,0.64008755601802536,0.42944988656435412,0.63907613772375216,0.54645246696163174,0.65556864360563727,0.28630139900110341,0.45429336195664982,0.31157968333006486,0.40507508813277471,0.84518833580464225,0.41894762599305785,0.55765067192395124,0.70298742474325604,0.34673817893257175,0.68015900517405947,0.82607547005593263,0.87731119583867301,0.87411035845175933,0.48301518662505571,0.6543642002913338,0.31525382987451533,0.51002169292393429,0.32122664352845687,0.14635173654157951,0.26304354200828106,0.36029405788446517,0.23938099230340315,0.58391107715954649,0.80549243008047178,0.39968559515468144,7.9185317472656377E-2,0.84518833580464225,0.28982283602026132,0.68748734173245241,0.80195127686815448,0.80705731037722528,0.82771841125299528,0.77952340253282504,0.30414941899111725,0.43739318261517912,0.51633840184975477,0.53354075175429716,0.85916567478212169,0.4567763106486592,0.25226758218443224,0.59636303413156655,0.4621868266386493,0.48865508887635689,0.70407996400446338,0.53109548077257762,221,{"$f":"AVERAGE(Data!EY81:FQ81)","v":0.56524708397237122},184,{"$f":"AVERAGE(Data!FR81:FZ81)","v":0.36588354244233612},251,{"$f":"AVERAGE(Data!GA81:GL81)","v":0.6009310627872525},240]
["E05004944","29UEGK","Buckland","Dover","NHS South Kent Coast CCG",78,0.26467810754841331,0.91065456739880057,0.62904051277912754,0.92038443490098953,0.47719785621537508,0.86010191291382487,0.38045842449869172,0.79643088061186162,0.61447564260200305,0.71658353656360174,0.79370380077290159,0.42369846789140575,0.31974731054171263,0.79081753411726041,0.62970646166723276,0.93566417343885178,0.1305031529728857,0.15734383976496816,0.18756229870657026,0.50617453691212222,1.1108059535833279,0.66318823913468017,0.90786258477888682,0.5338308533038616,0.19606445699799199,0.29154878497834152,1.2812180959680104,0.19738021315083645,1.0146554658195783,1.1365233417451119,1.2835955796946028,0.14471222594435579,0.79370380077290159,0.68920535338308309,1.2276786060421361,0.96851713203617862,1.1199465327292952,0.9860102198902474,0.91540072814994655,1.1442833176869471,0.60145772924211383,265,0.93600000000000005,null,null,null,null,0.68691470182814851,244,0.86099999999999999,null,null,null,null,0.65304961594937128,256,0.90400000000000003,null,null,null,null,0.15846976381480804,278,0.98199999999999998,null,null,null,null,0.74437243354257576,233,0.82199999999999995,null,null,null,null,0.49155288777379508,281,0.99199999999999999,null,null,null,null,1.1449247957530977,67,0.23400000000000001,null,null,null,null,0.46920801335862872,276,0.97499999999999998,null,null,null,null,0.95844197971260958,184,0.64800000000000002,null,null,null,null,1.0268315860985229,139,0.48899999999999999,null,null,null,null,0.57572383767928836,268,0.94599999999999995,null,null,null,null,{"$f":"AVERAGE(Data!Z82:AH82)","v":0.63200819097867322},264,0.93200000000000005,null,null,null,null,0.95201935865786524,196,0.69099999999999995,null,null,null,null,0.70127647346522304,268,0.94599999999999995,null,null,null,null,"Dover",16,16,20,88,5.2999999999999999E-2,6.7000000000000004E-2,0.308,16,5.2999999999999999E-2,0.15449239130434783,0.56945798749018939,0.47476601373075056,0.63907613772375216,0.33831562072376253,0.65290784407566804,0.25071048277618424,0.45429336195664982,0.31157968333006486,0.40507508813277471,0.60555556216423356,0.27227465230124132,0.13946555546921541,0.49163285540605939,0.33640259557984986,0.5588349862735017,6.3330825431264948E-2,8.2782813733285332E-2,7.2454217628700884E-2,0.36680710276823791,0.68602318750499403,0.42093371287123055,0.51002169292393429,0.32122664352845687,7.9446147483265853E-2,8.5958767907736142E-2,0.59666976497617474,6.8725580595672395E-2,0.59749048280186112,0.92637179170501938,0.92848805995228145,1.9963409235905529E-2,0.60555556216423356,0.23406130487804089,0.58690915382318987,0.84280316494717467,0.81854369037938124,0.87692927979308977,0.81064258185693971,0.62222275331029908,0.39957213084176257,0.46706068945120338,0.39010262233211762,7.2855952264417059E-2,0.46100246791937066,0.20770006524071227,0.81745011148638735,0.31275948570006956,0.41048522935061538,0.79422829405737683,0.44698006276596536,263,{"$f":"AVERAGE(Data!EY82:FQ82)","v":0.36175835132797346},265,{"$f":"AVERAGE(Data!FR82:FZ82)","v":0.34842362228441143},256,{"$f":"AVERAGE(Data!GA82:GL82)","v":0.65583176957061806},131]
["E05004945","29UEGL","Capel-le-Ferne","Dover","NHS South Kent Coast CCG",79,1.2884205435700469,1.4127240187950407,1.075694847001234,0.92038443490098953,1.1749853434738031,1.0049506721801138,1.338872284732032,0.79643088061186162,0.61447564260200305,0.71658353656360174,1.3013932709735359,0.76477161805330029,0.40380803334502607,0.65141587627437914,0.94161312724390045,0.53004407662803044,1.2617667484074906,1.0981952809141629,1.4336813899056204,1.3799474794574567,0.79545483219388047,0.56468229932784952,0.90786258477888682,0.5338308533038616,1.0679474109087979,0.97745753740497165,1.2190353940583192,1.5029117077612697,0.46040368585450386,0.59880887677410255,1.0641319073119853,0.30962465384606358,1.3013932709735359,0.76843318469413102,1.4341865594072949,1.1289018809593017,1.2022319805479029,1.1060103435738602,1.1162565439685441,0.60185019746582069,1.2589464697887738,31,0.106,null,null,null,null,1.0471247231797602,137,0.48199999999999998,null,null,null,null,0.74051314771047205,242,0.85399999999999998,null,null,null,null,1.2645478064090911,78,0.27300000000000002,null,null,null,null,0.8363556098123871,204,0.71899999999999997,null,null,null,null,1.1918380125333394,77,0.26900000000000002,null,null,null,null,0.70778148998019719,263,0.92900000000000005,null,null,null,null,0.80550896240979974,173,0.60899999999999999,null,null,null,null,1.1013098720507131,47,0.16300000000000001,null,null,null,null,1.0310501893030859,134,0.47099999999999997,null,null,null,null,0.98580061190400903,165,0.58099999999999996,null,null,null,null,{"$f":"AVERAGE(Data!Z83:AH83)","v":0.99434778879947716},150,0.52800000000000002,null,null,null,null,0.92435275711475395,227,0.80100000000000005,null,null,null,null,0.96928937026871276,175,0.61699999999999999,null,null,null,null,"Dover",109,119,134,57,0.41799999999999998,0.47099999999999997,0.19800000000000001,109,0.38200000000000001,0.75205,0.88341617713511067,0.81187672991867643,0.63907613772375216,0.83302112664825345,0.76286329204019732,0.88227594729466918,0.45429336195664982,0.31157968333006486,0.40507508813277471,0.99289676203354293,0.49145310208836784,0.176130681374562,0.40497008917119731,0.50302977548974148,0.31657423966349418,0.61231263657646662,0.57778998859115893,0.55382272530658339,1,0.49126533553185531,0.35841078418229377,0.51002169292393429,0.32122664352845687,0.43273680916220941,0.28818863231998376,0.56771096533792376,0.52329703191167654,0.27111352553821322,0.48808469803561899,0.7697391497628111,4.2713486258108668E-2,0.99289676203354293,0.26096790026110622,0.68563320714691811,0.98236990004197189,0.87868427044602226,0.9836539565907253,0.98851252679923707,0.32726588001345103,0.81578096901792907,0.71430597313270439,0.4502136776604681,0.58130845015806976,0.53618489123330804,0.45298335968294839,0.50964579111221442,0.5178051241458258,0.47330055370401214,0.83209730677828142,0.58822501755753298,170,{"$f":"AVERAGE(Data!EY83:FQ83)","v":0.59813197602501378},164,{"$f":"AVERAGE(Data!FR83:FZ83)","v":0.49920643276648158},170,{"$f":"AVERAGE(Data!GA83:GL83)","v":0.63930293857731046},175]
["E05004946","29UEGM","Castle","Dover","NHS South Kent Coast CCG",80,0.41119281329435364,0.43543741722780899,0.80780698511970417,0.92038443490098953,0.4150682979765834,0.90353992187910404,0.51018657096249886,0.79643088061186162,0.61447564260200305,0.71658353656360174,0.29711496953941602,0.25090701373535795,0.29300091928897792,0.72278998129523542,0.52529072832959178,0.13227543097309388,0.89720035276890198,0.93153025087719243,0.91160973708694815,1.1301598646126534,9.985716510493145E-2,0.92409231718707108,0.90786258477888682,0.5338308533038616,0.20729328570306041,0.21262332572957662,1.1372751720870244,0.58185072446287001,0.76995548598930563,1.1274459087465662,1.2269559379779647,3.2881560397136336,0.29711496953941602,1.5343634910367216,0.96552633582252356,0.82092905591195331,0,0.86760024821477222,0.86930367045817347,1.2764959437946568,0.55147907188062228,273,0.96399999999999997,null,null,null,null,0.70912202126620749,239,0.84299999999999997,null,null,null,null,0.44405477779090974,277,0.97799999999999998,null,null,null,null,0.91344678024434744,173,0.60899999999999999,null,null,null,null,0.71916055699748083,241,0.85099999999999998,null,null,null,null,0.53476062699563287,275,0.97099999999999997,null,null,null,null,1.0414524442379456,136,0.47799999999999998,null,null,null,null,1.7926355046265248,15,4.9000000000000002E-2,null,null,null,null,1.2499449134296226,15,4.9000000000000002E-2,null,null,null,null,0.76686578367591118,267,0.94299999999999995,null,null,null,null,0.60488557289648559,262,0.92500000000000004,null,null,null,null,{"$f":"AVERAGE(Data!Z84:AH84)","v":0.63720503255221506},262,0.92500000000000004,null,null,null,null,1.0869872572671408,39,0.13400000000000001,null,null,null,null,0.75678795663022114,257,0.90700000000000003,null,null,null,null,"Dover",27,22,22,245,7.3999999999999996E-2,7.3999999999999996E-2,0.86499999999999999,27,9.1999999999999998E-2,0.24001290322580648,0.2722912992143201,0.60968935131814195,0.63907613772375216,0.29426806311830001,0.68588186303625776,0.33619736947728945,0.45429336195664982,0.31157968333006486,0.40507508813277471,0.22668358426864793,0.16123641009305401,0.12779946731185157,0.44934170909566462,0.280621488266522,7.9002852466276807E-2,0.43539514275093494,0.49010304668093135,0.35214950306549442,0.81898759296041446,6.1670835018043178E-2,0.58653273257208405,0.51002169292393429,0.32122664352845687,8.3996116381383532E-2,6.2688785033068836E-2,0.52963481531980039,0.20259390858071877,0.45339634048893435,0.91897284303227766,0.88751781053276735,0.45360925259734747,0.22668358426864793,0.52108579700724134,0.46158354634727022,0.71437208866414292,0,0.7716188386972026,0.76982085568375913,0.69411552931040366,0.37399785125275614,0.48194335906244989,0.25516753537060705,0.4258825641657869,0.45968789940058652,0.21972840632874288,0.7532956646846598,0.3401464184329977,0.49133467167725575,0.58998546247110162,0.42252069833701594,271,{"$f":"AVERAGE(Data!EY84:FQ84)","v":0.36056306971224927},267,{"$f":"AVERAGE(Data!FR84:FZ84)","v":0.35303923581310048},255,{"$f":"AVERAGE(Data!GA84:GL84)","v":0.57273137388583295},257]
["E05004947","29UEGN","Eastry","Dover","NHS Canterbury & Coastal CCG",81,0.95395118382974198,0.94663348573989936,1.0992615904432919,0.92038443490098953,1.1153750591688323,1.0086942740561129,0.99527550091533712,0.79643088061186162,0.61447564260200305,0.71658353656360174,1.0305413413364948,0.97360768335156367,1.0278484535696724,1.0016950960391289,0.98442618048979902,0.78207153056547452,1.6318313366722477,1.4516493211807988,1.7054390398492769,1.0847410522232608,0.99000238895341375,1.0319003078814764,0.90786258477888682,0.5338308533038616,0.90507289590609297,1.121945317164724,0.78137754793692582,1.634789628536172,0.7061550993080925,0.64381391552349199,0.99781593214377295,0.45321620892261549,1.0305413413364948,0.95520804581996233,1.4048244521029454,1.0999582877215406,1.1224323439576604,1.0892205626711886,1.0790935568479287,1.2033778862743401,0.99994875333764444,164,0.57799999999999996,null,null,null,null,0.96723202993062674,177,0.624,null,null,null,null,0.89140618306471719,190,0.67,null,null,null,null,1.5963065659007745,11,3.5000000000000003E-2,null,null,null,null,0.90966743742817968,191,0.67300000000000004,null,null,null,null,1.1107963473859788,102,0.35799999999999998,null,null,null,null,0.78259498232511915,248,0.875,null,null,null,null,0.74187877512955513,208,0.73399999999999999,null,null,null,null,1.1800162489614539,22,7.3999999999999996E-2,null,null,null,null,1.1188165274945319,44,0.152,null,null,null,null,1.0397987143097962,145,0.51,null,null,null,null,{"$f":"AVERAGE(Data!Z85:AH85)","v":0.99905806407609044},145,0.51,null,null,null,null,0.98213813605250266,160,0.56299999999999994,null,null,null,null,1.0133338945300245,151,0.53100000000000003,null,null,null,null,"Dover",133,139,139,124,0.48899999999999999,0.48899999999999999,0.436,133,0.46800000000000003,0.55682051282051281,0.59195661997288751,0.82966364286513994,0.63907613772375216,0.79075964103283169,0.76570507973214152,0.65585615999587576,0.45429336195664982,0.31157968333006486,0.40507508813277471,0.78625053915429166,0.62565412327690195,0.44832106725904036,0.62273052767054882,0.52590141984048577,0.46710021122446638,0.79189830407798367,0.76375163807408097,0.65880111407161857,0.78607415743803533,0.61141605544737643,0.654959787097952,0.51002169292393429,0.32122664352845687,0.36673936659513151,0.33078867788969968,0.36389148682210465,0.56921544758427023,0.4158268155366272,0.52476797311733381,0.72176953059161786,6.2522296177980399E-2,0.78625053915429166,0.32439858532316457,0.67159623568903959,0.95718319845576039,0.82036051380531205,0.96872160581194489,0.95560245921620457,0.6543563906742158,0.65948025855284664,0.66113807608825015,0.52407658248607181,0.73815035207456103,0.57673966728715098,0.4076587447228015,0.55412143974852623,0.42438641766613605,0.49799741050610208,0.87124483359268756,0.60172210827731265,155,{"$f":"AVERAGE(Data!EY85:FQ85)","v":0.61532604590589723},155,{"$f":"AVERAGE(Data!FR85:FZ85)","v":0.50159259059188455},167,{"$f":"AVERAGE(Data!GA85:GL85)","v":0.65527967862945768},134]
["E05004948","29UEGP","Eythorne and Shepherdswell","Dover","NHS South Kent Coast CCG",82,0.94631298970900002,1.0603141035582266,1.0961330946537711,0.92038443490098953,1.0049422758564952,1.1425167556408971,0.97305941207791113,0.79643088061186162,0.61447564260200305,0.71658353656360174,0.95860912391431152,0.9950328107609373,0.88283073170221305,1.0465084185461575,0.93851385032674561,0.96571275078366625,1.6514714473725964,1.5071213492609159,1.6666065150829759,0.98134783483700794,1.085882846600313,0.63518320336737721,0.90786258477888682,0.5338308533038616,0.93147571179520594,1.0482716299309276,0.70160698456521331,1.6300836530863647,1.1440890182787393,0.88643700583311091,0.82151735724514074,1.2850928586488912,0.95860912391431152,0.93470716096998652,1.5050613650301985,1.0946680514699281,1.0327405509710672,1.0760140600857286,1.0881525022016603,1.3279446264554555,1.0342533959736659,143,0.503,null,null,null,null,0.96746675181763098,176,0.62,null,null,null,null,0.88978335814995446,192,0.67700000000000005,null,null,null,null,1.6083997705721629,9,2.8000000000000001E-2,null,null,null,null,0.82882146457748929,208,0.73399999999999999,null,null,null,null,1.0778594948444278,109,0.38200000000000001,null,null,null,null,0.95068112711899699,185,0.65200000000000002,null,null,null,null,1.1218509912816015,72,0.251,null,null,null,null,1.2198842630000926,21,7.0000000000000007E-2,null,null,null,null,1.1239039582367678,41,0.14099999999999999,null,null,null,null,1.0465031644171199,140,0.49199999999999999,null,null,null,null,{"$f":"AVERAGE(Data!Z86:AH86)","v":0.93950503358501747},177,0.624,null,null,null,null,1.0962528067586848,33,0.113,null,null,null,null,1.0373534776823665,135,0.47499999999999998,null,null,null,null,"Dover",149,144,107,251,0.50700000000000001,0.375,0.88600000000000001,149,0.52400000000000002,0.55236210526315799,0.66304431684172249,0.82730242217300665,0.63907613772375216,0.71246688437446193,0.8672904228508137,0.64121643591782795,0.45429336195664982,0.31157968333006486,0.40507508813277471,0.73136992208228979,0.63942221440295277,0.38506806569708679,0.65058992728408382,0.50137407579024784,0.57678180606709406,0.80142929542861363,0.79293695969088773,0.64380033715700435,0.71114868460271907,0.67063091377810213,0.4031585730406394,0.51002169292393429,0.32122664352845687,0.37743789929818777,0.30906710089081935,0.32674193090433906,0.56757687961489722,0.67370878384567134,0.72252826419416871,0.59424406667647334,0.17728173605188144,0.73136992208228979,0.31743627164468585,0.7195159122708793,0.95257963729127826,0.75480680290710145,0.95697612025080936,0.96362470196151184,0.72209159125640854,0.68090294809262908,0.66286864856470118,0.52515759784832439,0.74605553075883524,0.52323730157477033,0.39520595267706088,0.6634937049054378,0.45432582906708563,0.51847609195778255,0.87001577073342184,0.60699133977949371,149,{"$f":"AVERAGE(Data!EY86:FQ86)","v":0.62086734011392064},149,{"$f":"AVERAGE(Data!FR86:FZ86)","v":0.46633447984245507},196,{"$f":"AVERAGE(Data!GA86:GL86)","v":0.69051365086942995},61]
["E05004949","29UEGQ","Little Stour and Ashstone","Dover","NHS Canterbury & Coastal CCG",83,0.9607812708164748,0.89250684319156037,1.1556481620376917,0.92038443490098953,1.0721862041829862,1.0544973116462732,1.018883290240175,0.79643088061186162,0.61447564260200305,0.71658353656360174,1.0717833914887613,1.078600518166611,1.3946925707465132,1.1423032029510496,1.0167671025059619,1.0146994579554034,1.3909116154305923,1.2137443694983279,1.4252076838920189,1.1522974107491697,1.0390270745807082,1.0363604970346194,0.90786258477888682,0.5338308533038616,1.0659160997437664,1.5569574922073348,0.70808283744652467,1.8231644094893795,0.60984156933135358,1.0361755441906451,0.50847364506251436,0.41741968477898095,1.0717833914887613,0.90104546564195442,1.3354049378835642,1.116604795259299,1.1822233873158245,1.1046170465400702,1.0940800331104199,1.2202340070279487,1.002978758681909,162,0.56999999999999995,null,null,null,null,0.9724764243164572,174,0.61299999999999999,null,null,null,null,1.006238177872488,140,0.49199999999999999,null,null,null,null,1.3432878896069795,60,0.20899999999999999,null,null,null,null,0.93387568408944899,186,0.65600000000000003,null,null,null,null,1.2885302097217513,53,0.184,null,null,null,null,0.71816358619483767,262,0.92500000000000004,null,null,null,null,0.74460153813387109,207,0.73,null,null,null,null,1.1182252017627592,41,0.14099999999999999,null,null,null,null,1.1435518538507123,30,0.10199999999999999,null,null,null,null,1.0500572362857294,138,0.48499999999999999,null,null,null,null,{"$f":"AVERAGE(Data!Z87:AH87)","v":1.0914999177038058},104,0.36499999999999999,null,null,null,null,0.96649195896927809,181,0.63800000000000001,null,null,null,null,1.0343122564098615,138,0.48499999999999999,null,null,null,null,"Dover",146,146,180,103,0.51400000000000001,0.63400000000000001,0.36099999999999999,146,0.51400000000000001,0.5608072289156627,0.55810970365727441,0.8722212004150407,0.63907613772375216,0.76014034110812612,0.80047440424602001,0.67141297219344331,0.45429336195664982,0.31157968333006486,0.40507508813277471,0.81771612220988688,0.69312400990560585,0.60832903882259692,0.7101433152126343,0.54317862878142253,0.60603961737057543,0.67498431034425121,0.63858346288034762,0.55054938229540806,0.83502990360343976,0.64169323481608054,0.65779072388113458,0.51002169292393429,0.32122664352845687,0.43191371328408629,0.45904546549492026,0.32975776843338439,0.63480543750234997,0.35911158611668742,0.84457904218572966,0.36780409321235374,5.7584077198630776E-2,0.81771612220988688,0.30600440987197713,0.63840925324201026,0.97166898169497284,0.8640604404105181,0.98241479807113585,0.96887388826009058,0.66352218178846734,0.66371271099599261,0.66507944344559822,0.58689818797069515,0.6213723851733356,0.59315243975060927,0.46388059617868521,0.52383157383825696,0.43765009970425883,0.47220683155699372,0.8901080580450369,0.61347178668079461,141,{"$f":"AVERAGE(Data!EY87:FQ87)","v":0.62504410576323877},144,{"$f":"AVERAGE(Data!FR87:FZ87)","v":0.53569828705197642},133,{"$f":"AVERAGE(Data!GA87:GL87)","v":0.65347907285520501},138]
["E05004950","29UEGR","Lydden and Temple Ewell","Dover","NHS South Kent Coast CCG",84,1.2595827284708458,1.3924592130100344,1.2243648504111708,0.92038443490098953,1.2215736177278673,1.2256608410654539,1.1969964542160847,0.79643088061186162,0.61447564260200305,0.71658353656360174,1.1663194570739062,1.0770635372825548,1.176978688183981,1.2625769748400715,0.93687758811224742,0.83118793547956371,1.3870941689507872,1.2935414404953913,1.4503546212506684,1.1870190006697117,0.96331153693194627,1.0228039247851524,0.90786258477888682,0.5338308533038616,1.1230045938044511,1.0608906277003605,0.73850082780462101,1.0983228789494979,1.1074942309235676,1.1509995782841471,1.0442187220960508,0.25170449065378281,1.1663194570739062,1.0202473126683349,1.0662806866882419,1.1388189091552288,1.1723421315834888,1.1104415996828132,1.1184909077320127,0.6858751183367634,1.2921355972973505,22,7.3999999999999996E-2,null,null,null,null,1.0722092457044514,127,0.44600000000000001,null,null,null,null,0.97275792001724115,159,0.56000000000000005,null,null,null,null,1.3769967435656156,55,0.191,null,null,null,null,0.92296558009391172,187,0.65900000000000003,null,null,null,null,1.0051797320647327,136,0.47799999999999998,null,null,null,null,1.1009041771012551,100,0.35099999999999998,null,null,null,null,0.70901197386384451,216,0.76200000000000001,null,null,null,null,1.0432639996782884,85,0.29699999999999999,null,null,null,null,1.0451937332980614,122,0.42899999999999999,null,null,null,null,1.1131845584867939,95,0.33300000000000002,null,null,null,null,{"$f":"AVERAGE(Data!Z88:AH88)","v":0.95950520319205423},173,0.60899999999999999,null,null,null,null,1.0027694287398614,128,0.45,null,null,null,null,1.0454821646213976,128,0.45,null,null,null,null,"Dover",156,189,111,156,0.66600000000000004,0.39,0.54900000000000004,156,0.54900000000000004,0.73521739130434771,0.87074402247588356,0.92408486826008795,0.63907613772375216,0.86605048903415427,0.93040553135962312,0.78878410778607244,0.45429336195664982,0.31157968333006486,0.40507508813277471,0.88984232380355532,0.69213632416323656,0.51336784113964729,0.78491471993402884,0.5004999496862389,0.4964354858295516,0.67313177244690281,0.68056684192257189,0.56026349693701483,0.86019143361630168,0.59493203920500426,0.64918620113172498,0.51002169292393429,0.32122664352845687,0.45504621260694494,0.3127876223142631,0.34392358080766267,0.38242373099288945,0.65215956058572289,0.93817126531655148,0.7553349596883856,3.4723256591801532E-2,0.88984232380355532,0.34648659667147402,0.50975059146768831,0.9909996934384252,0.85683845320277385,0.98759498899567888,0.99049119073769198,0.37295580383116533,0.84334876068010634,0.73572192557205041,0.57423142700238727,0.63798737043549647,0.58711160208108448,0.37354528668044007,0.78188859519688669,0.46228279019767843,0.42811859406958119,0.83977602604114698,0.63678893196710651,110,{"$f":"AVERAGE(Data!EY88:FQ88)","v":0.6692878651171662},93,{"$f":"AVERAGE(Data!FR88:FZ88)","v":0.49219323968079798},178,{"$f":"AVERAGE(Data!GA88:GL88)","v":0.69377905702757625},56]
["E05004951","29UEGS","Maxton, Elms Vale and Priory","Dover","NHS South Kent Coast CCG",85,0.6097259184446665,0.76209002595156927,0.73523866614362443,0.92038443490098953,0.75404874978527636,0.86789930975634233,0.71181418907406202,0.79643088061186162,0.61447564260200305,0.71658353656360174,0.85539671990263622,0.76041400727189035,0.30189619672310436,0.7633097477181201,0.70318573544562946,1.0778874477008669,0.7333671194265009,0.83042178218325791,0.86221268025154674,0.93438311614522029,1.1752362706761523,1.0061345894020635,0.90786258477888682,0.5338308533038616,0.60925608920835517,0.57835712058920019,1.3093371614058926,0.40505760698741167,1.1468347436574595,1.0489034499210457,1.2989934222117649,0.54717722554675952,0.85539671990263622,0.81879877833480097,0.8185819714958158,0.9324181958949167,0.95021249888376946,0.96969977026816745,0.89349471079836651,0.89212592925243883,0.70235153684662011,251,0.88600000000000001,null,null,null,null,0.81011551282570637,220,0.77600000000000002,null,null,null,null,0.72414362924098152,245,0.86499999999999999,null,null,null,null,0.80866719395376851,197,0.69499999999999995,null,null,null,null,0.91148948286123677,190,0.67,null,null,null,null,0.72550199454771491,223,0.78700000000000003,null,null,null,null,1.1649105385967566,54,0.187,null,null,null,null,0.70128697272469787,220,0.77600000000000002,null,null,null,null,0.81869037491530838,267,0.94299999999999995,null,null,null,null,0.9275902210195317,220,0.77600000000000002,null,null,null,null,0.75667277844513414,242,0.85399999999999998,null,null,null,null,{"$f":"AVERAGE(Data!Z89:AH89)","v":0.82882837694411593},211,0.74399999999999999,null,null,null,null,0.93105311801399504,222,0.78300000000000003,null,null,null,null,0.82522188997806334,240,0.84699999999999998,null,null,null,null,"Dover",44,42,73,62,0.14499999999999999,0.255,0.216,44,0.152,0.35589651162790698,0.47655638921830162,0.55491867944010942,0.63907613772375216,0.53459265903416997,0.65882688865098293,0.46906381222821331,0.45429336195664982,0.31157968333006486,0.40507508813277471,0.65262411631350148,0.48865283951891092,0.13167935861195801,0.47453190482027729,0.37565678769172556,0.64377928977063659,0.35588983070071167,0.43690716978323763,0.33306770927830776,0.67711498448664476,0.72581473828070853,0.6386059694269911,0.51002169292393429,0.32122664352845687,0.24687314498221616,0.17051988572069277,0.60976495635613615,0.14103652423168733,0.67532563295104497,0.85495346425260887,0.93962607970894974,7.5484450652826079E-2,0.65262411631350148,0.27807257960032761,0.39133471077937682,0.81138988724178351,0.6944889088459153,0.86242323254158748,0.79124348163994829,0.4851080527163868,0.46245719342877267,0.55117057191875363,0.43544738352373114,0.375288236587419,0.5745568057293472,0.29204862782268309,0.82330172563753445,0.36405428348316377,0.33470364518985218,0.72893071259712428,0.50764303387534793,235,{"$f":"AVERAGE(Data!EY89:FQ89)","v":0.46066674830695742},239,{"$f":"AVERAGE(Data!FR89:FZ89)","v":0.44899761554860768},211,{"$f":"AVERAGE(Data!GA89:GL89)","v":0.62600621643702137},205]
["E05004952","29UEGT","Middle Deal and Sholden","Dover","NHS South Kent Coast CCG",86,0.82138444933032517,0.90884236143813135,0.92811579323795512,0.92038443490098953,0.70240760936170232,0.92688435140654624,0.97560874336642478,0.79643088061186162,0.61447564260200305,0.71658353656360174,0.62766684443923659,0.8452385379295565,1.1207001527251259,0.81813533691060325,0.72254821733711738,0.86187194735443695,0.77359545799299712,0.8754347108367726,0.70301447775042414,0.94584178388341877,0.70421966931756619,0.7135275237324703,0.90786258477888682,0.5338308533038616,0.72570041148426834,0.40639073187976626,1.2397664725106932,0.59477852798713082,1.1784431528117283,0.89083264000558082,1.2541534841511022,0.42161644775809781,0.62766684443923659,1.0336178851266022,1.006515625705716,1.0732930685158166,1.2117556175543354,1.0641114868731556,1.0457642176962125,1.0905371862755071,0.88611420133547047,208,0.73399999999999999,null,null,null,null,0.86434320392950492,207,0.73,null,null,null,null,0.79090252698271013,230,0.81200000000000006,null,null,null,null,0.78401488219339799,200,0.70499999999999996,null,null,null,null,0.76105648300324069,229,0.80800000000000005,null,null,null,null,0.74165903596546456,219,0.77300000000000002,null,null,null,null,1.1078097589894702,94,0.32900000000000001,null,null,null,null,0.52464164609866715,271,0.95699999999999996,null,null,null,null,1.0200667554161591,106,0.372,null,null,null,null,1.0970923153830054,67,0.23400000000000001,null,null,null,null,0.82417492032083217,221,0.78,null,null,null,null,{"$f":"AVERAGE(Data!Z90:AH90)","v":0.75243539543089588},237,0.83599999999999997,null,null,null,null,0.99152563807609095,142,0.5,null,null,null,null,0.85823874254717403,225,0.79400000000000004,null,null,null,null,"Dover",59,63,47,142,0.219,0.16300000000000001,0.5,59,0.20499999999999999,0.47944142011834323,0.56832476398676135,0.70049198181112515,0.63907613772375216,0.49798100152203062,0.70360274113813659,0.64289636738193423,0.45429336195664982,0.31157968333006486,0.40507508813277471,0.47887782377522575,0.54316228749112183,0.48882059101433545,0.50861569760581182,0.38600063766258147,0.51476182538778126,0.37541191755537884,0.46058967870052164,0.27157037591410388,0.68541868293080843,0.43491936705100559,0.45288467448158293,0.51002169292393429,0.32122664352845687,0.29405687701997085,0.11981818618830099,0.57736553371063704,0.20709522504425223,0.69393857525745439,0.72611111318148314,0.90719113855074573,5.8163031024207501E-2,0.47887782377522575,0.35102738211544454,0.48117905719413123,0.93397913690927359,0.88564488218351411,0.94639031216846714,0.92608731823949009,0.59299741606234968,0.58275272197207661,0.58756992194450075,0.45461170429996212,0.36919065739000145,0.4808942121831577,0.29958395549079025,0.77574694232989438,0.2685204273997166,0.41610321965478791,0.85701981311261899,0.52537418629372923,225,{"$f":"AVERAGE(Data!EY90:FQ90)","v":0.49634596748465454},221,{"$f":"AVERAGE(Data!FR90:FZ90)","v":0.40031187587543887},232,{"$f":"AVERAGE(Data!GA90:GL90)","v":0.66513226555514882},107]
["E05004953","29UEGU","Mill Hill","Dover","NHS South Kent Coast CCG",87,0.68142822939110825,0.64912889017278796,0.86181089023547863,0.92038443490098953,0.84313404758612909,0.91259439693487698,0.89594933112103425,0.79643088061186162,0.61447564260200305,0.71658353656360174,1.0230348788648287,0.65811677843100758,1.0881277735058874,0.79486725154271975,0.83682469683426819,0.94892763144308867,0.36656769147419038,0.5163226334197526,0.41350448366792569,0.91216212328523538,0.92572007654431121,0.64113440323008231,0.90786258477888682,0.5338308533038616,0.53297809832594689,0.27952893517322136,1.218826124510523,0.42682676424392313,1.2856819641939379,1.2268544356832167,1.3039459487307079,6.2497123105008739E-2,1.0230348788648287,0.7878470001255643,1.1118680771378209,1.0872449313562718,1.1958110115139782,1.0958968523419466,1.052283272956233,1.1412860199532082,0.73078933659979162,241,0.85099999999999998,null,null,null,null,0.87369861823097827,204,0.71899999999999997,null,null,null,null,0.83511977372342572,213,0.751,null,null,null,null,0.4321316028539563,259,0.91400000000000003,null,null,null,null,0.78414200822847546,222,0.78300000000000003,null,null,null,null,0.61453998056340353,259,0.91400000000000003,null,null,null,null,1.2721607828692874,8,2.4E-2,null,null,null,null,0.54276600098491867,268,0.94599999999999995,null,null,null,null,0.94985753863169253,194,0.68400000000000005,null,null,null,null,1.1145044176243275,50,0.17299999999999999,null,null,null,null,0.76516916312123895,239,0.84299999999999997,null,null,null,null,{"$f":"AVERAGE(Data!Z91:AH91)","v":0.70876332926622132},251,0.88600000000000001,null,null,null,null,1.0311876263302269,96,0.33600000000000002,null,null,null,null,0.83228338946655622,236,0.83299999999999996,null,null,null,null,"Dover",48,45,33,188,0.156,0.113,0.66300000000000003,48,0.16600000000000001,0.39774909090909094,0.40591860476295777,0.65044860010552896,0.63907613772375216,0.59775083845661492,0.69275516223387734,0.5904032474621318,0.45429336195664982,0.31157968333006486,0.40507508813277471,0.78052349072959215,0.42291518756882035,0.47461335670462762,0.49415047047599919,0.44704956546742924,0.56675672206519623,0.17788868658458443,0.27165118413605144,0.15973436056566087,0.66101220290199969,0.57171591095604946,0.4069358726162709,0.51002169292393429,0.32122664352845687,0.21596498036045056,8.2414896237130733E-2,0.56761350744820682,0.14861630108798721,0.75708727089484373,1,0.94320848666966062,8.6216325985601257E-3,0.78052349072959215,0.26756103386089275,0.53154428944539134,0.94612004156639973,0.87399132883207564,0.97465930683630098,0.93186033504485299,0.62059292368720564,0.48470543192585924,0.59485574956660525,0.48783294555931306,0.20309141042876555,0.49418246458534221,0.25365242128344384,0.90009858585483471,0.39457256166407612,0.39955266165314207,0.86944478719336704,0.52654062468994167,223,{"$f":"AVERAGE(Data!EY91:FQ91)","v":0.47054383365112651},237,{"$f":"AVERAGE(Data!FR91:FZ91)","v":0.38728022311783178},245,{"$f":"AVERAGE(Data!GA91:GL91)","v":0.71964751168048124},17]
["E05004954","29UEGW","North Deal","Dover","NHS South Kent Coast CCG",88,1.0588271695110238,0.93312361521656184,1.0247995385082869,0.92038443490098953,0.94540520523627114,0.89108202725979802,0.95338354528548341,0.79643088061186162,0.61447564260200305,0.71658353656360174,1.145302957725691,0.79737265017470238,1.0435122769071739,0.80530705764675881,0.85852885584428751,0.84968245779455709,0.80293455762900767,0.86782104047441389,0.73380758823573644,1.0300162210048973,0.45487893032563681,1.1621791055968131,0.90786258477888682,0.5338308533038616,0.54539831659003102,9.2058563994305453E-2,1.3027125107414839,0.66078667085479814,1.1957371079375951,1.0649053726989777,1.3015897471832227,0.81086330542357632,1.145302957725691,1.3120222081389916,1.0453082648287795,0.97920161443476383,1.1309687050491113,0.97152117394203386,0.98246105230695302,1.2521014291290682,1.0055834410786242,160,0.56299999999999994,null,null,null,null,0.90133721865888072,197,0.69499999999999995,null,null,null,null,0.8538456794073469,206,0.72599999999999998,null,null,null,null,0.80152106211305263,198,0.69799999999999995,null,null,null,null,0.81775353900201908,214,0.755,null,null,null,null,0.65023901554515462,249,0.879,null,null,null,null,1.1874107426065985,36,0.124,null,null,null,null,0.97808313157463367,104,0.36499999999999999,null,null,null,null,1.1786652364838854,23,7.8E-2,null,null,null,null,1.0632507949723859,101,0.35399999999999998,null,null,null,null,0.88204026516464284,202,0.71199999999999997,null,null,null,null,{"$f":"AVERAGE(Data!Z92:AH92)","v":0.74330263968785704},240,0.84699999999999998,null,null,null,null,1.0993319115665636,32,0.109,null,null,null,null,0.91601179335294236,199,0.70199999999999996,null,null,null,null,"Dover",85,82,44,252,0.28699999999999998,0.152,0.89,85,0.29699999999999999,0.61803653846153839,0.58350851686673599,0.77346368300053991,0.63907613772375216,0.67025730455215726,0.67642501031277369,0.62825064059060054,0.45429336195664982,0.31157968333006486,0.40507508813277471,0.87380780555488435,0.51240298828854969,0.45515322424836813,0.50064065495394383,0.45864438919929473,0.50748152822107395,0.38964965323479744,0.45658392254015812,0.28346557417064616,0.74641697335456625,0.280928899151283,0.73764933856266068,0.51002169292393429,0.32122664352845687,0.22099770534840127,2.7142080996474856E-2,0.60667982294487599,0.23007852144567931,0.70412230160180667,0.86799651346245321,0.9415041297535971,0.1118605970913218,0.87380780555488435,0.44557638526537702,0.49972442801857331,0.85210079663946947,0.82659954781810463,0.86404313685871914,0.87002854544980923,0.68085061331776864,0.65833624610960473,0.61366049102718667,0.50309817024111925,0.37656638331520059,0.51924870950418023,0.27122453268385782,0.83787431493928555,0.49283420132310307,0.47265040664197516,0.8187245280167742,0.560428804610688,194,{"$f":"AVERAGE(Data!EY92:FQ92)","v":0.53672608975470026},200,{"$f":"AVERAGE(Data!FR92:FZ92)","v":0.4090157420284814},226,{"$f":"AVERAGE(Data!GA92:GL92)","v":0.71151790006932369},24]
["E05004955","29UEGX","Ringwould","Dover","NHS South Kent Coast CCG",89,1.3149513334613119,1.3703521521536641,1.2682669684521033,0.92038443490098953,1.2249013516031575,1.1645411019895135,1.4111272392383443,0.79643088061186162,0.61447564260200305,0.71658353656360174,1.261041766112349,1.0714458712614472,1.1821760870937545,0.82433981113556831,1.1452413099049761,0.99772432849156556,1.5505134786787851,1.4054450589418093,1.7695645418812358,1.228149599424081,0.7826519520003361,0.74875478505369031,0.90786258477888682,0.5338308533038616,1.3284495503305025,0.76062345107293805,1.0537025710721037,2.0341305592672918,1.0956680155936367,0.72404699523994265,1.0654345342935128,0.57413553833904729,1.261041766112349,0.84710622004082292,1.6532969757107656,1.1375409484426575,1.1402768975712005,1.1063009094000911,1.121237884911821,1.3816787789114913,1.3178568180223598,17,5.6000000000000001E-2,null,null,null,null,1.1034770016687734,120,0.42099999999999999,null,null,null,null,0.97662854414565825,158,0.55600000000000005,null,null,null,null,1.5751743598339434,18,0.06,null,null,null,null,0.84024995491217125,203,0.71599999999999997,null,null,null,null,1.294226532935709,50,0.17299999999999999,null,null,null,null,0.961716515042364,181,0.63800000000000001,null,null,null,null,0.91758865222569819,130,0.45700000000000002,null,null,null,null,1.2502015978757943,14,4.5999999999999999E-2,null,null,null,null,1.1774070838474522,9,2.8000000000000001E-2,null,null,null,null,1.1583950997409496,73,0.255,null,null,null,null,{"$f":"AVERAGE(Data!Z93:AH93)","v":1.0420173229226326},126,0.443,null,null,null,null,1.0923137887139449,34,0.11700000000000001,null,null,null,null,1.112385706648727,72,0.251,null,null,null,null,"Dover",212,211,158,250,0.74399999999999999,0.55600000000000005,0.88200000000000001,212,0.748,0.767536,0.85691985375672675,0.95721983040194447,0.63907613772375216,0.86840972920457571,0.88400921893270523,0.92988975569204646,0.45429336195664982,0.31157968333006486,0.40507508813277471,0.96211061966331091,0.68852633220302584,0.51563481290781821,0.51247287482801107,0.61181228504034679,0.59590104788142884,0.75243621483560075,0.73944233660840175,0.68357241998870955,0.88999734968677435,0.48335839854498852,0.47524384948983406,0.51002169292393429,0.32122664352845687,0.53829337818591061,0.22425836794626694,0.49071463118959957,0.70826148914031617,0.64519557000445538,0.59016536451346147,0.770681404175379,7.9203416531969745E-2,0.96211061966331091,0.28768608116549577,0.79038204645519483,0.98988761261134806,0.83340269603556894,0.98391237752347949,0.99292380478841746,0.75131041475160254,0.86055856138622377,0.75513564070194583,0.57538909299834773,0.72515032381090405,0.53596958683479756,0.49038196661552336,0.66868077956443195,0.52065701809764031,0.53903406381034524,0.91028738114208319,0.66135387029859172,65,{"$f":"AVERAGE(Data!EY93:FQ93)","v":0.69136408437304708},75,{"$f":"AVERAGE(Data!FR93:FZ93)","v":0.51570842229289793},157,{"$f":"AVERAGE(Data!GA93:GL93)","v":0.72307178401830685},14]
["E05004956","29UEGY","River","Dover","NHS South Kent Coast CCG",90,1.1049629538964068,1.0555897142462962,1.1992708245071362,0.92038443490098953,1.3364368078735431,1.1901416260932953,1.3266912831261199,0.79643088061186162,0.61447564260200305,0.71658353656360174,1.2310934664754705,1.071663297340046,0.93616432829205831,1.1240778292708895,1.0239077690624876,0.82278583247543213,1.2685088140387719,1.1669758642950923,1.1213324647914487,1.3170975483023835,0.97468713432765397,1.0238340635615442,0.90786258477888682,0.5338308533038616,1.2538670732318125,1.1682198825555863,0.8703552024196497,1.1637445671211688,1.00447007357986,0.78624626360015648,1.0400695897949959,0.35472931518753237,1.2310934664754705,1.0271686490443843,0.96002989053589427,1.1366017427204267,1.2428519296815967,1.1140096734899729,1.1156445436467832,1.3621165875208225,1.119941164216613,107,0.375,null,null,null,null,1.1140170065211619,116,0.40699999999999997,null,null,null,null,0.94259396276024865,172,0.60599999999999998,null,null,null,null,1.1856057143751044,104,0.36499999999999999,null,null,null,null,0.95146243685486598,181,0.63800000000000001,null,null,null,null,1.1140466813320544,97,0.34,null,null,null,null,0.94359530899167077,190,0.67,null,null,null,null,0.79291139083150142,181,0.63800000000000001,null,null,null,null,0.99359926979013924,140,0.49199999999999999,null,null,null,null,1.1942448954119205,6,1.7000000000000001E-2,null,null,null,null,1.0540777563401555,135,0.47499999999999998,null,null,null,null,{"$f":"AVERAGE(Data!Z94:AH94)","v":1.0237221010669497},137,0.48199999999999998,null,null,null,null,1.031252643773158,95,0.33300000000000002,null,null,null,null,1.0404002001335848,131,0.46,null,null,null,null,"Dover",153,149,147,189,0.52400000000000002,0.51700000000000002,0.66600000000000004,153,0.53900000000000003,0.6449659574468084,0.66009002294587482,0.90514524449201128,0.63907613772375216,0.94748424018434196,0.90344271018397049,0.87424903923673969,0.45429336195664982,0.31157968333006486,0.40507508813277471,0.93926159285404931,0.68866605328874586,0.40833080920843051,0.69881302457457806,0.54699332485016772,0.491417243974971,0.61558443937826957,0.61397729805936152,0.43316416464499857,0.95445483825240696,0.60195749991666359,0.64984004285317198,0.51002169292393429,0.32122664352845687,0.5080722429226715,0.34443203650208415,0.40532883176393231,0.40520283043438815,0.59149270805778087,0.64086352930884405,0.75233368743282947,4.8935785769643407E-2,0.93926159285404931,0.34883715447797664,0.45895589279337229,0.98907031622179586,0.90837247617303019,0.99076833175708501,0.98797056358501478,0.74067315350716756,0.73673374162823146,0.76370909785709074,0.56126710252672274,0.55424196736087661,0.60750014349492676,0.41575898540576905,0.6615633082664848,0.49409868931184636,0.40389652363567446,0.92337096824881859,0.6319920321875715,112,{"$f":"AVERAGE(Data!EY94:FQ94)","v":0.64113733876139778},126,{"$f":"AVERAGE(Data!FR94:FZ94)","v":0.52228185101085667},147,{"$f":"AVERAGE(Data!GA94:GL94)","v":0.69979459932821575},41]
["E05004959","29UEHB","Sandwich","Dover","NHS Canterbury & Coastal CCG",91,1.3295890106426993,0.92968473908334892,1.188529337975031,0.92038443490098953,1.1471577036637226,1.0607451821494549,1.1295264211016656,0.79643088061186162,0.61447564260200305,0.71658353656360174,0.98344266930525193,0.93740107536443673,1.080296370940417,1.0960892227063757,1.0564902557821443,0.81184987966686883,1.5081837041555515,1.3501257334875612,1.4254029933781376,1.1054388514024687,0.64735049279094004,0.89715185133191966,0.90786258477888682,0.5338308533038616,0.95174290558931585,0.88667547123024726,0.92729675494794672,1.3368781751470178,0.92511994770961758,1.1885052136843073,0.8616117214149317,2.4786394081829006,0.98344266930525193,1.0418109805274751,1.3098128424110225,1.0828295681405438,1.0023522910763181,1.0637926004648124,1.0757938689661963,1.2849098964352563,1.1492676959003598,83,0.28999999999999998,null,null,null,null,1.0108489244855388,157,0.55300000000000005,null,null,null,null,0.91207858161638733,186,0.65600000000000003,null,null,null,null,1.4279041436737501,44,0.152,null,null,null,null,0.81832692672161544,213,0.751,null,null,null,null,1.025648326728632,126,0.443,null,null,null,null,0.99174562760295215,166,0.58499999999999996,null,null,null,null,1.7310410387440762,18,0.06,null,null,null,null,1.1758119114692489,25,8.5000000000000006E-2,null,null,null,null,1.1019356450166256,65,0.22600000000000001,null,null,null,null,1.0569678312674278,134,0.47099999999999997,null,null,null,null,{"$f":"AVERAGE(Data!Z95:AH95)","v":0.91046977116917838},189,0.66600000000000004,null,null,null,null,1.1915517506932196,10,3.1E-2,null,null,null,null,1.0643809435730593,108,0.379,null,null,null,null,"Dover",176,150,95,274,0.52800000000000002,0.33300000000000002,0.96799999999999997,176,0.62,0.77607999999999999,0.58135809062153398,0.89703814703359885,0.63907613772375216,0.81329235982123826,0.80521719530257818,0.74432341645736899,0.45429336195664982,0.31157968333006486,0.40507508813277471,0.7503166519897162,0.60238724282353906,0.4711975002677245,0.68141315928263269,0.56439958279759006,0.48488563443904109,0.7318943390279512,0.71033735593822989,0.55062482920616673,0.80107313347685205,0.39979750474397785,0.56943328832728568,0.51002169292393429,0.32122664352845687,0.38565025196981595,0.26142290747884755,0.43184680155483496,0.4654860145603833,0.54476655655737583,0.96874183205153153,0.62324629992807634,0.34193443249794669,0.7503166519897162,0.35380984251147207,0.62617458936139181,0.94227779451726035,0.73259670834317814,0.94610670372023498,0.9526803864872746,0.69869075355542631,0.75149207921837757,0.69124049425231748,0.53390681788288541,0.66428550805744935,0.52031045260010145,0.38610149389097048,0.71225156284566127,0.54612554224383147,0.48999221593643194,0.85447046932467485,0.6150522641559355,139,{"$f":"AVERAGE(Data!EY95:FQ95)","v":0.63025209348169209},137,{"$f":"AVERAGE(Data!FR95:FZ95)","v":0.46066202650715432},201,{"$f":"AVERAGE(Data!GA95:GL95)","v":0.70677854596007383},31]
["E05004957","29UEGZ","St Margaret's-at-Cliffe","Dover","NHS South Kent Coast CCG",92,1.1407491658733839,1.2630619210250411,1.1739142961965283,0.92038443490098953,1.1422349560720848,1.0235119812270372,1.2082550658894051,0.79643088061186162,0.61447564260200305,0.71658353656360174,1.1307848461985972,1.1325392092534994,0.58072287718629279,0.8423536725186741,1.0086712832522218,0.81634594947692762,1.239608187182514,1.1378302474245727,1.2100016142660699,1.0765940835880301,0.91101951894751232,0.93646042498041593,0.90786258477888682,0.5338308533038616,1.2190995909807849,0.98204018872434029,0.97399755300596658,1.6880715136239444,0.85616601382882096,0.5986323992320135,0.97670079623735573,0.57165148613080596,1.1307848461985972,1.0081590000711762,1.3232125111289896,1.1234872839889696,1.1834872257412994,1.105116465606288,1.1050675576506084,0.26910983648976133,1.1925751276983176,55,0.191,null,null,null,null,1.0181634637402757,154,0.54200000000000004,null,null,null,null,0.85530962713147707,205,0.72299999999999998,null,null,null,null,1.1958133496243857,101,0.35399999999999998,null,null,null,null,0.87315349311974144,198,0.69799999999999995,null,null,null,null,1.215802211583759,70,0.24399999999999999,null,null,null,null,0.81049973643272999,236,0.83299999999999996,null,null,null,null,0.85121816616470158,153,0.53900000000000003,null,null,null,null,1.1656857556000828,29,9.9000000000000005E-2,null,null,null,null,0.9572536738953854,201,0.70899999999999996,null,null,null,null,1.0051820930379636,159,0.56000000000000005,null,null,null,null,{"$f":"AVERAGE(Data!Z96:AH96)","v":1.0254418124370828},133,0.46800000000000003,null,null,null,null,0.93763128519205718,214,0.755,null,null,null,null,0.9894752875489935,164,0.57799999999999996,null,null,null,null,"Dover",120,125,151,70,0.439,0.53100000000000003,0.24399999999999999,120,0.42099999999999999,0.66585433962264151,0.78982824593623169,0.88600749799792311,0.63907613772375216,0.80980231395150226,0.77695327846051954,0.79620318904765042,0.45429336195664982,0.31157968333006486,0.40507508813277471,0.86273122613219388,0.72778577876767936,0.2532963873980783,0.52367167319374386,0.5388536698107097,0.48757095806466899,0.60155948662737269,0.5986430073992508,0.46741653784200593,0.78017033228779575,0.56263698646152005,0.59438292234842438,0.51002169292393429,0.32122664352845687,0.49398431202061494,0.28953975803705012,0.45359560005305272,0.58776760349409651,0.50416231143832313,0.48794085249293995,0.7064959102367997,7.8860735390325606E-2,0.86273122613219388,0.34238128001022644,0.63258049086530965,0.97765812023698773,0.86498415144367824,0.98285896710023779,0.9786040042492663,0.1463328712525665,0.78056336118559877,0.69526565622801484,0.51382055810373928,0.55587301062287653,0.55368771551002627,0.45622181840120357,0.56619969138935422,0.47079598076125972,0.48748088543776802,0.79008762285654732,0.59387796583498031,166,{"$f":"AVERAGE(Data!EY96:FQ96)","v":0.6103264137576534},159,{"$f":"AVERAGE(Data!FR96:FZ96)","v":0.51036953901721616},160,{"$f":"AVERAGE(Data!GA96:GL96)","v":0.63046591007073782},194]
["E05004958","29UEHA","St Radigunds","Dover","NHS South Kent Coast CCG",93,0.19597625392972873,0.81819964996470462,0.60116166264789794,0.92038443490098953,0.44136762735634061,0.56603492897284968,0.23982018341824096,0.79643088061186162,0.61447564260200305,0.71658353656360174,0.99586142635510766,0.3132128184733331,0.30842473463717113,0.77719485455086745,0.49793619517143672,1.0305751729500296,0.36595141569134154,0.56416739601582655,0.42019195340975601,0.21768618155397837,1.0004442276967347,0.90546861442733584,0.90786258477888682,0.5338308533038616,9.9505912520126819E-2,0.37481435642805083,1.2011289269278567,0.18117391799656976,1.1825649879120852,1.0995190501557501,1.3633859484764321,0.69059623040020546,0.99586142635510766,0.79067755482777247,0.99238280591185402,0.94742560243473117,0.96918550614060628,0.98181977939731879,0.88988185342357928,0.43278266786643715,0.53844585551411039,275,0.97099999999999997,null,null,null,null,0.59280761105205637,258,0.91100000000000003,null,null,null,null,0.65678304766294393,255,0.9,null,null,null,null,0.45010358837230807,257,0.90700000000000003,null,null,null,null,0.71305849235215946,244,0.86099999999999999,null,null,null,null,0.46415577846815098,282,0.996,null,null,null,null,1.2151566621814225,25,8.5000000000000006E-2,null,null,null,null,0.84322882837765656,157,0.55300000000000005,null,null,null,null,0.89153018036981324,238,0.84,null,null,null,null,0.84421908185253458,252,0.89,null,null,null,null,0.5886289878012152,266,0.93899999999999995,null,null,null,null,{"$f":"AVERAGE(Data!Z97:AH97)","v":0.60243506395926671},271,0.95699999999999996,null,null,null,null,0.94467361777515657,205,0.72299999999999998,null,null,null,null,0.69854874392895927,270,0.95299999999999996,null,null,null,null,"Dover",14,18,13,79,0.06,4.2000000000000003E-2,0.27600000000000002,14,4.5999999999999999E-2,0.11439117647058826,0.51164331977707467,0.45372455411835771,0.63907613772375216,0.31291331440734921,0.42968006418585297,0.15803417691035254,0.45429336195664982,0.31157968333006486,0.40507508813277471,0.75979153090472618,0.20127500500656967,0.13452693898736315,0.48316395257503736,0.26600811439242433,0.61552155033643541,0.1775896190668117,0.29682359683438375,0.16231769096522028,0.15774961351396097,0.61786483570012718,0.57471203991279596,0.51002169292393429,0.32122664352845687,4.0320216741843773E-2,0.11050836749355603,0.55937183278281077,6.3082730048486788E-2,0.69636576096442993,0.89620986661179947,0.98620437331847755,9.5269456842949796E-2,0.75979153090472618,0.26852231967197271,0.47442266242963171,0.82444932554290395,0.70835585242201526,0.87320242190728736,0.78804407842765511,0.23533264797495088,0.3599196834553402,0.39879941103679134,0.39711773295817443,0.21224363562213858,0.4363149651158551,0.19332078676667433,0.85959333363156887,0.42753049387383801,0.37147249105080221,0.6858768652549625,0.43621142864366397,266,{"$f":"AVERAGE(Data!EY97:FQ97)","v":0.36249625663588358},264,{"$f":"AVERAGE(Data!FR97:FZ97)","v":0.32831755251621919},267,{"$f":"AVERAGE(Data!GA97:GL97)","v":0.63384752475156658},184]
["E05004960","29UEHC","Tower Hamlets","Dover","NHS South Kent Coast CCG",94,0.48445721353171745,0.92544755241921095,0.5689390269002994,0.92038443490098953,0.59685010342035338,0.71658928166644242,0.33532483833506438,0.79643088061186162,0.61447564260200305,0.71658353656360174,0.73450506765570012,0.43807262757274174,0.2946775967472135,0.7589563924505015,0.62065812327057057,0.98901189188782967,0.31431181111843814,0.58918517693165928,0.36268943801639542,0.46126820682155373,1.0547816717347664,0.96024432775036539,0.90786258477888682,0.5338308533038616,0.34550088288002651,0.67819670874360849,1.5216674081409569,0.34034401135724557,1.2226282007568379,1.1788829174576119,1.3410815533539757,0.49184572486750527,0.73450506765570012,0.82779407423988627,0.97857753031332551,0.97723529049684765,0.65015998165492039,0.96857517824095851,0.96321939261793088,0.77462122131395972,0.65961459761707597,258,0.91100000000000003,null,null,null,null,0.6731159077869423,246,0.86799999999999999,null,null,null,null,0.64586760984377023,258,0.91100000000000003,null,null,null,null,0.42206214202216424,261,0.92100000000000004,null,null,null,null,0.78359752887788692,223,0.78700000000000003,null,null,null,null,0.72142725278045949,227,0.80100000000000005,null,null,null,null,1.2475308905228086,12,3.9E-2,null,null,null,null,0.61317539626160267,254,0.89700000000000002,null,null,null,null,0.90318580227660594,232,0.81899999999999995,null,null,null,null,0.8667622128649235,248,0.875,null,null,null,null,0.61987108613697861,261,0.92100000000000004,null,null,null,null,{"$f":"AVERAGE(Data!Z98:AH98)","v":0.75596629505680801},236,0.83299999999999996,null,null,null,null,0.92576051108078827,225,0.79400000000000004,null,null,null,null,0.74225933562708313,259,0.91400000000000003,null,null,null,null,"Dover",25,23,48,59,7.8E-2,0.16600000000000001,0.20499999999999999,25,8.5000000000000006E-2,0.28277727272727271,0.57870845828369544,0.42940463828623238,0.63907613772375216,0.42314463610365405,0.54396665785284093,0.22096882784657335,0.45429336195664982,0.31157968333006486,0.40507508813277471,0.56038994486809768,0.28151169143625504,0.12853079090816069,0.4718255251707601,0.33156878060792966,0.59069745611413571,0.15252985071603803,0.30998612229880063,0.14010480600252215,0.33426504536455764,0.65142312411188308,0.60947885727119389,0.51002169292393429,0.32122664352845687,0.13999841948490574,0.19995608449204516,0.70864822909123126,0.11850397468621691,0.71995740284837706,0.96089876938098995,0.97007050305336961,6.7851333378260228E-2,0.56038994486809768,0.28112747562946228,0.46782285480901231,0.85038970244880385,0.47518728364994617,0.8614230525671942,0.85298889471559391,0.42121294757040273,0.43029678976573349,0.45628992429669407,0.38514737007102234,0.20087359300578692,0.4852830726400052,0.29177667693859977,0.8836422250942455,0.31412063912317895,0.37447516521923729,0.69224037619038825,0.45847454915600361,259,{"$f":"AVERAGE(Data!EY98:FQ98)","v":0.38190209107190581},260,{"$f":"AVERAGE(Data!FR98:FZ98)","v":0.39928023010604724},233,{"$f":"AVERAGE(Data!GA98:GL98)","v":0.62411001374329256},208]
["E05004961","29UEHD","Town and Pier","Dover","NHS South Kent Coast CCG",95,0.3986684435581152,0.83215510920004021,0.44300399219001746,0.92038443490098953,0.49612763291458273,0.65520994302334412,0.26591878053845081,0.79643088061186162,0.61447564260200305,0.71658353656360174,0.83160194908295404,0,0.29747525848991879,0.73306820625929681,0.429122558996129,0.72497982141339135,0.14803941952441138,0.18467216243479448,0.33960080700219036,0.67283947634714303,0.49085527340724483,0.14654979365219811,0.90786258477888682,0.5338308533038616,2.228055612035406E-2,0,1.2154786264046127,0.17768618174769132,0.77578016932599081,0.92412288748332494,1.2391335809820134,2.6148381044898592,0.83160194908295404,0.78771535641033963,1.3859645241239174,0.98208055306911679,0.78398409312550132,1.0192392960596186,0.96312964524556,1.2570790601046717,0.55794251498272429,272,0.96,null,null,null,null,0.62681433439784573,253,0.89300000000000002,null,null,null,null,0.54341337167591175,267,0.94299999999999995,null,null,null,null,0.22410412965379875,275,0.97099999999999997,null,null,null,null,0.55038759629786682,269,0.95,null,null,null,null,0.35386134106816453,283,1,null,null,null,null,0.97967887926377639,172,0.60599999999999998,null,null,null,null,1.7232200267864066,19,6.3E-2,null,null,null,null,1.0868399402671285,54,0.187,null,null,null,null,1.0011025295208937,165,0.58099999999999996,null,null,null,null,0.51723781996347851,276,0.97499999999999998,null,null,null,null,{"$f":"AVERAGE(Data!Z99:AH99)","v":0.46304259397355474},281,0.99199999999999999,null,null,null,null,1.130389101625239,22,7.3999999999999996E-2,null,null,null,null,0.68898927861427384,271,0.95699999999999996,null,null,null,null,"Dover",13,8,3,262,2.4E-2,7.0000000000000001E-3,0.92500000000000004,13,4.2000000000000003E-2,0.2327024390243902,0.52037006207339409,0.33435563396329782,0.63907613772375216,0.35173613188227076,0.49737328204172254,0.17523235537731785,0.45429336195664982,0.31157968333006486,0.40507508813277471,0.63446991848019085,0,0.12975105902644551,0.45573144233953838,0.22924640519958767,0.43300160468802595,7.1840859176745014E-2,9.7160977178379057E-2,0.13118580304836722,0.48758339455910171,0.30314754632003582,9.3016952235193226E-2,0.51002169292393429,0.32122664352845687,9.028175604336889E-3,0,0.56605456060348358,6.1868339330985796E-2,0.45682626618907618,0.75324574831788815,0.89632650098518452,0.36072337927856024,0.63446991848019085,0.26751632628627331,0.6625799798735027,0.85460604772121362,0.57299631190589451,0.90648226945341992,0.85290941800182651,0.68355728150276274,0.36247604502036074,0.42354225379634264,0.32485690014957846,0.10006254646783042,0.34299924591334435,0.15923776888470156,0.70213283849738295,0.49759664887937555,0.465048153079888,0.77411026571702346,0.40895922494360581,273,{"$f":"AVERAGE(Data!EY99:FQ99)","v":0.32127274971804809},275,{"$f":"AVERAGE(Data!FR99:FZ99)","v":0.26132747834505871},279,{"$f":"AVERAGE(Data!GA99:GL99)","v":0.65851995399964947},125]
["E05004962","29UEHE","Walmer","Dover","NHS South Kent Coast CCG",96,1.0592909945091231,1.3986000632479152,1.2075830602906006,0.92038443490098953,1.0561273997145622,1.0855557970063689,1.232804509478082,0.79643088061186162,0.61447564260200305,0.71658353656360174,1.0186763921824784,0.8573419444837509,1.2392776297134547,0.82433086630941033,1.0345347725666831,0.75675064028496652,0.8730666834764631,0.84179607015628433,1.0595023154165766,1.1625709552316181,0.53333228667068666,0.9151321760773159,0.90786258477888682,0.5338308533038616,0.94218137815144309,0.34822311665360078,1.2090426947897925,1.0441710041895453,1.0750827892476567,1.0645996419778088,1.248241000361048,0.30057539864746841,1.0186763921824784,1.0995923069920621,1.1842334528986291,1.0942157251986826,1.1853146899170071,1.0856004305826268,1.075488540855541,1.1051932456544589,1.2218247060158796,44,0.152,null,null,null,null,1.0182606043423728,153,0.53900000000000003,null,null,null,null,0.88274642808829362,195,0.68700000000000006,null,null,null,null,0.92478835634977463,170,0.59899999999999998,null,null,null,null,0.81054577121247395,216,0.76200000000000001,null,null,null,null,0.88590454844609545,171,0.60199999999999998,null,null,null,null,1.1293078105288379,75,0.26200000000000001,null,null,null,null,0.65962589541497341,240,0.84699999999999998,null,null,null,null,1.1419128799453455,37,0.127,null,null,null,null,1.1091625264416631,56,0.19500000000000001,null,null,null,null,0.97858492807974617,169,0.59499999999999997,null,null,null,null,{"$f":"AVERAGE(Data!Z100:AH100)","v":0.84403856109408337},208,0.73399999999999999,null,null,null,null,1.0447344678762891,81,0.28299999999999997,null,null,null,null,0.96815685744693469,177,0.624,null,null,null,null,"Dover",107,115,76,203,0.40400000000000003,0.26500000000000001,0.71599999999999997,107,0.375,0.61830727272727271,0.87458406934231603,0.91141887388142895,0.63907613772375216,0.74875524301714824,0.82405106232833669,0.81238052264754035,0.45429336195664982,0.31157968333006486,0.40507508813277471,0.77719818744825997,0.55094010842024654,0.5405410375954115,0.51246731403777124,0.5526704963255602,0.45197705082778877,0.42368350849415282,0.44289148772047809,0.40927954001779387,0.84247478439447365,0.32938094553857206,0.58084562106645699,0.51002169292393429,0.32122664352845687,0.38177588059916862,0.10266834096653511,0.56305731461070341,0.3635686544185327,0.63307374418044482,0.86774731460700905,0.9029143470982286,4.1465119137564448E-2,0.77719818744825997,0.3734329818319933,0.5661395827451553,0.95218602317709844,0.86631980384020335,0.96550196390444853,0.95241000002119069,0.60096688785180519,0.80143673865033926,0.69571126553468543,0.51280612076473475,0.4252848454108083,0.51678993749037871,0.35276754764873497,0.80124513529522756,0.40933165329291221,0.46978628228857433,0.86747693575894913,0.59388864699662469,165,{"$f":"AVERAGE(Data!EY100:FQ100)","v":0.59269316031446051},167,{"$f":"AVERAGE(Data!FR100:FZ100)","v":0.44389109756075923},215,{"$f":"AVERAGE(Data!GA100:GL100)","v":0.70827966298695022},30]
["E05004963","29UEHF","Whitfield","Dover","NHS South Kent Coast CCG",97,0.99109272582311314,1.0087788901472516,1.1083313810738902,0.92038443490098953,1.0218220300844816,1.2293009236841712,1.1605175609243923,0.79643088061186162,0.61447564260200305,0.71658353656360174,1.1785907361037951,0.87755288885145177,0.35391357038336702,0.86034642326051791,0.93090488521410875,0.97651095060867854,0.880642419589864,0.8634895726092241,0.81951852239831069,0.98617470885496439,1.0938743056174198,0.98047520734308091,0.90786258477888682,0.5338308533038616,1.0384437132758715,1.1421374250366287,1.1636745765729939,0.79148420253334739,1.1112671704312447,0.88383106150739998,1.1512008086812351,1.8038627707233608,1.1785907361037951,0.92188996365120224,0.94807630656053254,0.99885047723478515,1.1324005675309174,0.99786488790994921,0.99514477863836492,0.44253277162824278,1.0360676656814183,141,0.496,null,null,null,null,1.0256911660411792,150,0.52800000000000002,null,null,null,null,0.81360982919844049,218,0.76900000000000002,null,null,null,null,0.85455017153246626,184,0.64800000000000002,null,null,null,null,0.90044353197964266,194,0.68400000000000005,null,null,null,null,1.0339349793547103,124,0.436,null,null,null,null,1.0487663468732933,132,0.46400000000000002,null,null,null,null,1.4912267534135779,33,0.113,null,null,null,null,0.93498313510586739,209,0.73699999999999999,null,null,null,null,0.91335869658845203,227,0.80100000000000005,null,null,null,null,0.91100989344395134,187,0.65900000000000003,null,null,null,null,{"$f":"AVERAGE(Data!Z101:AH101)","v":0.95977306414633945},172,0.60599999999999998,null,null,null,null,1.0471260250500858,76,0.26500000000000001,null,null,null,null,0.96281644633382868,178,0.627,null,null,null,null,"Dover",106,97,112,208,0.34,0.39300000000000002,0.73399999999999999,106,0.372,0.57850000000000001,0.63081789426118395,0.83650903398953269,0.63907613772375216,0.72443400546464631,0.93316873704392689,0.76474563115002003,0.45429336195664982,0.31157968333006486,0.40507508813277471,0.89920468450307878,0.56392794828141379,0.15436799952433203,0.53485734756513503,0.49730920466475476,0.58323114122632214,0.42735987653876856,0.45430502113536636,0.31657520611586853,0.71464655252147069,0.67556636282754756,0.62231964478685298,0.51002169292393429,0.32122664352845687,0.42078178605737837,0.33674201675975524,0.541929151873214,0.27558593884909149,0.65438129547403134,0.72040417819837588,0.83272038512492219,0.24884732760044609,0.89920468450307878,0.31308341815248947,0.45324131259167644,0.86919922805353778,0.82764606384875572,0.88747248236746101,0.88126075047726515,0.24063442622685716,0.68194230941690559,0.70314357466779898,0.49369413715348454,0.39941336793000115,0.56875617931765254,0.39375972338485982,0.73583528626577654,0.57402600605176246,0.38316236537208292,0.74124259019477545,0.57390633363385479,180,{"$f":"AVERAGE(Data!EY101:FQ101)","v":0.56364936855829417},186,{"$f":"AVERAGE(Data!FR101:FZ101)","v":0.4909799766808558},179,{"$f":"AVERAGE(Data!GA101:GL101)","v":0.65234129605157476},143]
["E05004964","29UGFW","Central","Gravesham","NHS Dartford, Gravesham & Swanley CCG",98,1.2136156848540745,1.0631561190036847,0.98513417983895013,0.60544143922890847,1.019553272741446,0.68274876227875902,0.7298775429028016,0.47243286112813437,0.96935075409514748,0.86982073581916786,0.84800718893377991,0.9993603323113992,1.5121089549030786,1.0062807762458463,0.82046473029257372,0.60076334157251021,0.55043928673959386,0.79364290338227017,0.58535755947004486,0.93306574012652377,1.1101549330656715,1.1469778099666912,0.15475833015269341,0.78772987041587339,1.0452570383221895,1.0189770596962948,1.5489078320841529,0.96916395055685089,1.2777849458709001,1.1368232989851952,1.3061407303453862,0.97310026011744766,0.84800718893377991,1.1200391586838059,0.63790389746517684,1.0313413752795717,0.7109380257143505,1.0262045187130591,1.021394205027516,0.64608928550611067,1.0873019945655698,123,0.432,null,null,null,null,0.70201077565600989,243,0.85799999999999998,null,null,null,null,0.95326960177168796,168,0.59199999999999997,null,null,null,null,0.643146583197303,224,0.79,null,null,null,null,0.82653733674549057,209,0.73699999999999999,null,null,null,null,1.1455764701648721,87,0.30399999999999999,null,null,null,null,1.2402496584004938,17,5.6000000000000001E-2,null,null,null,null,0.91055372452561378,132,0.46400000000000002,null,null,null,null,0.87897152807449141,246,0.86799999999999999,null,null,null,null,0.88719348204812154,240,0.84699999999999998,null,null,null,null,0.85934507503906177,212,0.748,null,null,null,null,{"$f":"AVERAGE(Data!Z102:AH102)","v":0.96833250715410457},164,0.57799999999999996,null,null,null,null,0.97798057422019158,166,0.58499999999999996,null,null,null,null,0.91945789701928538,198,0.69799999999999995,null,null,null,null,"Gravesham",86,72,120,118,0.251,0.42099999999999999,0.41399999999999998,86,0.30099999999999999,0.70838646616541345,0.6648215092634433,0.74352639941376109,0.42039300310629868,0.72282554046677705,0.5182781432430299,0.48096701075753356,0.26948115399017936,0.49152477341132139,0.49169802715721689,0.64698628066798947,0.64220314120531297,0.65954304656464458,0.62558133832755336,0.43830972310714256,0.35881204311520803,0.26711825411802836,0.41755681531337602,0.2261201973793158,0.67616032785057156,0.68562112342781378,0.72800088970236509,8.6940586452058211E-2,0.4740074889166524,0.42354257419189861,0.3004300380955045,0.72133423267109631,0.3374520380293391,0.75243702906451393,0.92661628463862178,0.94479608057826259,0.13424158597187563,0.64698628066798947,0.38037694528805949,0.30495899728088288,0.89747279265900015,0.51960858683234701,0.91267693920619386,0.90450620148686878,0.35132160706888704,0.70557812494753913,0.48238897031276373,0.54433229669454863,0.30359842227024003,0.53014608326989232,0.44568972074695962,0.87461646476046606,0.39061393331993255,0.34266797128447118,0.71711722545065937,0.54759053742135855,204,{"$f":"AVERAGE(Data!EY102:FQ102)","v":0.51548067719860757},215,{"$f":"AVERAGE(Data!FR102:FZ102)","v":0.49260992214858884},177,{"$f":"AVERAGE(Data!GA102:GL102)","v":0.63966661089529187},174]
["E05004965","29UGFX","Chalk","Gravesham","NHS Dartford, Gravesham & Swanley CCG",99,0.98693429480567341,0.8618897524571465,1.0745972940502109,0.60544143922890847,1.2781450936078023,1.2562207106034242,1.2656817422482329,0.47243286112813437,0.96935075409514748,0.86982073581916786,1.1993452594759622,0.95789904132553483,1.6377994422886506,1.1424318271684204,1.3078281534250595,0.66822084349372846,1.0285584707708351,0.97468536296135755,0.98267470315982519,1.2609609882792345,0.77962386912727122,1.1678686089618344,0.15475833015269341,0.78772987041587339,0.96311657622944702,0.61567333285681081,1.1044344579571364,0.72961630531011057,1.0114022033653809,1.0494345693111407,1.1142249135419311,0.45659413105199281,1.1993452594759622,1.0821391394754774,0.95632236016226146,1.1334765564411069,0.9475036295517999,1.1072794547373648,1.1203424658037446,0.5734075023618993,0.97447378043767685,175,0.61699999999999999,null,null,null,null,0.97558436936330062,172,0.60599999999999998,null,null,null,null,1.0940870071364588,107,0.375,null,null,null,null,0.99530617896400597,150,0.52800000000000002,null,null,null,null,0.83018833338738141,207,0.73,null,null,null,null,0.85321016808837613,185,0.65200000000000002,null,null,null,null,1.0583538954061509,128,0.45,null,null,null,null,0.82796969526397746,165,0.58099999999999996,null,null,null,null,1.0192307498188695,107,0.375,null,null,null,null,0.97640192177918306,186,0.65600000000000003,null,null,null,null,1.0284188306375381,148,0.52100000000000002,null,null,null,null,{"$f":"AVERAGE(Data!Z103:AH103)","v":0.84042025992115688},209,0.73699999999999999,null,null,null,null,0.9792893487733384,165,0.58099999999999996,null,null,null,null,0.9713803076670926,174,0.61299999999999999,null,null,null,null,"Gravesham",110,136,75,119,0.47799999999999998,0.26200000000000001,0.41799999999999998,110,0.38600000000000001,0.57607272727272729,0.53896397321611966,0.81104835586513013,0.42039300310629868,0.90615757193131952,0.95360368757308223,0.8340456149924147,0.26948115399017936,0.49152477341132139,0.49169802715721689,0.91503932842924462,0.61555952683654414,0.71436600539024631,0.71022327789496276,0.69866963762726408,0.3991017252793102,0.49914086728441304,0.51280810847832303,0.37960148330420806,0.91377462334653259,0.48148828337509042,0.7412605361601281,8.6940586452058211E-2,0.4740074889166524,0.39025891143281694,0.18152200884648678,0.514340728198181,0.25404422963201279,0.5955747651815263,0.8553863757493988,0.80597389449657364,6.2988288884510329E-2,0.91503932842924462,0.3675057046523626,0.45718345536255506,0.98635078055212444,0.69250905727716017,0.98478266775024381,0.992130857136866,0.31179969975408883,0.64202835211799236,0.67673620631865883,0.62952278775326387,0.46385015302231469,0.53949430365009232,0.33504146952737435,0.75231167847583291,0.48901380865687749,0.41234458000745883,0.79351461249409672,0.59505902801567367,162,{"$f":"AVERAGE(Data!EY103:FQ103)","v":0.6177630973179119},152,{"$f":"AVERAGE(Data!FR103:FZ103)","v":0.44862637737332878},212,{"$f":"AVERAGE(Data!GA103:GL103)","v":0.66893540626888781},103]
["E05004966","29UGFY","Coldharbour","Gravesham","NHS Dartford, Gravesham & Swanley CCG",100,0.80271907508822937,0.82004099528047814,0.70809838394776636,0.60544143922890847,0.78386669003447229,0.69945229643779561,0.50357552532385208,0.47243286112813437,0.96935075409514748,0.86982073581916786,0.89886018825322056,0.67474556813532893,1.3439684382266048,1.1377275807516158,0.6492118841792649,0.87650676736601796,0.39863195428596343,0.56389965525723929,0.28397205472114295,0.68360027609512297,0.85933731016335313,0.75112773381903253,0.15475833015269341,0.78772987041587339,0.27305813559120712,0.39450596098475693,1.3395963617143205,0.30688759536586319,1.3168699395349472,1.1571435075563303,1.2631897449790477,0.48066708195550434,0.89886018825322056,0.85705502041010029,1.260537637361572,0.91565187923275992,1.1604731429265518,0.8525732676628317,0.92708979838506433,0.82387759401712957,0.77695281810549133,231,0.81499999999999995,null,null,null,null,0.6129537624306326,256,0.90400000000000003,null,null,null,null,0.92752398960329596,175,0.61699999999999999,null,null,null,null,0.41550122142144857,263,0.92900000000000005,null,null,null,null,0.6473107041292151,255,0.9,null,null,null,null,0.57851201341403691,267,0.94299999999999995,null,null,null,null,1.2457343973567749,13,4.2000000000000003E-2,null,null,null,null,0.68976363510436245,228,0.80400000000000005,null,null,null,null,1.0587963288858362,70,0.24399999999999999,null,null,null,null,0.93593313644486753,216,0.76200000000000001,null,null,null,null,0.74012225513475549,247,0.872,null,null,null,null,{"$f":"AVERAGE(Data!Z104:AH104)","v":0.61673350825580242},269,0.95,null,null,null,null,0.9928324001895884,139,0.48899999999999999,null,null,null,null,0.7881728306034409,247,0.872,null,null,null,null,"Gravesham",37,37,15,145,0.127,4.9000000000000002E-2,0.51,37,0.127,0.46854645669291334,0.51279476494117238,0.53443465126086309,0.42039300310629868,0.55573247521883817,0.53095788306511016,0.3318408922987266,0.26948115399017936,0.49152477341132139,0.49169802715721689,0.68578452827702707,0.43360108397403224,0.58620447644364226,0.70729875738466719,0.34682280747279493,0.52350262114811141,0.193448894782286,0.29668273124104344,0.10969674180323059,0.49538137231417595,0.53071854607773095,0.47674998918789624,8.6940586452058211E-2,0.4740074889166524,0.11064431179337528,0.11631414049976685,0.62385681939898174,0.10685482517445215,0.77545263635321671,0.94317913674244047,0.91372751217035431,6.6309211959713746E-2,0.68578452827702707,0.29106479722591772,0.60261787935789057,0.79679984615736366,0.84816367678050641,0.7582542721165999,0.82099395889162219,0.44799690515129037,0.50525862429831625,0.42168108153583062,0.53330463440860165,0.19994278927552001,0.41275959658970274,0.239417524216644,0.87745309508867042,0.3760468701183704,0.44684133829190414,0.73444173181947647,0.48655647911671263,245,{"$f":"AVERAGE(Data!EY104:FQ104)","v":0.44686561703523553},248,{"$f":"AVERAGE(Data!FR104:FZ104)","v":0.33571867553500995},263,{"$f":"AVERAGE(Data!GA104:GL104)","v":0.66252869676532855},114]
["E05004967","29UGFZ","Higham","Gravesham","NHS Dartford, Gravesham & Swanley CCG",101,1.3973155767058354,1.0222157343434359,1.1058601916591018,0.60544143922890847,1.1331965746408623,1.1440285083339763,1.3507600574403462,0.47243286112813437,0.96935075409514748,0.86982073581916786,1.1005264829041903,1.0275960077610558,1.9538873012046638,1.4007106296899987,0.97529249487836778,0.78915052590652934,1.5921149693306278,1.4400647167756222,1.5220421584745258,1.1578265950389004,0.91009385116656327,1.0567362426176417,0.15475833015269341,0.78772987041587339,1.312135737127915,1.2086114234618479,0.93566879763603317,1.143571972547583,1.2750307266584739,1.0219773086143156,0.84516407987148223,0.86316169818283817,1.1005264829041903,0.96331525703781484,1.0641226179218612,1.0890385910024207,0.95741101783594162,1.0698255473757246,1.0858160817274045,0.96573269444994547,1.175130500902791,68,0.23699999999999999,null,null,null,null,0.94117188815444552,188,0.66300000000000003,null,null,null,null,1.1357918665323903,94,0.32900000000000001,null,null,null,null,1.5180739481935921,27,9.1999999999999998E-2,null,null,null,null,0.81342897787833446,215,0.75800000000000001,null,null,null,null,1.1499969826933447,86,0.30099999999999999,null,null,null,null,1.0473907050480906,133,0.46800000000000003,null,null,null,null,0.98184409054351418,101,0.35399999999999998,null,null,null,null,1.0137189374798381,115,0.40400000000000003,null,null,null,null,1.0335647864782875,130,0.45700000000000002,null,null,null,null,1.1511477747537104,77,0.26900000000000002,null,null,null,null,{"$f":"AVERAGE(Data!Z105:AH105)","v":0.96301475779611678},167,0.58799999999999997,null,null,null,null,1.0250935086318678,107,0.375,null,null,null,null,1.0710015661016989,104,0.36499999999999999,null,null,null,null,"Gravesham",180,207,117,177,0.73,0.41099999999999998,0.624,180,0.63400000000000001,0.81561194029850737,0.63922033194513994,0.83464391286649198,0.42039300310629868,0.80339443599393223,0.86843800219785894,0.8901096264641134,0.26948115399017936,0.49152477341132139,0.49169802715721689,0.83964563654944102,0.6603477872169109,0.85223540215268101,0.87078919821978107,0.52102201056975883,0.47132821351048859,0.77262466762110282,0.75765666702163914,0.58795597276558609,0.83903671137840274,0.56206530284782608,0.67072345961838487,8.6940586452058211E-2,0.4740074889166524,0.53168295205589311,0.35634087395601183,0.43574570429340176,0.39817895883115234,0.75081517827633004,0.83300616510808134,0.61134890870217218,0.11907528963177598,0.83964563654944102,0.32715187855755085,0.50871889611408749,0.94768088336940859,0.69975014417829973,0.95147223410003667,0.9615556606473521,0.52513293413826834,0.76315872837004639,0.65036324435047654,0.64982388109845002,0.70607910246944261,0.52655470984266484,0.43048712228411479,0.73172341736219459,0.47936046309060848,0.41793538733581914,0.81711837128667297,0.63220491526952605,111,{"$f":"AVERAGE(Data!EY105:FQ105)","v":0.67674319805570793},89,{"$f":"AVERAGE(Data!FR105:FZ105)","v":0.48385800426108705},186,{"$f":"AVERAGE(Data!GA105:GL105)","v":0.67294615078106712},94]
["E05004968","29UGGA","Istead Rise","Gravesham","NHS Dartford, Gravesham & Swanley CCG",102,1.054874857907504,1.2277674580588733,1.0649840110339497,0.60544143922890847,1.316708975891858,1.2757910851087928,1.4803332867871382,0.47243286112813437,0.96935075409514748,0.86982073581916786,1.2051467384637602,1.1440096233609192,2.2926615067495377,1.6085530603199665,1.2268897005373238,0.80052153211378796,1.2728082129367975,1.1603883181443233,1.2731276295144398,1.2723110533755324,1.0240859948814647,0.8676742372489421,0.15475833015269341,0.78772987041587339,1.4862245472247453,1.3822468386886484,0.74755238793933865,1.1222878110721586,1.5090188418128299,1.2170363442541008,1.1587631610074596,0.34645181202183523,1.2051467384637602,1.2280285396818953,0.89301667010309149,1.143470532849731,1.2315725328076788,1.1102314594575491,1.1289103691408289,1.0734245747651907,1.1158754423334425,109,0.38200000000000001,null,null,null,null,1.0301415296289664,146,0.51400000000000001,null,null,null,null,1.2646192064324513,39,0.13400000000000001,null,null,null,null,1.235441386865187,89,0.312,null,null,null,null,0.82131189721490139,212,0.748,null,null,null,null,1.1845778962312228,79,0.27600000000000002,null,null,null,null,1.2949394490247965,2,3.0000000000000001E-3,null,null,null,null,0.77579927524279768,195,0.68700000000000006,null,null,null,null,1.0605226048924934,69,0.24099999999999999,null,null,null,null,1.1375218938041958,35,0.12,null,null,null,null,1.1748216730105439,61,0.21199999999999999,null,null,null,null,{"$f":"AVERAGE(Data!Z106:AH106)","v":0.98276345233326645},154,0.54200000000000004,null,null,null,null,1.1037559646971626,31,0.106,null,null,null,null,1.1102888608641417,75,0.26200000000000001,null,null,null,null,"Gravesham",209,223,130,253,0.78700000000000003,0.45700000000000002,0.89300000000000002,209,0.73699999999999999,0.61572957746478874,0.76775762270565695,0.80379276586134552,0.42039300310629868,0.93349793736364028,0.96845966084114055,0.97549442751617998,0.26948115399017936,0.49152477341132139,0.49169802715721689,0.91946556132169011,0.73515682976154195,1,1,0.65543059326116027,0.47811966313326776,0.61767086008817229,0.61051141336522208,0.49180174786757419,0.92199962122888701,0.63246576615967287,0.55072348497081636,8.6940586452058211E-2,0.4740074889166524,0.60222447444044591,0.40753466081796946,0.34813893826729109,0.39076805207641724,0.8886015270450196,0.99199734610434986,0.83819060795143152,4.7793883749479224E-2,0.91946556132169011,0.41705126202879933,0.4269192731881975,0.99504753424804271,0.90012861910252284,0.98740809629144621,0.99971825254599112,0.58369215390769191,0.72909332201059707,0.71346523656348781,0.7214244310057748,0.57332800710698961,0.53322738954561744,0.43716653140053091,0.90626316036693366,0.48362972253558467,0.42198526760849842,0.89319893121913885,0.66642007022578165,60,{"$f":"AVERAGE(Data!EY106:FQ106)","v":0.69715713780086286},67,{"$f":"AVERAGE(Data!FR106:FZ106)","v":0.4905336748144678},180,{"$f":"AVERAGE(Data!GA106:GL106)","v":0.7496678431237217},3]
["E05004969","29UGGB","Meopham North","Gravesham","NHS Dartford, Gravesham & Swanley CCG",103,1.4490016402803343,1.1909916292833713,1.1881341473416147,0.60544143922890847,1.3178643203676357,1.2248437843172815,1.5162983974070463,0.47243286112813437,0.96935075409514748,0.86982073581916786,1.1998816211093721,1.2644102668119905,1.8624851733065353,1.4282199144517371,1.2907421017083203,0.94921704804851181,1.4546127292974311,1.2815273139695933,1.4280567805782407,1.2431204194449677,0.98073830298256448,1.0573344981187498,0.15475833015269341,0.78772987041587339,1.6991616794236473,1.477911195555329,0.59631698729898563,1.4732377851768277,1.2232729527762722,1.1123040477454249,0.88868441050155178,0.939172746552698,1.1998816211093721,1.1603311275522341,0.9696905414545739,1.138016543491817,1.0008678370983093,1.1145017218209672,1.121343963464414,1.068176896898801,1.2760424723017734,25,8.5000000000000006E-2,null,null,null,null,1.0273761604898013,148,0.52100000000000002,null,null,null,null,1.2292659519188478,55,0.191,null,null,null,null,1.3880656079484217,53,0.184,null,null,null,null,0.84473628422296976,202,0.71199999999999997,null,null,null,null,1.3116569118636974,46,0.159,null,null,null,null,1.0747538036744164,116,0.40699999999999997,null,null,null,null,1.0695271838310352,81,0.28299999999999997,null,null,null,null,1.0650108345034039,67,0.23400000000000001,null,null,null,null,1.0885813925548615,76,0.26500000000000001,null,null,null,null,1.2085964557131779,49,0.17,null,null,null,null,{"$f":"AVERAGE(Data!Z107:AH107)","v":1.0522565631744041},121,0.42499999999999999,null,null,null,null,1.0780203675388698,50,0.17299999999999999,null,null,null,null,1.1342471534396612,58,0.20200000000000001,null,null,null,null,"Gravesham",226,235,163,234,0.82899999999999996,0.57399999999999995,0.82599999999999996,226,0.79700000000000004,0.84578105263157888,0.74476065965016947,0.89673987835633695,0.42039300310629868,0.93431703384192799,0.92978529932441056,0.99919433706213623,0.26948115399017936,0.49152477341132139,0.49169802715721689,0.91544854502884587,0.81252799302212808,0.81236814410824532,0.88789108030271735,0.6895419051112206,0.5669295790894473,0.70589731152603941,0.67424588776358552,0.55164997166103358,0.90084618288060914,0.60569464410047047,0.671103179725689,8.6940586452058211E-2,0.4740074889166524,0.68850750129987759,0.43573985553197497,0.27770784520036162,0.51296490426011532,0.7203370718181471,0.90663082383200544,0.64282931265059429,0.1295612016212799,0.91544854502884587,0.39406051690159538,0.46357430385646192,0.99030147520541711,0.73151175437274485,0.99120594546515617,0.99301774374772711,0.58083864331285884,0.82909386354602843,0.71063416546499047,0.70849125590389295,0.6439310569835528,0.54771841641509578,0.47873002657308239,0.75659906943358235,0.5225048733250629,0.42881741037902865,0.85737511242078079,0.66882512905813707,57,{"$f":"AVERAGE(Data!EY107:FQ107)","v":0.7179039808497284},52,{"$f":"AVERAGE(Data!FR107:FZ107)","v":0.51705690981864538},156,{"$f":"AVERAGE(Data!GA107:GL107)","v":0.70494311148440281},34]
["E05004970","29UGGC","Meopham South and Vigo","Gravesham","NHS Dartford, Gravesham & Swanley CCG",104,1.4525962235902505,0.92097712612218507,1.101572228476722,0.60544143922890847,1.2296640685318614,1.2260612085687057,1.3956174484630364,0.47243286112813437,0.96935075409514748,0.86982073581916786,1.2423236691326225,1.242479608294176,1.6638470267229528,1.3892620434065506,1.1097280564551872,0.97295504895833429,1.6396694192919559,1.4922515024673453,1.4254732173386924,1.2645367452524134,1.3391189274294244,1.0546983794397375,0.15475833015269341,0.78772987041587339,1.5049661356713917,1.5471595962068734,0.70798569426279068,1.524759702719283,1.0624411363375941,0.90772796863983662,0.6424655438255118,0.30109054884913039,1.2423236691326225,0.83030780541380267,0.99420322451071863,1.1124161787435887,1.1335897567832423,1.0860851172174453,1.0998851573701804,0.47227026783663539,1.1583818593963857,76,0.26500000000000001,null,null,null,null,0.98584340518412927,166,0.58499999999999996,null,null,null,null,1.1824708678605174,77,0.26900000000000002,null,null,null,null,1.5191313796993311,25,8.5000000000000006E-2,null,null,null,null,0.92016845053802854,188,0.66300000000000003,null,null,null,null,1.3212177822150846,44,0.152,null,null,null,null,0.8708782162676475,224,0.79,null,null,null,null,0.77170710899087647,197,0.69499999999999995,null,null,null,null,0.91225551496226065,228,0.80400000000000005,null,null,null,null,0.98084929559021838,180,0.63400000000000001,null,null,null,null,1.1800801940048384,57,0.19800000000000001,null,null,null,null,{"$f":"AVERAGE(Data!Z108:AH108)","v":1.0984125979500534},102,0.35799999999999998,null,null,null,null,0.90706719788835899,242,0.85399999999999998,null,null,null,null,1.0798010860575682,99,0.34699999999999998,null,null,null,null,"Gravesham",185,227,182,42,0.80100000000000005,0.64100000000000001,0.14499999999999999,185,0.65200000000000002,0.84787920792079219,0.57591297462450819,0.83140758842352636,0.42039300310629868,0.87178631925643624,0.93070945241765279,0.91966927723067804,0.26948115399017936,0.49152477341132139,0.49169802715721689,0.94782966532220136,0.79843504042687441,0.72572729198123187,0.86367187858273353,0.59284034912219941,0.58110734263878339,0.7957019841485159,0.7851135345145771,0.55065195631089869,0.91636585020582206,0.82702710773190702,0.66943000285425702,8.6940586452058211E-2,0.4740074889166524,0.60981864537076491,0.45615670343628101,0.32971252836005882,0.53090425917307049,0.62562957465187907,0.73988237091414732,0.46472704939873916,4.1536185381115226E-2,0.94782966532220136,0.28198116487576802,0.47529293933614886,0.96802404952039278,0.82851521548297291,0.96593303033055922,0.9740146760847227,0.25680467574578159,0.75173325698960891,0.68240784120024911,0.68660429608032025,0.71048915832466386,0.59475420723213934,0.48164803408504375,0.61007966498825528,0.49468292535165831,0.37863705210595844,0.79865832943288573,0.64405186475329812,99,{"$f":"AVERAGE(Data!EY108:FQ108)","v":0.69955478003087512},65,{"$f":"AVERAGE(Data!FR108:FZ108)","v":0.54448479694454133},123,{"$f":"AVERAGE(Data!GA108:GL108)","v":0.63084754975370239},193]
["E05004971","29UGGD","Northfleet North","Gravesham","NHS Dartford, Gravesham & Swanley CCG",105,0.54891289430203183,0.5634670352528508,0.70142799781461918,0.60544143922890847,0.62602592175816407,0.71499811282833969,0.26450564983453795,0.47243286112813437,0.96935075409514748,0.86982073581916786,0.96828559501307443,0.64864736470395723,1.4651467504760098,1.085740108986591,0.74165329845831718,0.90445500227137698,0.77670242869916073,1.0118813770125148,0.43317474422138857,0.40962724717714943,1.3256809045535969,1.0946469466398125,0.15475833015269341,0.78772987041587339,0.35969789359076326,0.82738800240589772,1.3231266248221443,0.3239123888978363,1.137014332407603,0.96033508416734803,1.221362396047128,0.99350127808332489,0.96828559501307443,0.90718264448083852,0.86055286415800936,0.92276534315225311,0.86389459901236709,0.96430426787957502,0.91611528266915898,0.60359996535794747,0.60460264245650064,264,0.93200000000000005,null,null,null,null,0.53668079695561688,264,0.93200000000000005,null,null,null,null,0.95663745122795529,166,0.58499999999999996,null,null,null,null,0.74058618331102144,206,0.72599999999999998,null,null,null,null,0.75448865978782509,231,0.81499999999999995,null,null,null,null,0.7085312274291603,231,0.81499999999999995,null,null,null,null,1.1062372708740262,98,0.34300000000000003,null,null,null,null,0.9808934365481996,102,0.35799999999999998,null,null,null,null,0.88386775431942399,243,0.85799999999999998,null,null,null,null,0.85413589161426029,250,0.88200000000000001,null,null,null,null,0.75642474062654164,243,0.85799999999999998,null,null,null,null,{"$f":"AVERAGE(Data!Z109:AH109)","v":0.7340631342950853},243,0.85799999999999998,null,null,null,null,0.94324280436905228,208,0.73399999999999999,null,null,null,null,0.80743879832471721,244,0.86099999999999999,null,null,null,null,"Gravesham",40,41,41,76,0.14099999999999999,0.14099999999999999,0.26500000000000001,40,0.13800000000000001,0.32040000000000002,0.35235183064934206,0.52940020185713899,0.42039300310629868,0.4438292116157142,0.54275879329627164,0.17430114539958988,0.26948115399017936,0.49152477341132139,0.49169802715721689,0.73875257653130633,0.4168300078350809,0.63905934049254753,0.6749793561491968,0.39620697866298804,0.54019498996277093,0.37691967437910084,0.53237792898999436,0.16733286702875064,0.29684263587930132,0.81872791266790723,0.69478584863547044,8.6940586452058211E-2,0.4740074889166524,0.14575110828947704,0.2439428902910277,0.61618677940220079,0.112782667693865,0.66954278107999121,0.78276204269706362,0.88347172547468389,0.1370559568228808,0.73875257653130633,0.30808865962460591,0.41139949074404986,0.80298997920383053,0.63140110041781972,0.85762462708263298,0.8112753630013273,0.32821734489864562,0.40071734416882698,0.37015266148161075,0.54865575627530361,0.35887682346594857,0.47426089451027786,0.27966586141914263,0.77859218308391298,0.43790426667709359,0.35974407518432788,0.68630168292085125,0.48428353565804017,248,{"$f":"AVERAGE(Data!EY109:FQ109)","v":0.4483574663428847},247,{"$f":"AVERAGE(Data!FR109:FZ109)","v":0.38777421313644},244,{"$f":"AVERAGE(Data!GA109:GL109)","v":0.61354847063156981},226]
["E05004972","29UGGE","Northfleet South","Gravesham","NHS Dartford, Gravesham & Swanley CCG",106,0.65066117118387201,0.89386851973365677,0.85204116224882775,0.60544143922890847,0.83239957184280589,0.80427169972861368,0.61730859697062024,0.47243286112813437,0.96935075409514748,0.86982073581916786,1.0876358887449411,1.0044542423198384,1.3864115374087191,1.1109332632985445,0.89841993315213398,1.1329192050576644,0.46068471538061312,0.52742744213840143,0.4441236146642783,0.80179291835009447,1.2394703896155419,0.87503224356245957,0.15475833015269341,0.78772987041587339,0.58123257431012176,0.74053826380591992,1.2695064064300667,0.31509464672761472,1.3724614867429907,1.0929668946461697,1.3628611820850267,1.1436118238915627,1.0876358887449411,1.134636213087826,0.86470345231344858,0.96857778037360021,0.98950923576936323,0.97385809950187496,0.97848146680410497,1.0463843323766966,0.79885695105545229,226,0.79700000000000004,null,null,null,null,0.66637083377981665,249,0.879,null,null,null,null,1.0574931949870197,121,0.42499999999999999,null,null,null,null,0.47741192406109761,249,0.879,null,null,null,null,0.77175675041933256,226,0.79700000000000004,null,null,null,null,0.72659297281843083,222,0.78300000000000003,null,null,null,null,1.2760965211580624,7,2.1000000000000001E-2,null,null,null,null,1.1156238563182519,73,0.255,null,null,null,null,0.99966983270063725,133,0.46800000000000003,null,null,null,null,0.99136218296512801,173,0.60899999999999999,null,null,null,null,0.82213717653394158,222,0.78300000000000003,null,null,null,null,{"$f":"AVERAGE(Data!Z110:AH110)","v":0.75168396037448726},238,0.84,null,null,null,null,1.0846406546948006,42,0.14499999999999999,null,null,null,null,0.88503624634632205,218,0.76900000000000002,null,null,null,null,"Gravesham",66,62,46,242,0.216,0.159,0.85399999999999998,66,0.23,0.37979038461538456,0.5589611984073527,0.64307493383566716,0.42039300310629868,0.5901404923979614,0.61052683831607113,0.40678751317524142,0.26948115399017936,0.49152477341132139,0.49169802715721689,0.82981076995924241,0.64547656011405696,0.60471706500377775,0.69064135383731906,0.47995505180756171,0.67664756905300294,0.22356198010544096,0.27749372181069348,0.17156235156443891,0.58103147423069268,0.76548511894370641,0.55539370186266002,8.6940586452058211E-2,0.4740074889166524,0.23551789818382601,0.2183365530061111,0.59121557176264616,0.10971242858267143,0.80818830032976363,0.8908692529912996,0.9858247838773857,0.15776407762635236,0.82981076995924241,0.38533425675467786,0.41338373822558799,0.8428559411026364,0.7232100085503923,0.86612153159214256,0.8665043823510219,0.56898858023053933,0.52727550561946812,0.45946580019715044,0.61380889629293733,0.22420601782685778,0.49257167408115399,0.28869561288381368,0.89496077906614957,0.49378742379279739,0.39935899749013293,0.77353608876534641,0.53546852968000735,217,{"$f":"AVERAGE(Data!EY110:FQ110)","v":0.49801288114043302},220,{"$f":"AVERAGE(Data!FR110:FZ110)","v":0.40196009132678051},230,{"$f":"AVERAGE(Data!GA110:GL110)","v":0.69490463529925339},53]
["E05004973","29UGGF","Painters Ash","Gravesham","NHS Dartford, Gravesham & Swanley CCG",107,0.9958015374163901,1.1392328795643378,1.0182648321075702,0.60544143922890847,1.0838139165137444,1.0188865995225636,1.123460011429271,0.47243286112813437,0.96935075409514748,0.86982073581916786,1.1638756554500815,0.83373852368158641,1.3524402180235169,1.1338130623657914,0.91563919844413333,0.57999230534872381,0.92997797215198141,0.99845647134496807,0.9130835992082782,1.0087527117070489,0.88782773913705071,1.0173974897430014,0.15475833015269341,0.78772987041587339,0.75049793183714442,0.35255577634275137,1.2072066615961201,0.57192168056914672,1.2958314361405816,1.0968579296665959,1.3128170472728549,0.39728962844809157,1.1638756554500815,0.98832363890520247,1.1204025067954269,1.1121448313735287,1.0983203488619329,1.0914284009521777,1.1070549471711484,0.48548870490976992,1.0510997496960994,131,0.46,null,null,null,null,0.8608069655645243,210,0.74099999999999999,null,null,null,null,0.97733380665351866,156,0.54900000000000004,null,null,null,null,0.94717268090174256,159,0.56000000000000005,null,null,null,null,0.77129322823113344,228,0.80400000000000005,null,null,null,null,0.72054551258629052,228,0.80400000000000005,null,null,null,null,1.2351688043600106,18,0.06,null,null,null,null,0.78058264194908655,189,0.66600000000000004,null,null,null,null,1.0543630728503146,73,0.255,null,null,null,null,0.97888744665371141,182,0.64100000000000001,null,null,null,null,0.95355381962338392,182,0.64100000000000001,null,null,null,null,{"$f":"AVERAGE(Data!Z111:AH111)","v":0.74873868794453668},239,0.84299999999999997,null,null,null,null,1.0224862563289494,111,0.39,null,null,null,null,0.92815014600731283,197,0.69499999999999995,null,null,null,null,"Gravesham",87,102,45,173,0.35799999999999998,0.156,0.60899999999999999,87,0.30399999999999999,0.58124852941176464,0.71239445351099617,0.76853163737590713,0.42039300310629868,0.76838395885187882,0.77344212710583404,0.74032583774771576,0.26948115399017936,0.49152477341132139,0.49169802715721689,0.88797782767201117,0.53577221502659755,0.58989964896342828,0.7048651924110344,0.48915394985105631,0.34640632953493417,0.45130153002139067,0.52531472609038599,0.35271884737205256,0.73100804684512521,0.54831396392264842,0.64575467047210544,8.6940586452058211E-2,0.4740074889166524,0.30410493718007453,0.10394576041683591,0.56220226464098744,0.19913672665015425,0.76306389359867532,0.89404080693221955,0.9496253902531111,5.4807086174873738E-2,0.88797782767201117,0.33564498509544438,0.53562429447607041,0.96778792316317919,0.80273759978997217,0.97068519401274767,0.98036395759269657,0.2639924169135287,0.68739154009955594,0.59440521616038144,0.56716224550345007,0.44311170116127641,0.49720495132171794,0.29234742222201304,0.86891003026133529,0.47139245692344245,0.43563463978575739,0.79711341829442472,0.57406498974457942,179,{"$f":"AVERAGE(Data!EY111:FQ111)","v":0.57372809308484241},182,{"$f":"AVERAGE(Data!FR111:FZ111)","v":0.40615716061073798},227,{"$f":"AVERAGE(Data!GA111:GL111)","v":0.70052928130621084},39]
["E05004974","29UGGG","Pelham","Gravesham","NHS Dartford, Gravesham & Swanley CCG",108,1.1482931321725212,0.76886872429561293,0.9247566958617448,0.60544143922890847,0.96012659084239727,0.76421655303092229,0.54640665425857693,0.47243286112813437,0.96935075409514748,0.86982073581916786,0.85765442374721979,0.85174670007103526,1.555176135215584,0.99103968664877662,0.78870199838467059,0.65243120466891891,1.5431246640601377,1.652060522690372,1.7507059725476644,0.87051233397468242,1.0403214746131453,1.2765957374745505,0.15475833015269341,0.78772987041587339,0.6991241081612205,1.1235522805151115,1.5840089624287725,0.68631880464826744,1.305079874921951,1.2228403646891874,1.366892028717702,1.8268774843705624,0.85765442374721979,1.3294767307360307,0.50558025784321636,0.38347432251411795,0.80457423541368289,0.60559151279486334,0.50510082556343061,0.33887637043614482,0.94730618410995959,186,0.65600000000000003,null,null,null,null,0.66972481969778785,248,0.875,null,null,null,null,0.94199020483131513,173,0.60899999999999999,null,null,null,null,1.6486303864327247,7,2.1000000000000001E-2,null,null,null,null,0.82598354932618911,210,0.74099999999999999,null,null,null,null,1.0232510389383429,127,0.44600000000000001,null,null,null,null,1.2982707561096134,1,0,null,null,null,null,1.342265954058891,45,0.156,null,null,null,null,0.91752849428962358,224,0.79,null,null,null,null,0.52752345334444795,280,0.98899999999999999,null,null,null,null,0.98275554993513214,167,0.58799999999999997,null,null,null,null,{"$f":"AVERAGE(Data!Z112:AH112)","v":0.91365798915381313},187,0.65900000000000003,null,null,null,null,0.92100153597900924,230,0.81200000000000006,null,null,null,null,0.94868239457249859,188,0.66300000000000003,null,null,null,null,"Gravesham",96,117,97,54,0.41099999999999998,0.34,0.187,96,0.33600000000000002,0.67025774647887315,0.48079530049706282,0.69795671541947257,0.42039300310629868,0.68069422216270614,0.58012076773086996,0.36006529823013156,0.26948115399017936,0.49152477341132139,0.49169802715721689,0.6543466293208422,0.54734452490399199,0.67832784326739237,0.61610630764747243,0.42134139562923267,0.38967120218522205,0.74885055641970977,0.86919334579783469,0.67628746509061388,0.63083004747175964,0.64249264395976979,0.81027097873733822,8.6940586452058211E-2,0.4740074889166524,0.28328804647469519,0.33126246682928473,0.73768100708759288,0.23896852460654139,0.76850993349969776,0.99672816034463463,0.98874049426868227,0.25202226423063057,0.6543466293208422,0.45150412264442114,0.24169980633374988,0.3336991799116667,0.58804518304524422,0.53859576549127397,0.44729725981356272,0.18426956417646995,0.6163365874651362,0.46215088904403723,0.53629508794033653,0.76477712243605278,0.52890834910751561,0.39780001124952852,0.91799286270433822,0.45318444677573638,0.34660196448908553,0.4183813904876435,0.53564141080157535,215,{"$f":"AVERAGE(Data!EY112:FQ112)","v":0.56549769886560231},183,{"$f":"AVERAGE(Data!FR112:FZ112)","v":0.47063797672618812},193,{"$f":"AVERAGE(Data!GA112:GL112)","v":0.53712153025673959},271]
["E05004975","29UGGH","Riverside","Gravesham","NHS Dartford, Gravesham & Swanley CCG",109,0.64166373605477256,0.6795762073407372,0.67254757536195564,0.60544143922890847,0.72502925357339232,0.47251543441163657,0.29781895859117624,0.47243286112813437,0.96935075409514748,0.86982073581916786,0.89197156135228484,0.74642021337639908,1.7313110517856767,0.99887406051061256,0.74272583670723757,0.94266100649247497,0.66809436253284049,0.83799904622616728,0.34654938505260346,0.66064481680658838,1.2104328492459986,1.0448347033843175,0.15475833015269341,0.78772987041587339,0.46236059154392217,0.93214088650329252,1.3660221867668014,0.38649203622261935,1.1222319751448171,1.1680890753821607,1.2566508169121717,0.82124991698404171,0.89197156135228484,0.93674611748936121,0.7654191093405317,0.96513351566476124,0.61431480929446802,0.95065325796900413,0.9777647177259704,1.106685720591932,0.6645958395858218,256,0.90400000000000003,null,null,null,null,0.51464758938664956,267,0.94299999999999995,null,null,null,null,0.98664190251737516,150,0.52800000000000002,null,null,null,null,0.61754759793720382,231,0.81499999999999995,null,null,null,null,0.77168011400109426,227,0.80100000000000005,null,null,null,null,0.78675392525915888,213,0.751,null,null,null,null,1.1823239558130498,39,0.13400000000000001,null,null,null,null,0.85661073916816322,150,0.52800000000000002,null,null,null,null,0.85108261341494651,258,0.91100000000000003,null,null,null,null,0.9229104042492271,222,0.78300000000000003,null,null,null,null,0.75330544629691187,244,0.86099999999999999,null,null,null,null,{"$f":"AVERAGE(Data!Z113:AH113)","v":0.77837958567134513},228,0.80400000000000005,null,null,null,null,0.96474254948762528,184,0.64800000000000002,null,null,null,null,0.82237825861337321,241,0.85099999999999998,null,null,null,null,"Gravesham",43,40,56,100,0.13800000000000001,0.19500000000000001,0.35099999999999998,43,0.14799999999999999,0.37453858921161826,0.4249581710042622,0.50760280921841472,0.42039300310629868,0.51401891012448631,0.3586889285352507,0.19625359850206439,0.26948115399017936,0.49152477341132139,0.49169802715721689,0.68052885691514908,0.47966022883935883,0.75515336506882524,0.62097675553949139,0.39677995142531319,0.56301391629399056,0.32421413951562078,0.44089377160259746,0.13386999805848634,0.47874634842358565,0.74755181030653339,0.6631694066320073,8.6940586452058211E-2,0.4740074889166524,0.18735046784448384,0.27482770036651083,0.63616346014421132,0.13457220032843298,0.66083803540481045,0.95210078833164058,0.90899758264190755,0.11329345582736038,0.68052885691514908,0.31812872248124974,0.36591945120833419,0.83985874352965961,0.44898885469931904,0.84548380942390966,0.86586965779228475,0.60177844548835124,0.43569985647809845,0.3517671188516559,0.55991698433133341,0.29965930305890148,0.49008312814616745,0.30822845717090974,0.84064546879278623,0.39691115637125474,0.34202408684479196,0.7203959021867048,0.49323412051695997,242,{"$f":"AVERAGE(Data!EY113:FQ113)","v":0.44443415513262868},249,{"$f":"AVERAGE(Data!FR113:FZ113)","v":0.40925882993494178},225,{"$f":"AVERAGE(Data!GA113:GL113)","v":0.63348220031199809},187]
["E05004976","29UGGJ","Riverview","Gravesham","NHS Dartford, Gravesham & Swanley CCG",110,1.1410272663963532,0.76448316247697068,1.0550741153410812,0.60544143922890847,1.2997204617904925,1.2429197931995803,1.3028559825256787,0.47243286112813437,0.96935075409514748,0.86982073581916786,1.2218895878197666,1.0996630005384884,1.3235237894776708,1.2364721257873106,1.191523335973258,0.71451623568864331,1.0842395657951576,1.1272509580223391,0.78296616868525903,1.2501980365865155,1.1993409474612959,0.94209197184471516,0.15475833015269341,0.78772987041587339,1.0431377188374162,0.83115616996776098,1.0100415798066371,0.55452485421668885,1.6981951931041166,1.0384414720000787,1.11613308158966,0.46453141819767385,1.2218895878197666,1.0295072045104854,0.84242029863425538,1.1322344044325714,1.2369040393025088,1.0948558975138407,1.1198259367217407,0.89675441072608297,0.98686151473813499,167,0.58799999999999997,null,null,null,null,0.98467410757455887,168,0.59199999999999997,null,null,null,null,1.0783449456499317,111,0.39,null,null,null,null,0.99815223083425186,149,0.52400000000000002,null,null,null,null,0.86682383129221885,199,0.70199999999999996,null,null,null,null,0.85971508070712577,183,0.64500000000000002,null,null,null,null,1.2842565822312852,5,1.4E-2,null,null,null,null,0.84321050300872025,158,0.55600000000000005,null,null,null,null,0.93596375157237044,208,0.73399999999999999,null,null,null,null,1.0961149377393489,68,0.23699999999999999,null,null,null,null,1.0265879652520742,149,0.52400000000000002,null,null,null,null,{"$f":"AVERAGE(Data!Z114:AH114)","v":0.86366438658773304},204,0.71899999999999997,null,null,null,null,1.0743077453793983,53,0.184,null,null,null,null,1.0042460940907945,159,0.56000000000000005,null,null,null,null,"Gravesham",125,135,80,231,0.47499999999999998,0.28000000000000003,0.81499999999999995,125,0.439,0.6660166666666667,0.47805288498994969,0.79631330853068116,0.42039300310629868,0.92145370954803196,0.94350689186087189,0.85854230405660525,0.26948115399017936,0.49152477341132139,0.49169802715721689,0.93223950236132547,0.70665906018073166,0.57728704633512196,0.7686859428444075,0.63653712851240229,0.42675212121857758,0.52616189802946867,0.59307695953030448,0.30245524592648149,0.90597508615186306,0.74070155730483922,0.5979573342437422,8.6940586452058211E-2,0.4740074889166524,0.4226838169702713,0.24505387774004667,0.47038148613102143,0.19307934646746547,1,0.84642598322741225,0.80735416666073945,6.4083257263844437E-2,0.93223950236132547,0.34963135223230118,0.40273096085698207,0.98526986044290732,0.90402529709028778,0.9737335113939275,0.99167343946637088,0.48762486515406012,0.64679428672909911,0.68267541251239749,0.62892295025263811,0.47389803449541823,0.561116410613831,0.33279963182720118,0.88459338329605064,0.49816137981258496,0.37618115654464163,0.86846539470951067,0.61721026011961921,136,{"$f":"AVERAGE(Data!EY114:FQ114)","v":0.62141250675034976},147,{"$f":"AVERAGE(Data!FR114:FZ114)","v":0.4596422867086622},202,{"$f":"AVERAGE(Data!GA114:GL114)","v":0.72873268301251326},11]
["E05004977","29UGGK","Shorne, Cobham and Luddesdown","Gravesham","NHS Dartford, Gravesham & Swanley CCG",111,1.3582384117049544,1.1703569416063673,1.189210164041353,0.60544143922890847,1.3245704118215818,1.2301511020170395,1.4719634301667204,0.47243286112813437,0.96935075409514748,0.86982073581916786,1.1565889702682268,1.241254619983555,1.9077617500959301,1.442814815538394,1.1079808078484767,0.78846039195021578,1.3711527659493326,1.26394644332568,1.1939666515990111,1.1676036107189716,0.98107095779060083,0.84058532388437146,0.15475833015269341,0.78772987041587339,1.6501150296295408,1.3883182118559136,0.71178002923094819,1.9130720406574424,0.93696827334717514,0.67159859397128907,0.89542315337018086,2.0610821252469229,1.1565889702682268,0.78295490792063083,1.2028030127931342,1.0028074724476483,0.9556820316023289,0.88444378970064785,1.0532556225463521,0.53122167269453058,1.239268505784225,37,0.127,null,null,null,null,1.0209118488724769,152,0.53500000000000003,null,null,null,null,1.1855041056998892,74,0.25800000000000001,null,null,null,null,1.2763552869580079,72,0.251,null,null,null,null,0.78634961859250219,221,0.78,null,null,null,null,1.4158213278434613,28,9.5000000000000001E-2,null,null,null,null,0.83466334022954847,231,0.81499999999999995,null,null,null,null,1.6088355477575749,24,8.1000000000000003E-2,null,null,null,null,0.9928789603568825,141,0.496,null,null,null,null,0.88548211779830166,241,0.85099999999999998,null,null,null,null,1.1650243930625368,69,0.24099999999999999,null,null,null,null,{"$f":"AVERAGE(Data!Z115:AH115)","v":1.0661148227040396},116,0.40699999999999997,null,null,null,null,1.0112358021590888,122,0.42899999999999999,null,null,null,null,1.0966331624608403,90,0.315,null,null,null,null,"Gravesham",194,215,168,162,0.75800000000000001,0.59199999999999997,0.56999999999999995,194,0.68400000000000005,0.79280263157894726,0.73185720741075466,0.89755199800342533,0.42039300310629868,0.93907140451506055,0.93381411184667829,0.96997894761364567,0.26948115399017936,0.49152477341132139,0.49169802715721689,0.88241845812216779,0.79764784554272172,0.8321166227458906,0.89696439062532096,0.59190693172504516,0.47091602395471466,0.6653956972056837,0.66499612023561583,0.46122232566419114,0.84612177499540009,0.60590008854467048,0.53352981927029997,8.6940586452058211E-2,0.4740074889166524,0.66863359129719635,0.40932471374857926,0.33147956939765899,0.66611026818101982,0.55174356702452965,0.54741505955210246,0.64770377809094692,0.28433137329347424,0.88241845812216779,0.26589962847648912,0.57501702398337051,0.87264260347640776,0.69848646709111994,0.78659900260059301,0.93272140928038982,0.28886046549227234,0.80740394566437568,0.70654772421437251,0.68189913416054992,0.59720471436849698,0.50929995163581621,0.5188870356561136,0.58228746822252631,0.58337491570782096,0.42045832622992985,0.71586198958815661,0.62894111029355693,116,{"$f":"AVERAGE(Data!EY115:FQ115)","v":0.694829351287099},73,{"$f":"AVERAGE(Data!FR115:FZ115)","v":0.51356087786705951},159,{"$f":"AVERAGE(Data!GA115:GL115)","v":0.61115323637365526},228]
["E05004978","29UGGL","Singlewell","Gravesham","NHS Dartford, Gravesham & Swanley CCG",112,0.70611330065143996,1.0191984789101609,0.66053590266741891,0.60544143922890847,0.74855769166633579,0.76550233161127867,0.48468252296911524,0.47243286112813437,0.96935075409514748,0.86982073581916786,1.0251729955795936,0.71804812839508148,1.3395627990116945,1.1046478548189218,0.69956725445558998,0.83987980065377144,0.39179037369334974,0.58434704802821325,0.37637946182719034,0.62155624304060486,1.0345916676010949,0.78691196233712579,0.15475833015269341,0.78772987041587339,0.32600074697063175,0.51627753194169601,1.2493246735679304,0.22826235575410689,1.2947704235820361,1.0522073492905526,1.1517176392592909,0.17393963748212343,1.0251729955795936,0.83331470780876526,1.1647850024799753,1.0609507005403938,1.0629711455044841,1.0309776762386711,1.0551558774284744,0.27348995646456548,0.79528256074300663,227,0.80100000000000005,null,null,null,null,0.6153233693207546,255,0.9,null,null,null,null,0.94575629035362097,170,0.59899999999999998,null,null,null,null,0.45083896118291777,256,0.90400000000000003,null,null,null,null,0.67710961470947839,247,0.872,null,null,null,null,0.5799663270585913,266,0.93899999999999995,null,null,null,null,1.1662318040439599,52,0.18,null,null,null,null,0.5995563165308585,257,0.90700000000000003,null,null,null,null,0.99904985514437028,134,0.47099999999999997,null,null,null,null,0.89670907123531796,238,0.84,null,null,null,null,0.75689640711634276,241,0.85099999999999998,null,null,null,null,{"$f":"AVERAGE(Data!Z116:AH116)","v":0.63393482019797309},263,0.92900000000000005,null,null,null,null,0.93162109263824366,221,0.78,null,null,null,null,0.78164745571627992,250,0.88200000000000001,null,null,null,null,"Gravesham",34,43,21,63,0.14799999999999999,7.0000000000000007E-2,0.219,34,0.11700000000000001,0.41215774647887321,0.63733355701610783,0.49853704342500216,0.42039300310629868,0.53069970203165318,0.58109680895139826,0.31939098072773459,0.26948115399017936,0.49152477341132139,0.49169802715721689,0.7821547648496372,0.46142792412559847,0.5842828498965309,0.68673386167266992,0.37372371812486305,0.50162679110040254,0.19012879916532593,0.30744065293419209,0.14539318203208446,0.45042021692374651,0.63895396966880569,0.49946267811013545,8.6940586452058211E-2,0.4740074889166524,0.13209688191342553,0.15221665405826287,0.58181683641730686,7.9478396932060658E-2,0.7624391052569971,0.85764644825577385,0.83309423420038986,2.3995402895232141E-2,0.7821547648496372,0.28300234019710169,0.55684197543799285,0.9232388139469323,0.77690166341034572,0.91692204894931584,0.93440419964362575,0.14871463306664345,0.51600944897332779,0.42421232976145279,0.54664658879228001,0.21432087804386749,0.42995698801427967,0.23640219233026399,0.81772659590438701,0.40307508387243468,0.41992215781754727,0.74003627180337261,0.48949936699248831,244,{"$f":"AVERAGE(Data!EY116:FQ116)","v":0.45711712316826786},241,{"$f":"AVERAGE(Data!FR116:FZ116)","v":0.34393263437693933},262,{"$f":"AVERAGE(Data!GA116:GL116)","v":0.64994630250916574},148]
["E05004979","29UGGM","Westcourt","Gravesham","NHS Dartford, Gravesham & Swanley CCG",113,0.78830806032561562,0.90545279607237672,0.6559652760356468,0.60544143922890847,0.64396023431967064,0.75399406088634324,0.45697675750798367,0.47243286112813437,0.96935075409514748,0.86982073581916786,0.76235341496358255,0.65394683560994549,1.4478032063582125,1.0678020495768914,0.61342909242469335,0.69269652102018564,0.44587658609447178,0.42998207387109533,0.48535879359891598,0.60250460429970387,1.0988866989433241,0.62347284028247019,0.15475833015269341,0.78772987041587339,0.26505967457517932,0.49831975157734809,1.293001890020288,0.24296209938789018,1.2713633637176711,1.1413109989124941,1.160245001160898,0.10934951911756903,0.76235341496358255,0.79387951713145277,1.2352282474636718,1.0501075382207485,0.73938368156237011,1.0361186634274613,1.0350590901986378,0.52320084864441707,0.78324204414454635,228,0.80400000000000005,null,null,null,null,0.58656107061420815,259,0.91400000000000003,null,null,null,null,0.88465032623347839,194,0.68400000000000005,null,null,null,null,0.45373915118816105,255,0.9,null,null,null,null,0.65347046881881299,251,0.88600000000000001,null,null,null,null,0.57483585389017644,268,0.94599999999999995,null,null,null,null,1.1909731212636876,35,0.12,null,null,null,null,0.43585146704057581,278,0.98199999999999998,null,null,null,null,1.0145538822975624,112,0.39300000000000002,null,null,null,null,0.87677396441072697,245,0.86499999999999999,null,null,null,null,0.72215534468089426,251,0.88600000000000001,null,null,null,null,{"$f":"AVERAGE(Data!Z117:AH117)","v":0.61852175107275231},268,0.94599999999999995,null,null,null,null,0.90479999037674774,245,0.86499999999999999,null,null,null,null,0.75363117982781835,258,0.91100000000000003,null,null,null,null,"Gravesham",26,33,16,39,0.113,5.2999999999999999E-2,0.13400000000000001,26,8.7999999999999995E-2,0.46013475935828879,0.56620517315534158,0.49508737978309936,0.42039300310629868,0.45654397553904924,0.57236082067461191,0.30113372740604366,0.26948115399017936,0.49152477341132139,0.49169802715721689,0.58163681503924691,0.420235523095708,0.6314945324880783,0.66382768210610898,0.32770687845491503,0.41372007372398989,0.21637586215027504,0.22622510028414661,0.18749125971437941,0.43661415616816518,0.67866196925220978,0.39572586190144343,8.6940586452058211E-2,0.4740074889166524,0.1074033015498664,0.14692207300009877,0.60215753762770596,8.4596683105291559E-2,0.74865561325359586,0.93027417574352678,0.83926249609984094,1.5085036427626377E-2,0.58163681503924691,0.2696097393666847,0.59051836688316728,0.91380309905996882,0.54039887586191071,0.92149429587125253,0.91660728187194174,0.28449901134264149,0.5071424374322433,0.40398253614323654,0.50273053818457314,0.21003074071626701,0.41439001253810581,0.23526989882074067,0.83939742836565456,0.29836092573343664,0.43006405312492602,0.715360512801543,0.46895377463582982,253,{"$f":"AVERAGE(Data!EY117:FQ117)","v":0.43122508003359472},252,{"$f":"AVERAGE(Data!FR117:FZ117)","v":0.33478107310816579},264,{"$f":"AVERAGE(Data!GA117:GL117)","v":0.6293204005684504},197]
["E05004980","29UGGN","Whitehill","Gravesham","NHS Dartford, Gravesham & Swanley CCG",114,1.0271324613075898,1.133069698961956,0.90006905150595984,0.60544143922890847,0.94309483553252127,1.009076899290726,0.88395136230693838,0.47243286112813437,0.96935075409514748,0.86982073581916786,0.99707144545543913,0.8336940050042756,1.3603101764803676,1.0929389208119518,0.89502122724639865,0.64815047749392607,0.728919479988409,0.91538817532815131,0.30567156783255933,1.05844811934073,1.0758111957365601,0.86649807137740154,0.15475833015269341,0.78772987041587339,0.65135009415689005,0.42452615002373523,1.178486863793673,0.42945169990083543,1.4618061540210519,1.1845521100613585,1.2383637425177061,0.27491140013110971,0.99707144545543913,0.94364466574485051,1.0412827152438895,1.0605396204808359,0.84714969580174515,1.0519462090016471,1.0578890344370857,0.66910286787999662,1.0200904039251686,153,0.53900000000000003,null,null,null,null,0.78279947949744577,226,0.79700000000000004,null,null,null,null,0.95829471780083419,165,0.58099999999999996,null,null,null,null,0.64999307438303988,223,0.78700000000000003,null,null,null,null,0.7886491174046516,220,0.77600000000000002,null,null,null,null,0.67095370196878346,241,0.85099999999999998,null,null,null,null,1.2949073355333722,3,7.0000000000000001E-3,null,null,null,null,0.63599142279327436,249,0.879,null,null,null,null,0.99246369049437,142,0.5,null,null,null,null,0.93732548552026207,212,0.748,null,null,null,null,0.87318976709571205,209,0.73699999999999999,null,null,null,null,{"$f":"AVERAGE(Data!Z118:AH118)","v":0.73634004387759899},242,0.85399999999999998,null,null,null,null,0.98568830506472616,153,0.53900000000000003,null,null,null,null,0.87614814076234082,222,0.78300000000000003,null,null,null,null,"Gravesham",62,75,42,131,0.26200000000000001,0.14499999999999999,0.46,62,0.216,0.59953636363636365,0.70854044283777684,0.67932380663047387,0.42039300310629868,0.66861933793046158,0.76599553254159269,0.58249695242429933,0.26948115399017936,0.49152477341132139,0.49169802715721689,0.76071471382991462,0.53574360669235921,0.59333232248879686,0.67945468991526403,0.47813939076880602,0.38711449414831434,0.35373147153146206,0.48161026783785132,0.11807913664618917,0.76702058237525961,0.66441075803739846,0.5499769580602879,8.6940586452058211E-2,0.4740074889166524,0.26392981387828679,0.12516514107018459,0.54882730915224043,0.14953027429820823,0.86079984206587512,0.96551968645057662,0.89576963881340022,3.7924707111777874E-2,0.76071471382991462,0.32047154120504229,0.49779995699748264,0.9228810922672821,0.61916262789389875,0.93557086207845475,0.93682457509882,0.36383561856138896,0.66246687103487145,0.54139719599856628,0.55221525230149926,0.31780695867183423,0.50847127476833132,0.27186313459972999,0.90736305577661724,0.39931971047084625,0.40913574910126249,0.75565495517996895,0.54531533155348588,207,{"$f":"AVERAGE(Data!EY118:FQ118)","v":0.52976470986973379},206,{"$f":"AVERAGE(Data!FR118:FZ118)","v":0.40331210136006401},229,{"$f":"AVERAGE(Data!GA118:GL118)","v":0.67643957186449288},88]
["E05004981","29UGGP","Woodlands","Gravesham","NHS Dartford, Gravesham & Swanley CCG",115,1.170505921831092,0.91007736550028062,1.1072387008282907,0.60544143922890847,1.0687723855733073,1.1378644258213371,1.0788082957657421,0.47243286112813437,0.96935075409514748,0.86982073581916786,0.99472319644035245,1.1908925580278051,1.3392564878050113,1.0769155690466545,1.1006586209121592,0.9864716657066912,1.2567895059863285,1.2482541393070212,1.2421588066400331,1.0484946526605723,1.1005568292519619,1.0873774691240274,0.15475833015269341,0.78772987041587339,1.0984529573975728,1.0010295042607782,1.023082995321464,0.59664750041482684,1.366348553579918,1.1854801699114228,1.2190073743590903,0.39905348023684056,0.99472319644035245,1.1377399709252221,0.77983987756139528,1.0326008408454961,1.0142329707793438,1.0165937605297866,1.0326227829334569,1.6945207514599823,1.0626073293865546,126,0.443,null,null,null,null,0.87266388150348584,205,0.72299999999999998,null,null,null,null,1.0660111984816236,116,0.40699999999999997,null,null,null,null,1.2490674839777942,82,0.28699999999999998,null,null,null,null,0.83578343032102576,205,0.72299999999999998,null,null,null,null,0.92980323934866038,157,0.55300000000000005,null,null,null,null,1.2569453659501437,11,3.5000000000000003E-2,null,null,null,null,0.69688833833859654,223,0.78700000000000003,null,null,null,null,0.95878992424330867,183,0.64500000000000002,null,null,null,null,1.1581142213096132,18,0.06,null,null,null,null,1.0434964966033404,143,0.503,null,null,null,null,{"$f":"AVERAGE(Data!Z119:AH119)","v":0.87757001211108554},202,0.71199999999999997,null,null,null,null,1.0727303107968589,54,0.187,null,null,null,null,1.0149331818506389,150,0.52800000000000002,null,null,null,null,"Gravesham",134,141,82,230,0.496,0.28699999999999998,0.81200000000000006,134,0.47099999999999997,0.6832233333333334,0.56909704686212492,0.83568433759248562,0.42039300310629868,0.75772007004670183,0.86375881504153984,0.71090172076163827,0.26948115399017936,0.49152477341132139,0.49169802715721689,0.75892311947059854,0.76528446935111882,0.58414924482409369,0.66949334505163238,0.58799526360562249,0.58918028007665768,0.60989727063531429,0.65673997825660246,0.47983867294409355,0.75980765084827784,0.67969342583936998,0.69017182205781891,8.6940586452058211E-2,0.4740074889166524,0.44509778566204311,0.29513847170359719,0.47645493947567563,0.20774598032088454,0.80458863570469841,0.96627614118805116,0.88176822200921401,5.5050413888620746E-2,0.75892311947059854,0.38638832519143673,0.3728135037985908,0.89856877901793164,0.74128002948765348,0.90412940584202572,0.91444978477705241,0.92142334963527039,0.69600157259598128,0.60445095258927162,0.61728106536853267,0.5821586406120034,0.53812419482283547,0.3561092942905501,0.88421099963398786,0.40698676667960965,0.37960091449501376,0.87597026975198666,0.61289254467015231,144,{"$f":"AVERAGE(Data!EY119:FQ119)","v":0.62078862765887244},150,{"$f":"AVERAGE(Data!FR119:FZ119)","v":0.45722868347515305},206,{"$f":"AVERAGE(Data!GA119:GL119)","v":0.71713830916759536},20]
["E05004982","29UHGF","Allington","Maidstone","NHS West Kent CCG",116,1.4425135151607267,1.0219027643699221,1.2184151850576284,1.1683026812644803,1.3341814255928202,1.2465526159465234,1.4176939691726054,1.2120004811116529,1.0189890458873134,1.3376077352961731,1.1489041201511996,1.0255002339500114,1.6873453109344005,0.77216356591773172,1.2696971766671257,1.1475168185533373,1.2900827970336322,1.1956749843066869,1.2406815025312175,1.2890278413159306,0.76205059335457881,1.1298509449097951,0.76923380705792654,1.2459545639526328,1.2923043882455132,1.038703603639304,1.1507475689845563,0.96944983496856418,1.2843803254500055,1.2170835043969845,1.27224220983407,1.4043328597550746,1.1489041201511996,1.067275324972327,0.97021740174365756,1.0665066130569854,1.3167052194407172,1.0556275425062445,1.054590060516186,1.3291143658734406,1.2276104881960925,42,0.14499999999999999,null,null,null,null,1.2757462346176165,40,0.13800000000000001,null,null,null,null,1.1759655009196615,81,0.28299999999999997,null,null,null,null,1.2421464279571788,85,0.29699999999999999,null,null,null,null,1.0392235501181726,139,0.48899999999999999,null,null,null,null,1.1128013489594846,99,0.34699999999999998,null,null,null,null,1.25790201322702,10,3.1E-2,null,null,null,null,1.2766184899531372,52,0.18,null,null,null,null,1.0187463633579923,108,0.379,null,null,null,null,1.1645087602787147,15,4.9000000000000002E-2,null,null,null,null,1.2208276804686944,43,0.14799999999999999,null,null,null,null,{"$f":"AVERAGE(Data!Z120:AH120)","v":1.0719247940476446},111,0.39,null,null,null,null,1.1822482956414075,12,3.9E-2,null,null,null,null,1.1757507155757723,37,0.127,null,null,null,null,"Maidstone",247,241,173,272,0.85099999999999998,0.60899999999999999,0.96,247,0.872,0.84199393939393929,0.63902462299287377,0.91959438021432816,0.81122011294674623,0.94588525761069053,0.94626458653868073,0.93421703017479374,0.69133905610777679,0.51669466163041544,0.75613176080007138,0.87655530901259737,0.65900101320438265,0.73597663936298419,0.480036117530457,0.67829925819777281,0.68536614284160735,0.62605390406000372,0.62907667474787932,0.47926799901792594,0.9341136967203475,0.47063519546932564,0.71713025829965749,0.43214241351906701,0.74973898584248633,0.52364720558645761,0.30624611245350553,0.53590897888009781,0.33755157978109124,0.75632078730731633,0.99203578598891329,0.92027560696281652,0.19373118891488891,0.87655530901259737,0.36245779868210998,0.46382617688326822,0.92807356647558259,0.96235018187543286,0.93884493477439901,0.93390313462528918,0.72272765618024704,0.80020431420038041,0.86578520867573761,0.67350761282253602,0.57813285927526969,0.66075210997017686,0.42583846917528806,0.88954406008634868,0.5351432489637431,0.41314198778268907,0.8971798947861902,0.6977553755155208,35,{"$f":"AVERAGE(Data!EY120:FQ120)","v":0.72905255086241727},44,{"$f":"AVERAGE(Data!FR120:FZ120)","v":0.55634604739467075},112,{"$f":"AVERAGE(Data!GA120:GL120)","v":0.7542585106402383},2]
["E05004983","29UHGG","Barming","Maidstone","NHS West Kent CCG",117,1.3149513334613119,1.2208043875370411,1.2265438158286437,1.1683026812644803,1.241540020979609,1.2664073337827477,1.4627920733483109,1.2120004811116529,1.0189890458873134,1.3376077352961731,1.0922906408122863,1.0576884969835554,0.9563495457070692,0.50000688930361359,1.3425554403905144,0.92083784890859843,1.2912967927098762,1.1179783344280507,1.2431538625822158,1.3299927796931541,0.80734601337504519,1.1100391981131499,0.76923380705792654,1.2459545639526328,1.3778820595247057,1.0868815706947252,0.96805184988980675,1.4863248907899727,1.2951669232437821,0.95525308042488222,1.2020774849485931,0.97487714884318066,1.0922906408122863,1.1144774855112873,1.2009899305459732,1.1381843260220859,1.0307243070108991,1.1014870109745785,1.1237499076586877,1.597470847404026,1.2540998456089989,33,0.113,null,null,null,null,1.2702085180973601,43,0.14799999999999999,null,null,null,null,1.0282907054111405,130,0.45700000000000002,null,null,null,null,1.2174763299067142,95,0.33300000000000002,null,null,null,null,1.0525132724383817,137,0.48199999999999998,null,null,null,null,1.2297850927248026,66,0.23,null,null,null,null,1.1508324962057526,61,0.21199999999999999,null,null,null,null,1.0335838948277334,90,0.315,null,null,null,null,1.1577337080286303,31,0.106,null,null,null,null,1.1983232798140555,4,0.01,null,null,null,null,1.1574787768591086,74,0.25800000000000001,null,null,null,null,{"$f":"AVERAGE(Data!Z121:AH121)","v":1.1313007481212354},79,0.27600000000000002,null,null,null,null,1.1522290911166886,19,6.3E-2,null,null,null,null,1.1500138146703613,48,0.16600000000000001,null,null,null,null,"Maidstone",236,210,205,265,0.74099999999999999,0.72299999999999998,0.93600000000000005,236,0.83299999999999996,0.767536,0.76340341830360692,0.92572943439580524,0.81122011294674623,0.88020593005668313,0.961336406310902,0.96393530355796253,0.69133905610777679,0.51669466163041544,0.75613176080007138,0.83336210863512061,0.67968564812707799,0.41713508203962957,0.31084264587713034,0.7172216935196154,0.54997981248299632,0.62664303425720669,0.58819838358496424,0.48022305722752795,0.96379956447042259,0.49860921588358231,0.70455549951253282,0.43214241351906701,0.74973898584248633,0.55832364005000146,0.32045066037741871,0.4508266559582873,0.51752168792765008,0.76267258822960005,0.77861973893660508,0.86952199709022571,0.13448671216330133,0.83336210863512061,0.37848814324426383,0.57415025432374145,0.99044747948645251,0.75333317561898516,0.97963103398958407,0.99514835251116063,0.86865087836280364,0.81888961756647072,0.86160736179601416,0.59763167663900707,0.56502149168989957,0.66976913584561826,0.46178066107833943,0.80360477475214365,0.48392441039921097,0.47631919878400264,0.91744218399379718,0.68388260839986337,43,{"$f":"AVERAGE(Data!EY121:FQ121)","v":0.69688544999269697},70,{"$f":"AVERAGE(Data!FR121:FZ121)","v":0.57732981372682768},93,{"$f":"AVERAGE(Data!GA121:GL121)","v":0.74320937188265368},6]
["E05004984","29UHGH","Bearsted","Maidstone","NHS West Kent CCG",118,1.5031020559752097,1.1144260776397503,1.2642576180074814,1.1683026812644803,1.3163323916095149,1.2342830222547803,1.4638676768032228,1.2120004811116529,1.0189890458873134,1.3376077352961731,1.1113268194495964,1.231811424435328,1.6379942498130775,1.3704257241179107,1.3746726890759697,1.2126554628073578,1.2427549031014795,1.0862115610180316,1.3019459626047609,1.2679211336276286,0.90213060799795386,1.0635127856624198,0.76923380705792654,1.2459545639526328,1.5731693541360909,1.285077954286671,0.77992876688440016,1.1999866919425024,1.308373419266688,1.2117641091683731,0.92104558926642355,0.48255518362815214,1.1113268194495964,1.1153642870820688,0.88432423665295212,1.1153423401930675,1.2169613818536174,1.0987380126453317,1.1058793401610059,1.1640602051415347,1.2939285838741472,20,6.7000000000000004E-2,null,null,null,null,1.2789572506087303,38,0.13100000000000001,null,null,null,null,1.2869353938603409,33,0.113,null,null,null,null,1.210304142241424,98,0.34300000000000003,null,null,null,null,1.0497505796597124,138,0.48499999999999999,null,null,null,null,1.2095406918124161,72,0.251,null,null,null,null,1.1470610392338283,66,0.23,null,null,null,null,0.79694100153887426,177,0.624,null,null,null,null,0.99984426186751052,132,0.46400000000000002,null,null,null,null,1.1401962559989116,33,0.113,null,null,null,null,{"$f":"AVERAGE(G122:Y122)","v":1.2738403990670046},30,0.10199999999999999,null,null,null,null,{"$f":"AVERAGE(Data!Z122:AH122)","v":1.1207684072831361},89,0.312,null,null,null,null,1.0613112437090673,64,0.223,null,null,null,null,1.175640454308253,38,0.13100000000000001,null,null,null,null,"Maidstone",246,254,195,220,0.89700000000000002,0.68700000000000006,0.77600000000000002,246,0.86799999999999999,0.87735942028985514,0.69688206055128787,0.95419378789820652,0.81122011294674623,0.9332309530434546,0.93695067403054388,0.96464409338647539,0.69133905610777679,0.51669466163041544,0.75613176080007138,0.84788574307526032,0.79157951398301185,0.71445097542348213,0.85196177727908551,0.73437941140623952,0.72427086357466963,0.60308653108573296,0.57148503217548252,0.50293410118069426,0.91881839889017181,0.55714727963793609,0.67502461463885388,0.43214241351906701,0.74973898584248633,0.63745487804620282,0.37888587882155778,0.36321678213846581,0.41782193257540956,0.7704493715325641,0.9876999861793383,0.66623775107503458,6.65696802520373E-2,0.84788574307526032,0.37878931027932261,0.42276373220558416,0.9705703938742426,0.88944965803329967,0.97718615352446359,0.97932288664677636,0.63297675904794803,0.84281175624644999,0.86747697790299938,0.74216933839652943,0.55916855481396988,0.66657433850570302,0.44934486789540895,0.80812903626231236,0.45722771166364884,0.40077652124245339,0.88990117022534609,0.7050208279926129,29,{"$f":"AVERAGE(Data!EY122:FQ122)","v":0.76214108051939422},29,{"$f":"AVERAGE(Data!FR122:FZ122)","v":0.57002790712335016},98,{"$f":"AVERAGE(Data!GA122:GL122)","v":0.71582511881048927},22]
["E05004985","29UHGJ","Boughton Monchelsea and Chart Sutton","Maidstone","NHS West Kent CCG",119,1.3427869162980486,0.89179930538047114,1.1581833331256497,1.1683026812644803,1.1333192164218471,1.1927961941112304,1.3293469319687901,1.2120004811116529,1.0189890458873134,1.3376077352961731,1.2057739624154213,1.2461960035941055,1.2439441493867136,1.2392293404826051,1.2642692148957453,1.1604812169080143,1.2960197040471468,1.1659828693749055,1.1842805929481974,1.2497331134315417,1.0770009814173354,1.1384414766485969,0.76923380705792654,1.2459545639526328,1.4562262919095912,1.7783434874069015,0.63097485642165496,1.8773370027793379,0.82148126865859405,0.88279582088258235,0.76527210029041437,0.84626781044296739,1.2057739624154213,0.74001858153575761,1.1449851926089678,1.0944343407010493,0.87205297520685277,1.0839184681541956,1.0869144595492488,1.3298740027947922,1.130923184934723,97,0.34,null,null,null,null,1.2071531009756,76,0.26500000000000001,null,null,null,null,1.2145613336082612,59,0.20499999999999999,null,null,null,null,1.2154277221234164,97,0.34,null,null,null,null,1.0960727885016066,118,0.41399999999999998,null,null,null,null,1.4357204096293714,23,7.8E-2,null,null,null,null,0.82318306327719704,233,0.82199999999999995,null,null,null,null,1.0260208864291944,93,0.32600000000000001,null,null,null,null,0.94250188707236271,204,0.71899999999999997,null,null,null,null,1.0934388492812277,72,0.251,null,null,null,null,1.1995425734167635,53,0.184,null,null,null,null,{"$f":"AVERAGE(Data!Z123:AH123)","v":1.2470272867806134},41,0.14099999999999999,null,null,null,null,0.98948241527007019,149,0.52400000000000002,null,null,null,null,1.147208586479622,50,0.17299999999999999,null,null,null,null,"Maidstone",234,231,243,135,0.81499999999999995,0.85799999999999998,0.47499999999999998,234,0.82599999999999996,0.783783606557377,0.55766726030674363,0.87413461147061433,0.81122011294674623,0.80348138447813033,0.90545780659931341,0.87599903072216179,0.69133905610777679,0.51669466163041544,0.75613176080007138,0.91994410124084025,0.80082324882219391,0.54257645349065853,0.77040003904882248,0.67539952548141158,0.69310926220242752,0.62893497791231645,0.61345485680180289,0.45748065792877735,0.90563817249254275,0.66514555835291722,0.72258277420233719,0.43214241351906701,0.74973898584248633,0.59006905447040614,0.52431779163682624,0.29384819061780137,0.65366772803691586,0.48373783649511776,0.71956036120207423,0.55355909522788316,0.11674473606357802,0.91994410124084025,0.2513180055523751,0.54737639576586961,0.95237626228718397,0.63736387378474413,0.96400607464158938,0.96252834048687308,0.72314072116984685,0.73852849277824495,0.81749947817082569,0.70938488158960511,0.56662349754763219,0.69504958088187008,0.51547569119048742,0.58561909764169162,0.51834441865220915,0.39934720065912233,0.84788305447404755,0.6761709721909468,51,{"$f":"AVERAGE(Data!EY123:FQ123)","v":0.71989644287097898},48,{"$f":"AVERAGE(Data!FR123:FZ123)","v":0.6152389632412556},58,{"$f":"AVERAGE(Data!GA123:GL123)","v":0.65263798365983128},142]
["E05004986","29UHGK","Boxley","Maidstone","NHS West Kent CCG",120,1.3495730734612603,1.4349188060833806,1.1965418218456489,1.1683026812644803,1.3281121657101755,1.2429738446088372,1.3932356733842803,1.2120004811116529,1.0189890458873134,1.3376077352961731,1.1748725135799276,1.3221718008635996,1.448750948780076,1.1732127490183248,1.2683513363685608,1.4001758674997589,0.69720751315342699,0.91960416145406765,0.17893985381675884,1.2172441258721072,1.3786770474007894,1.3081549181891221,0.76923380705792654,1.2459545639526328,1.5892414328232956,1.3708183548782529,0.69145577474969955,0.99834129333464205,0.75365098700112998,0.76075600444221625,0.84628745027334684,1.823308433254567,1.1748725135799276,1.1425547163784358,0.68710826357722576,0.75936866469252962,1.0857478277876271,0.72362013469851083,0.78222892677999134,1.2217150914462529,1.3270112337967632,14,4.5999999999999999E-2,null,null,null,null,1.2689249692158853,45,0.156,null,null,null,null,1.2680164996617167,38,0.13100000000000001,null,null,null,null,0.59858384280808441,233,0.82199999999999995,null,null,null,null,1.1838528924945155,68,0.23699999999999999,null,null,null,null,1.1624642139464725,83,0.28999999999999998,null,null,null,null,0.78689814723889773,247,0.872,null,null,null,null,1.4990904734172474,32,0.109,null,null,null,null,0.9148314899778307,225,0.79400000000000004,null,null,null,null,0.91453612908098236,225,0.79400000000000004,null,null,null,null,1.1718706354309318,64,0.223,null,null,null,null,{"$f":"AVERAGE(Data!Z124:AH124)","v":1.1743468131398298},70,0.24399999999999999,null,null,null,null,0.98010158449264673,163,0.57399999999999995,null,null,null,null,1.1148970601339481,67,0.23400000000000001,null,null,null,null,"Maidstone",217,220,214,121,0.77600000000000002,0.755,0.42499999999999999,217,0.76500000000000001,0.78774468085106386,0.89729520366664506,0.90308553976912986,0.81122011294674623,0.94158237695482272,0.94354792256730013,0.91809976019173745,0.69133905610777679,0.51669466163041544,0.75613176080007138,0.89636787015432584,0.84964637506055218,0.63190791336400498,0.72935906061125166,0.67758028166309592,0.83626934097402672,0.33834222621471804,0.48382841120263248,6.9123417660658104E-2,0.88209453185180764,0.85145782622681376,0.83030197797624516,0.43214241351906701,0.74973898584248633,0.64396735232785907,0.40416514450368235,0.32201446101150227,0.3476112621513146,0.44379526573946881,0.62008660711126884,0.61216149797992847,0.25152990480800735,0.89636787015432584,0.38802346281464728,0.32848184172657152,0.66080226440503165,0.79354862737317711,0.6435670450105242,0.6927109158954543,0.66432754564407703,0.86270847476227963,0.8611578457536766,0.736744658032218,0.29709801835933619,0.749147147083284,0.4294395549985896,0.55868112361022204,0.57394888748116657,0.35825265227060943,0.69099127966565288,0.65345156941160576,83,{"$f":"AVERAGE(Data!EY124:FQ124)","v":0.71995610381005126},47,{"$f":"AVERAGE(Data!FR124:FZ124)","v":0.607054883934531},65,{"$f":"AVERAGE(Data!GA124:GL124)","v":0.58295023738854024},248]
["E05004987","29UHGL","Bridge","Maidstone","NHS West Kent CCG",121,1.2535116095025931,0.99512845449708154,1.2879542982774526,1.1683026812644803,1.2526410142635658,1.0463618831448422,1.0200217797507956,1.2120004811116529,1.0189890458873134,1.3376077352961731,0.4191752997565471,1.1090046680152545,1.9219419029401563,0.72670385730680576,1.142978001692764,0.91874438865435604,0.79915127260381214,1.0514376884525307,0.82408617559138908,1.1555206400894702,1.0964139626049152,1.2501993168005094,0.76923380705792654,1.2459545639526328,1.0829354440505288,0.74385941835975855,1.0090636493925709,0.78855762519998518,1.0790318240775529,1.1666280044581077,1.2625633566539951,0.894592925052768,0.4191752997565471,1.568761334283761,0.50281451674342537,1.0209389908594468,1.0844929563284174,1.0271724771876307,1.014761081696322,1.2266843384973756,1.1788647874257092,64,0.223,null,null,null,null,1.1398655679070675,101,0.35399999999999998,null,null,null,null,1.0743931124436714,113,0.39700000000000002,null,null,null,null,0.89155837888257727,175,0.61699999999999999,null,null,null,null,1.1034644581010908,112,0.39300000000000002,null,null,null,null,0.90610403425071073,164,0.57799999999999996,null,null,null,null,1.1694077283965518,50,0.17299999999999999,null,null,null,null,0.65688411240465761,242,0.85399999999999998,null,null,null,null,1.0357879255135931,92,0.32200000000000001,null,null,null,null,1.0748099689138386,88,0.308,null,null,null,null,1.0792495914741878,117,0.41099999999999998,null,null,null,null,{"$f":"AVERAGE(Data!Z125:AH125)","v":1.0157487141675885},140,0.49199999999999999,null,null,null,null,1.022301425466279,112,0.39300000000000002,null,null,null,null,1.0478774442778307,126,0.443,null,null,null,null,"Maidstone",158,167,144,172,0.58799999999999997,0.50700000000000001,0.60599999999999998,158,0.55600000000000005,0.73167368421052625,0.62228189181635563,0.97207877018769639,0.81122011294674623,0.88807612348818321,0.79429875807694417,0.67216320201216628,0.69133905610777679,0.51669466163041544,0.75613176080007138,0.31980939746320453,0.71266214835994646,0.83830164081440184,0.45177487472017425,0.61060317761723171,0.54872947195948996,0.38781369327498588,0.55318956525618734,0.31833966379625495,0.83736566593373352,0.67713483081793824,0.79351684664456668,0.43214241351906701,0.74973898584248633,0.43881002360246985,0.21931574540267809,0.46992605897762718,0.27456693738393578,0.63539917464093143,0.95090988019978928,0.91327441456710201,0.12341130506306562,0.31980939746320453,0.53276766226825767,0.24037760461044588,0.88842064249842778,0.79263147009365043,0.91353781378016152,0.89863217052138999,0.6670296549331286,0.77534478207152613,0.7714194505263634,0.59433839167061697,0.41978097410914272,0.69797974855155842,0.3506546913416777,0.83319448980260757,0.22161035126313508,0.38657263343935178,0.83205035036535158,0.62414750883257031,126,{"$f":"AVERAGE(Data!EY125:FQ125)","v":0.64195692918625047},125,{"$f":"AVERAGE(Data!FR125:FZ125)","v":0.54361305645827818},124,{"$f":"AVERAGE(Data!GA125:GL125)","v":0.65635009921996279},130]
["E05008553","29UHGM","Coxheath and Hunton","Maidstone","NHS West Kent CCG",122,1.0210290747706496,1.0292318080534688,1.0068782623224068,1.1683026812644803,1.1541630214850507,1.0940201738848891,1.2153432487392546,1.2120004811116529,1.0189890458873134,1.3376077352961731,1.0386292330302418,1.0769681109322287,1.1657643533355186,1.1418005047883895,1.0763459155814434,0.97737153887987149,0.90832578165616262,0.87892147898176798,1.068963828523054,1.2076477466690114,0.96998345398344699,0.99752479065591959,0.76923380705792654,1.2459545639526328,1.2337304735398082,1.3540938943391421,0.88076642703897134,1.2483395980258374,0.9376451249158263,1.0852911915327219,1.0304581405580875,0.73851263846201476,1.0386292330302418,0.91099673687621752,0.99025314620044969,0.4463754389131746,0.9102850993686028,0.50043223559964656,0.59478187667117866,1.3239309231018053,1.0190463817155084,154,0.54200000000000004,null,null,null,null,1.1687659212970654,91,0.31900000000000001,null,null,null,null,1.1041845547163975,106,0.372,null,null,null,null,0.95207036305366144,158,0.55600000000000005,null,null,null,null,1.0380688724637874,141,0.496,null,null,null,null,1.1792325982359397,80,0.28000000000000003,null,null,null,null,1.0177981523355453,152,0.53500000000000003,null,null,null,null,0.88857093574612822,142,0.5,null,null,null,null,0.95062494153833366,192,0.67700000000000005,null,null,null,null,0.75516111473088154,269,0.95,null,null,null,null,1.0837187515012638,111,0.39,null,null,null,null,{"$f":"AVERAGE(Data!Z126:AH126)","v":1.1008083061402993},101,0.35399999999999998,null,null,null,null,0.87563264876916413,262,0.92500000000000004,null,null,null,null,1.0251380704754165,143,0.503,null,null,null,null,"Maidstone",141,173,183,22,0.60899999999999999,0.64500000000000002,7.3999999999999996E-2,141,0.496,0.59597382198952875,0.6436076807358132,0.75993766570453525,0.81122011294674623,0.81825887091558014,0.83047641492460778,0.80087408507691615,0.69133905610777679,0.51669466163041544,0.75613176080007138,0.79242118845263332,0.69207500183539161,0.50847643662334707,0.70983079946474836,0.57500689890444701,0.58374513636300851,0.44079411265056212,0.46242416092943806,0.41293446712436549,0.87514036921449578,0.59905255169206317,0.63314122451834021,0.43214241351906701,0.74973898584248633,0.49991280753373291,0.39923418921957676,0.4101773918695647,0.43465787317461108,0.55214213814956847,0.88461284400731666,0.74538125163725732,0.10187964376399378,0.79242118845263332,0.30938396506384214,0.47340454842731866,0.38843570260836102,0.6653068720331845,0.44507011296342491,0.52671524210046405,0.7199090744678851,0.66650638947662577,0.79043370799432533,0.64179773550925789,0.43871758023478852,0.65784310895729059,0.4359955654493714,0.72737874459804752,0.44715041610831352,0.39139425674558037,0.54908740083466401,0.60100206808597811,156,{"$f":"AVERAGE(Data!EY126:FQ126)","v":0.65274854385157555},112,{"$f":"AVERAGE(Data!FR126:FZ126)","v":0.55924420073154868},108,{"$f":"AVERAGE(Data!GA126:GL126)","v":0.55038854863960418},269]
["E05004989","29UHGN","Detling and Thurnham","Maidstone","NHS West Kent CCG",123,1.1629370778681185,1.3881929381079281,1.2152360656251064,1.1683026812644803,1.3558882436338395,1.2029079061601415,1.5019407589216662,1.2120004811116529,1.0189890458873134,1.3376077352961731,1.1249493527754493,1.3694899316604618,1.5522795660929025,1.2969098867837072,1.3707904937801885,1.3799215481816149,1.5157935230990713,1.3912566326425897,1.4192647321258189,1.3161495965627834,1.2120361673130873,1.2251222780531807,0.76923380705792654,1.2459545639526328,1.8110028225652206,1.7560932737505,0.55528877614134997,1.5920439926261878,0.60622814491939991,0.78602625807302828,0.79493006736416283,1.0373063638726343,1.1249493527754493,0.96341149612319832,0.87291670639676566,1.1241895525176906,1.1134023206605992,1.1028325334884808,1.1153315079639399,1.2646566032994633,1.2554553605337178,32,0.109,null,null,null,null,1.2882080142183561,33,0.113,null,null,null,null,1.3063671950572264,30,0.10199999999999999,null,null,null,null,1.4421049626224933,40,0.13800000000000001,null,null,null,null,1.153699282587922,85,0.29699999999999999,null,null,null,null,1.4286072162708146,25,8.5000000000000006E-2,null,null,null,null,0.72906149011886379,260,0.91800000000000004,null,null,null,null,1.0811278583240418,79,0.27600000000000002,null,null,null,null,0.91816410125998194,223,0.78700000000000003,null,null,null,null,1.1440825035860347,29,9.9000000000000005E-2,null,null,null,null,1.3149820316325378,22,7.3999999999999996E-2,null,null,null,null,{"$f":"AVERAGE(Data!Z127:AH127)","v":1.2758805864469853},33,0.113,null,null,null,null,0.99218174228790124,140,0.49199999999999999,null,null,null,null,1.2093441196623975,27,9.1999999999999998E-2,null,null,null,null,"Maidstone",257,262,251,144,0.92500000000000004,0.88600000000000001,0.50700000000000001,257,0.90700000000000003,0.67880540540540535,0.86807620044236222,0.91719495151380759,0.81122011294674623,0.96127458831248391,0.91313365990767592,0.98973309177380131,0.69133905610777679,0.51669466163041544,0.75613176080007138,0.85827904195855254,0.88005367786336142,0.67706443429308272,0.80625869222227053,0.73230546004390018,0.82417224184439575,0.73558724685505728,0.73197742502844265,0.54825365482995003,0.95376789055786659,0.74854200428903805,0.77760014244983944,0.43214241351906701,0.74973898584248633,0.73382600567731038,0.51775765127565054,0.25860079919011658,0.55433189568740449,0.35698378336078118,0.64068420442666629,0.57501216716584136,0.14309897667499882,0.85827904195855254,0.32718456235171256,0.41731020072192071,0.97826923398920862,0.81376067320776546,0.98082770321801571,0.98769335159866833,0.68767769444343341,0.82135885245385831,0.87334010180969679,0.7563699963320063,0.67193944223781665,0.73235828733165964,0.51612908795762058,0.52422671831776302,0.50068900931677573,0.37224738153681663,0.88964573129141833,0.70976611863464778,26,{"$f":"AVERAGE(Data!EY127:FQ127)","v":0.78408186125155577},22,{"$f":"AVERAGE(Data!FR127:FZ127)","v":0.63625642094319779},37,{"$f":"AVERAGE(Data!GA127:GL127)","v":0.64723179942646381},154]
["E05004990","29UHGP","Downswood and Otham","Maidstone","NHS West Kent CCG",124,1.1936677225298153,1.3195059121840123,1.1969992566118957,1.1683026812644803,1.2724448087288327,1.1542287180301984,1.1158155648400745,1.2120004811116529,1.0189890458873134,1.3376077352961731,1.0593448893885098,1.2560407062768266,1.209654724735868,1.2390902111833157,1.30908511751556,1.4781897103610442,0.98014755765893891,1.1128448277670937,0.56586452799313625,1.2342158620025045,1.3586755698427866,1.2054859544546095,0.76923380705792654,1.2459545639526328,1.1656574577593011,1.1093876551036521,0.82759214348481591,0.68456176030570193,0.97975224834121677,0.99521503495949515,0.89407960192012059,0.10105884139259966,1.0593448893885098,1.0980991552978716,0.65682135654020479,1.1009845777705756,1.1851273667751954,1.0909705563381504,1.0848851132578923,1.1059249954244534,1.2367242971085743,39,0.13400000000000001,null,null,null,null,1.1845584507950477,85,0.29699999999999999,null,null,null,null,1.2385002675805765,50,0.17299999999999999,null,null,null,null,0.88628563780638958,178,0.627,null,null,null,null,1.1627131514620921,81,0.28299999999999997,null,null,null,null,0.94679975416336781,148,0.52100000000000002,null,null,null,null,0.9563489617402775,182,0.64100000000000001,null,null,null,null,0.58020186539055474,260,0.91800000000000004,null,null,null,null,0.8774602559190382,247,0.872,null,null,null,null,1.1135785219132537,51,0.17699999999999999,null,null,null,null,1.1684117999665653,65,0.22600000000000001,null,null,null,null,{"$f":"AVERAGE(Data!Z128:AH128)","v":1.0667516415515479},115,0.40400000000000003,null,null,null,null,0.94602197811719047,202,0.71199999999999997,null,null,null,null,1.0788213177683739,100,0.35099999999999998,null,null,null,null,"Maidstone",184,219,169,82,0.77300000000000002,0.59499999999999997,0.28699999999999998,184,0.64800000000000002,0.69674285714285722,0.82512426570266595,0.90343078697674351,0.81122011294674623,0.90211628089865303,0.87618103453145568,0.73528838090217608,0.69133905610777679,0.51669466163041544,0.75613176080007138,0.80822617882740078,0.80714959456823043,0.52762028811260409,0.77031354560156151,0.69934113459979863,0.88286390560750816,0.47564792464344385,0.5854975080607151,0.21859015347064845,0.89439335943984744,0.83910510400302041,0.76513672691902057,0.43214241351906701,0.74973898584248633,0.47232933353678996,0.32708624037602024,0.38541385834558411,0.23835674143614388,0.57693735815512226,0.81119243327777102,0.64673192098965548,1.3941316944448699E-2,0.80822617882740078,0.37292589198974591,0.31400275665207811,0.95807627558663355,0.86618289357590861,0.97027800011197773,0.96073123189113074,0.60136478874713639,0.80843263660742226,0.80322897307736163,0.7210426337184489,0.42657852872493579,0.73610331794468831,0.35579654342363454,0.67828723747418296,0.41108374788592472,0.34346432432091201,0.87132663798255749,0.66234533103246152,63,{"$f":"AVERAGE(Data!EY128:FQ128)","v":0.70997470690165643},60,{"$f":"AVERAGE(Data!FR128:FZ128)","v":0.56707808482421995},100,{"$f":"AVERAGE(Data!GA128:GL128)","v":0.65838258722908416},126]
["E05004991","29UHGQ","East","Maidstone","NHS West Kent CCG",125,1.2353589637875171,0.98053097905300035,1.1591357745114903,1.1683026812644803,1.146638675195274,1.0266469361145016,0.96944942236327203,1.2120004811116529,1.0189890458873134,1.3376077352961731,0.58386150017702909,1.0439214153137126,1.5310693447238242,0.80980955300791069,1.1269784623908272,1.003106058042869,1.2700254274629059,1.2266886380484956,1.1858598352152054,1.0641532307426798,1.0164468613393025,1.2047566570135682,0.76923380705792654,1.2459545639526328,0.92614570311658717,0.78687527067386687,1.063790126628541,0.71072974151840129,0.93052562097051461,1.1453290115710477,1.1095062996600109,0.68769822390048851,0.58386150017702909,1.3286446302010608,0.81426352668667601,0.76300121549387279,0.89177480483473115,0.827276275726195,0.77284443986847817,0.79450907972091711,1.1250085724506693,102,0.35799999999999998,null,null,null,null,1.1046076392098363,119,0.41799999999999998,null,null,null,null,1.0569178893549576,122,0.42899999999999999,null,null,null,null,1.2275246335755357,92,0.32200000000000001,null,null,null,null,1.0601090240212219,134,0.47099999999999997,null,null,null,null,0.87188521048434908,178,0.627,null,null,null,null,1.0617869774005244,125,0.439,null,null,null,null,0.6357798620387588,250,0.88200000000000001,null,null,null,null,1.0714540784438684,65,0.22600000000000001,null,null,null,null,0.80988116312883884,263,0.92900000000000005,null,null,null,null,1.107156890998287,99,0.34699999999999998,null,null,null,null,{"$f":"AVERAGE(Data!Z129:AH129)","v":0.97645399578261172},156,0.54900000000000004,null,null,null,null,0.88743621906758519,253,0.89300000000000002,null,null,null,null,1.0118325379955495,153,0.53900000000000003,null,null,null,null,"Maidstone",131,185,128,31,0.65200000000000002,0.45,0.106,131,0.46,0.72107799999999989,0.61315367867559445,0.87485346310398515,0.81122011294674623,0.81292438784443777,0.7793330390518135,0.63883756294276695,0.69133905610777679,0.51669466163041544,0.75613176080007138,0.44545657790911358,0.67083872594321037,0.6678130810921693,0.5034397515285115,0.60205588316037795,0.59911534083536,0.61632042450830316,0.64539378970282002,0.45809070996850654,0.77115487841686892,0.6277479099711416,0.76467383288452206,0.43214241351906701,0.74973898584248633,0.37527815723146035,0.2319983215475129,0.49541245697116254,0.24746813955022473,0.54794974379218131,0.93354922822056818,0.80256068809559,9.4869669683678201E-2,0.44545657790911358,0.45122153264994602,0.38927021704600845,0.66396330844951534,0.65177811476220959,0.7357558512357335,0.68440038645691359,0.43202729557683572,0.7363617139265265,0.74673083177870825,0.59519322286240373,0.5732683080598765,0.66909160412681723,0.33753926882509011,0.76135322003611317,0.2701631237963959,0.42024587484797726,0.63358499129624157,0.59881269293911799,158,{"$f":"AVERAGE(Data!EY129:FQ129)","v":0.65389947409220961},111,{"$f":"AVERAGE(Data!FR129:FZ129)","v":0.52173501065938288},149,{"$f":"AVERAGE(Data!GA129:GL129)","v":0.56940021782319117},261]
["E05004992","29UHGR","Fant","Maidstone","NHS West Kent CCG",126,1.0218728881204233,0.91930570204285522,1.1099826068297982,1.1683026812644803,1.0166030893256384,0.93401392937940997,0.73512207048560074,1.2120004811116529,1.0189890458873134,1.3376077352961731,0.70639502724169712,1.0397093695992086,1.3477294917548077,0.53127169236662497,0.94488322789640011,1.170978048110566,0.77057327011640697,1.0277884142462392,0.84176587943421788,0.97710310966433245,1.3100128264729778,1.2703289690435025,0.76923380705792654,1.2459545639526328,0.72020043929272615,0.56624036929408728,1.1581713852760209,0.49779426625183903,0.91441556715986327,1.1175369858883202,1.2946199909734619,0.36953701595616423,0.70639502724169712,1.4348385942553499,0.69423952435411418,0.94763249620106049,1.1223351599348037,0.95299479856270397,0.937689200714097,1.1432487524473478,1.0170537323310256,155,0.54600000000000004,null,null,null,null,1.0132084503133565,155,0.54600000000000004,null,null,null,null,1.012195454769099,136,0.47799999999999998,null,null,null,null,0.88004252126562132,181,0.63800000000000001,null,null,null,null,1.1145266552382744,108,0.379,null,null,null,null,0.73560161502866839,220,0.77600000000000002,null,null,null,null,1.1088575146738819,92,0.32200000000000001,null,null,null,null,0.5379660215989307,270,0.95299999999999996,null,null,null,null,1.0645390593047321,68,0.23699999999999999,null,null,null,null,1.0207800815720025,147,0.51700000000000002,null,null,null,null,0.99236287634260589,163,0.57399999999999995,null,null,null,null,{"$f":"AVERAGE(Data!Z130:AH130)","v":0.9461155262562273},175,0.61699999999999999,null,null,null,null,0.96962359280741539,175,0.61699999999999999,null,null,null,null,0.97513543751261356,171,0.60199999999999998,null,null,null,null,"Maidstone",113,121,109,109,0.42499999999999999,0.38200000000000001,0.38200000000000001,113,0.39700000000000002,0.59646635514018698,0.57486778600246391,0.83775529055644038,0.81122011294674623,0.7207339696003785,0.70901484092949962,0.48442299426992158,0.69133905610777679,0.51669466163041544,0.75613176080007138,0.53894341618978614,0.66813200555287966,0.58784495128789227,0.33027924628171523,0.50477673286476288,0.69937860187312784,0.37394530430908757,0.54074704787214989,0.32516922985869318,0.70807267972871879,0.80905145672862322,0.80629338391927097,0.43214241351906701,0.74973898584248633,0.29182826501872683,0.16694744410530499,0.53936628777683782,0.17332639082323023,0.53846317011910205,0.91089615310880845,0.93646256095738722,5.0978544688994827E-2,0.53894341618978614,0.4872861071264924,0.33189104199092184,0.82462936440365553,0.82028948419238834,0.84756630863641069,0.83038036924276193,0.62166019155490804,0.66969647723303039,0.68334619477086456,0.57527267206008137,0.41328719401331021,0.70105978394763324,0.29286709693102497,0.79527396139509932,0.29496098043939051,0.40958857455870712,0.78890514360602493,0.59210193459369709,167,{"$f":"AVERAGE(Data!EY130:FQ130)","v":0.59304544021442096},166,{"$f":"AVERAGE(Data!FR130:FZ130)","v":0.5196408119402518},151,{"$f":"AVERAGE(Data!GA130:GL130)","v":0.64495389268430137},158]
["E05004993","29UHGS","Harrietsham and Lenham","Maidstone","NHS West Kent CCG",127,1.129030139184541,0.95202181560180832,1.0092857686048688,1.1683026812644803,1.091873419273931,1.1138048785357797,1.1264507518466951,1.2120004811116529,1.0189890458873134,1.3376077352961731,1.1257600931659055,1.0871764051397601,0.71091140878667725,1.0741568142773406,1.1768250623471399,1.1240942095405855,0.83420059416244319,0.82868263456953339,0.97411211647794727,1.127912402900088,1.005485477336352,0.95786535773313553,0.76923380705792654,1.2459545639526328,1.1409748703948683,1.389393945727933,0.76675431571844666,1.6302136926789126,1.0483536334180028,1.0975464654653575,0.89723605394565953,1.4967237893878604,1.1257600931659055,0.8853143845409237,1.2829062204054338,1.0746752243671909,1.0228489308294129,1.0760058373854393,1.0707654495908059,1.0070281038733664,1.0301125744637394,148,0.52100000000000002,null,null,null,null,1.1424864424065078,99,0.34699999999999998,null,null,null,null,1.0819400968051121,109,0.38200000000000001,null,null,null,null,0.87899844840330799,182,0.64100000000000001,null,null,null,null,1.021290321796027,150,0.52800000000000002,null,null,null,null,1.2318342061300402,65,0.22600000000000001,null,null,null,null,1.0143787176096732,153,0.53900000000000003,null,null,null,null,1.311241941276883,49,0.17,null,null,null,null,1.0841103024731789,57,0.19800000000000001,null,null,null,null,1.0502647092092432,116,0.40699999999999997,null,null,null,null,1.0576466344776092,133,0.46800000000000003,null,null,null,null,{"$f":"AVERAGE(Data!Z131:AH131)","v":1.1148653815000329},92,0.32200000000000001,null,null,null,null,1.0904303488646134,36,0.124,null,null,null,null,1.0803559668737557,98,0.34300000000000003,null,null,null,null,"Maidstone",186,151,192,248,0.53100000000000003,0.67700000000000005,0.875,186,0.65600000000000003,0.65901395348837211,0.59532609462216157,0.76175472221764662,0.81122011294674623,0.77409784805637438,0.84549508732300416,0.74229664434740827,0.69133905610777679,0.51669466163041544,0.75613176080007138,0.8588975955706607,0.69863499665854212,0.31008127745581804,0.66777829141904332,0.6286849978779514,0.6713767503248208,0.4048224966222515,0.43599215758335297,0.37629380621136133,0.81735893553248895,0.62097826350956786,0.60796889581067626,0.43214241351906701,0.74973898584248633,0.46232784470986094,0.40964187767791022,0.35708137341639307,0.56762215794526072,0.61733400122380877,0.8946020273824502,0.64901513858863036,0.20647674600869156,0.8588975955706607,0.30066197114660215,0.61331149744481039,0.93518188829844051,0.74757724058607788,0.95696880721642374,0.94822741770565233,0.54758798784162632,0.67203159010939351,0.7728897497562619,0.63853504146716533,0.40570282013898867,0.64563749884285726,0.44916831343735625,0.72031705573162974,0.53268717078967609,0.45698673429570624,0.82710866832964425,0.63766588445603434,109,{"$f":"AVERAGE(Data!EY131:FQ131)","v":0.64241749006651483},123,{"$f":"AVERAGE(Data!FR131:FZ131)","v":0.5583178608848568},109,{"$f":"AVERAGE(Data!GA131:GL131)","v":0.68965352658448964},63]
["E05004994","29UHGT","Headcorn","Maidstone","NHS West Kent CCG",128,1.3811356695341446,0.93229223856897203,1.0590196827406946,1.1683026812644803,0.92655097584704049,1.1590435593213073,1.1619168621560954,1.2120004811116529,1.0189890458873134,1.3376077352961731,0.96985142472376218,1.1296517423348942,0.82707466961650378,1.2667372896797007,1.2569454675289864,1.2391411298931603,1.3514357680138971,1.1646693588548802,1.369201206401947,1.1705472279078664,0.99950097320099274,1.164241271531905,0.76923380705792654,1.2459545639526328,1.2380575584450173,1.7701281839280214,0.67314490720409104,1.8099739820552734,0.90509462058739676,0.88530103054474008,0.59109273578244992,0.88721941676397365,0.96985142472376218,0.77137565585233825,1.1924587565220941,1.0171753870482685,1.052777912575678,0.99244958749468726,1.0314926314179449,1.0625895821102409,1.1241491969479371,105,0.36799999999999999,null,null,null,null,1.1255629119401154,112,0.39300000000000002,null,null,null,null,1.1307498131200617,97,0.34,null,null,null,null,1.2951021110902414,69,0.24099999999999999,null,null,null,null,1.0698955687302647,130,0.45700000000000002,null,null,null,null,1.3728261579081007,34,0.11700000000000001,null,null,null,null,0.79382946230486218,244,0.86099999999999999,null,null,null,null,0.92853542074386786,125,0.439,null,null,null,null,0.98191720618721612,154,0.54200000000000004,null,null,null,null,1.0312970201293639,132,0.46400000000000002,null,null,null,null,1.1542929994092423,76,0.26500000000000001,null,null,null,null,{"$f":"AVERAGE(Data!Z132:AH132)","v":1.2045313861426363},60,0.20899999999999999,null,null,null,null,0.94657322845196445,201,0.70899999999999996,null,null,null,null,1.103280705137073,83,0.28999999999999998,null,null,null,null,"Maidstone",201,208,224,83,0.73399999999999999,0.79,0.28999999999999998,201,0.70899999999999996,0.80616774193548379,0.58298863359866526,0.79929121101576028,0.81122011294674623,0.65689035364069526,0.87983600564562792,0.76566772792790538,0.69133905610777679,0.51669466163041544,0.75613176080007138,0.739947224824266,0.72593025152160007,0.36074870502323031,0.78750109084230435,0.67148702374683245,0.7400896988175969,0.65582739386716504,0.61276378369161066,0.52891440801397771,0.84825491211309101,0.61728229069871643,0.73895822058497673,0.43214241351906701,0.74973898584248633,0.50166616064431413,0.52189563314597498,0.31348699713214345,0.6302126783334191,0.5329744332469708,0.721602339116726,0.42756656082370664,0.12239411137045983,0.739947224824266,0.26196719406443392,0.57007180569489768,0.88514555618477664,0.76945165909798952,0.88265626911000872,0.91344896741450154,0.57780044959141519,0.72948252884996967,0.76099065125375032,0.66231630215078963,0.59916852852425118,0.67727536455166748,0.49181536731396291,0.56071444439580109,0.43117066809736293,0.4160194998796658,0.80570058027973845,0.64620254270380184,95,{"$f":"AVERAGE(Data!EY132:FQ132)","v":0.68891772871567014},77,{"$f":"AVERAGE(Data!FR132:FZ132)","v":0.59484869911268756},76,{"$f":"AVERAGE(Data!GA132:GL132)","v":0.61708554754501277},221]
["E05004995","29UHGU","Heath","Maidstone","NHS West Kent CCG",129,1.0722165927986895,0.89458276631242162,1.1494772890324798,1.1683026812644803,1.1684504272047538,1.0655846609703334,0.96131462435762771,1.2120004811116529,1.0189890458873134,1.3376077352961731,0.55124903799900504,1.2862793452074011,1.2106394938381451,0.35868518864013821,1.0155367886673301,1.2504511738318864,1.0601596540347746,1.1192573471263456,1.0561030652906951,0.93423432341843604,1.3469466862116555,1.1579551369656844,0.76923380705792654,1.2459545639526328,1.0057908085460068,1.1754215931898855,0.92503510433762892,0.4340528691321725,0.97123934626757946,1.1667290032771875,1.3650690176686582,1.8459438916729096,0.55124903799900504,1.4082849784656968,0.55232026907432763,0.98341135206862051,1.1543752985851037,1.0341918093059193,0.93234330966874179,0.60902605613017258,1.0387588827145302,138,0.48499999999999999,null,null,null,null,1.1151305749817699,115,0.40400000000000003,null,null,null,null,1.003679726170924,141,0.496,null,null,null,null,1.0785066888172716,126,0.443,null,null,null,null,1.0908649035212672,123,0.432,null,null,null,null,0.88507509380142335,173,0.60899999999999999,null,null,null,null,1.1676791224044751,51,0.17699999999999999,null,null,null,null,1.1985964648359573,59,0.20499999999999999,null,null,null,null,0.9803026237700122,156,0.54900000000000004,null,null,null,null,0.94266956515171141,209,0.73699999999999999,null,null,null,null,1.050362494677455,137,0.48199999999999998,null,null,null,null,{"$f":"AVERAGE(Data!Z133:AH133)","v":0.99940276586800314},144,0.50700000000000001,null,null,null,null,1.0478486141819936,73,0.255,null,null,null,null,1.0381423915466901,133,0.46800000000000003,null,null,null,null,"Maidstone",151,147,140,211,0.51700000000000002,0.49199999999999999,0.74399999999999999,151,0.53100000000000003,0.62585193370165748,0.55940783693954266,0.86756375670767194,0.81122011294674623,0.82838811284665037,0.80889086889398465,0.63347697948882153,0.69133905610777679,0.51669466163041544,0.75613176080007138,0.42057493081539665,0.82658137335624138,0.52804981907449178,0.22298623370794501,0.54252136894070602,0.74684473810270835,0.51447635133303049,0.58887130646598462,0.40796642960011709,0.67700715956649438,0.83186145707391701,0.73496833384328786,0.43214241351906701,0.74973898584248633,0.40755069091323182,0.34655535240956903,0.43079353939567305,0.15113234991559005,0.57192444673704401,0.95099220359215131,0.98742182036626747,0.25465252224201362,0.42057493081539665,0.47826822308010752,0.26404453100869985,0.85576410840139205,0.84370689972486956,0.91978060694289809,0.825646260140521,0.33116787042656315,0.68427450911629073,0.75466302605679592,0.57004811080349704,0.50377136246637744,0.68514366996905063,0.33400798315851599,0.83677949023182097,0.33761372652870514,0.37115637704440368,0.7552131491272488,0.60908830843542983,147,{"$f":"AVERAGE(Data!EY133:FQ133)","v":0.62620198060315568},141,{"$f":"AVERAGE(Data!FR133:FZ133)","v":0.52908336471992423},139,{"$f":"AVERAGE(Data!GA133:GL133)","v":0.64199536862316042},{"$f":"RANK(HC133,HC$5:HC$287)","v":165}]
["E05004996","29UHGW","High Street","Maidstone","NHS West Kent CCG",130,0.82974146460414944,0.89047799982964149,0.9408810658321235,1.1683026812644803,0.84674838043713174,0.71113346346897743,0.4740096918964754,1.2120004811116529,1.0189890458873134,1.3376077352961731,0,1.0030576179963409,1.2494382724479305,0.8795160879324242,0.77151703875727373,0.78514948032895104,0.88371382703971757,0.98456159750589567,0.80499313784208826,0.72717901020357656,1.1733934373802113,1.0551091273966555,0.76923380705792654,1.2459545639526328,0.78582204044700632,0.89127647281147881,1.4243802667971319,0.67245899449932955,1.0064679377495267,1.1916700626566747,1.1686417021758766,3.1977559135345892,0,1.2879358652367814,0.42643897573850692,0.16864966408363194,0.72619074127433525,0.36387276044200995,0.28099468494030416,1.0008799182319088,{"$f":"AVERAGE(G134:I134)","v":0.88703351008863818},207,{"$f":"PERCENTRANK($AV$5:$AV$287,AV134)","v":0.73},null,null,null,null,{"$f":"AVERAGE(J134:N134)","v":0.8824389396357436},{"$f":"RANK(BB134,$BB$5:$BB$287)","v":201},{"$f":"PERCENTRANK($BC$5:$BC$287,BC134)","v":0.70899999999999996},null,null,null,null,{"$f":"AVERAGE(O134:V134)","v":0.88065940983080104},{"$f":"RANK(BI134,$BI$5:$BI$287)","v":196},{"$f":"PERCENTRANK($BJ$5:$BJ$287,BJ134)","v":0.69099999999999995},null,null,null,null,{"$f":"AVERAGE(W134:Y134)","v":0.89108952079590054},{"$f":"RANK(BP134,$BP$5:$BP$287)","v":176},{"$f":"PERCENTRANK($BJ$5:$BJ$287,BQ134)","v":0.62},null,null,null,null,{"$f":"AVERAGE(Z134:AD134)","v":0.99417398919820044},{"$f":"RANK(BW134,$BW$5:$BW$287)","v":166},{"$f":"PERCENTRANK($BX$5:$BX$287,BX134)","v":0.58499999999999996},null,null,null,null,{"$f":"AVERAGE(AE134:AH134)","v":0.94348444363873663},{"$f":"RANK(CD134,$CD$5:$CD$287)","v":155},{"$f":"PERCENTRANK($CE$5:$CE$287,CE134)","v":0.54600000000000004},null,null,null,null,{"$f":"AVERAGE(AI134:AK134)","v":1.1222599008606926},{"$f":"RANK(CK134,$CK$5:$CK$287)","v":85},{"$f":"PERCENTRANK($CL$5:$CL$287,CL134)","v":0.29699999999999999},null,null,null,null,{"$f":"AVERAGE(AL134:AM134)","v":1.5988779567672946},{"$f":"RANK(CR134,$CR$5:$CR$287)","v":26},{"$f":"PERCENTRANK($CS$5:$CS$287,CS134)","v":8.7999999999999995E-2},null,null,null,null,{"$f":"AVERAGE(AN134:AO134)","v":0.85718742048764418},{"$f":"RANK(CY134,$CY$5:$CY$287)","v":256},{"$f":"PERCENTRANK($CZ$5:$CZ$287,CZ134)","v":0.90400000000000003},null,null,null,null,{"$f":"AVERAGE(AP134:AT134)","v":0.50811755379443801},{"$f":"RANK(DF134,$DF$5:$DF$287)","v":281},{"$f":"PERCENTRANK($DG$5:$DG$287,DG134)","v":0.99199999999999999},null,null,null,null,{"$f":"AVERAGE(G134:Y134)","v":0.88378100365677581},{"$f":"RANK(DM134,DM$5:DM$287)","v":200},{"$f":"PERCENTRANK(DN$5:DN$287,DN134)","v":0.70499999999999996},null,null,null,null,{"$f":"AVERAGE(Data!Z134:AH134)","v":0.97164530228288315},{"$f":"RANK(DT134,DT$5:DT$287)","v":161},{"$f":"PERCENTRANK(DU$5:DU$287,DU134)","v":0.56699999999999995},null,null,null,null,{"$f":"AVERAGE(AI134:AT134)","v":0.90162485217201216},{"$f":"RANK(EA134,EA$5:EA$287)","v":247},{"$f":"PERCENTRANK(EB$5:EB$287,EB134)","v":0.872},null,null,null,null,{"$f":"AVERAGE(G134:AT134)","v":0.90890362540222092},{"$f":"RANK(EH134,EH$5:EH$287)","v":207},{"$f":"PERCENTRANK(EI$5:EI$287,EI134)","v":0.73},null,null,null,null,"Maidstone",{"$f":"RANK(EH134,EH$5:EH$287,1)","v":77},{"$f":"RANK(DM134,DM$5:DM$287,1)","v":84},{"$f":"RANK(DT134,DT$5:DT$287,1)","v":123},{"$f":"RANK(EA134,EA$5:EA$287,1)","v":37},{"$f":"PERCENTRANK(EQ$5:EQ$287,EQ134)","v":0.29399999999999998},{"$f":"PERCENTRANK(ER$5:ER$287,ER134)","v":0.432},{"$f":"PERCENTRANK(ES$5:ES$287,ES134)","v":0.127},{"$f":"RANK(EH134,EH$5:EH$287,1)","v":77},{"$f":"PERCENTRANK(EW$5:EW$287,EW134)","v":0.26900000000000002},{"$f":"G134/G$292","v":0.4843194029850747},0.55684101067623415,0.71012652435742962,0.81122011294674623,0.60031326669484519,0.53982511782892917,0.31235791099262245,0.69133905610777679,0.51669466163041544,0.75613176080007138,0,0.64457906949067045,0.54497284870427476,0.54677468193525092,0.41216082440198959,0.46893854816484654,0.42885037515588148,0.51800426033217373,0.310964135122206,0.52696136702932772,0.72467662197187566,0.66969070962249733,0.43214241351906701,0.74973898584248633,0.31841841543770044,0.26277944349423032,0.66334111397671502,0.23414269386988271,0.59266917126871177,0.97132147710176531,0.84533624452865042,0.44113833176040518,0,0.4373964127481037,0.20386519499169706,0.1467588604841048,0.53075645301873631,0.32361802272825646,0.24883774928653229,0.54424481142844261,{"$f":"AVERAGE(EY134:FA134)","v":0.5837623126729129},{"$f":"AVERAGE(FB134:FF134)","v":0.59101109291418397},{"$f":"AVERAGE(FG134:FN134)","v":0.48628154939093987},{"$f":"AVERAGE(FO134:FQ134)","v":0.41927292353675377},{"$f":"AVERAGE(FR134:FV134)","v":0.6206420195970509},{"$f":"AVERAGE(FW134:FZ134)","v":0.36967041669463213},{"$f":"AVERAGE(GA134:GC134)","v":0.80310896429970924},{"$f":"AVERAGE(GD134:GE134)","v":0.22056916588020259},{"$f":"AVERAGE(GF134:GG134)","v":0.32063080386990039},{"$f":"AVERAGE(GH134:GL134)","v":0.35884317938921451},{"$f":"AVERAGE(EY134:GL134)","v":0.49305620156091556},{"$f":"RANK(GW134,$GW$5:$GW$287)","v":243},{"$f":"AVERAGE(Data!EY134:FQ134)","v":0.51865334570144406},{"$f":"RANK(GY134,GY$5:GY$287)","v":211},{"$f":"AVERAGE(Data!FR134:FZ134)","v":0.50909908497375367},162,{"$f":"AVERAGE(Data!GA134:GL134)","v":0.4404952274454505},283]
["E05004997","29UHGX","Leeds","Maidstone","NHS West Kent CCG",131,1.083409894410273,1.2756385678964697,1.1020199773412196,1.1683026812644803,1.1749853434738031,1.1951009715274838,1.2294474494597192,1.2120004811116529,1.0189890458873134,1.3376077352961731,0.80302865563996129,1.1662994766076895,1.2984331136458975,1.3531007672778101,1.1668143215047282,0.88666001466305966,1.3526004643710043,1.2038167892128213,1.2568255890832465,1.1612739711004432,1.1547931249413295,1.1016162544253731,0.76923380705792654,1.2459545639526328,1.2979540088129831,1.4302563083525901,0.69856410168781558,1.8753566599687896,0.83136660377866411,1.0002843555975345,0.64388925605041536,1.138716909986305,0.80302865563996129,0.7358441137381253,1.3516315478267495,1.1168162967583293,0.78441739500200203,1.1022244982012976,1.1010587639416554,1.1936778219436823,1.1536894798826542,{"$f":"RANK(AU135,$AU$5:$AU$287)","v":80},0.28000000000000003,null,null,null,null,1.1959673853674277,82,0.28699999999999998,null,null,null,null,1.128866641315329,98,0.34300000000000003,null,null,null,null,1.2710809475556906,75,0.26200000000000001,null,null,null,null,1.0865743442955409,125,0.439,null,null,null,null,1.3255327697055446,43,0.14799999999999999,null,null,null,null,0.82518007180887132,232,0.81899999999999995,null,null,null,null,0.97087278281313316,108,0.379,null,null,null,null,1.0437378307824374,84,0.29399999999999998,null,null,null,null,1.0596389551693932,106,0.372,null,null,null,null,1.1728990178776215,63,0.219,null,null,null,null,{"$f":"AVERAGE(Data!Z135:AH135)","v":1.192778088922209},63,0.219,null,null,null,null,0.98357968487206004,157,0.55300000000000005,null,null,null,null,1.1205760089609851,64,0.223,null,null,null,null,"Maidstone",220,221,221,127,0.78,0.78,0.44600000000000001,220,0.77600000000000002,0.63238545454545458,0.79769277796975091,0.83174552523241463,0.81122011294674623,0.83302112664825345,0.90720737514616423,0.81016832261800664,0.69133905610777679,0.51669466163041544,0.75613176080007138,0.61266995134269475,0.74948060599045563,0.56634313867238717,0.84119125483411605,0.62333704703408011,0.52956675182121404,0.65639259999431288,0.633360296655188,0.48550436511347705,0.84153490505088813,0.71318924599342737,0.69920935380218774,0.43214241351906701,0.74973898584248633,0.52593645574275849,0.42168952982393304,0.32532484491638697,0.65297819483973873,0.48955891946615165,0.81532439913337496,0.46575689074638976,0.1570888121549833,0.61266995134269475,0.2499003128790826,0.6461666140563983,0.97185303020261149,0.57331300248591255,0.98028693402949996,0.97505397552149231,0.64908182218071608,0.75394125258253997,0.81059119869338936,0.64942689651567931,0.59175242058765931,0.68716298084161131,0.48148225633070429,0.59021340311530546,0.38487938174883901,0.44803346346774042,0.82991775288404646,0.65583126947082915,78,{"$f":"AVERAGE(Data!EY135:FQ135)","v":0.69923432553173581},66,{"$f":"AVERAGE(Data!FR135:FZ135)","v":0.59574932550343052},74,{"$f":"AVERAGE(Data!GA135:GL135)","v":0.63217122201660891},189]
["E05008554","29UHGY","Loose","Maidstone","NHS West Kent CCG",132,1.1164617202007376,1.0745799065785655,1.1725054734753195,1.1683026812644803,1.2382122871043186,1.2018920536470328,1.4556446774501366,1.2120004811116529,1.0189890458873134,1.3376077352961731,1.1873454974500859,1.2764270309359371,1.2210839474266844,1.1340412379010241,1.2004892664409266,1.1376692347672073,1.4667576709933714,1.3511688835399613,1.4356690907324277,1.2050776814323743,1.0973367219092405,0.96663592151105326,0.76923380705792654,1.2459545639526328,1.6197040781970662,1.4301835982897677,0.66552953555930516,1.1250046161198208,1.1591815589595607,1.0204762747142322,1.0491668126984195,0.98460518153087695,1.1873454974500859,1.1739484681904639,0.75276770358049871,1.0316179570564725,0.82428683686558435,0.99423298395404736,1.0603572023043357,1.0917776064655904,1.121182366751541,106,0.372,null,null,null,null,1.2552104361155241,51,0.17699999999999999,null,null,null,null,1.1892066245131689,72,0.251,null,null,null,null,1.4178652150885869,50,0.17299999999999999,null,null,null,null,1.0568477391726456,136,0.47799999999999998,null,null,null,null,1.21010545704149,71,0.248,null,null,null,null,1.0762748821240706,114,0.4,null,null,null,null,1.0859753394904814,77,0.26900000000000002,null,null,null,null,0.96335808588548133,178,0.627,null,null,null,null,1.0004545173292061,166,0.58499999999999996,null,null,null,null,1.2319393643264924,38,0.13100000000000001,null,null,null,null,{"$f":"AVERAGE(Data!Z136:AH136)","v":1.1249622804476875},83,0.28999999999999998,null,null,null,null,1.0274803403141808,101,0.35399999999999998,null,null,null,null,1.1465318132500681,51,0.17699999999999999,null,null,null,null,"Maidstone",233,246,201,183,0.86799999999999999,0.70899999999999996,0.64500000000000002,233,0.82199999999999995,0.6516777777777778,0.67196512586055657,0.88494419423002013,0.81122011294674623,0.87784668988626158,0.91236252097137738,0.95922538793818113,0.69133905610777679,0.51669466163041544,0.75613176080007138,0.9058841213704647,0.82025013629518839,0.5326054211805118,0.70500704383071167,0.64132691941454179,0.6794845728230362,0.71179103259635168,0.71088618515590185,0.55459056249603655,0.87327793221968519,0.67770471818414391,0.61353568025762284,0.43214241351906701,0.74973898584248633,0.65631094511438737,0.42166809235707764,0.3099404799358908,0.3917140131800419,0.68259618427060942,0.8317826834492752,0.7589141579316161,0.1358287183161154,0.9058841213704647,0.39868510738555996,0.35987126741434217,0.89771347399465051,0.60245267935678248,0.88424237089794588,0.93901028667937292,0.59367191481104731,0.7361956992894515,0.85039875357006856,0.69467307966811775,0.65908926008276336,0.66927994600460106,0.4449083826468494,0.75776434188383357,0.52085641984329001,0.37927818739995106,0.78341814514795982,0.67779798774500288,50,{"$f":"AVERAGE(Data!EY136:FQ136)","v":0.73659122543746991},39,{"$f":"AVERAGE(Data!FR136:FZ136)","v":0.5695592511789338},99,{"$f":"AVERAGE(Data!GA136:GL136)","v":0.6658877471564818},106]
["E05004999","29UHGZ","Marden and Yalding","Maidstone","NHS West Kent CCG",133,1.1916937054248105,0.7328304889256142,1.0731537018714206,1.1683026812644803,1.0285269933493284,1.0165830596719343,1.0309786978470543,1.2120004811116529,1.0189890458873134,1.3376077352961731,0.89907252158679274,1.1056407679931517,0.81968024359033764,1.2528418457993096,1.0876568505541924,0.9777788467455093,1.1010785529776645,1.0152867611049627,1.0709465287577691,1.1375224766492542,1.0427497766786156,0.99837176591775134,0.76923380705792654,1.2459545639526328,1.1242496297524387,1.6208985660885005,0.6605028506831272,1.6423892858194693,0.7985273549971309,0.73324958274274099,0.71261355019357664,1.0735688400976795,0.89907252158679274,0.69484783766013292,1.2130898617009875,0.84580791393127897,0.89459170366461649,0.82268254699222043,0.88877876785955257,1.0351957024778016,0.9992259654072817,165,0.58099999999999996,null,null,null,null,1.0912783826488901,123,0.432,null,null,null,null,1.0624084821815976,117,0.41099999999999998,null,null,null,null,1.062437280946799,133,0.46800000000000003,null,null,null,null,1.0387664780512362,140,0.49199999999999999,null,null,null,null,1.262010083085884,61,0.21199999999999999,null,null,null,null,0.74813016264448284,256,0.90400000000000003,null,null,null,null,0.98632068084223612,100,0.35099999999999998,null,null,null,null,0.95396884968056028,188,0.66300000000000003,null,null,null,null,0.89741132698509385,236,0.83299999999999996,null,null,null,null,1.0600341847241825,132,0.46400000000000002,null,null,null,null,{"$f":"AVERAGE(Data!Z137:AH137)","v":1.1379858580666351},77,0.26900000000000002,null,null,null,null,0.8843355153253758,256,0.90400000000000003,null,null,null,null,1.0248637104065925,144,0.50700000000000001,null,null,null,null,"Maidstone",140,152,207,28,0.53500000000000003,0.73,9.5000000000000001E-2,140,0.49199999999999999,0.69559062500000002,0.45825957540306017,0.80995880997698189,0.81122011294674623,0.72918757629345754,0.77169349800149745,0.67938347641999874,0.69133905610777679,0.51669466163041544,0.75613176080007138,0.68594652779252929,0.71050045843585408,0.35752344651716778,0.77886261678560953,0.58104944112831636,0.58398840514679262,0.53433355467837906,0.53416959288631538,0.41370037261437687,0.82432302213159969,0.64399234020987095,0.6336788101096319,0.43214241351906701,0.74973898584248633,0.45555070644055606,0.47789752804057906,0.3075995272962761,0.57186156317400061,0.47022118437251581,0.59766632569935274,0.51546856594221391,0.14810147489561382,0.68594652779252929,0.23597755121326927,0.57993479786840962,0.73602165952395482,0.65383692265727988,0.73167032032643164,0.78706722959835718,0.56290457988390052,0.65460300346001399,0.73656474395389526,0.62133716477959444,0.49406784005969046,0.65677511436253122,0.45322733123785297,0.52778535867136078,0.41702400134407158,0.40795617454083943,0.69430014239798488,0.59752839012758141,159,{"$f":"AVERAGE(Data!EY137:FQ137)","v":0.63681755624028147},131,{"$f":"AVERAGE(Data!FR137:FZ137)","v":0.56630943297378533},102,{"$f":"AVERAGE(Data!GA137:GL137)","v":0.55873476164781899},263]
["E05005000","29UHHA","North","Maidstone","NHS West Kent CCG",134,1.0013336380302404,0.94663348573989936,1.0658926755316198,1.1683026812644803,1.0585648656388578,0.85721186829366158,0.86244315620072876,1.2120004811116529,1.0189890458873134,1.3376077352961731,0.77662658980649824,1.1396599663343294,1.5427711653108593,0.82702755995411525,0.97137753950657357,1.1029724789249689,0.36232733015241503,0.6583919626149688,0.35790015170330453,1.0242338448401285,1.2863583975203163,1.3139152986001417,0.76923380705792654,1.2459545639526328,0.8945287414083386,1.0690908785834012,1.007933240125505,0.52265104003685803,0.96835430335485273,1.0852508225688484,1.1628660783455254,1.1818320368362447,0.77662658980649824,1.3930465545866859,0.61746444790645527,0.92454099117419586,1.1129114485451148,0.92947377011869314,0.93490595030705681,0.58288556500555677,1.0046199331005865,161,0.56699999999999995,null,null,null,null,1.0317046105018761,144,0.50700000000000001,null,null,null,null,1.0896290101276038,108,0.379,null,null,null,null,0.45953981482356276,251,0.88600000000000001,null,null,null,null,1.1279391823942291,100,0.35099999999999998,null,null,null,null,0.87355097503852575,177,0.624,null,null,null,null,1.0721570680897421,118,0.41399999999999998,null,null,null,null,0.97922931332137142,103,0.36099999999999999,null,null,null,null,1.0052555012465705,124,0.436,null,null,null,null,0.89694354503012352,237,0.83599999999999997,null,null,null,null,0.96147549354224515,178,0.627,null,null,null,null,{"$f":"AVERAGE(Data!Z138:AH138)","v":1.0148777569028051},141,0.496,null,null,null,null,0.97251321321297723,172,0.60599999999999998,null,null,null,null,0.976802318699591,170,0.59899999999999998,null,null,null,null,"Maidstone",114,106,143,112,0.372,0.503,0.39300000000000002,114,0.4,0.58447761194029846,0.59195661997288751,0.80447857704935866,0.81122011294674623,0.7504833161558484,0.65071399614450742,0.56832370144781574,0.69133905610777679,0.51669466163041544,0.75613176080007138,0.59252652025100672,0.73236167838788169,0.67291711435333124,0.51414378571360675,0.51893055807749133,0.65876158093635417,0.17583091574520374,0.34639766822814033,0.13825473274575473,0.74222668622346311,0.79444270648168114,0.83395816210448748,0.43214241351906701,0.74973898584248633,0.36246683058253076,0.31520534277395523,0.4693996216490961,0.18198124118964085,0.57022555904472094,0.8845799395626659,0.84115845064240713,0.16303665046613117,0.59252652025100672,0.47309309587034615,0.29518762879235411,0.80453514729970022,0.81340190583702887,0.82664737887552542,0.82791563306052474,0.31695355120243923,0.66030426965418154,0.69441603656053885,0.62030845751876984,0.22016110557303292,0.71050179083423703,0.33226325904880577,0.76532131641659795,0.37778158535856893,0.38414036233135013,0.71789072325504377,0.58416918549764385,174,{"$f":"AVERAGE(Data!EY138:FQ138)","v":0.58294441940181563},173,{"$f":"AVERAGE(Data!FR138:FZ138)","v":0.54239577670737871},126,{"$f":"AVERAGE(Data!GA138:GL138)","v":0.61743845507540418},220]
["E05005001","29UHHB","North Downs","Maidstone","NHS West Kent CCG",135,1.2478121916956622,1.133069698961956,1.1052803552251418,1.1683026812644803,1.0585146578386428,1.1305856913917689,1.2090074429155091,1.2120004811116529,1.0189890458873134,1.3376077352961731,0.91838145636785939,1.2780023545115982,1.1997477244443422,1.2486974889341922,1.4204287505554734,1.0424464893780598,1.5490618504901383,1.3584081811502116,1.3845798872943256,1.1038981267951469,1.1471283183382479,1.0737677403283057,0.76923380705792654,1.2459545639526328,1.3840840404395478,1.9916340704656623,0.56653307290786048,2.5862262657020598,0.20651063249066978,0.25677764105153,0.84828624188312496,0.7501593311924124,0.91838145636785939,0.37236100080714923,1.3128169181988305,1.054080740209788,0.73191947855959927,1.0367261324808306,1.0863349010337675,0.91437098213397394,1.16205408196092,71,0.248,null,null,null,null,1.1556821909044106,96,0.33600000000000002,null,null,null,null,1.1830376306718764,76,0.26500000000000001,null,null,null,null,1.4306833063115585,42,0.14499999999999999,null,null,null,null,1.0679965112944518,131,0.46,null,null,null,null,1.6321193623787826,4,0.01,null,null,null,null,0.43719150514177496,280,0.98899999999999999,null,null,null,null,0.8342703937801359,161,0.56699999999999995,null,null,null,null,0.84258895950298984,260,0.91800000000000004,null,null,null,null,0.96468644688359184,195,0.68700000000000006,null,null,null,null,1.2116275876165523,47,0.16300000000000001,null,null,null,null,{"$f":"AVERAGE(Data!Z139:AH139)","v":1.3187177784430435},23,7.8E-2,null,null,null,null,0.79072712136746126,281,0.99199999999999999,null,null,null,null,1.1094527406777852,78,0.27300000000000002,null,null,null,null,"Maidstone",206,237,261,3,0.83599999999999997,0.92100000000000004,7.0000000000000001E-3,206,0.72599999999999998,0.72834693877551027,0.70854044283777684,0.83420628345030257,0.81122011294674623,0.75044772068350163,0.85823348980663972,0.79669898253071703,0.69133905610777679,0.51669466163041544,0.75613176080007138,0.70067826127390509,0.82126246159567784,0.52329910931566437,0.77628616657868077,0.75882327339943334,0.62261181534970855,0.75173176586780155,0.71469497377148639,0.53485510238540857,0.79995662387756816,0.70845553436675412,0.68153356019625677,{"$f":"AC139/AC$292","v":0.43214241351906701},{"$f":"AD139/AD$292","v":0.74973898584248633},{"$f":"AE139/AE$292","v":0.56083670895597859},{"$f":"AF139/AF$292","v":0.58720330744309435},{"$f":"AG139/AG$292","v":0.26383732521961134},{"$f":"AH139/AH$292","v":0.90049503354383498},{"$f":"AI139/AI$292","v":0.12160594572947221},{"$f":"AJ139/AJ$292","v":0.2092975609682125},{"$f":"AK139/AK$292","v":0.61360732264103646},{"$f":"AL139/AL$292","v":0.10348633381180755},{"$f":"AM139/AM$292","v":0.70067826127390509},{"$f":"AN139/AN$292","v":0.12645766796035143},{"$f":"AO139/AO$292","v":0.62761073035950465},{"$f":"AP139/AP$292","v":0.9172605776120486},{"$f":"AQ139/AQ$292","v":0.53494345804233012},{"$f":"AR139/AR$292","v":0.9220345614676142},{"$f":"AS139/AS$292","v":0.96201510644971377},{"$f":"AT139/AT$292","v":0.49720416373849008},0.75703122168786319,0.78158787241507621,0.68447343874294464,0.66709394734156546,0.67436542356042661,0.57809309379062979,0.31483694311290705,0.40208229754285629,0.37703419915992803,0.76669157346203942,0.64191258905315907,102,{"$f":"AVERAGE(Data!EY139:FQ139)","v":0.7187422304793275},49,{"$f":"AVERAGE(Data!FR139:FZ139)","v":0.63157772144051694},43,{"$f":"AVERAGE(Data!GA139:GL139)","v":0.52801680750454061},275]
["E05005002","29UHHC","Park Wood","Maidstone","NHS West Kent CCG",136,0.57848860301233107,0.74917641262294288,0.44869738244297991,1.1683026812644803,0.60609006445669178,0.6007751473000511,0.35021174051578885,1.2120004811116529,1.0189890458873134,1.3376077352961731,0.68359019848478753,0.80819690893282192,0.17129703467093235,0.98110205404354311,0.76600205274398137,1.3107014499026621,0.77835599656731735,0.907094071232315,0.52575995821696853,0.13949452392521208,1.3021478685859771,1.0439787600089014,0.76923380705792654,1.2459545639526328,0.44004281261792932,1.0156686040367227,1.0361840268411988,0.17136643376310612,1.0565452554850756,1.1458611162888857,0.91680744836332306,1.760253448904519,0.68359019848478753,1.0336798297667074,0.78798127220186998,0.82561122904378936,1.0050284913183187,0.80956389329131884,0.82868301876909134,0.76366590822254599,0.59212079935941797,268,0.94599999999999995,null,null,null,null,0.78747602292973307,224,0.79,null,null,null,null,0.8846858099952768,193,0.68,null,null,null,null,0.73707000867220029,208,0.73399999999999999,null,null,null,null,0.90016190470613,195,0.68700000000000006,null,null,null,null,0.66581546931473934,243,0.85799999999999998,null,null,null,null,1.0397379400457616,139,0.48899999999999999,null,null,null,null,1.2219218236946532,57,0.19800000000000001,null,null,null,null,0.91083055098428867,229,0.80800000000000005,null,null,null,null,0.84651050812901274,251,0.88600000000000001,null,null,null,null,0.78960205361609115,231,0.81499999999999995,null,null,null,null,{"$f":"AVERAGE(Data!Z140:AH140)","v":0.79600793342106746},220,0.77600000000000002,null,null,null,null,0.96810592584501931,177,0.624,null,null,null,null,0.84459453824088926,231,0.81499999999999995,null,null,null,null,"Maidstone",53,53,64,107,0.184,0.223,0.375,53,0.184,0.33766331658291454,{"$f":"H140/H$292","v":0.46848114255440859},{"$f":"I140/I$292","v":0.33865269931934366},{"$f":"J140/J$292","v":0.81122011294674623},{"$f":"K140/K$292","v":0.42969542654153342},{"$f":"L140/L$292","v":0.45605154494897465},{"$f":"M140/M$292","v":0.23077884174674942},{"$f":"N140/N$292","v":0.69133905610777679},{"$f":"O140/O$292","v":0.51669466163041544},{"$f":"P140/P$292","v":0.75613176080007138},{"$f":"Q140/Q$292","v":0.52154449371454814},{"$f":"R140/R$292","v":0.51935881067906398},{"$f":"S140/S$292","v":7.4715362109338074E-2},{"$f":"T140/T$292","v":0.60992831274610648},{"$f":"U140/U$292","v":0.40921460148322508},{"$f":"V140/V$292","v":0.78282983099906156},{"$f":"W140/W$292","v":0.37772212102970959},{"$f":"X140/X$292","v":0.47724651724249462},{"$f":"Y140/Y$292","v":0.2030979930177968},{"$f":"Z140/Z$292","v":0.10108683555120233},{"$f":"AA140/AA$292","v":0.8041941335734607},{"$f":"AB140/AB$292","v":0.66262612886898264},0.43214241351906701,0.74973898584248633,0.17830720940182021,0.29945458977663975,0.48255615629615739,5.9667873830793847E-2,0.62215772354992094,0.93398294285073269,0.66317209450284498,0.24283131387189907,0.52154449371454814,0.35104841915937063,0.37670561287002446,0.71844651358014389,0.73455268281005115,0.7200029650498635,0.73384881748306952,0.41525581705058096,0.3815990528188889,0.52381699645835611,0.52380222927022868,0.35268887709666696,0.5499576994710399,0.25499645732635279,0.73977092030116631,0.38218790379322359,0.36387701601469757,0.66442135919474177,0.49539225823384853,240,{"$f":"AVERAGE(Data!EY140:FQ140)","v":0.4743350845368568},234,{"$f":"AVERAGE(Data!FR140:FZ140)","v":0.41886381407340117},221,{"$f":"AVERAGE(Data!GA140:GL140)","v":0.58612911637442078},246]
["E05005003","29UHHD","Shepway North","Maidstone","NHS West Kent CCG",137,0.7976604166576361,0.92645640638686289,0.68965907236681523,1.1683026812644803,0.7705072227118922,0.87464028532398685,0.7199027558580966,1.2120004811116529,1.0189890458873134,1.3376077352961731,0.85384056889998661,0.81976412424915823,0.92516959605406379,1.0181735455831307,0.8258350491203823,0.90497341289734878,0.37353170947672409,0.34635498570907919,0.39684322297867292,0.77929008781405174,1.1337109995922372,0.7690466764709597,0.76923380705792654,1.2459545639526328,0.54874509395492665,0.62270825313734124,1.1258861797633866,0.44537198932200994,1.0875135959450792,1.0726870247292157,1.0575762820180605,0.68398880954452657,0.85384056889998661,0.90864096980817799,1.1261927648721695,0.93380277926173139,1.1309004361617274,0.86912570714032156,0.95410067956197786,0.74685570430984005,0.80459196513710474,224,0.79,null,null,null,null,0.94907068525402172,185,0.65200000000000002,null,null,null,null,0.96304413474844464,164,0.57799999999999996,null,null,null,null,0.37224330605482542,266,0.93899999999999995,null,null,null,null,0.93944722697756156,185,0.65200000000000002,null,null,null,null,0.68567787904441602,235,0.82899999999999996,null,null,null,null,1.0725923008974518,117,0.41099999999999998,null,null,null,null,0.76891468922225659,198,0.69799999999999995,null,null,null,null,1.0174168673401738,109,0.38200000000000001,null,null,null,null,0.92695706128711952,221,0.78,null,null,null,null,0.84106380620176069,216,0.76200000000000001,null,null,null,null,{"$f":"AVERAGE(Data!Z141:AH141)","v":0.82666085011838586},212,0.748,null,null,null,null,0.95210211018773461,195,0.68700000000000006,null,null,null,null,0.8711346322787934,223,0.78700000000000003,null,null,null,null,"Maidstone",61,68,72,89,0.23699999999999999,0.251,0.312,61,0.21199999999999999,0.46559372197309412,0.57933932312603797,0.52051764865549777,0.81122011294674623,0.54626110727175003,0.66394399833154061,0.47439393071899122,0.69133905610777679,0.51669466163041544,0.75613176080007138,0.65143685238166149,0.52679206750442564,0.40353518970436231,0.63297479623121666,0.44117866173607606,0.5405046160051834,0.18126819886740478,0.1822266464983851,0.15329821312946318,0.56472445467304255,0.70016912597632741,0.4881233619591685,0.43214241351906701,0.74973898584248633,0.22235383369617151,0.18359614913037944,0.52433090383552949,0.15507354085089572,0.64039375471156668,0.87433928062692501,0.76499714230561922,9.4357946805183571E-2,0.65143685238166149,0.30858392207052027,0.53839240939760902,0.81259475105377543,0.82654965162629168,0.7729755382221678,0.84491372406346887,0.40611499396892081,0.52181689791820995,0.63743164107536099,0.55865607574917653,0.17226435283175104,0.58697966839401838,0.27133860687824402,0.75991005921470356,0.37289739959342255,0.42348816573406467,0.73262973178692492,0.53236383250842201,219,{"$f":"AVERAGE(Data!EY141:FQ141)","v":0.51256055598000538},216,{"$f":"AVERAGE(Data!FR141:FZ141)","v":0.44669475216478527},213,{"$f":"AVERAGE(Data!GA141:GL141)","v":0.62797083060280923},200]
["E05005004","29UHHE","Shepway South","Maidstone","NHS West Kent CCG",138,0.42106779712484921,0.95146343945031531,0.45054364545314962,1.1683026812644803,0.61388336237325525,0.72824792313519238,0.50121197894867264,1.2120004811116529,1.0189890458873134,1.3376077352961731,0.40521082986939222,0.37880604353978908,0.73539686801611659,1.0258227958805426,0.58655082858824525,0.42345672810324375,0.11020504120698478,0.24381787228014848,0.16712484890815196,0.5144595774723244,0.72504432512335903,0.63187442832246743,0.76923380705792654,1.2459545639526328,0.18121255006009976,0.23727268981636793,1.4062263045648384,0.32160856203686838,0.96274955850900534,1.1495666388889747,0.97370984013659323,0.24830492353994527,0.40521082986939222,0.77605969675780717,1.4381991867281916,1.0207161712477508,0.91036282146826586,1.0071253155975031,1.0218722183711559,1.0924129969969811,0.60769162734277138,263,0.92900000000000005,null,null,null,null,0.84472928536665071,214,0.755,null,null,null,null,0.73898010939760206,243,0.85799999999999998,null,null,null,null,0.17371592079842843,276,0.97499999999999998,null,null,null,null,0.77731334038574207,225,0.79400000000000004,null,null,null,null,0.53658002661954363,274,0.96799999999999997,null,null,null,null,1.0286753458448576,146,0.51400000000000001,null,null,null,null,0.32675787670466871,283,1,null,null,null,null,1.1071294417429993,43,0.14799999999999999,null,null,null,null,1.0104979047363314,160,0.56299999999999994,null,null,null,null,0.65682683928619334,257,0.90700000000000003,null,null,null,null,{"$f":"AVERAGE(Data!Z142:AH142)","v":0.67032075648965384},254,0.89700000000000002,null,null,null,null,0.91719084984263033,234,0.82599999999999996,null,null,null,null,0.73797217382390312,260,0.91800000000000004,null,null,null,null,"Maidstone",24,27,30,50,9.1999999999999998E-2,0.10199999999999999,0.17299999999999999,24,8.1000000000000003E-2,0.24577692307692309,0.59497692626472398,0.34004615953665812,0.81122011294674623,0.43522058636315963,0.55281679334483746,0.33028338741874941,0.69133905610777679,0.51669466163041544,0.75613176080007138,0.30915521840471072,0.24342614290698741,0.32076120519803153,0.63773015711181469,0.31334793779021003,0.25291385686732548,5.3480518036027838E-2,0.12827912129234395,6.4559350452932068E-2,0.37281098384598704,0.44778047632801188,0.4010584529201035,0.43214241351906701,0.74973898584248633,7.3428091956722299E-2,6.9956278762350485E-2,0.65488672169751061,0.11198050097165699,0.56692514642513125,0.93700328698636393,0.70433240401152886,3.4254277906168147E-2,0.30915521840471072,0.26355794306406738,0.6875515004965983,0.88822674497432841,0.66536367736488833,0.89570844181170139,0.90492951114692721,0.59401741879573211,0.39360000295943509,0.56417598723625395,0.41877011758869587,8.210632992710129E-2,0.48070626249113124,0.22756289834706012,0.73608694580767475,0.17170474815543943,0.47555472178033287,0.78964915881871556,0.45907420881956229,257,{"$f":"AVERAGE(Data!EY142:FQ142)","v":0.39990315134476029},256,{"$f":"AVERAGE(Data!FR142:FZ142)","v":0.36819810064932185},249,{"$f":"AVERAGE(Data!GA142:GL142)","v":0.62091879761567892},215]
["E05008555","29UHHF","South","Maidstone","NHS West Kent CCG",139,1.2088281738962523,1.0407625184741625,1.1273234315098783,1.1683026812644803,1.05871707808573,1.0953892584031804,1.1354846861953054,1.2120004811116529,1.0189890458873134,1.3376077352961731,0.98708203486081325,1.1129590618870506,1.1224825140796035,1.0384390889192816,1.148769095554121,1.2163466424059644,0.70115102195836143,0.9219567195081656,0.71125559699439478,1.1649075212440372,0.98724531038710395,1.218052340518978,0.76923380705792654,1.2459545639526328,1.0655386710369794,0.85360305567583994,0.95573787379261499,0.7010867091182853,1.1396629246199732,1.0195422442680229,1.155095421778817,0.61508772169838,0.98708203486081325,1.1508507264864873,0.83921356635737099,7.5433670730593885E-2,1.105484709315117,4.9220198634723177E-2,0.22078828144985993,1.289987730937094,1.125638041293431,101,0.35399999999999998,null,null,null,null,1.13397883701207,105,0.36799999999999999,null,null,null,null,1.1228344023612902,99,0.34699999999999998,null,null,null,null,0.77812111282030727,201,0.70899999999999996,null,null,null,null,1.0770787086321356,129,0.45300000000000001,null,null,null,null,0.89399157740592994,167,0.58799999999999997,null,null,null,null,1.1047668635556043,99,0.34699999999999998,null,null,null,null,0.80108487827959662,175,0.61699999999999999,null,null,null,null,0.99503214642192916,137,0.48199999999999998,null,null,null,null,0.54818291821347764,279,0.98499999999999999,null,null,null,null,1.0717814140153623,122,0.42899999999999999,null,null,null,null,{"$f":"AVERAGE(Data!Z143:AH143)","v":0.99570665030937755},148,0.52100000000000002,null,null,null,null,0.80395410259477096,279,0.98499999999999999,null,null,null,null,0.97431639875533826,172,0.60599999999999998,null,null,null,null,"Maidstone",112,162,136,5,0.56999999999999995,0.47799999999999998,1.4E-2,112,0.39300000000000002,0.705592,0.65081815920434627,0.85084321421304632,0.81122011294674623,0.75059122914785947,0.83151569411672888,0.74824973119229232,0.69133905610777679,0.51669466163041544,0.75613176080007138,0.75309330248927664,0.71520329801730465,0.48959801120882579,0.64557341286132008,0.61369690322558756,0.72647545829879911,0.34025593988387248,0.48506615508558359,0.27475387201819496,0.84416801261308505,0.60971330995869766,0.77311276634690573,0.43214241351906701,0.74973898584248633,0.43176077757527437,0.2516720038933612,0.44509197483962704,0.2441105436199052,0.6711024323044944,0.83102136212292799,0.83553755107379446,8.4852871442714875E-2,0.75309330248927664,0.39084087411541629,0.40119793705262397,6.5642345739066119E-2,0.80797386944497629,4.3775036474596622E-2,0.19552134602295551,0.70145190904528709,0.73575112447246427,0.76658316470228072,0.65205835106645016,0.36669198899588368,0.68177509765604838,0.34315882498204198,0.77922044850040562,0.41897308696599578,0.39601940558402016,0.36287290134537631,0.57300583994961451,181,{"$f":"AVERAGE(Data!EY143:FQ143)","v":0.65035326170779195},116,{"$f":"AVERAGE(Data!FR143:FZ143)","v":0.53127897646760114},136,{"$f":"AVERAGE(Data!GA143:GL143)","v":0.48183423644401085},280]
["E05005006","29UHHG","Staplehurst","Maidstone","NHS West Kent CCG",140,1.2164997275997507,0.79229887214548156,1.1211868662554247,1.1683026812644803,1.0820989218784336,1.1434566951139231,1.2213177961529533,1.2120004811116529,1.0189890458873134,1.3376077352961731,1.1501432883677516,1.1726449374666152,0.91735785553597349,1.3839572979392785,1.230391766978737,1.2104411077238251,1.5226935248757987,1.4679483522512737,1.5657106237870826,1.2096295580891661,1.142532418569842,1.2660428661485224,0.76923380705792654,1.2459545639526328,1.2796250416312727,1.6702355560863524,0.70941412189847064,1.2099866756710078,1.0951435699326277,1.1818227475956222,0.35743436491158886,0.74200808861424961,1.1501432883677516,0.9895617749691159,0.95371779703769644,1.0799435287499564,1.0413613555676637,1.0792986017954047,1.0698911177087425,1.030773457527743,1.0433284886668857,134,0.47099999999999997,null,null,null,null,1.1654353151042887,92,0.32200000000000001,null,null,null,null,1.1776916293994586,79,0.27600000000000002,null,null,null,null,1.5187841669713851,26,8.7999999999999995E-2,null,null,null,null,1.126678642763618,102,0.35799999999999998,null,null,null,null,1.2173153488217758,68,0.23699999999999999,null,null,null,null,0.87813356081327953,220,0.77600000000000002,null,null,null,null,0.94607568849100065,116,0.40699999999999997,null,null,null,null,0.97163978600340617,164,0.57799999999999996,null,null,null,null,1.060253612269902,105,0.36799999999999999,null,null,null,null,1.2071077672437853,51,0.17699999999999999,null,null,null,null,{"$f":"AVERAGE(Data!Z144:AH144)","v":1.1669616232339104},73,0.255,null,null,null,null,0.98092497439818027,161,0.56699999999999995,null,null,null,null,1.1302200469878823,60,0.20899999999999999,null,null,null,null,"Maidstone",224,233,211,123,0.82199999999999995,0.74399999999999999,0.432,224,0.79,0.71006987951807232,0.49544683283307833,0.84621166415439608,0.81122011294674623,0.76716809112107076,0.86800393580280333,0.80481112936350618,0.69133905610777679,0.51669466163041544,0.75613176080007138,0.87750073122836536,0.75355828924867774,0.40012790934697295,0.86037404178882826,0.65730147169817887,0.72294831737931553,0.73893569321855723,0.77232699542620631,0.6048248451940329,0.87657651910400736,0.70561715040022555,0.80357294182022809,0.43214241351906701,0.74973898584248633,0.5185094806947057,0.49244379642172392,0.33037775435425049,0.42130381496229102,0.64488674469206575,0.96329500323930684,0.25854992435857205,0.10236184975175604,0.87750073122836536,0.33606546897780776,0.45593830705419963,0.9397663643606915,0.7611075547754439,0.95989729767657406,0.94745314406518,0.56049991192614323,0.68390945883518228,0.78850846506838068,0.69307964789010323,0.70536251127959881,0.71352960213720296,0.44065871160824277,0.62224389076331488,0.48993129049006068,0.39600188801600367,0.8337448545608066,0.66981501445080405,56,{"$f":"AVERAGE(Data!EY144:FQ144)","v":0.71868396941089863},50,{"$f":"AVERAGE(Data!FR144:FZ144)","v":0.59225365079099856},79,{"$f":"AVERAGE(Data!GA144:GL144)","v":0.6506101918421755},146]
["E05005007","29UHHH","Sutton Valence and Langley","Maidstone","NHS West Kent CCG",141,0.94099353308919753,1.1019969967582797,0.89412743209040446,1.1683026812644803,1.068917622505497,1.1427390278902643,1.094684438333495,1.2120004811116529,1.0189890458873134,1.3376077352961731,1.099588690161424,1.1212858416911176,1.3232258989894716,1.3679348822208754,1.0793531395754978,1.1282561215633216,1.4263937926887325,1.2732131550112393,1.5209106971380366,1.1259556947936333,1.1688068174585109,0.83600500172640513,0.76923380705792654,1.2459545639526328,1.1898109180464664,1.4362647118005905,0.66217554024666325,1.7456518186218586,0.88064872592233745,1.1522561301256691,0.62227722182363421,0.69940912640792896,1.099588690161424,0.76127160639255154,1.3233504399339384,1.1271484436513108,0.65740357008570427,1.1091015954008723,1.1114748696407213,0.80186096436794285,0.97903932064596055,173,0.60899999999999999,null,null,null,null,1.1373288502210781,102,0.35799999999999998,null,null,null,null,1.1845301694231494,75,0.26200000000000001,null,null,null,null,1.4068392149460029,52,0.18,null,null,null,null,1.0291911769978217,146,0.51400000000000001,null,null,null,null,1.2584757471788948,62,0.216,null,null,null,null,0.88506069262388021,214,0.755,null,null,null,null,0.89949890828467649,139,0.48899999999999999,null,null,null,null,1.0423110231632449,87,0.30399999999999999,null,null,null,null,0.96139788862931042,197,0.69499999999999995,null,null,null,null,1.1747642743824458,62,0.216,null,null,null,null,{"$f":"AVERAGE(Data!Z145:AH145)","v":1.1310954304116321},80,0.28000000000000003,null,null,null,null,0.94548261532616962,204,0.71899999999999997,null,null,null,null,1.0961542867721299,91,0.31900000000000001,null,null,null,null,"Maidstone",193,222,204,80,0.78300000000000003,0.71899999999999997,0.28000000000000003,193,0.68,0.54925714285714289,0.68910980569362845,0.67483939122682091,0.81122011294674623,0.75782303765694103,0.86745915087356695,0.72136361386606751,0.69133905610777679,0.51669466163041544,0.75613176080007138,0.83893014846561642,0.72055420496588107,0.57715711416357274,0.85041327884376516,0.57661342197300736,0.6738624947982349,0.69220317075234694,0.66987158576722872,0.5875188958771187,0.81594097714234504,0.72184396915037385,0.53062263259489262,0.43214241351906701,0.74973898584248633,0.48211641783338427,0.42346101708127515,0.30837850730904209,0.6078164210968694,0.5185792125065477,0.93919547145297233,0.45012383930224203,9.6485217628934208E-2,0.83893014846561642,0.25853575379847965,0.63264642968496654,0.98084405969921595,0.48048145924891328,0.98640322752487708,0.98427806564631737,0.43602500299455721,0.63773544659253079,0.76984099429021968,0.68879463570507071,0.64986455079889816,0.6500577956498329,0.45544309083014278,0.63596617442058734,0.46770768304727534,0.44559109174172307,0.7736063630227763,0.64742378196973349,92,{"$f":"AVERAGE(Data!EY145:FQ145)","v":0.69591379206662896},71,{"$f":"AVERAGE(Data!FR145:FZ145)","v":0.56356237128552622},104,{"$f":"AVERAGE(Data!GA145:GL145)","v":0.63354399066280342},186]
["E05005008","29UKGK","Ash","Sevenoaks","NHS Dartford, Gravesham & Swanley CCG",142,1.0374536121661899,0.95156566069286364,1.0470350544623932,1.4401796289550026,1.0765034905714927,1.1000854870520946,1.1989132466696735,1.395834760639715,1.9721300055083251,1.769014085429814,1.0652327289879862,1.0958089066686647,0.68580396874509231,1.3964476758466691,1.1883907481767613,0.76247868931085627,0.48010148389393004,0.71829217120533995,0.29402854877710327,1.1081574128102554,1.2271258993670091,1.1069264129165652,1.2910896893724149,1.6618511074924909,1.0956762043121302,0.80202483217606468,0.88370505739422966,0.78915566025056971,1.262576782903722,0.83657292036306674,0.70795848004613726,0.52155594188005172,1.0652327289879862,1.0556537204869056,0.88807956952328737,1.091813488502223,0.90032793449005111,1.08856968404678,1.0853397711207047,1.0972626209523513,1.0120181091071487,157,0.55300000000000005,null,null,null,null,1.2423033227775957,59,0.20499999999999999,null,null,null,null,1.2419133510842713,48,0.16600000000000001,null,null,null,null,0.49747406795879107,246,0.86799999999999999,null,null,null,null,1.2790301043917469,34,0.11700000000000001,null,null,null,null,0.89264043853324859,168,0.59199999999999997,null,null,null,null,0.93570272777097518,195,0.68700000000000006,null,null,null,null,0.79339433543401894,180,0.63400000000000001,null,null,null,null,0.97186664500509656,163,0.57399999999999995,null,null,null,null,1.052662699822422,111,0.39,null,null,null,null,1.0881736817768404,104,0.36499999999999999,null,null,null,null,{"$f":"AVERAGE(Data!Z146:AH146)","v":1.1073013640101921},95,0.33300000000000002,null,null,null,null,0.96674530360860544,179,0.63100000000000001,null,null,null,null,1.0560488968288744,116,0.40699999999999997,null,null,null,null,"Sevenoaks",168,180,189,105,0.63400000000000001,0.66600000000000004,0.36799999999999999,168,0.59199999999999997,0.6055608108108107,0.5950408480910061,0.79024585689604587,1,0.76320113739072859,0.83508062575612196,0.79004721547531387,0.79620024986952709,1,1,0.81271830046663418,0.70418236472897566,0.29913005767580725,0.86813901903173385,0.63486363343211816,0.45539818662589493,0.23298458752253257,0.37791277436593823,0.11358150656638906,0.80304318048824663,0.75786127922525326,0.70257977655357529,0.72531213438070208,1,0.44397263356396066,0.23646494157190484,0.41154592692924097,0.27477516649369249,0.74348154324702131,0.68188441597571592,0.51210132386183371,7.1949931246121729E-2,0.81271830046663418,0.35851098094878597,0.42455902229731135,0.95009559790349285,0.65802940454056835,0.96814273298504983,0.9611338588636007,0.59665448107164609,0.66361583859928752,0.83690584569833837,0.72180394524514557,0.24149295615161995,0.79775927412955538,0.34168966713969973,0.64582242769485698,0.44233411585637794,0.39153500162304866,0.82681121507287147,0.64422759518299855,98,{"$f":"AVERAGE(Data!EY146:FQ146)","v":0.66706774603713581},96,{"$f":"AVERAGE(Data!FR146:FZ146)","v":0.59506167102295293},75,{"$f":"AVERAGE(Data!GA146:GL146)","v":0.6449384661173152},159]
["E05005009","29UKGL","Brasted, Chevening and Sundridge","Sevenoaks","NHS West Kent CCG",143,1.3963946884763574,1.3182873748426918,1.2676284413936538,1.4401796289550026,1.261789890464279,1.2483072870777951,1.3047919463040039,1.395834760639715,1.9721300055083251,1.769014085429814,1.2515766603015988,1.3508610763820088,1.1437222153214495,1.2133145545199751,1.5536082527406057,1.3477140471576528,1.8453520398760352,1.7026195750674094,1.9025658700697528,1.1977397420689206,1.1170281042908443,1.3151723105592295,1.2910896893724149,1.6618511074924909,1.7641765145918669,1.7138358279602157,0.46649735948726795,1.9323217163493649,0.79507090394112623,0.67880766788142644,0.99452066601665445,1.2675823528529866,1.2515766603015988,0.49918202598768646,0.93332154161703784,1.081892268653287,0.77805803472013324,1.0640949235434407,1.0917324122104941,1.0577101543122387,1.3274368349042345,13,4.2000000000000003E-2,null,null,null,null,1.3301807026881591,14,4.5999999999999999E-2,null,null,null,null,1.4502426121701788,9,2.8000000000000001E-2,null,null,null,null,1.8168458283377324,4,0.01,null,null,null,null,1.3165761907567801,20,6.7000000000000004E-2,null,null,null,null,1.4692078545971787,19,6.3E-2,null,null,null,null,0.82279974594640237,234,0.82599999999999996,null,null,null,null,1.2595795065772926,54,0.187,null,null,null,null,0.7162517838023621,276,0.97499999999999998,null,null,null,null,1.0146975586879188,155,0.54600000000000004,null,null,null,null,1.4571417052909541,2,3.0000000000000001E-3,null,null,null,null,{"$f":"AVERAGE(Data!Z147:AH147)","v":1.3844124857969573},13,4.2000000000000003E-2,null,null,null,null,0.95779580100317607,191,0.67300000000000004,null,null,null,null,1.2909738596184717,5,1.4E-2,null,null,null,null,"Sevenoaks",279,282,271,93,0.996,0.95699999999999996,0.32600000000000001,279,0.98499999999999999,0.81507441860465113,0.82436227993230726,0.95673790445275575,1,0.8945623381483182,0.94759656653800339,0.85981804506336745,0.79620024986952709,1,1,0.95488922616035499,0.86808251091778976,0.49886222277224967,0.75428941975879105,0.82997059828870257,0.80493598282800205,0.89551604872641788,0.89579381914151091,0.73495005421440651,0.8679603824776192,0.68986592857757933,0.83475600301878461,0.72531213438070208,1,0.71485178757419965,0.50529867987115429,0.21725018614959057,0.67281278976151271,0.46818581701896284,0.55329112251479828,0.71938590189906448,0.17486611849883688,0.95488922616035499,0.16952740689087326,0.44618758813543274,0.94146215693251001,0.56866508932090865,0.94637558121689602,0.9667949282931444,0.57514718098903017,0.86539153432990468,0.89963543992384332,0.83887874509073623,0.84208664069411177,0.82357888969093695,0.5275533608391143,0.58028761381094185,0.56487767232959596,0.307857497513153,0.79968898735049787,0.75111319237747765,4,{"$f":"AVERAGE(Data!EY147:FQ147)","v":0.85956008870616596},2,{"$f":"AVERAGE(Data!FR147:FZ147)","v":0.69201198797901575},15,{"$f":"AVERAGE(Data!GA147:GL147)","v":0.62373150982256775},210]
["E05005010","29UKGM","Cowden and Hever","Sevenoaks","NHS West Kent CCG",144,0.98693429480567341,1.0938199698625757,1.2375354858234506,1.4401796289550026,1.1283970692197389,1.1577500198699646,1.122852763192425,1.395834760639715,1.9721300055083251,1.769014085429814,1.2289911410323984,1.2492318287673956,1.3814345315099978,1.2062316656339995,1.4672579708573745,1.3069892528924991,1.6379597410101494,1.4736454759137938,1.6563636197780522,1.1645721340197335,1.1167556700994448,1.2861234275752833,1.2910896893724149,1.6618511074924909,1.310740710231094,1.9438729084921096,0.48325345902802908,2.6553721741046368,0.14663840338164516,0.71435089934813911,0.30786030733599551,1.1091988309540637,1.2289911410323984,5.220652198264121E-2,1.4272597577204895,1.1388661797796258,0.71594008303714152,1.117808801427832,1.1258138446670578,0.46444497952972896,1.1060965834972332,112,0.39300000000000002,null,null,null,null,1.249002848375369,56,0.19500000000000001,null,null,null,null,1.4476600602039758,10,3.1E-2,null,null,null,null,1.5893229455673319,12,3.9E-2,null,null,null,null,1.3040784057118735,23,7.8E-2,null,null,null,null,1.5983098129639672,6,1.7000000000000001E-2,null,null,null,null,0.38961653668859325,282,0.996,null,null,null,null,1.1690949859932309,65,0.22600000000000001,null,null,null,null,0.73973313985156541,275,0.97099999999999997,null,null,null,null,0.91257477768827722,228,0.80400000000000005,null,null,null,null,1.3638185953001236,14,4.5999999999999999E-2,null,null,null,null,{"$f":"AVERAGE(Data!Z148:AH148)","v":1.4348479200461375},8,2.4E-2,null,null,null,null,0.79578164584972988,280,0.98899999999999999,null,null,null,null,1.2093891085328585,26,8.7999999999999995E-2,null,null,null,null,"Sevenoaks",258,270,276,4,0.95299999999999996,0.97499999999999998,0.01,258,0.91100000000000003,0.57607272727272729,0.68399648012937908,0.93402535690264499,1,0.79999176426235263,0.87885407310749208,0.73992567970462542,0.79620024986952709,1,1,0.93765762565080291,0.80277411318953162,0.60254622300025074,0.74988615258613922,0.78384043967851313,0.7806126834111673,0.79487230812657939,0.77532440497000787,0.63984356668293396,0.84392496914273818,0.68969767581320918,0.81631832055151277,0.72531213438070208,1,0.5311176812552344,0.57312164821960143,0.22505358668410266,0.9245708647779961,8.6349557446106104E-2,0.58226214828031153,0.22269056080944175,0.15301672019638801,0.93765762565080291,1.7729877747494963E-2,0.68232175144776708,0.99104082831413676,0.52326447784216912,0.99414716745187071,0.99697609327409042,0.25254954735186902,0.73136485476825042,0.84299435338879936,0.83216465468955059,0.73668009325984041,0.8150506199776324,0.56346594523423366,0.29710075551195309,0.5453371729235954,0.35002581459763105,0.75159562284682724,0.70113867712955558,32,{"$f":"AVERAGE(Data!EY148:FQ148)","v":0.80402230781814088},16,{"$f":"AVERAGE(Data!FR148:FZ148)","v":0.70323520898056624},10,{"$f":"AVERAGE(Data!GA148:GL148)","v":0.53666719631770399},273]
["E05005011","29UKGN","Crockenhill and Well Hill","Sevenoaks","NHS Dartford, Gravesham & Swanley CCG",145,0.47775751911473135,0.60039480404179435,1.0885910941757577,1.4401796289550026,0.96201037545522405,1.0219283774789862,1.2623658919868996,1.395834760639715,1.9721300055083251,1.769014085429814,1.0771245025405354,1.1196147672282943,0.48654703079528189,0.88285598723935899,1.4888309824571264,0.71899780470784236,1.1203312168849637,1.0820532935518827,1.1472991179552519,1.2000881562121426,0.79838871944945178,0.86534340882984651,1.2910896893724149,1.6618511074924909,1.2024871186096515,0.96641279145701575,0.80232780252307856,1.3044829749209261,0.82292391054585223,0.57839560666727752,0.63921924461698987,0.49790758335099561,1.0771245025405354,0.92320137468797547,1.1238312044739398,1.1281578952145122,0.61763988967416605,1.1061031911299821,1.1151954738827325,1.0936081087207552,0.72224780577742786,244,0.86099999999999999,null,null,null,null,1.2164638069031657,71,0.248,null,null,null,null,1.1893893957383221,71,0.248,null,null,null,null,1.1165612094640327,117,0.41099999999999998,null,null,null,null,1.1633522162712695,79,0.27600000000000002,null,null,null,null,1.0689276718776679,113,0.39700000000000002,null,null,null,null,0.68017958727670658,265,0.93600000000000005,null,null,null,null,0.78751604294576549,184,0.64800000000000002,null,null,null,null,1.0235162895809577,99,0.34699999999999998,null,null,null,null,1.0121409117244295,157,0.55300000000000005,null,null,null,null,1.1112558550603573,96,0.33600000000000002,null,null,null,null,{"$f":"AVERAGE(Data!Z149:AH149)","v":1.1213857520963355},88,0.308,null,null,null,null,0.89360899879214273,250,0.88200000000000001,null,null,null,null,1.0482410250129883,125,0.439,null,null,null,null,"Sevenoaks",159,188,196,34,0.66300000000000003,0.69099999999999995,0.11700000000000001,159,0.56000000000000005,0.27886666666666665,0.37544380608095018,0.8216101250478467,1,0.68202975574127844,0.77575115660323013,0.83186057093424248,0.79620024986952709,1,1,0.82179111782209013,0.71948034878556721,0.21221930466529826,0.54885101960127136,0.79536520167224634,0.42942878409872531,0.5436765250911576,0.56929725614549898,0.4431949307018942,0.86966219662502808,0.49307727638466992,0.54924407957334442,0.72531213438070208,1,0.48725286793193823,0.28493225533453082,0.37364812663186803,0.45420636849804052,0.48458735125827118,0.47144599216057587,0.46237884089613407,6.8687581738385628E-2,0.82179111782209013,0.31352878697760361,0.53726343198592663,0.98172248398742479,0.45141908104072598,0.9837365325507692,0.98757288521119524,0.59466728032546523,0.49197353259848781,0.81716834662965565,0.6908919720806499,0.51872290397951692,0.72745913739274892,0.40000990459909436,0.47280406143832704,0.44523934978023788,0.42539610948176509,0.79982365262311605,0.62603008727105436,119,{"$f":"AVERAGE(Data!EY149:FQ149)","v":0.66552983260670995},98,{"$f":"AVERAGE(Data!FR149:FZ149)","v":0.5819261450400135},88,{"$f":"AVERAGE(Data!GA149:GL149)","v":0.59656678049621392},244]
["E05005012","29UKGP","Dunton Green and Riverhead","Sevenoaks","NHS West Kent CCG",146,1.5001023778088625,1.1739947213765538,1.231694559259304,1.4401796289550026,1.2692042317733836,1.0920869422208086,1.0758992293375791,1.395834760639715,1.9721300055083251,1.769014085429814,1.0713179152375889,1.3249521045922683,1.4152630060910119,1.206750695369307,1.568764783060993,1.5759435600350651,1.0991148974521496,1.1801090658510491,0.9264202731635035,1.1361993096446545,1.0948484669582155,1.3211974602816057,1.2910896893724149,1.6618511074924909,1.4743950608883343,1.4037529581610892,0.74702033902704545,0.94592114834300289,1.2032332898150313,0.94898617257238593,1.2443671779304932,0.57858254673454357,1.0713179152375889,1.1210832059601594,0.4679881533522855,1.0940617955264131,1.1814580231116305,1.0765572132524022,1.0881932900959304,1.1254067606370095,1.3019305528149065,19,6.3E-2,null,null,null,null,1.2546409585852978,52,0.18,null,null,null,null,1.4880170194155466,5,1.4E-2,null,null,null,null,1.0685480788222341,130,0.45700000000000002,null,null,null,null,1.3010372067498763,25,8.5000000000000006E-2,null,null,null,null,1.1427723766048681,90,0.315,null,null,null,null,1.132195546772637,74,0.25800000000000001,null,null,null,null,0.82495023098606624,166,0.58499999999999996,null,null,null,null,0.7945356796562224,270,0.95299999999999996,null,null,null,null,1.1131354165246772,52,0.18,null,null,null,null,1.3309882549032783,19,6.3E-2,null,null,null,null,{"$f":"AVERAGE(Data!Z150:AH150)","v":1.2306972822409836},47,0.16300000000000001,null,null,null,null,1.0167696286854895,116,0.40699999999999997,null,null,null,null,1.2141571981889256,24,8.1000000000000003E-2,null,null,null,null,"Sevenoaks",260,265,237,168,0.93600000000000005,0.83599999999999997,0.59199999999999997,260,0.91800000000000004,0.87560851063829792,0.73413201371055747,0.92961693905829601,1,0.89981883175904265,0.82900888869435263,0.70898473482659496,0.79620024986952709,1,1,0.81736098754544606,0.85143303771898116,0.61730133380985952,0.75020882129263755,0.83806753940355716,0.94124839097258073,0.53338062808265641,0.62088702760296788,0.3578707264216191,0.82336416896921705,0.67616799560238183,0.83858023947773341,0.72531213438070208,1,0.5974311165288515,0.41387541621664115,0.34789116039055579,0.32935915449599129,0.70853650669900403,0.77351162857711786,0.90011222006535019,7.9816892331235914E-2,0.81736098754544606,0.38073151459988819,0.22372836810177343,0.95205207364675271,0.86350105295595947,0.95745918513762296,0.96366082210310977,0.61195831694293745,0.84645248780238391,0.84680254102990349,0.85195251384288262,0.50404612736908116,0.81268490768600687,0.42213921190800996,0.79405345178049069,0.44858893993834098,0.30222994135083081,0.86972629015727654,0.72713849040438128,15,{"$f":"AVERAGE(Data!EY150:FQ150)","v":0.79479624533720927},19,{"$f":"AVERAGE(Data!FR150:FZ150)","v":0.63910904289578607},35,{"$f":"AVERAGE(Data!GA150:GL150)","v":0.68603579739218323},70]
["E05005013","29UKGQ","Edenbridge North and East","Sevenoaks","NHS West Kent CCG",147,1.1104701235676608,1.0243152412490897,1.0525456238784769,1.4401796289550026,1.0380059328088089,1.1559191172351597,1.0824698971294606,1.395834760639715,1.9721300055083251,1.769014085429814,0.8942932817999163,1.0496979297976516,1.4481449215653885,1.2076472958402589,1.240276964067462,1.0184560183853923,0.97164511849544399,0.99219416667919436,0.93453155729449311,1.1312508727107793,0.79718164598498875,1.0795914744835562,1.2910896893724149,1.6618511074924909,1.0692515391259543,1.1484435107045772,1.0036889259243047,0.93699126033308155,1.0852229409027117,1.1280749347129286,0.43049087915734791,1.2176107469724919,0.8942932817999163,1.2040965644289523,0.96191795045096884,0.96038434195386579,0.92645434278012051,0.96022250076919025,0.98770232009876113,0.82285489263747569,1.0624436628984091,127,0.44600000000000001,null,null,null,null,1.2224818673536295,69,0.24099999999999999,null,null,null,null,1.324957562799276,28,9.5000000000000001E-2,null,null,null,null,0.96612361415637704,155,0.54600000000000004,null,null,null,null,1.1921929580088459,63,0.219,null,null,null,null,1.0395938090219794,122,0.42899999999999999,null,null,null,null,0.88126291825766279,218,0.76900000000000002,null,null,null,null,1.0559520143862042,83,0.28999999999999998,null,null,null,null,1.0830072574399605,58,0.20200000000000001,null,null,null,null,0.93152367964788263,218,0.76900000000000002,null,null,null,null,1.1998827194908799,52,0.18,null,null,null,null,{"$f":"AVERAGE(Data!Z151:AH151)","v":1.124371114014683},87,0.30399999999999999,null,null,null,null,0.96494380805539415,183,0.64500000000000002,null,null,null,null,1.1124109348280897,71,0.248,null,null,null,null,"Sevenoaks",213,232,197,101,0.81899999999999995,0.69499999999999995,0.35399999999999998,213,0.751,0.64818048780487814,0.64053321283325804,0.79440493889777897,1,0.73590779358963454,0.87746422537659574,0.71331460423725435,0.79620024986952709,1,1,0.68230021132908114,0.67455079618140312,0.63164357987521769,0.7507662169378726,0.66258235439654123,0.60828326146417466,0.47152184432939104,0.52201995966379944,0.36100406798187779,0.81977820862830553,0.49233179929844045,0.68522995572332934,0.72531213438070208,1,0.4332652474332947,0.33860127113592337,0.46742302300060301,0.32624986745885964,0.63904487853309833,0.91948555745712468,0.3113953082567153,0.16797241195913307,0.68230021132908114,0.40892371437044667,0.459858506589581,0.8357260147404314,0.67712460777852601,0.85399442019411687,0.87467000434786135,0.44744079456361807,0.69437287984530505,0.82457737461460245,0.75126580252303632,0.45151529065835611,0.74453041960615551,0.39138485225717018,0.62330858141564616,0.42513631164410709,0.43439111048001383,0.73779116832491076,0.65342014354868705,85,{"$f":"AVERAGE(Data!EY151:FQ151)","v":0.71424620025096253},54,{"$f":"AVERAGE(Data!FR151:FZ151)","v":0.58757683411771766},82,{"$f":"AVERAGE(Data!GA151:GL151)","v":0.60649470250997783},234]
["E05005014","29UKGR","Edenbridge South and West","Sevenoaks","NHS West Kent CCG",148,1.0673306278095063,0.74027279171548588,0.87408474993013918,1.4401796289550026,0.90854488210590967,1.0283647461603576,0.93627628178102751,1.395834760639715,1.9721300055083251,1.769014085429814,0.88774205002060036,1.0617722573034585,1.456922318640433,1.2086034319550161,1.2276846820626133,1.0660038257413564,0.65033989827999716,0.77731470648745238,0.59141581459201886,0.90655669187791033,1.0699667333479168,1.0789247898692682,1.2910896893724149,1.6618511074924909,0.93771144647279125,1.0090624970662039,0.96237739109070553,0.89002678912316435,1.0603067211645922,0.92263849922819208,0.24492312785568957,0.66636075252473781,0.88774205002060036,0.86849833546954891,0.98693493863855941,1.0904436165870979,0.89769541372519823,1.0453299615600282,1.0891787132099051,1.1235694933212192,0.89389605648504367,205,0.72299999999999998,null,null,null,null,1.1418400599284024,100,0.35099999999999998,null,null,null,null,1.331234082082702,26,8.7999999999999995E-2,null,null,null,null,0.67302347311982269,219,0.77300000000000002,null,null,null,null,1.2016778023920003,62,0.216,null,null,null,null,0.94979453093821631,147,0.51700000000000002,null,null,null,null,0.74262278274949134,259,0.91400000000000003,null,null,null,null,0.77705140127266903,193,0.68,null,null,null,null,0.92771663705405416,216,0.76200000000000001,null,null,null,null,1.0492434396806898,117,0.41099999999999998,null,null,null,null,1.1084121865851702,98,0.34300000000000003,null,null,null,null,{"$f":"AVERAGE(Data!Z152:AH152)","v":1.0897296817458739},105,0.36799999999999999,null,null,null,null,0.90696846860878078,243,0.85799999999999998,null,null,null,null,1.0437755076034116,129,0.45300000000000001,null,null,null,null,"Sevenoaks",155,186,179,41,0.65600000000000003,0.63100000000000001,0.14099999999999999,155,0.54600000000000004,0.623,0.46291345725984218,0.65971225057309524,1,0.6441246995173634,0.78063703760911429,0.61697747638656719,0.79620024986952709,1,1,0.67730195525530557,0.68230993050108979,0.63547205479364943,0.75136062450722385,0.65585528931372639,0.63668167515297425,0.31559821836269603,0.40896611303889741,0.22846046585589488,0.656950141489685,0.66080127367680763,0.68480680281824691,0.72531213438070208,1,0.37996464537163355,0.29750687863836595,0.44818403171758875,0.30989736433939169,0.62437270195451833,0.75203583440148591,0.17716499138636757,9.1926112770267701E-2,0.67730195525530557,0.29495106601619553,0.47181823228335884,0.94890353599002675,0.65610535441952211,0.92968656089488533,0.96453347373290299,0.61095927281625306,0.58187523594431245,0.76758789267651428,0.75487269119049616,0.31767493241916278,0.74557407047308843,0.35888823001674497,0.51785784258079059,0.38461403401278665,0.38338464914977721,0.82203763957071807,0.62346884655876189,127,{"$f":"AVERAGE(Data!EY152:FQ152)","v":0.66187218410510351},103,{"$f":"AVERAGE(Data!FR152:FZ152)","v":0.57371369693693586},94,{"$f":"AVERAGE(Data!GA152:GL152)","v":0.59997992432675751},241]
["E05005015","29UKGS","Eynsford","Sevenoaks","NHS Dartford, Gravesham & Swanley CCG",149,1.3831733646102786,1.0313772190226522,1.2623272701289183,1.4401796289550026,1.331388835612447,1.1917054304677093,1.4415307120795269,1.395834760639715,1.9721300055083251,1.769014085429814,1.1806384935029135,1.2373072309808479,1.6287570193965137,1.077578435949792,1.6124811708947306,1.2000753185256339,1.4649063421628306,1.3150799194058269,1.3126743603211033,1.2957572969327922,0.69734401339786212,1.4666480996856537,1.2910896893724149,1.6618511074924909,1.703283533708045,1.504055507143085,0.66458880182138158,1.7486408932291284,0.73985038705658135,0.87894002837250584,0.76781038354846864,0.72257710715962131,1.1806384935029135,0.87800724903011518,1.0194514349589474,1.1272553605883235,0.63797873344074085,1.0980520947973633,1.119329681631094,0.86735069991475988,1.2256259512539496,43,0.14799999999999999,null,null,null,null,1.3601278735508804,8,2.4E-2,null,null,null,null,1.4597477200235713,8,2.4E-2,null,null,null,null,1.3642202072965868,59,0.20499999999999999,null,null,null,null,1.2825380413762428,30,0.10199999999999999,null,null,null,null,1.4051421839754099,29,9.9000000000000005E-2,null,null,null,null,0.79553359965918524,242,0.85399999999999998,null,null,null,null,0.95160780033126735,113,0.39700000000000002,null,null,null,null,0.94872934199453129,199,0.70199999999999996,null,null,null,null,0.96999331407445644,192,0.67700000000000005,null,null,null,null,1.3814820843997146,10,3.1E-2,null,null,null,null,{"$f":"AVERAGE(Data!Z153:AH153)","v":1.3370287714203171},20,6.7000000000000004E-2,null,null,null,null,0.91977013783345274,231,0.81499999999999995,null,null,null,null,1.2329665050094716,20,6.7000000000000004E-2,null,null,null,null,"Sevenoaks",264,274,264,53,0.96799999999999997,0.93200000000000005,0.184,264,0.93200000000000005,0.80735714285714288,0.64494926672965525,0.95273686493569332,1,0.94390541465806321,0.9046298022335576,0.94992471579085147,0.79620024986952709,1,1,0.90076701906893519,0.79511119731371449,0.71042193302478107,0.6699054339776922,0.86142176431925488,0.71675724388443651,0.7108926161189566,0.69189881329434122,0.50707841839320189,0.93899029942953705,0.43067302737753971,0.93089954502471683,0.72531213438070208,1,0.69017769409461827,0.44344811201483564,0.30950237546321868,0.60885718341315798,0.43566863812882139,0.7164175331713557,0.55539516083543294,9.9681297834994062E-2,0.90076701906893519,0.29818039194210944,0.48736320410804407,0.98093709876886181,0.46628428375193959,0.97657611781460751,0.99123397563859517,0.47163611689934981,0.80168109150749711,0.9189320365103999,0.83179807394860172,0.63662328260216661,0.80517500124249908,0.51299634124645765,0.56916044404520338,0.50022415845196466,0.39277179802507678,0.77733351857467081,0.72554897764077941,17,{"$f":"AVERAGE(Data!EY153:FQ153)","v":0.81915567876156858},11,{"$f":"AVERAGE(Data!FR153:FZ153)","v":0.67531781902203625},20,{"$f":"AVERAGE(Data!GA153:GL153)","v":0.61501173649692054},223]
["E05005016","29UKGT","Farningham, Horton Kirby and South Darenth","Sevenoaks","NHS Dartford, Gravesham & Swanley CCG",150,0.96449810885111542,1.0818353197558945,1.0648625315146263,1.4401796289550026,1.0334846798860775,1.1554285039330314,1.0973970282891778,1.395834760639715,1.9721300055083251,1.769014085429814,1.1506685537387329,1.0705544512757945,0.7745550574200003,1.2392400173626719,1.2771162032218519,0.93860578504991155,1.2007240464811042,1.1534199859352778,1.3728264792453395,1.1895848974480352,0.83195257278926049,1.1203118333085935,1.2910896893724149,1.6618511074924909,1.0499135541816442,1.067929681425237,0.86599339056607527,1.044862381428787,1.0671713289001654,1.0569881531416743,0.96237461517243428,0.74478624919082559,1.1506685537387329,1.2183456812310043,0.97848096278705698,1.0835523065852066,0.91799249199784394,1.0636659519986886,1.0870840630577332,1.0518101816705772,1.0370653200405455,140,0.49199999999999999,null,null,null,null,1.2244649203406008,68,0.23699999999999999,null,null,null,null,1.2739855198758878,36,0.124,null,null,null,null,1.2423235038872404,84,0.29399999999999998,null,null,null,null,1.218958020082159,58,0.20200000000000001,null,null,null,null,1.0071747519004357,135,0.47499999999999998,null,null,null,null,1.0288446990714248,145,0.51,null,null,null,null,0.94772740146477918,114,0.4,null,null,null,null,1.0984133220090306,48,0.16600000000000001,null,null,null,null,1.0408209990620096,123,0.432,null,null,null,null,1.2185460648680773,44,0.152,null,null,null,null,{"$f":"AVERAGE(Data!Z154:AH154)","v":1.1248321231125042},84,0.29399999999999998,null,null,null,null,1.031910044955995,94,0.32900000000000001,null,null,null,null,1.1414696219994487,53,0.184,null,null,null,null,"Sevenoaks",231,240,200,190,0.84699999999999998,0.70499999999999996,0.67,231,0.81499999999999995,0.56297674418604648,0.67650214037108958,0.80370107964087567,1,0.73270239258231595,0.87709179826236894,0.72315112780601809,0.79620024986952709,1,1,0.87790148194506878,0.68795349306141684,0.3378410005749779,0.7704066766166654,0.68226266010265058,0.5605918938595289,0.58268971474287756,0.60684518691393718,0.5303148296838438,0.86205084987418157,0.513805992843965,0.71107566711899062,0.72531213438070208,1,0.42542941411889357,0.31486298128196283,0.40329751386284052,0.36380938423343667,0.62841499801297396,0.86154324620675438,0.69613307612151021,0.10274510386972234,0.87790148194506878,0.41376286260932299,0.46777668933471789,0.94290672118096353,0.6709400316721249,0.94599406619788029,0.96267853462784525,0.57193897445066089,0.68105998806600387,0.82582911370404588,0.73961965077003855,0.57328324378021944,0.76244892884356774,0.37684982337428341,0.72869710678041288,0.49032329290739557,0.44076977597202044,0.81889166562589499,0.68178780485409329,46,{"$f":"AVERAGE(Data!EY154:FQ154)","v":0.72679644580101099},45,{"$f":"AVERAGE(Data!FR154:FZ154)","v":0.59107154863499689},80,{"$f":"AVERAGE(Data!GA154:GL154)","v":0.67856131551912879},84]
["E05005017","29UKGU","Fawkham and West Kingsdown","Sevenoaks","NHS Dartford, Gravesham & Swanley CCG",151,0.93992287974411015,0.99403252299974409,1.0043864167322176,1.4401796289550026,1.1501793538303393,1.1048252668500813,1.4093357627322414,1.395834760639715,1.9721300055083251,1.769014085429814,1.1920842279626247,1.045805435035511,0.8972409454119652,1.0183269753721182,1.2120506945357683,0.52489427423209079,1.5005504366350788,1.3771866598762601,1.3933803436457155,1.2043381091172425,0.90334075787414336,0.88004182625981286,1.2910896893724149,1.6618511074924909,1.378738521737001,1.2957785321317923,0.87458589600160153,1.5206413426769319,0.9878015827203549,1.1069612761254144,0.75291216667194605,1.2443553277455612,1.1920842279626247,0.90850305693376443,1.154230534050052,1.0819350958682632,0.82740102146632633,1.0787146391547477,1.0879219573425267,1.2202099742812662,0.97944727315869073,172,0.60599999999999998,null,null,null,null,1.3000709546014761,27,9.1999999999999998E-2,null,null,null,null,1.2039433304360272,65,0.22600000000000001,null,null,null,null,1.4237058133856848,47,0.16300000000000001,null,null,null,null,1.188132298023221,64,0.223,null,null,null,null,1.2674360731368317,59,0.20499999999999999,null,null,null,null,0.94922500850590519,187,0.65900000000000003,null,null,null,null,1.2182197778540931,58,0.20200000000000001,null,null,null,null,1.0313667954919081,94,0.32900000000000001,null,null,null,null,1.059236537622626,108,0.379,null,null,null,null,1.2284926671646696,40,0.13800000000000001,null,null,null,null,{"$f":"AVERAGE(Data!Z155:AH155)","v":1.2233784202959366},49,0.17,null,null,null,null,1.0535859050269041,69,0.24099999999999999,null,null,null,null,1.1748699329778753,39,0.13400000000000001,null,null,null,null,"Sevenoaks",245,244,235,215,0.86099999999999999,0.82899999999999996,0.75800000000000001,245,0.86499999999999999,0.54863220338983054,0.62159657493853715,0.75805695440907361,1,0.81543459796923956,0.83867861729972049,0.92870922738512551,0.79620024986952709,1,1,0.90949953132147021,0.67204942377092314,0.39135343039978226,0.63307017996009218,0.64750328039616034,0.31349846757245747,0.72819005202953946,0.72457483502881315,0.53825466713862702,0.87274198985510876,0.5578946566867754,0.55857334546955484,0.72531213438070208,1,0.55867068216193583,0.38204078302579164,0.40729908722096453,0.52947029231036213,0.58167729288808123,0.90227597009824911,0.54461854497351025,0.17166189297797119,0.90949953132147021,0.30853708542424896,0.55179626224825984,0.94149942515537755,0.60472876672445519,0.95937793801115956,0.96342054057721893,0.66350911358972731,0.64276191091248047,0.87580453850472251,0.69587178917761061,0.66367318473232662,0.74290442527842815,0.46937021117976352,0.67619060265328024,0.5405807121497207,0.4301666738362544,0.82650715681158771,0.68899769069949579,40,{"$f":"AVERAGE(Data!EY155:FQ155)","v":0.72975275225678526},43,{"$f":"AVERAGE(Data!FR155:FZ155)","v":0.62133366345679952},53,{"$f":"AVERAGE(Data!GA155:GL155)","v":0.67521686366581068},90]
["E05005018","29UKGW","Halstead, Knockholt and Badgers Mount","Sevenoaks","NHS West Kent CCG",152,1.1164617202007376,1.1229920658148176,1.1749383046139632,1.4401796289550026,1.1620659060756173,1.2704481812882711,1.4748199582787884,1.395834760639715,1.9721300055083251,1.769014085429814,1.3022882080958926,1.3454981071417862,1.1111299166996027,1.2485786181133354,1.5147490714401199,1.1833688627819332,1.4696323055622522,1.3313876545634835,1.3223945665574635,1.2130829529770057,1.0723316536600938,1.3463016231162013,1.2910896893724149,1.6618511074924909,1.7872062808297893,1.7163524162595152,0.61344188473461991,2.0691852020424966,0.60653159687760105,0.5927932120252094,0.92079779611421286,1.8772678095657598,1.3022882080958926,0.60576835504006254,1.1133361228105465,1.1318165010624779,0.87533947950304336,1.0972118478252824,1.1219254702429529,1.0783482422522579,1.1381306968765061,92,0.32200000000000001,null,null,null,null,1.3486696870474788,10,3.1E-2,null,null,null,null,1.4308446094013509,14,4.5999999999999999E-2,null,null,null,null,1.3744715088943995,57,0.19800000000000001,null,null,null,null,1.3169314053236412,18,0.06,null,null,null,null,1.5465464459666052,10,3.1E-2,null,null,null,null,0.70670753500567451,264,0.93200000000000005,null,null,null,null,1.5897780088308262,27,9.1999999999999998E-2,null,null,null,null,0.85955223892530452,255,0.9,null,null,null,null,1.060928308177203,103,0.36099999999999999,null,null,null,null,1.3541006277768906,15,4.9000000000000002E-2,null,null,null,null,{"$f":"AVERAGE(Data!Z156:AH156)","v":1.4189825344982918},9,2.8000000000000001E-2,null,null,null,null,1.0269520534512748,102,0.35799999999999998,null,null,null,null,1.2705544844915213,8,2.4E-2,null,null,null,null,"Sevenoaks",276,269,275,182,0.95,0.97099999999999997,0.64100000000000001,276,0.97499999999999998,0.6516777777777778,0.70223861457480974,0.88678036458520282,1,0.82386172363367605,0.96440383470916213,0.97186131240287055,0.79620024986952709,1,1,0.99357955346241433,0.86463619072586007,0.48464630013129467,0.77621226735596371,0.80921119649222018,0.70677914251939589,0.71318604088475912,0.70047875010015836,0.51083327714094462,0.87907907441082056,0.66226182595915839,0.85451415966346866,0.72531213438070208,1,0.72418354628792636,0.50604065802604481,0.28568299678487075,0.72046712332644802,0.35716247422001418,0.48318137407645417,0.66605851005332561,0.2589737341346931,0.99357955346241433,0.20572523260087264,0.53224610948144369,0.98490620112155236,0.63976590573576564,0.97582882619712585,0.9935327030893859,0.58636947856394939,0.74689891897926353,0.91126542412304734,0.82938308133589356,0.64149935604195407,0.82423343888282985,0.55909358110632246,0.50213411944993125,0.62627664379855374,0.36898567104115815,0.83608062294155583,0.73478645544856191,11,{"$f":"AVERAGE(Data!EY156:FQ156)","v":0.80824139980873888},15,{"$f":"AVERAGE(Data!FR156:FZ156)","v":0.70639350209327101},8,{"$f":"AVERAGE(Data!GA156:GL156)","v":0.63977750856141646},172]
["E05005019","29UKGX","Hartley and Hodsoll Street","Sevenoaks","NHS Dartford, Gravesham & Swanley CCG",153,1.2790787161435453,1.172319428061336,1.1463042911377472,1.4401796289550026,1.1444497572704471,1.1720117427326984,1.504531988594608,1.395834760639715,1.9721300055083251,1.769014085429814,1.0629013998892418,1.1879994668295852,0.80079564660599989,1.3942615968457877,1.3606055228623135,0.64536724519518418,1.5697058599990104,1.368713850926653,1.4353312941460572,1.1389862017532311,0.7953936040883014,1.1863607160452774,1.2910896893724149,1.6618511074924909,1.7210845039268043,1.3326911616842414,0.76981559854840953,1.6564570354101269,1.1538760725659118,0.86424661248789458,0.77682759889398723,1.2690246299214434,1.0629013998892418,0.78777156138714666,1.1478795039689356,1.0874362843403689,1.0116449232616331,1.0828261011434412,1.0836233849928021,1.0321496291642922,1.1992341451142094,52,0.18,null,null,null,null,1.3314015756384943,13,4.2000000000000003E-2,null,null,null,null,1.2741343711457813,35,0.12,null,null,null,null,1.4579170016905734,38,0.13100000000000001,null,null,null,null,1.2147362637503432,60,0.20899999999999999,null,null,null,null,1.3700120748923954,35,0.12,null,null,null,null,0.93165009464926463,197,0.69499999999999995,null,null,null,null,1.1659630149053426,67,0.23400000000000001,null,null,null,null,0.96782553267804117,171,0.60199999999999998,null,null,null,null,1.0595360645805076,107,0.375,null,null,null,null,1.3063966467248986,24,8.1000000000000003E-2,null,null,null,null,{"$f":"AVERAGE(Data!Z157:AH157)","v":1.2837477353690332},31,0.106,null,null,null,null,1.0300173085014248,97,0.34,null,null,null,null,1.2183868402027873,23,7.8E-2,null,null,null,null,"Sevenoaks",261,260,253,187,0.91800000000000004,0.89300000000000002,0.65900000000000003,261,0.92100000000000004,0.74659718309859158,0.73308440554617438,0.865168948215286,1,0.81137252603951604,0.88968022125029378,0.99144063299369478,0.79620024986952709,1,1,0.81093961514144708,0.76342532786309014,0.34928647087608777,0.86677998459587469,0.72686443178510329,0.38545218022456224,0.76174993119656864,0.72011706301739686,0.55446007365285277,0.82538373286571565,0.49122752163644112,0.75299770342896022,0.72531213438070208,1,0.69739072253943868,0.39292391586683201,0.35850702835556991,0.57675979609643468,0.67947199312038542,0.70444103827738025,0.56191775791723697,0.17506508418512406,0.81093961514144708,0.26753541408085807,0.54876006232389163,0.94628655684556684,0.73938848386104083,0.9630345546748722,0.95961389537722852,0.56124822774224037,0.78161684562001732,0.89773872603060634,0.7378435013107707,0.6787756892889395,0.75898421846236386,0.50639536571456878,0.64861026310500092,0.4930023496632856,0.40814773820237482,0.8339143437001898,0.71277061210208592,23,{"$f":"AVERAGE(Data!EY157:FQ157)","v":0.77750627607189815},24,{"$f":"AVERAGE(Data!FR157:FZ157)","v":0.64672250613001048},30,{"$f":"AVERAGE(Data!GA157:GL157)","v":0.65980855696227259},124]
["E05005020","29UKGY","Hextable","Sevenoaks","NHS Dartford, Gravesham & Swanley CCG",154,1.1075287943114227,1.3998958389861835,1.1171472513775242,1.4401796289550026,1.1290191678373749,1.2146051810421972,1.3218924185119001,1.395834760639715,1.9721300055083251,1.769014085429814,1.0715438971738365,1.154929944293835,0.45513375635182884,0.90313317607040433,1.3161649193971863,0.81034284378805888,1.3242411412731148,1.2382504165606152,1.0888118148780028,1.2095275274845645,1.0507056661526812,1.1005804060902384,1.2910896893724149,1.6618511074924909,1.2760549590027315,0.8567550390986427,0.83569270818024177,0.8763664797761419,1.4945611506391356,1.1970953688411514,0.94735963612422613,0.3273040865891505,1.0715438971738365,1.1213052906334622,0.86696604404832922,1.1226093816874454,1.1960157465069707,1.1044600995182725,1.1049130344974916,1.2276357211109492,1.2081906282250434,48,0.16600000000000001,null,null,null,null,1.3003062313972378,26,8.7999999999999995E-2,null,null,null,null,1.1815490785016611,78,0.27300000000000002,null,null,null,null,1.2171011242372443,96,0.33600000000000002,null,null,null,null,1.2627508793184778,42,0.14499999999999999,null,null,null,null,0.96121729651443943,143,0.503,null,null,null,null,1.2130053852015046,27,9.1999999999999998E-2,null,null,null,null,0.69942399188149351,222,0.78300000000000003,null,null,null,null,0.99413566734089565,138,0.48499999999999999,null,null,null,null,1.1511267966642258,25,8.5000000000000006E-2,null,null,null,null,1.2226210022308599,42,0.14499999999999999,null,null,null,null,{"$f":"AVERAGE(Data!Z158:AH158)","v":1.1287359536277941},81,0.28299999999999997,null,null,null,null,1.0651474547808684,59,0.20499999999999999,null,null,null,null,1.1542548020601733,47,0.16300000000000001,null,null,null,null,"Sevenoaks",237,242,203,225,0.85399999999999998,0.71599999999999997,0.79400000000000004,237,0.83599999999999997,0.64646363636363624,0.87539435446092106,0.84316277968093822,1,0.80043280916068082,0.92201312222503107,0.87108673401036996,0.79620024986952709,1,1,0.81753340024941712,0.74217438306973493,0.19851764205571845,0.56145687596451244,0.70312331546366402,0.48398554186463683,0.6426303321904504,0.65147675144078188,0.42060162802381001,0.87650258106932089,0.64890582184798185,0.6985518881537488,0.72531213438070208,1,0.51706286810934854,0.25260131873001834,0.38918633240617118,0.30514099754859703,0.88008796439191417,0.97574360415015904,0.6852720004157089,4.5152407701032397E-2,0.81753340024941712,0.38080693686434319,0.41446540226537054,0.97689417005607204,0.87414096502614069,0.98227521388020722,0.97846716467295036,0.66754698477628838,0.78834025683516507,0.8779465830531219,0.6883488948334604,0.57156957055168078,0.78985448509035072,0.36599787919853377,0.8470345229859273,0.43134290397522473,0.39763616956485687,0.89586489968233174,0.70169759281973298,31,{"$f":"AVERAGE(Data!EY158:FQ158)","v":0.735592292425991},40,{"$f":"AVERAGE(Data!FR158:FZ158)","v":0.60147377136065439},68,{"$f":"AVERAGE(Data!GA158:GL158)","v":0.72319885120413374},13]
["E05005021","29UKGZ","Kemsing","Sevenoaks","NHS West Kent CCG",155,1.2426778023782108,0.96358223239644991,1.2085051642394515,1.4401796289550026,1.1675310017891591,1.2152416574535654,1.3788708176678663,1.395834760639715,1.9721300055083251,1.769014085429814,1.1634984691029948,1.2694442557162171,1.2905495886273761,1.259374515809869,1.3962792475077481,1.1149520876169998,1.0819188221699627,1.1114572302612129,1.220673450520803,1.1437899873176842,1.0161040011875782,1.1751454034683098,1.2910896893724149,1.6618511074924909,1.6033074975166295,1.515348190783911,0.70078688218324248,1.308969294527828,0.98545164568973342,0.7879102665204476,1.1175007898731859,0.6521782098127763,1.1634984691029948,0.90740009746634531,0.87611842190697842,1.1215179081594739,0.72334886963308154,1.0983267353931028,1.106932242562352,1.3259276236633288,1.1382550663380375,91,0.31900000000000001,null,null,null,null,1.3195315733010617,20,6.7000000000000004E-2,null,null,null,null,1.404405281914918,17,5.6000000000000001E-2,null,null,null,null,1.1380165009839929,110,0.38600000000000001,null,null,null,null,1.2575960377676956,43,0.14799999999999999,null,null,null,null,1.2821029662529027,57,0.19800000000000001,null,null,null,null,0.96362090069445561,179,0.63100000000000001,null,null,null,null,0.9078383394578855,136,0.47799999999999998,null,null,null,null,0.89175925968666192,237,0.83599999999999997,null,null,null,null,1.0752106758822679,87,0.30399999999999999,null,null,null,null,1.2979849907258287,26,8.7999999999999995E-2,null,null,null,null,{"$f":"AVERAGE(Data!Z159:AH159)","v":1.2684880059833432},36,0.124,null,null,null,null,0.98884260664865009,150,0.52800000000000002,null,null,null,null,1.1986054539356159,29,9.9000000000000005E-2,null,null,null,null,"Sevenoaks",255,258,248,134,0.91100000000000003,0.875,0.47099999999999997,255,0.9,0.72534999999999994,0.60255514932424104,0.9121148284457975,1,0.82773627425153795,0.92249627478557317,0.90863375896856102,0.79620024986952709,1,1,0.88769005370617105,0.81576290577838073,0.56290454776164323,0.78292382568925623,0.7459220948317099,0.66591652461060891,0.5250356830220162,0.58476745580040612,0.4715390056931168,0.82886486938428938,0.62753616280378477,0.74587920692155207,0.72531213438070208,1,0.64966698125217348,0.44677758969456383,0.32636000506591478,0.45576845476190758,0.58029350789083012,0.64221984581379632,0.80834349759241331,8.9969595949957945E-2,0.88769005370617105,0.30816250891972169,0.41884082618988383,0.97594437029166681,0.52867939305842959,0.97682037530298382,0.98025529525736987,0.72099481302731705,0.74667332592334612,0.89101331157503982,0.8076399940472212,0.52711404817184637,0.78551847469806568,0.46964325769363996,0.67695228376567995,0.48882982482806447,0.36350166755480273,0.83653884938755341,0.71154820299509935,25,{"$f":"AVERAGE(Data!EY159:FQ159)","v":0.77566045434413411},26,{"$f":"AVERAGE(Data!FR159:FZ159)","v":0.64512948936276537},31,{"$f":"AVERAGE(Data!GA159:GL159)","v":0.65985117358337841},123]
["E05005022","29UKHA","Leigh and Chiddingstone Causeway","Sevenoaks","NHS West Kent CCG",156,1.0865558378756404,0.853415379128871,1.2714627843977302,1.4401796289550026,1.2115904161019964,1.1441678556308668,1.2497140753797116,1.395834760639715,1.9721300055083251,1.769014085429814,1.2032652198930582,1.3253748268733043,1.4614865854161379,1.124819601388825,1.7014040723668797,1.3784386519086678,1.5175617825705332,1.3725438331896214,1.5422465449599381,1.2110367323379847,1.0764196258564374,1.3281151705761152,1.2910896893724149,1.6618511074924909,1.5806645274386593,2.0944920185739475,0.57555733929719732,1.9183190990892987,0.94775976391956629,0.65711706615389309,0.65716761321143857,0.61471384980395183,1.2032652198930582,0.54334116067533023,1.0493675382495509,1.1381164309039424,1.1045634509323763,1.1073845714294015,1.1231528355275171,1.1350330571987139,1.0704780004674139,124,0.436,null,null,null,null,1.2882973473414583,32,0.109,null,null,null,null,1.4919916310981265,3,7.0000000000000001E-3,null,null,null,null,1.4774507202400311,33,0.113,null,null,null,null,1.3137024651270885,22,7.3999999999999996E-2,null,null,null,null,1.5422582460997758,11,3.5000000000000003E-2,null,null,null,null,0.75401481442829932,252,0.89,null,null,null,null,0.90898953484850509,133,0.46800000000000003,null,null,null,null,0.79635434946244055,269,0.95,null,null,null,null,1.1216500691983902,43,0.14799999999999999,null,null,null,null,1.3695371551376123,13,4.2000000000000003E-2,null,null,null,null,{"$f":"AVERAGE(Data!Z160:AH160)","v":1.415282812226061},10,3.1E-2,null,null,null,null,0.94008187982489499,211,0.74399999999999999,null,null,null,null,1.2509933453886979,12,3.9E-2,null,null,null,null,"Sevenoaks",272,271,274,73,0.95699999999999996,0.96799999999999997,0.255,272,0.96,0.63422173913043478,0.53366470854044279,0.95963186073432982,1,0.85897276852288984,0.8685437814570659,0.82352341016887542,0.79620024986952709,1,1,0.91803005851233677,0.8517046850597465,0.63746287060412454,0.69927416703623113,0.90892627107391188,0.82328656689620172,0.73644535127133592,0.72213211939806421,0.59576080894835548,0.87759624939792547,0.66478651869016203,0.84297099508376594,0.72531213438070208,1,0.64049195397891301,0.61752942418394396,0.26803997184359601,0.66793723518744996,0.55809824911067163,0.53561127305861234,0.47536178209598856,8.4801294890826689E-2,0.91803005851233677,0.1845243082302771,0.50166502119727385,0.99038839718572391,0.80730054244733485,0.98487615552875007,0.99461960911050251,0.61719277300659203,0.70917276946840246,0.86944804200367165,0.85483557739781901,0.68477942653925183,0.82213317951051113,0.5484996462984757,0.5230237680884241,0.50141567670158171,0.34309466471377548,0.87887549545578081,0.73312288410863036,12,{"$f":"AVERAGE(Data!EY160:FQ160)","v":0.80883060090651959},14,{"$f":"AVERAGE(Data!FR160:FZ160)","v":0.70051827586071758},12,{"$f":"AVERAGE(Data!GA160:GL160)","v":0.63770578869790751},179]
["E05005023","29UKHB","Otford and Shoreham","Sevenoaks","NHS West Kent CCG",157,1.5371466988006552,1.5805166106948916,1.2180282557870949,1.4401796289550026,1.264505787056271,1.2201150115878654,1.385839689823223,1.395834760639715,1.9721300055083251,1.769014085429814,1.2400037402482931,1.3561520687962554,1.2638333659980836,1.2673093428529392,1.4610323555797631,1.2253905654476176,1.3183265602808416,1.1975015522930568,1.2988860462916554,1.2402418732667304,1.0129389469713186,1.2567330137683947,1.2910896893724149,1.6618511074924909,1.9358976026401311,1.5703502011139623,0.47537991250685202,1.7259929270606682,0.87665021327089665,1.0379963000130472,1.0724481780568833,1.8850799048679778,1.2400037402482931,0.65903089753122057,0.85953741181987442,1.1137225774525863,0.82716772652961512,1.0950300672804087,1.1061267861130346,1.1696829830150872,1.4452305217608805,2,3.0000000000000001E-3,null,null,null,null,1.3412949756124157,11,3.5000000000000003E-2,null,null,null,null,1.4443581912326362,11,3.5000000000000003E-2,null,null,null,null,1.2715713862885181,74,0.25800000000000001,null,null,null,null,1.2925709261742697,27,9.1999999999999998E-2,null,null,null,null,1.4269051608304035,27,9.1999999999999998E-2,null,null,null,null,0.99569823044694239,164,0.57799999999999996,null,null,null,null,1.5625418225581353,30,0.10199999999999999,null,null,null,null,0.75928415467554755,273,0.96399999999999997,null,null,null,null,1.0623460280781463,102,0.35799999999999998,null,null,null,null,1.3900919016879669,7,2.1000000000000001E-2,null,null,null,null,{"$f":"AVERAGE(Data!Z161:AH161)","v":1.3522750304658848},16,5.2999999999999999E-2,null,null,null,null,1.0785397321832437,49,0.17,null,null,null,null,1.2881174548115815,6,1.7000000000000001E-2,null,null,null,null,"Sevenoaks",278,277,268,235,0.97799999999999998,0.94599999999999995,0.82899999999999996,278,0.98199999999999998,0.89723125000000004,0.98834161771351103,0.91930234677032108,1,0.89648780832672281,0.92619566330392167,0.91322603289383186,0.79620024986952709,1,1,0.94605967777979183,0.87148257777922278,0.55125161838212489,0.78785672298609255,0.78051458348049185,0.73187703372758328,0.63976009275341128,0.63003768115024439,0.50175207342775985,0.89876020046382255,0.62558145543562549,0.79766386428024727,0.72531213438070208,1,0.78443389896733706,0.46299410399343494,0.22138683613858354,0.60097141513176944,0.51622464651338174,0.84606312682482399,0.77575471900604998,0.26005143198980063,0.94605967777979183,0.22381374589434549,0.41091403936484572,0.96916087707894227,0.60455825671093066,0.97388841300131168,0.97954201496867321,0.63603423640137668,0.93495840482794401,0.90642195087880073,0.83363027676691337,0.59051661577713854,0.80946353091207945,0.51744656355778129,0.71268083078141853,0.60305555488479623,0.31736389262959563,0.83263675963224704,0.75091865311675876,5,{"$f":"AVERAGE(Data!EY161:FQ161)","v":0.83039879107076608},6,{"$f":"AVERAGE(Data!FR161:FZ161)","v":0.67967821208794688},19,{"$f":"AVERAGE(Data!GA161:GL161)","v":0.67850543212785608},86]
["E05005024","29UKHC","Penshurst, Fordcombe and Chiddingstone","Sevenoaks","NHS West Kent CCG",158,1.5479608794628554,1.2334584291584476,1.3003252193761001,1.4401796289550026,1.2363190122053818,1.2069772934275191,1.2768365229400376,1.395834760639715,1.9721300055083251,1.769014085429814,1.1093322893766504,1.3421854507587487,0.81882092653209138,1.1213767412137201,1.5382201790108632,1.3022628713284294,1.6533984226429255,1.489467202008079,1.5646107510465745,1.193140501767606,1.0874032243448255,1.2268466901859325,1.2910896893724149,1.6618511074924909,1.4978710064499026,2.0478598114113078,0.49250873569626041,2.8720050298602402,0.63653430618413342,0.42485459488460031,0.57702675090465061,0.74423699224303064,1.1093322893766504,0,1.3743384488058572,1.1305609793327029,0.7828499031649101,1.1078801690544169,1.1147975650213371,1.0391049982140421,1.3605815093324678,8,2.4E-2,null,null,null,null,1.3112294436335312,23,7.8E-2,null,null,null,null,1.3716678186448303,20,6.7000000000000004E-2,null,null,null,null,1.5691587918991929,20,6.7000000000000004E-2,null,null,null,null,1.2920662426326539,28,9.5000000000000001E-2,null,null,null,null,1.7275611458544278,2,3.0000000000000001E-3,null,null,null,null,0.54613855065779482,279,0.98499999999999999,null,null,null,null,0.92678464080984058,126,0.443,null,null,null,null,0.6871692244029286,278,0.98199999999999998,null,null,null,null,1.035038722957482,129,0.45300000000000001,null,null,null,null,1.3851952984748046,9,2.8000000000000001E-2,null,null,null,null,{"$f":"AVERAGE(Data!Z162:AH162)","v":1.4856195329534423},4,0.01,null,null,null,null,0.83679308309886091,270,0.95299999999999996,null,null,null,null,1.2432700866197153,13,4.2000000000000003E-2,null,null,null,null,"Sevenoaks",271,275,280,14,0.97099999999999997,0.98899999999999999,4.5999999999999999E-2,271,0.95699999999999996,0.90354347826086956,0.77131634745733235,0.98141567739297975,1,0.87650442804603768,0.91622275298788014,0.84139627480810875,0.79620024986952709,1,1,0.8463640182474339,0.86250743069192903,0.35714863451124518,0.69713382099478938,0.82174996175600168,0.77778980373760587,0.80236442175832712,0.78364863937383789,0.60439997079521079,0.86462747280548957,0.67156988460656897,0.77869464798948307,0.72531213438070208,1,0.60694366899221086,0.60378062028199464,0.22936381596653466,1,0.37482988337790413,0.34629584613108988,0.41739193945767383,0.1026693325162452,0.8463640182474339,0,0.65702196982622729,0.98381364668703286,0.57216735801496976,0.98531692587737818,0.98722051290382629,0.56503032332427927,0.88542516770372715,0.88606474114231071,0.79533670874237561,0.73013767730912527,0.80804082795644872,0.61002202631018498,0.37950588965555593,0.47451667538183956,0.32851098491311365,0.81870975336149721,0.72395299780190403,18,{"$f":"AVERAGE(Data!EY162:FQ162)","v":0.82314241635205876},8,{"$f":"AVERAGE(Data!FR162:FZ162)","v":0.72003247166922035},7,{"$f":"AVERAGE(Data!GA162:GL162)","v":0.569843479697005},260]
["E05005025","29UKHD","Seal and Weald","Sevenoaks","NHS West Kent CCG",159,1.4589756214424641,1.2008646855881584,1.2765515587979042,1.4401796289550026,1.2584839798786414,1.205122677531919,1.1512608323639468,1.395834760639715,1.9721300055083251,1.769014085429814,0.23137240259507527,1.3246498744711619,1.483468028661812,1.1676788660246613,1.6192937398598191,1.2669031047888175,0.81988095989619258,0.81051870116331093,0.80571149900331418,1.1370910328311907,0.93320112303715985,1.3341101478305741,1.2910896893724149,1.6618511074924909,1.7093979151244683,1.5628695486680686,0.45474226944217705,2.0373674269626423,0.59028491951162754,0.90465389822288023,1.1185033941875024,0.77231138630499452,0.23137240259507527,0.37079412893391273,0.82697143734038681,1.0852910402260838,0.85565880282563278,1.0908940785503363,1.0397114173204092,0.98777808191003169,1.3121306219428421,18,0.06,null,null,null,null,1.2901763758738451,31,0.106,null,null,null,null,1.3543137634174356,23,7.8E-2,null,null,null,null,0.81203705335427256,195,0.68700000000000006,null,null,null,null,1.2714686201127661,36,0.124,null,null,null,null,1.4410942900493391,21,7.0000000000000007E-2,null,null,null,null,0.87114740397400336,223,0.78700000000000003,null,null,null,null,0.50184189445003491,273,0.96399999999999997,null,null,null,null,0.59888278313714971,280,0.98899999999999999,null,null,null,null,1.0118666841664985,158,0.55600000000000005,null,null,null,null,1.2451523690842137,36,0.124,null,null,null,null,{"$f":"AVERAGE(Data!Z163:AH163)","v":1.3468578067512429},18,0.06,null,null,null,null,0.82285208232740603,275,0.97099999999999997,null,null,null,null,1.1413460065322529,54,0.187,null,null,null,null,"Sevenoaks",230,248,266,9,0.875,0.93899999999999995,2.8000000000000001E-2,230,0.81200000000000006,0.85160285714285722,0.75093456024319116,0.9634725944989514,1,0.89221856988266091,0.91481490439714452,0.75864572972353617,0.79620024986952709,1,1,0.17652535515933457,0.85123882035126497,0.64705061095784067,0.72591877435015517,0.86506118367085993,0.75667082193864144,0.39787343648618034,0.42643562509960781,0.31124163383207676,0.82401036978469067,0.57633613408713846,0.84677608070710353,0.72531213438070208,1,0.69265526731322102,0.46078854629425681,0.21177578109977829,0.7093885302358911,0.34759544833750866,0.7373767187947543,0.80906873079625541,0.10654226456501741,0.17652535515933457,0.12592554197870284,0.39534541380509747,0.94441976639932801,0.62538174252269474,0.97020998295552729,0.92072719826883809,0.53712047382462424,0.85533667062833318,0.87237589077457367,0.7528081958035121,0.37851689847262165,0.79448694379192697,0.51865203123578674,0.63134696597617279,0.14153380986217598,0.26063547789190017,0.79957183279420252,0.67072968022285739,55,{"$f":"AVERAGE(Data!EY163:FQ163)","v":0.74136345934757009},37,{"$f":"AVERAGE(Data!FR163:FZ163)","v":0.67189364932253126},21,{"$f":"AVERAGE(Data!GA163:GL163)","v":0.55801988645064027},264]
["E05005026","29UKHE","Sevenoaks Eastern","Sevenoaks","NHS West Kent CCG",160,1.1328387509978146,1.1073543592071895,1.2391014443003117,1.4401796289550026,1.2182800542821015,1.0011216746536657,1.0285447768456324,1.395834760639715,1.9721300055083251,1.769014085429814,1.0947711905691493,1.2535276847266115,1.7008207631656067,1.1125002857080535,1.389158351898959,1.2483582176791779,0.87138656749548138,0.89053838095487592,0.90614250416516973,1.1542395269325143,0.94622260284635173,1.2262608337638656,1.2910896893724149,1.6618511074924909,1.3142220383874244,1.0982081654181937,0.8779494962377461,1.000677763855947,1.3435058860772586,1.1581597247336646,1.3331780848397814,0.51671578183313849,1.0947711905691493,1.0960964077744921,0.68302696479601543,1.1254177279632385,1.1480545492169014,1.1052402480286585,1.1067815402325647,1.3505255216768806,1.159764851501772,75,0.26200000000000001,null,null,null,null,1.2167921790752234,70,0.24399999999999999,null,null,null,null,1.4425350730857123,12,3.9E-2,null,null,null,null,0.88935581753850901,177,0.624,null,null,null,null,1.2559327520815275,44,0.152,null,null,null,null,1.0727643659748278,110,0.38600000000000001,null,null,null,null,1.2782812318835681,6,1.7000000000000001E-2,null,null,null,null,0.80574348620114389,172,0.60599999999999998,null,null,null,null,0.88956168628525378,240,0.84699999999999998,null,null,null,null,1.1672039174236488,13,4.2000000000000003E-2,null,null,null,null,1.2511370256411929,34,0.11700000000000001,null,null,null,null,{"$f":"AVERAGE(Data!Z164:AH164)","v":1.17452458047855},69,0.24099999999999999,null,null,null,null,1.0884561356451454,37,0.127,null,null,null,null,1.1850949584807839,32,0.109,null,null,null,null,"Sevenoaks",252,250,215,247,0.88200000000000001,0.75800000000000001,0.872,252,0.89,0.66123703703703696,0.69245991554606789,0.93520725830426144,1,0.86371547443374408,0.75995668006500139,0.67777959681052602,0.79620024986952709,1,1,0.8352546417199197,0.80553469123328203,0.74185428514346019,0.69161553519829788,0.74211796082408443,0.74559469865899297,0.42286817852340536,0.4685361245985219,0.35003754300383488,0.83643728773381854,0.58437807611663228,0.7783227977297863,0.72531213438070208,1,0.5325283301529502,0.32379013622909114,0.4088655329093997,0.34842479503061413,0.79113749204617378,0.94400744786703472,0.96435353404558899,7.1282219204839445E-2,0.8352546417199197,0.37224573810475003,0.32653071901221387,0.97933799169971181,0.83908720640682977,0.98296905564527592,0.98012183925066831,0.7343703220389981,0.76296807029578873,0.81953040023575974,0.82024647659725458,0.4138139487085874,0.78489005919218791,0.40340219858051379,0.89983282465293257,0.45326843046237958,0.34938822855848195,0.90317728300829681,0.71371817920737413,22,{"$f":"AVERAGE(Data!EY164:FQ164)","v":0.74684051952473485},34,{"$f":"AVERAGE(Data!FR164:FZ164)","v":0.61533989892033281},57,{"$f":"AVERAGE(Data!GA164:GL164)","v":0.73505818392016709},8]
["E05005027","29UKHF","Sevenoaks Kippington","Sevenoaks","NHS West Kent CCG",161,1.699016101411051,1.2947974983834991,1.3211478543617261,1.4401796289550026,1.3764548556819802,1.2690800448939792,0.90867048538485318,1.395834760639715,1.9721300055083251,1.769014085429814,1.2168450428194755,1.4632062147706812,1.5141874688804899,1.1310214747138263,1.8031687139000492,1.6021864112714779,1.5009048586125413,1.3867743710284259,1.4630624378375818,1.1938361892420504,1.216554702860589,1.4313846597235642,1.2910896893724149,1.6618511074924909,2.4678913101392368,1.0323806152866015,0,1.8668992288939701,0.85270078692951334,1.076205845000783,1.1657296555388335,0.47374196361278714,1.2168450428194755,0.15804313669578149,0,1.0258695761747829,1.0493587668592903,1.007467394259822,1.0517322306776631,0.84376012139517964,1.4383204847187587,3,7.0000000000000001E-3,null,null,null,null,1.2780439551111058,39,0.13400000000000001,null,null,null,null,1.5589699271617672,1,0,null,null,null,null,1.4502472224928498,39,0.13400000000000001,null,null,null,null,1.3589432697382218,15,4.9000000000000002E-2,null,null,null,null,1.3417927885799521,39,0.13400000000000001,null,null,null,null,1.0315454291563766,144,0.50700000000000001,null,null,null,null,0.84529350321613128,155,0.54600000000000004,null,null,null,null,7.9021568347890744E-2,283,1,null,null,null,null,0.9956376178733477,170,0.59899999999999998,null,null,null,null,1.4488253849728681,3,7.0000000000000001E-3,null,null,null,null,{"$f":"AVERAGE(Data!Z165:AH165)","v":1.3513208336678799},17,5.6000000000000001E-2,null,null,null,null,0.82678787666365927,273,0.96399999999999997,null,null,null,null,1.240275608436483,16,5.2999999999999999E-2,null,null,null,null,"Sevenoaks",268,281,267,11,0.99199999999999999,0.94299999999999995,3.5000000000000003E-2,268,0.94599999999999995,0.99171428571428577,0.80967339761213863,0.99713148457337875,1,0.97585555516014544,0.9633652752429096,0.59878609962568885,0.79620024986952709,1,1,0.9283907715368801,0.94027709223109901,0.66044964091853953,0.70312972733945645,0.96329110871488566,0.95692220196886846,0.72836204662026283,0.72961918698834249,0.56517245206778055,0.865131613350547,0.75133260884886433,0.90851740698918448,0.72531213438070208,1,1,0.30438187457532795,0,0.65003341201836917,0.50212177633765931,0.87720744507188431,0.84322981741461966,6.5353874768397949E-2,0.9283907715368801,5.3673092671803362E-2,0,0.89271123558279675,0.76695268252111992,0.89601267678708874,0.93137235385620454,0.45880835432363798,0.93283972263326775,0.86684143597965435,0.89405756783871626,0.67438456189212859,0.85005875271385956,0.48860382164842431,0.74085301294138783,0.49687232315263902,2.6836546335901681E-2,0.78917146061416954,0.74322209268048178,7,{"$f":"AVERAGE(Data!EY165:FQ165)","v":0.85833371453600993},3,{"$f":"AVERAGE(Data!FR165:FZ165)","v":0.6894121166847772},16,{"$f":"AVERAGE(Data!GA165:GL165)","v":0.60131950673934109},238]
["E05005028","29UKHG","Sevenoaks Northern","Sevenoaks","NHS West Kent CCG",162,1.1822973840049873,1.0977979829469724,1.1440184996229756,1.4401796289550026,1.217638128431346,1.1230526701823875,1.0570717831149747,1.395834760639715,1.9721300055083251,1.769014085429814,0.9445475314718631,1.2305780412290646,1.6254343361918551,1.1342866631637221,1.2795296589023302,1.3337557055098714,0.41739681727214328,0.59547069086781867,0.36158989246774875,1.1939980372368215,1.1415761037303742,1.2851057049558501,1.2910896893724149,1.6618511074924909,1.1639542671081051,1.1878284215587971,1.0511239103460477,0.67891630143248161,1.2420090677031748,1.1272439233130465,1.3657166009678188,0.84294622678439868,0.9445475314718631,0.93913935879601995,0.86722417733673918,1.0534049172126467,0.90589110806750706,1.0502579244116557,1.0562414138824781,1.2613059918718941,1.1413712888583118,87,0.30399999999999999,null,null,null,null,1.2467553942646852,58,0.20200000000000001,null,null,null,null,1.4111595034258557,16,5.2999999999999999E-2,null,null,null,null,0.45815246686923694,252,0.89,null,null,null,null,1.3147241285575901,21,7.0000000000000007E-2,null,null,null,null,1.020455725111358,129,0.45300000000000001,null,null,null,null,1.2449898639946799,14,4.5999999999999999E-2,null,null,null,null,0.89374687912813089,141,0.496,null,null,null,null,0.90318176806637962,233,0.82199999999999995,null,null,null,null,1.0654202710892362,97,0.34,null,null,null,null,1.1748223297848903,60,0.20899999999999999,null,null,null,null,{"$f":"AVERAGE(Data!Z166:AH166)","v":1.1839381714703758},66,0.23,null,null,null,null,1.0546606868182702,68,0.23699999999999999,null,null,null,null,1.1408249012741385,55,0.191,null,null,null,null,"Sevenoaks",229,224,218,216,0.79,0.76900000000000002,0.76200000000000001,229,0.80800000000000005,0.69010599999999989,0.68648404391739237,0.86344375547548435,1,0.86326037276086698,0.85251513415209734,0.69657802274463387,0.79620024986952709,1,1,0.72064164346233195,0.79078692441970566,0.70897266404421988,0.70515961900448254,0.68355197949931079,0.79659922068131228,0.20255514420957971,0.31329309974496122,0.13968005799600006,0.86524889896987711,0.70502653945480021,0.81567235951723693,0.72531213438070208,1,0.47163919347908217,0.35021331888099033,0.48951373581182495,0.23639105585602668,0.73137002904413884,0.91880820619546555,0.98789024934078773,0.11628651538834081,0.72064164346233195,0.31894149211569162,0.41458880654164337,0.91667247674930263,0.66209540277997936,0.93406935006598113,0.93536550767705051,0.68585574472564037,0.74667793313095887,0.8417107559054251,0.80071400638892032,0.21850943398351363,0.82225198646452324,0.38693932600698105,0.87935616152679741,0.41846407942533637,0.36676514932866749,0.82681169639959085,0.68778576481047005,41,{"$f":"AVERAGE(Data!EY166:FQ166)","v":0.71104357536746876},58,{"$f":"AVERAGE(Data!FR166:FZ166)","v":0.62877969292783786},46,{"$f":"AVERAGE(Data!GA166:GL166)","v":0.69521545200719614},52]
["E05005029","29UKHH","Sevenoaks Town and St John's","Sevenoaks","NHS West Kent CCG",163,1.7132112805931081,1.2662384226919963,1.3217955324256061,1.4401796289550026,1.3211960973682755,1.1444830954949607,1.066022163415953,1.395834760639715,1.9721300055083251,1.769014085429814,1.1886509032166657,1.3677894484275721,1.5800652620391598,1.130894428495073,1.4837940256934299,1.4207369729612056,1.2599514593117382,1.3230033442537039,0.99417997948872316,1.2737612792293682,0.67208931390510951,1.4399205899167649,1.2910896893724149,1.6618511074924909,1.590501427875503,1.0696605066775975,0.6622202022227377,1.3391259581007793,1.3932841849217645,1.1184135114463163,1.2183273920506172,4.3157783837124724,1.1886509032166657,1.3240540965117999,0.26222402315187943,0.95016243997077354,0.89270485739073491,0.95045971784780559,1.0421184007162876,1.0513086968303547,1.4337484119035704,4,0.01,null,null,null,null,1.2735431491747815,41,0.14099999999999999,null,null,null,null,1.4891343914714055,4,0.01,null,null,null,null,1.1923782610180551,103,0.36099999999999999,null,null,null,null,1.2677423959832297,38,0.13100000000000001,null,null,null,null,1.1653770237191543,82,0.28699999999999998,null,null,null,null,1.243341696139566,16,5.2999999999999999E-2,null,null,null,null,2.7522146434645691,5,1.4E-2,null,null,null,null,0.79313905983183974,271,0.95699999999999996,null,null,null,null,0.97735082255119132,183,0.64500000000000002,null,null,null,null,1.3767984682321068,11,3.5000000000000003E-2,null,null,null,null,{"$f":"AVERAGE(Data!Z167:AH167)","v":1.2222466749769738},50,0.17299999999999999,null,null,null,null,1.3089572173139559,4,0.01,null,null,null,null,1.3216719394742569,2,3.0000000000000001E-3,null,null,null,null,"Sevenoaks",282,273,234,280,0.96399999999999997,0.82599999999999996,0.98899999999999999,282,0.996,1,0.79181460202698339,0.99762031721026356,1,0.93667914043860112,0.86878308168061158,0.70247605002381808,0.79620024986952709,1,1,0.90688007946221616,0.87896092318977648,0.68918384043500858,0.7030507456621421,0.7926743521538141,0.84854967126185366,0.61143170953208903,0.69606753959650391,0.38404590417535789,0.9230505495253799,0.4150759652717691,0.91393526662089597,0.72531213438070208,1,0.64447790765378887,0.3153732890377216,0.30839930661780268,0.46626866742149992,0.82044996392610925,0.91161060262498761,0.88127635723156628,0.59537229479599074,0.90688007946221616,0.44966253967329428,0.12535990998192889,0.82683092031394667,0.652457869222972,0.84531168037730342,0.92285872730800012,0.57166628387377005,0.9298116397457491,0.86082770440251155,0.8524124515206013,0.56384838443465024,0.7954747831597494,0.43362979268270324,0.87111230792755434,0.75112618712910351,0.2875112248276116,0.76382509621919836,0.74565121305100512,6,{"$f":"AVERAGE(Data!EY167:FQ167)","v":0.82128516877466129},9,{"$f":"AVERAGE(Data!FR167:FZ167)","v":0.6346547873921734},39,{"$f":"AVERAGE(Data!GA167:GL167)","v":0.7091447690660071},28]
["E05005030","29UKHJ","Swanley Christchurch and Swanley Village","Sevenoaks","NHS Dartford, Gravesham & Swanley CCG",164,1.1410272663963532,0.8710512371363629,1.0572515231519553,1.4401796289550026,0.97133762130433954,1.2122936287308093,1.1131479285994235,1.395834760639715,1.9721300055083251,1.769014085429814,1.1849692836119214,1.1199024478629656,0.32393870150696213,0.85121984552180519,1.2581152379381682,0.94068440203695891,0.95250950862608963,0.97553421920378558,0.83939370711761907,1.085949692960168,1.2337627149841388,1.0562935156629694,1.2910896893724149,1.6618511074924909,1.0699806192265946,1.0893790078280077,0.86793424864059909,0.61671978045221676,1.237443166677231,1.059630607426959,0.93420848087099329,1.2821433609562547,1.1849692836119214,1.0590481905092379,0.78069595099814659,1.1060424228733363,0.9587287403537923,1.1017777583479105,1.1009843039561535,0.46512166248795017,1.0231100088948903,149,0.52400000000000002,null,null,null,null,1.2265587136458582,67,0.23400000000000001,null,null,null,null,1.1774967511771151,80,0.28000000000000003,null,null,null,null,0.92247914498249806,171,0.60199999999999998,null,null,null,null,1.2657893440944363,39,0.13400000000000001,null,null,null,null,0.91100341403685459,161,0.56699999999999995,null,null,null,null,1.0770940849917277,112,0.39300000000000002,null,null,null,null,1.233556322284088,56,0.19500000000000001,null,null,null,null,0.91987207075369226,221,0.78,null,null,null,null,0.94653097760382854,207,0.73,null,null,null,null,1.1257650020672831,87,0.30399999999999999,null,null,null,null,{"$f":"AVERAGE(Data!Z168:AH168)","v":1.108106708513289},94,0.32900000000000001,null,null,null,null,1.0225661607558238,110,0.38600000000000001,null,null,null,null,1.0908322336241965,93,0.32600000000000001,null,null,null,null,"Sevenoaks",191,197,190,174,0.69499999999999995,0.67,0.61299999999999999,191,0.67300000000000004,0.6660166666666667,0.54469290800063508,0.79795669906854594,1,0.68864242788132768,0.92025841081997972,0.73353049008757232,0.79620024986952709,1,1,0.9040711912758993,0.71966521644668657,0.14129373243860674,0.52918356659772492,0.67211193999882601,0.56183336909006509,0.46223567812918698,0.51325471451201465,0.32425287358419203,0.7869500173927797,0.76196011340043823,0.67044245538787928,0.72531213438070208,1,0.43356067377465946,0.32118699209946633,0.40420138131118727,0.21473492352561377,0.72868135047262683,0.86369709120126115,0.67575912048657216,0.17687484555528235,0.9040711912758993,0.35966377826659041,0.37322276183558956,0.96247761007976484,0.70071323788066509,0.97988961638513583,0.97498803671126844,0.25291750476842356,0.66955542457861583,0.82772631573168132,0.69101987698097611,0.43324775540846455,0.78893294411235981,0.34342099267773168,0.75604585405348679,0.54047301841559081,0.36644327005109001,0.77419720116505153,0.65616262426648153,76,{"$f":"AVERAGE(Data!EY168:FQ168)","v":0.68290527023512926},83,{"$f":"AVERAGE(Data!FR168:FZ168)","v":0.59092763236363632},81,{"$f":"AVERAGE(Data!GA168:GL168)","v":0.66274634540992328},113]
["E05005031","29UKHK","Swanley St Mary's","Sevenoaks","NHS Dartford, Gravesham & Swanley CCG",165,0.56485354653555053,0.8618897524571465,0.75118788371592227,1.4401796289550026,0.43655917155669843,0.84342561812029482,0.49587995282477837,1.395834760639715,1.9721300055083251,1.769014085429814,0.8903241079441585,0.85330899962665518,0.30362713807676939,0.84533305029731287,0.91412866671284421,0.78804045585660687,0.25766489767974177,0.37761677520499992,0.31406244835942082,0.68731217885668794,1.1512009283031284,0.84759607424599015,1.2910896893724149,1.6618511074924909,0.32235979302046786,0.6761034032170431,1.2186085932496986,0.20471814329518434,1.0736380501773828,1.1222157066407243,0.80407008943102887,0.50227420886223162,0.8903241079441585,0.80279522021660155,1.1123392994147456,1.015112386174954,1.0174061489427839,1.0320291311052727,1.0084687987636787,0.68930859484462648,0.72597706090287295,243,0.85799999999999998,null,null,null,null,0.92237582641929772,192,0.67700000000000005,null,null,null,null,1.0419883136815606,126,0.443,null,null,null,null,0.3164480404147208,271,0.95699999999999996,null,null,null,null,1.1278099956541425,101,0.35399999999999998,null,null,null,null,0.60544748319559849,264,0.93200000000000005,null,null,null,null,0.99997461541637878,160,0.56299999999999994,null,null,null,null,0.69629915840319501,224,0.79,null,null,null,null,0.95756725981567359,186,0.65600000000000003,null,null,null,null,0.95246501196626332,203,0.71599999999999997,null,null,null,null,0.84605583923693461,214,0.755,null,null,null,null,{"$f":"AVERAGE(Data!Z169:AH169)","v":0.89564887900590073},196,0.69099999999999995,null,null,null,null,0.92249847854318234,229,0.80800000000000005,null,null,null,null,0.8801470649768266,220,0.77600000000000002,null,null,null,null,"Sevenoaks",64,70,88,55,0.24399999999999999,0.308,0.191,64,0.223,0.32970454545454553,0.53896397321611966,0.56695629274973591,1,0.30950429718862033,0.6402487817978878,0.32676974503993189,0.79620024986952709,1,1,0.67927193389962892,0.54834848078425225,0.13243435072421234,0.52552388301643149,0.48834699164744189,0.47066521283276563,0.12504012572103027,0.1986743123280465,0.12132048465686139,0.49807125929670393,0.71097073952977929,0.53797962854855252,0.72531213438070208,1,0.13062155196870504,0.19933890488715886,0.56751220203683339,7.1280565725592229E-2,0.63222299446913921,0.91470974387909298,0.58162359641274208,6.9289968520095904E-2,0.67927193389962892,0.27263760484650373,0.5317695639320944,0.88335033376918259,0.7435992339212828,0.91785718282552098,0.89305997429580786,0.37482281279050883,0.47854160380680039,0.61454461477919353,0.6055738566130916,0.1483449742353127,0.69446675235114763,0.2421883061545724,0.70951877825365806,0.37428095120986243,0.40220358438929904,0.76253790752046058,0.54333188977156677,208,{"$f":"AVERAGE(Data!EY169:FQ169)","v":0.51568282425931777},214,{"$f":"AVERAGE(Data!FR169:FZ169)","v":0.49345410959711422},175,{"$f":"AVERAGE(Data!GA169:GL169)","v":0.62451791196346662},206]
["E05005032","29UKHL","Swanley White Oak","Sevenoaks","NHS Dartford, Gravesham & Swanley CCG",166,0.62515079628842518,0.90530526113402476,0.79036822882984503,1.4401796289550026,0.54942337888664872,0.89276621942933732,0.67970975399355948,1.395834760639715,1.9721300055083251,1.769014085429814,0.87638904971911757,0.68410049399439476,0.33136481552340424,0.85574604680656663,0.83233491483704469,0.65075320165311101,1.0896623873430713,1.077714176568338,0.94243374490486931,0.88623937930029428,0.71008686290790146,0.89873465172941402,1.2910896893724149,1.6618511074924909,0.45811265260303663,0.40485153892367198,1.2703154353472019,0.40417117382389356,1.0895189484362746,1.1271009401505026,0.8691202664811073,0.68587990232957385,0.87638904971911757,0.95879787769161706,1.2378419100980249,0.86152356873292191,1.0290420492790056,0.90181126598105477,0.88798259692846426,0.89630062446913206,0.77360809541743158,232,0.81899999999999995,null,null,null,null,0.99158274838085259,162,0.56999999999999995,null,null,null,null,0.99647907668397218,143,0.503,null,null,null,null,1.0366034362720928,138,0.48499999999999999,null,null,null,null,1.0896003381605031,124,0.436,null,null,null,null,0.63436270017445096,253,0.89300000000000002,null,null,null,null,1.0285800516892947,147,0.51700000000000002,null,null,null,null,0.78113447602434571,188,0.66300000000000003,null,null,null,null,1.0983198938948209,49,0.17,null,null,null,null,0.91533202107811573,224,0.79,null,null,null,null,0.96633583949708501,176,0.62,null,null,null,null,{"$f":"AVERAGE(Data!Z170:AH170)","v":0.88727249905559102},199,0.70199999999999996,null,null,null,null,0.95177575002473302,197,0.69499999999999995,null,null,null,null,0.94417856105604336,190,0.67,null,null,null,null,"Sevenoaks",94,108,85,87,0.379,0.29699999999999999,0.30399999999999999,94,0.32900000000000001,0.3649,0.56611291539692676,0.59652751413919769,1,0.38952084349744109,0.67770348936498015,0.44790796996004678,0.79620024986952709,1,1,0.6686401944408551,0.4396126921779917,0.14453281243126148,0.53199740059326694,0.44465102835625725,0.38866899774165609,0.52879349548111931,0.56701433033440729,0.36405663678068917,0.6422268908732166,0.43854288998547164,0.57043791116094844,0.72531213438070208,1,0.18562918501349648,0.1193643783287074,0.59159234063233745,0.14072787812755386,0.64157462749894623,0.91869166167446514,0.62867760130667449,9.4618827728855381E-2,0.6686401944408551,0.32561772955651652,0.59176786534111692,0.7496974151383089,0.75210365134100232,0.80204513912045194,0.78636217219635884,0.48737811146129012,0.50918014317870819,0.66226651053839902,0.57726289071766124,0.48662148753207196,0.67530396528006764,0.25932844552552381,0.72964796349336192,0.38162951108485521,0.45869279744881675,0.71551729785148244,0.56944622939682232,184,{"$f":"AVERAGE(Data!EY170:FQ170)","v":0.57457055634555909},181,{"$f":"AVERAGE(Data!FR170:FZ170)","v":0.49042595650027043},181,{"$f":"AVERAGE(Data!GA170:GL170)","v":0.62059791640040352},216]
["E05005033","29UKHM","Westerham and Crockham Hill","Sevenoaks","NHS West Kent CCG",167,1.4210744930263715,1.0868731151547206,1.1555249344490075,1.4401796289550026,1.0815012863689559,1.158868117772077,1.108600092122378,1.395834760639715,1.9721300055083251,1.769014085429814,1.0969436589433055,1.245829494785454,0.84786833801040684,1.1491051046602929,1.3787961823785218,1.2704312422957595,1.3683311798821445,1.322000101691021,1.2331978642061303,1.1058003990610916,1.0103985397476296,1.1836459077890997,1.2910896893724149,1.6618511074924909,1.2791514511478335,1.4893200812126026,0.69007017476862265,1.4282607852788758,1.0406382807935997,1.0713844296007804,0.67957182414913042,2.203545011681717,1.0969436589433055,0.75806134309800022,0.97787737573176803,0.94791718376605549,0.65429017017039059,0.96465703262556046,1.0106365006400881,1.3856086920321438,1.2211575142100333,45,0.156,null,null,null,null,1.2369967771716257,62,0.216,null,null,null,null,1.341264764001485,25,8.5000000000000006E-2,null,null,null,null,1.3078430485930985,68,0.23699999999999999,null,null,null,null,1.2505571286925454,46,0.159,null,null,null,null,1.2217006231019836,67,0.23400000000000001,null,null,null,null,0.93053151151450353,199,0.70199999999999996,null,null,null,null,1.6502443353125114,22,7.3999999999999996E-2,null,null,null,null,0.86796935941488407,249,0.879,null,null,null,null,0.99262191584684767,172,0.60599999999999998,null,null,null,null,1.2895844045410214,28,9.5000000000000001E-2,null,null,null,null,{"$f":"AVERAGE(Data!Z171:AH171)","v":1.2377320150967401},43,0.14799999999999999,null,null,null,null,1.0659276252693781,58,0.20200000000000001,null,null,null,null,1.2108205831345651,25,8.5000000000000006E-2,null,null,null,null,"Sevenoaks",259,256,241,226,0.90400000000000003,0.85099999999999998,0.79700000000000004,259,0.91400000000000003,0.82948000000000011,0.67965241593320236,0.87212819484564941,1,0.76674438966113745,0.87970282705138303,0.73053360473735407,0.79620024986952709,1,1,0.83691212440592311,0.800587725057056,0.36981836852684263,0.71437189919723121,0.73658226929999848,0.75877803810789646,0.66402643239797821,0.69553970677940768,0.47637711335700417,0.8013351345051557,0.62401252410650021,0.7512745813173598,0.72531213438070208,1,0.51831757982715398,0.43910359362600382,0.32136918007325926,0.49730441640221601,0.61279073514006699,0.87327754494700305,0.49156785406863313,0.30398448058462818,0.83691212440592311,0.25744551500094803,0.46748813599010897,0.82487709939239484,0.47820594539014255,0.8579383659551042,0.89497960511076269,0.75344736923167444,0.79375353692628392,0.83463621426388035,0.77713130307436851,0.61198108417813002,0.78038687486194347,0.44402369248215828,0.65921204471856765,0.57044830249527567,0.3624668254955285,0.76188967701601573,0.69845948196708352,34,{"$f":"AVERAGE(Data!EY171:FQ171)","v":0.76881238732776802},27,{"$f":"AVERAGE(Data!FR171:FZ171)","v":0.63089212713759446},44,{"$f":"AVERAGE(Data!GA171:GL171)","v":0.63774289793478245},178]
["E05005034","29ULGC","Dymchurch and St Mary's Bay","Folkestone & Hythe","NHS South Kent Coast CCG",168,0.64926969618957486,1.0014676660993276,0.68310029122437066,0.67359429993979836,0.91461748336743098,0.94211584390773973,1.2331705997184401,0.63489128634483549,0.813701415350505,0.40858325544571322,1.09633901474724,0.53866016227642921,0.90795089660380135,0.7972051290516794,0.52695581520531642,0,1.1453925858492815,1.0022774304108244,1.5690607092914279,1.1308637472701768,0.50145982255780297,1.8537044007950497E-2,1.7464841963626061,0.77074294157510492,0.79299509116975575,0.44913988992032144,1.3933242740314937,1.5071077368660788,0.83916182738989786,1.2055865933305872,0.28897541706854357,0.28995758060210225,1.09633901474724,0.84467994296911209,1.8067835767996401,1.099654301269793,1.137770334299181,1.095409424348299,1.0678093441656222,1.3811644886386025,0.77794588450442426,230,0.81200000000000006,null,null,null,null,0.87967790265564894,203,0.71599999999999997,null,null,null,null,0.63617446108508557,259,0.91400000000000003,null,null,null,null,1.2389102418505111,87,0.30399999999999999,null,null,null,null,0.83361755035472829,206,0.72599999999999998,null,null,null,null,1.0356417479969124,123,0.432,null,null,null,null,0.77790794592967616,249,0.879,null,null,null,null,0.69314829767467112,226,0.79700000000000004,null,null,null,null,1.3257317598843761,8,2.4E-2,null,null,null,null,1.1563615785442996,20,6.7000000000000004E-2,null,null,null,null,0.81780808321177556,223,0.78700000000000003,null,null,null,null,{"$f":"AVERAGE(Data!Z172:AH172)","v":0.92340608264014334},185,0.65200000000000002,null,null,null,null,1.0127743204690518,118,0.41399999999999998,null,null,null,null,0.90005750426034103,211,0.74399999999999999,null,null,null,null,"Folkestone & Hythe",73,61,99,166,0.21199999999999999,0.34699999999999998,0.58499999999999996,73,0.255,0.37897818181818171,0.62624597963903128,0.51556743270808048,0.46771547548451287,0.64842994908720275,0.71516504646695322,0.81262176493576355,0.36214931386009552,0.41260029160236317,0.23096664905663572,0.83645081168989333,0.34615066965485219,0.39602483573384767,0.49560387451135918,0.28151101311811189,0,0.55583835525994663,0.52732503512506934,0.60611896360631745,0.81949767226995462,0.30969681497209073,1.1765689286204899E-2,0.98114498981219422,0.46378579771689177,0.32132496593823473,0.13242213154356014,0.64887818064562208,0.52475804227244649,0.49414921841581771,0.9826647385915952,0.20903018724301828,4.0000364895490026E-2,0.83645081168989333,0.28686209224171177,0.8637584910107311,0.95691866958460314,0.83157070540843758,0.97422580232407807,0.94560960797443738,0.7510307610114394,0.50693053138843114,0.60121630996690567,0.37491351817088292,0.56309411799711118,0.51717819281146726,0.40684583009996583,0.56194804808347698,0.43822558829269165,0.57531029162622138,0.8918711092605992,0.5400252344551667,212,{"$f":"AVERAGE(Data!EY172:FQ172)","v":0.48502440228201138},225,{"$f":"AVERAGE(Data!FR172:FZ172)","v":0.46814158716191101},194,{"$f":"AVERAGE(Data!GA172:GL172)","v":0.68102262086593768},78]
["E05005035","29ULGD","Elham and Stelling Minnis","Folkestone & Hythe","NHS South Kent Coast CCG",169,0.94782256523624109,1.2008646855881584,1.2717371726354858,0.67359429993979836,1.2016072144761254,1.1781232662286114,1.2382589402378446,0.63489128634483549,0.813701415350505,0.40858325544571322,1.2411788371884476,1.2486506856016342,1.0144337449730088,1.0665364274939804,1.2141697128212574,0.89681232323683124,1.575890337415961,1.3836922133338876,1.4601000534798205,1.246128464186832,0.94940312190252996,0.96939976992432142,1.7464841963626061,0.77074294157510492,1.3042154927007104,1.5325665648406492,0.61423880186883362,2.6885352141065586,0.83897147249218929,1.0164115882102349,0.52699403463690841,0.33903486666148658,1.2411788371884476,0.52005689592478566,1.4182389628159557,1.1425410111725547,1.3183245312385732,1.1160819241020059,1.1248725234044599,1.093775068979602,1.1401414744866283,89,0.312,null,null,null,null,0.98529500144544302,167,0.58799999999999997,null,null,null,null,0.98800830026392217,148,0.52100000000000002,null,null,null,null,1.4732275347432229,35,0.12,null,null,null,null,1.1364316987902789,93,0.32600000000000001,null,null,null,null,1.5348890183791881,12,3.9E-2,null,null,null,null,0.79412569844644432,243,0.85799999999999998,null,null,null,null,0.7901068519249671,182,0.64100000000000001,null,null,null,null,0.96914792937037064,167,0.58799999999999997,null,null,null,null,1.159119011779439,16,5.2999999999999999E-2,null,null,null,null,1.0879288651067445,105,0.36799999999999999,null,null,null,null,{"$f":"AVERAGE(Data!Z173:AH173)","v":1.313523840829794},25,8.5000000000000006E-2,null,null,null,null,0.9747068097356002,168,0.59199999999999997,null,null,null,null,1.1047211180330874,81,0.28299999999999997,null,null,null,null,"Folkestone & Hythe",203,179,259,116,0.63100000000000001,0.91400000000000003,0.40699999999999997,203,0.71599999999999997,0.55324324324324314,0.75093456024319116,0.95983895424771626,0.46771547548451287,0.8518950480116253,0.89431951058313142,0.81597482594323212,0.36214931386009552,0.41260029160236317,0.23096664905663572,0.94695621687598841,0.8024006623385469,0.44246991629010274,0.66304087431335934,0.64863530506910461,0.53563032183225368,0.76475114649868381,0.72799758116821811,0.56402810033805006,0.90302600840777125,0.58634233442277583,0.61528992875866417,0.98114498981219422,0.46378579771689177,0.52847363550509341,0.45185416793995659,0.28605412513583078,0.93611786405450348,0.49403712594347909,0.82846958746512633,0.38120080543037249,4.6770697805494608E-2,0.94695621687598841,0.17661672979391377,0.67800923261899904,0.99423866491006396,0.96353370038828701,0.99261133216428488,0.99614249649488373,0.59475806769459605,0.75467225257805026,0.67841083477651942,0.58533752967229435,0.68559227600165062,0.70991781182365954,0.55062494815884611,0.56790250627965932,0.4968634573407415,0.42731298120645639,0.90825685233042308,0.65602453765848034,77,{"$f":"AVERAGE(Data!EY173:FQ173)","v":0.65239726300000289},113,{"$f":"AVERAGE(Data!FR173:FZ173)","v":0.6391209835281868},34,{"$f":"AVERAGE(Data!GA173:GL173)","v":0.67444538813212407},92]
["E05005036","29ULGE","Folkestone Cheriton","Folkestone & Hythe","NHS South Kent Coast CCG",170,0.9420165055160824,1.0960670917575783,0.85318233015257516,0.67359429993979836,0.9682259802799964,0.55367161440237578,0.82694587891895643,0.63489128634483549,0.813701415350505,0.40858325544571322,1.0106243253869924,0.82237017302953752,1.0909642856840216,0.83344026751265066,0.80927496221812789,1.1251720342379845,0.34750632613433768,0.65019730345414883,0.36433937586089871,0.78262616901030468,1.0784807879226712,0.63538320412574256,1.7464841963626061,0.77074294157510492,0.57600103845291217,0.33988454649052918,1.2473903961364039,0.34572002834881738,1.2343489564235535,1.1123368485979526,6.571627401332214E-2,0.31089398661820505,1.0106243253869924,0.9520438308496908,0.98429062289587121,1.043396590812242,1.2644064271129423,1.0448085526881026,1.0433583011448775,0.67138620751056943,0.96375530914207863,179,0.63100000000000001,null,null,null,null,0.73146581197719251,237,0.83599999999999997,null,null,null,null,0.86426633985819157,201,0.70899999999999996,null,null,null,null,0.45401433514979511,254,0.89700000000000002,null,null,null,null,1.0027434597992859,161,0.56699999999999995,null,null,null,null,0.62724900235716574,256,0.90400000000000003,null,null,null,null,0.80413402634494291,240,0.84699999999999998,null,null,null,null,0.66075915600259871,238,0.84,null,null,null,null,0.96816722687278101,169,0.59499999999999997,null,null,null,null,1.0134712158537469,156,0.54900000000000004,null,null,null,null,0.78025098482247979,234,0.82599999999999996,null,null,null,null,{"$f":"AVERAGE(Data!Z174:AH174)","v":0.83585703426945479},210,0.74099999999999999,null,null,null,null,0.89480091033786013,248,0.875,null,null,null,null,0.82712732360266317,238,0.84,null,null,null,null,"Folkestone & Hythe",46,50,74,36,0.17299999999999999,0.25800000000000001,0.124,46,0.159,0.54985425101214569,0.68540166883405829,0.64393622611438861,0.46771547548451287,0.68643638954542818,0.4202950076702931,0.54493207978434577,0.36214931386009552,0.41260029160236317,0.23096664905663572,0.77105487072207535,0.52846675145853361,0.47585057038391854,0.51813041675284632,0.4323319108194717,0.67202049213633264,0.1686385499149318,0.34208623828000101,0.14074216732984565,0.5671419968229543,0.66605947277010802,0.40328551597603529,0.98114498981219422,0.46378579771689177,0.23339805772095149,0.10020983915050767,0.58091603360777766,0.12037584361948039,0.72685929240401248,0.90665755956492833,4.7535825715790722E-2,4.2888593851274644E-2,0.77105487072207535,0.32332398501540299,0.47055407967261509,0.90796323569710569,0.9241261727613217,0.92922283476171563,0.92395673395554667,0.36507722179873181,0.62639738198686423,0.49630565326893522,0.50517774411652216,0.21715565184159283,0.6162835546196368,0.25872494352467929,0.56035089256157722,0.40697173228667499,0.39693903234400907,0.81006923979488421,0.51272868184699116,231,{"$f":"AVERAGE(Data!EY174:FQ174)","v":0.47650575372432746},233,{"$f":"AVERAGE(Data!FR174:FZ174)","v":0.4573686163552112},205,{"$f":"AVERAGE(Data!GA174:GL174)","v":0.61160170049337681},227]
["E05005037","29ULGF","Folkestone East","Folkestone & Hythe","NHS South Kent Coast CCG",171,0.34839075785436707,0.79891080313225904,0.59102752706696837,0.67359429993979836,0.23802172744593522,0.46023568655591224,0.49580810556071608,0.63489128634483549,0.813701415350505,0.40858325544571322,0.71371361196342764,0.41010547893924904,0.38243465760699752,0.37931978508698511,0.41875960680584973,0.72212910819377574,0.32567981437864901,0.40321049983594109,0.32358709528660012,0.2914193596952897,1.0242777569623147,0.65099801503229604,1.7464841963626061,0.77074294157510492,0.23087825116517338,0.29624024635295754,1.2561514690985112,0.24771913303558091,1.0314223724266463,1.111110930387349,0.75943571257603781,7.8783396108955156E-2,0.71371361196342764,0.68792418179489556,1.1904403586103054,1.0645531641023473,1.1495702733599766,1.0475867606636402,1.044786321834227,0.67266230915258629,0.57944302935119818,269,0.95,null,null,null,null,0.50051022116943944,268,0.94599999999999995,null,null,null,null,0.53109336492406289,269,0.95,null,null,null,null,0.35082580316706347,268,0.94599999999999995,null,null,null,null,0.89678445392552231,196,0.69099999999999995,null,null,null,null,0.50774727491305571,279,0.98499999999999999,null,null,null,null,0.96732300513001113,178,0.627,null,null,null,null,0.39624850403619138,280,0.98899999999999999,null,null,null,null,0.93918227020260048,206,0.72599999999999998,null,null,null,null,0.9958317658225555,169,0.59499999999999997,null,null,null,null,0.50221602751549921,277,0.97799999999999998,null,null,null,null,{"$f":"AVERAGE(Data!Z175:AH175)","v":0.7238790410310928},247,0.872,null,null,null,null,0.87933244941503297,261,0.92100000000000004,null,null,null,null,0.6652251321263678,276,0.97499999999999998,null,null,null,null,"Folkestone & Hythe",8,7,37,23,2.1000000000000001E-2,0.127,7.8E-2,8,2.4E-2,0.20335539568345321,0.499581459779396,0.44607585255681892,0.46771547548451287,0.16874859645276688,0.3493673079483226,0.32672239988708651,0.36214931386009552,0.41260029160236317,0.23096664905663572,0.54452712346332877,0.26353960457000508,0.16680816443296123,0.23581428206759461,0.22371029555661234,0.43129898709490117,0.15804653758201778,0.21213985722658865,0.12499979998865954,0.21118148627646671,0.63258419659617071,0.41319642805622214,0.98114498981219422,0.46378579771689177,9.3552844169684027E-2,8.7341974630681954E-2,0.58499610971791882,8.6253028967583537E-2,0.60736385111379221,0.90565832267508417,0.54933734782412524,1.0868364212172927E-2,0.54452712346332877,0.23362620568411868,0.5691068819724705,0.92637367608947208,0.84019501503644922,0.93169369345055841,0.9252213324455425,0.36577112292000707,0.38300423600655603,0.33494061872655689,0.3136581747305503,0.16506206493242201,0.5403785796915892,0.21303598937146709,0.68745317387100047,0.27769774383775087,0.40136654382829462,0.79785096798840593,0.41979867967812634,272,{"$f":"AVERAGE(Data!EY175:FQ175)","v":0.30674565233126949},277,{"$f":"AVERAGE(Data!FR175:FZ175)","v":0.39489298399375711},237,{"$f":"AVERAGE(Data!GA175:GL175)","v":0.61747857807392681},219]
["E05005038","29ULGG","Folkestone Foord","Folkestone & Hythe","NHS South Kent Coast CCG",172,0.64005573442958519,0.78973172213717835,0.69916694849164751,0.67359429993979836,0.50499196523314338,0.55650751921906083,0.45649319024481672,0.63489128634483549,0.813701415350505,0.40858325544571322,0.82519696062803038,0.56260285572694491,0.45165239652598443,0.36657487421937895,0.52980129566695322,1.0861349158478169,0.41317768703278274,0.67123788182275057,0.35102399182041083,0.39991604409993881,1.1884554797241225,0.96874103223778918,1.7464841963626061,0.77074294157510492,0.35713669085844763,0.5133444215817089,1.5036111137336865,0.27966539492622927,1.3420067596398746,1.202229518966285,0.70107347036061507,0.1665355358527329,0.82519696062803038,0.83472014462653954,1.0434989321049783,0.83424090928389338,1.0508954416772966,0.84222314935689679,0.81775180561222227,0.47041481351989817,0.70965146835280368,249,0.879,null,null,null,null,0.56529565219633093,262,0.92500000000000004,null,null,null,null,0.63053099617641595,260,0.91800000000000004,null,null,null,null,0.47847985355864803,248,0.875,null,null,null,null,1.0148679387999124,155,0.54600000000000004,null,null,null,null,0.6634394052750181,244,0.86099999999999999,null,null,null,null,1.0817699163222583,108,0.379,null,null,null,null,0.49586624824038161,274,0.96799999999999997,null,null,null,null,0.93910953836575894,207,0.73,null,null,null,null,0.80310522389004146,265,0.93600000000000005,null,null,null,null,0.60184843137512301,263,0.92900000000000005,null,null,null,null,{"$f":"AVERAGE(Data!Z176:AH176)","v":0.85867747945551498},205,0.72299999999999998,null,null,null,null,0.84423228680243856,269,0.95,null,null,null,null,0.73235012382140607,262,0.92500000000000004,null,null,null,null,"Folkestone & Hythe",22,21,79,15,7.0000000000000007E-2,0.27600000000000002,4.9000000000000002E-2,22,7.3999999999999996E-2,0.37359999999999999,0.49384152152223793,0.52769368319560916,0.46771547548451287,0.3580206154598794,0.42244775779451138,0.30081507134746621,0.36214931386009552,0.41260029160236317,0.23096664905663572,0.62958323861208421,0.36153658447025622,0.19699916241291232,0.22789106760734487,0.28303112934882668,0.64870517437702535,0.20050767643141629,0.35315625082405966,0.13559851244966881,0.28980526436931553,0.73397879600665861,0.61487181986613915,0.98114498981219422,0.46378579771689177,0.14471329810643008,0.15135187064748434,0.70023932121346144,9.7376359727280343E-2,0.79025471576493622,0.97992841204244541,0.50712105641094063,2.2973988775677419E-2,0.62958323861208421,0.2834796411551937,0.49885945087171712,0.72595605737473945,0.76807580352706539,0.74904917301244756,0.72416856862176271,0.25579574214012923,0.46504506823928238,0.38222964678929305,0.37391416218593104,0.22975414656838158,0.61671733355423985,0.27342021242366404,0.75910139473944083,0.32627861369388084,0.39116954601345544,0.64460906893522885,0.45248431354079754,262,{"$f":"AVERAGE(Data!EY176:FQ176)","v":0.36772943030825828},262,{"$f":"AVERAGE(Data!FR176:FZ176)","v":0.46414083527398398},198,{"$f":"AVERAGE(Data!GA176:GL176)","v":0.57793715402576151},252]
["E05005039","29ULGH","Folkestone Harbour","Folkestone & Hythe","NHS South Kent Coast CCG",173,0.51986988402150103,0.64255303101943284,0.61446342062663128,0.67359429993979836,0.35164033539666534,0.57958599195889837,0.4426093237830202,0.63489128634483549,0.813701415350505,0.40858325544571322,0.60435206432114097,0.49729161511080505,0.67600285165201868,4.0714200927598955E-2,0.44435817840063629,0.58594623838811177,0.68796318726390782,0.70018390921934748,0.78825365130132885,0.66137308192677668,0.96208970032864471,1.027981762968488,1.7464841963626061,0.77074294157510492,0.40215630508927758,0.73896662499711063,1.5864375413169172,0.51359441714312781,1.1636112448165821,1.0804569067633727,0.76824266677391029,0.4780699441562819,0.60435206432114097,0.86749209738311628,1.1102610591037656,0.79099306704247174,0.79706246239735523,0.79266534035146152,0.78330967844029731,0.51139209410356656,0.59229544522252175,267,0.94299999999999995,null,null,null,null,0.53646424748464361,265,0.93600000000000005,null,null,null,null,0.50886872744956624,271,0.95699999999999996,null,null,null,null,0.72546691592819468,210,0.74099999999999999,null,null,null,null,1.0337343366323242,142,0.5,null,null,null,null,0.8102887221366083,201,0.70899999999999996,null,null,null,null,1.0041036061179549,157,0.55300000000000005,null,null,null,null,0.54121100423871149,269,0.95,null,null,null,null,0.988876578243441,147,0.51700000000000002,null,null,null,null,0.73508452846703043,271,0.95699999999999996,null,null,null,null,0.56350306002483674,272,0.96,null,null,null,null,{"$f":"AVERAGE(Data!Z177:AH177)","v":0.93442517463422825},179,0.63100000000000001,null,null,null,null,0.81232571880444349,277,0.97799999999999998,null,null,null,null,0.72160733344583206,266,0.93899999999999995,null,null,null,null,"Folkestone & Hythe",18,12,105,7,3.9E-2,0.36799999999999999,2.1000000000000001E-2,18,0.06,0.30344761904761902,0.40180653455154397,0.46376400703574377,0.46771547548451287,0.24929998488413552,0.43996674671302122,0.29166602735396396,0.36214931386009552,0.41260029160236317,0.23096664905663572,0.46108983439253598,0.31956665378200111,0.29485506240754833,2.5311071130908334E-2,0.23738559738664741,0.34996237686771914,0.3338561216586044,0.3683855321093672,0.30449776949766055,0.47927409685679029,0.59417744454470089,0.6524726385601114,0.98114498981219422,0.46378579771689177,0.16295543626132716,0.21787317897554787,0.73881200859231366,0.17882782648473314,0.68520465111529782,0.88067245415441853,0.55570785263625366,6.5950930381294431E-2,0.46108983439253598,0.29460933709843207,0.5307760317027671,0.68832180485348959,0.58255499737442229,0.7049738755331808,0.6936679867053358,0.27807780808816596,0.38967272021163563,0.36215950965914578,0.29146719207829486,0.33557980775521074,0.63417099349813766,0.32461711257848047,0.70719498596865671,0.26352038238691522,0.41269268440059959,0.58951929451091889,0.43023059126657082,269,{"$f":"AVERAGE(Data!EY177:FQ177)","v":0.33254171941171723},272,{"$f":"AVERAGE(Data!FR177:FZ177)","v":0.49659149086717885},172,{"$f":"AVERAGE(Data!GA177:GL177)","v":0.53513396366963284},274]
["E05005040","29ULGJ","Folkestone Harvey Central","Folkestone & Hythe","NHS South Kent Coast CCG",174,0.8216751658533501,0.65810125099147876,0.739897868661339,0.67359429993979836,0.25344115156406666,0.51562858095378783,0.38526119454385716,0.63489128634483549,0.813701415350505,0.40858325544571322,0.63881267668628283,0.38103180125813235,0.86401930689092499,0,0.43043813273192538,0.75358187101176499,0.51813816575256699,0.68985739751033548,0.68457708921980953,0.67958400250542961,0.44341353024053448,1.1546261291605247,1.7464841963626061,0.77074294157510492,0.2795398777624708,0.58143917315064042,1.1776465238853664,0.47785233251831793,1.1369787973326906,1.1575169176676758,0.63788205726227853,2.9587537784408053,0.63881267668628283,1.2915979335812606,0.63533893348908022,0.85808161813916983,0.49045225262547848,0.8595795904781508,0.90908236034007495,0.99902427483074463,0.73989142850205603,239,0.84299999999999997,null,null,null,null,0.49256330266926901,271,0.95699999999999996,null,null,null,null,0.53627105742190606,268,0.94599999999999995,null,null,null,null,0.63085755082757067,227,0.80100000000000005,null,null,null,null,0.95897015996884005,178,0.627,null,null,null,null,0.629119476829199,255,0.9,null,null,null,null,0.97745925742088158,174,0.61299999999999999,null,null,null,null,1.798783227563544,14,4.5999999999999999E-2,null,null,null,null,0.96346843353517042,177,0.624,null,null,null,null,0.82324401928272373,261,0.92100000000000004,null,null,null,null,0.57185431109002494,269,0.95,null,null,null,null,{"$f":"AVERAGE(Data!Z178:AH178)","v":0.81236985635122172},217,0.76500000000000001,null,null,null,null,1.047758432572808,75,0.26200000000000001,null,null,null,null,0.76874154521862903,254,0.89700000000000002,null,null,null,null,"Folkestone & Hythe",30,15,67,209,4.9000000000000002E-2,0.23400000000000001,0.73699999999999999,30,0.10199999999999999,0.4796111111111111,0.4115292750629399,0.55843519540619047,0.46771547548451287,0.17968039753649628,0.39141634273758907,0.25387536156227763,0.36214931386009552,0.41260029160236317,0.23096664905663572,0.48738152591899248,0.24485644642421431,0.37686300587647759,0,0.22994921269218799,0.45008447100741883,0.25144310292157729,0.36295247736379427,0.26444812069376272,0.49247091836612245,0.27384797715313502,0.73285537174156001,0.98114498981219422,0.46378579771689177,0.11327074114406575,0.17142858249618426,0.54843595859516725,0.16638283274231297,0.66952185587948621,0.94348350056954566,0.46141158725923387,0.40816739651290906,0.48738152591899248,0.43864008923879538,0.30373277990657266,0.74670223130722135,0.35846050243183947,0.764485495177472,0.80504728589855912,0.54323577500504328,0.48319186052674717,0.33096737823619427,0.30408770032228627,0.29294790032637813,0.58882101095798067,0.24987952874443253,0.69147231456942182,0.44777446121595077,0.37118643457268402,0.64358625796402702,0.43224627427979856,268,{"$f":"AVERAGE(Data!EY178:FQ178)","v":0.33768198822729673},271,{"$f":"AVERAGE(Data!FR178:FZ178)","v":0.43818035219640372},216,{"$f":"AVERAGE(Data!GA178:GL178)","v":0.57752250209213918},253]
["E05005041","29ULGK","Folkestone Harvey West","Folkestone & Hythe","NHS South Kent Coast CCG",175,1.2515722242766236,1.038538661271899,1.1426512497348771,0.67359429993979836,0.8496694893029193,0.95894868320150217,0.93086329969254022,0.63489128634483549,0.813701415350505,0.40858325544571322,1.0871621140914278,0.77928919102473815,0.8822634914688261,0.48917956198433948,0.65014542735179637,0.71626654502756903,0.95346714257449772,1.1073941002802119,1.4722413790420281,1.0350920246501953,0.28494874776919077,1.1592301101442362,1.7464841963626061,0.77074294157510492,0.74300636403738007,0.5224737654347763,0.91310369454405482,0.90938651488953393,0.96663972453430447,1.1982435348224998,0.56803424467416497,0.49198059537204508,1.0871621140914278,1.6800791337276226,0.80033796253886447,1.0938425553855837,0.95335363672649676,1.0864334595896614,1.0764396343952038,1.2431855459004395,1.1442540450944667,86,0.30099999999999999,null,null,null,null,0.80959341169631904,221,0.78,null,null,null,null,0.72832387521811426,244,0.86099999999999999,null,null,null,null,1.1777008739655794,105,0.36799999999999999,null,null,null,null,0.99929960410026675,164,0.57799999999999996,null,null,null,null,0.77199258472643617,216,0.76200000000000001,null,null,null,null,0.91097250134365637,205,0.72299999999999998,null,null,null,null,0.78957135473173645,183,0.64500000000000002,null,null,null,null,1.2402085481332437,18,0.06,null,null,null,null,1.0906509663994772,74,0.25800000000000001,null,null,null,null,0.88633804302140251,199,0.70199999999999996,null,null,null,null,{"$f":"AVERAGE(Data!Z179:AH179)","v":0.89827426215634221},195,0.68700000000000006,null,null,null,null,1.0204776784798597,113,0.39700000000000002,null,null,null,null,0.92926558296430117,196,0.69099999999999995,null,null,null,null,"Folkestone & Hythe",88,85,89,171,0.29699999999999999,0.312,0.60199999999999998,88,0.308,0.73054166666666676,0.64942751856825542,0.86241182865048782,0.46771547548451287,0.60238422478122133,0.72794294249061176,0.61341048649942875,0.36214931386009552,0.41260029160236317,0.23096664905663572,0.82944930403660466,0.5007823006401767,0.38482065009224631,0.30411154847887578,0.34732152610670247,0.4277975113523026,0.46270040060548057,0.58262973415274733,0.56871822330333377,0.75009523192661975,0.17598163530684807,0.73577757496396767,0.98114498981219422,0.46378579771689177,0.30106932221235472,0.15404352017527789,0.42523702134478841,0.31663820412382326,0.56921591137435257,0.97667946577151676,0.41088721569877856,6.7869939097703849E-2,0.82944930403660466,0.57057234452454886,0.38261290377991569,0.95186129097656291,0.6967846957309467,0.96624283607032424,0.95325225074141673,0.67600245611320109,0.74746033796180333,0.55472048862317413,0.42973122267073849,0.53801611935385385,0.62135704594530428,0.29924701696406109,0.65226086428154939,0.44865962156715428,0.47659262415223225,0.8488287059264904,0.56057713769818474,193,{"$f":"AVERAGE(Data!EY179:FQ179)","v":0.52988850507519736},205,{"$f":"AVERAGE(Data!FR179:FZ179)","v":0.4781970330647517},189,{"$f":"AVERAGE(Data!GA179:GL179)","v":0.67095255115965624},99]
["E05005042","29ULGL","Folkestone Morehall","Folkestone & Hythe","NHS South Kent Coast CCG",176,1.092242167613511,1.3241282976357991,1.0643581392309807,0.67359429993979836,0.9585133752515369,0.83761026748249079,1.027084560627149,0.63489128634483549,0.813701415350505,0.40858325544571322,1.0288683144719921,1.0636497395110804,1.0623019809779142,0.79799705368914786,1.0329839788375033,1.1519662982738328,0.50364047132392431,0.72216013375816224,0.53750435249406381,0.99715937313768888,1.1304969783711873,1.0955813658853464,1.7464841963626061,0.77074294157510492,0.88588538669279038,0.64166649418635768,1.1235376808855175,0.59336773768264217,1.3791655644765584,1.1786819242704749,0.56500619069940461,1.6472541452595559,1.0288683144719921,1.1435973649651419,0.88262646680968404,1.0902407858909833,1.1312944755167738,1.0764033362237604,1.0718415135905617,0.81175745187828507,1.1602428681600969,74,0.25800000000000001,null,null,null,null,0.82633875792916212,218,0.76900000000000002,null,null,null,null,0.92000650456971111,180,0.63400000000000001,null,null,null,null,0.58776831919205019,234,0.82599999999999996,null,null,null,null,1.1480929710663867,86,0.30099999999999999,null,null,null,null,0.811114324861827,199,0.70199999999999996,null,null,null,null,1.0409512264821459,137,0.48199999999999998,null,null,null,null,1.3380612298657741,47,0.16300000000000001,null,null,null,null,1.0131119158874129,118,0.41399999999999998,null,null,null,null,1.0363075126200729,124,0.436,null,null,null,null,0.8808304941189441,203,0.71599999999999997,null,null,null,null,{"$f":"AVERAGE(Data!Z180:AH180)","v":0.99832468386436035},146,0.51400000000000001,null,null,null,null,1.0838947945044313,43,0.14799999999999999,null,null,null,null,0.9681859769273089,176,0.62,null,null,null,null,"Folkestone & Hythe",108,81,138,241,0.28299999999999997,0.48499999999999999,0.85099999999999998,108,0.379,0.63754084507042252,0.8280147737075807,0.80332039141969103,0.46771547548451287,0.67955051200794625,0.63583431882499464,0.67681735891665895,0.36214931386009552,0.41260029160236317,0.23096664905663572,0.78497410489447939,0.68351642722935524,0.46334881004043726,0.49609619562715185,0.55184202930566684,0.68802364006028205,0.24440763340148874,0.37994781319564969,0.20763478375206457,0.72260675712798461,0.69818417705193558,0.69537893599617828,0.98114498981219422,0.46378579771689177,0.35896450668356594,0.18918570095235798,0.52323719599771901,0.20660400365368339,0.81213606661763849,0.96073494131688475,0.4086968747495483,0.22724278064800851,0.78497410489447939,0.38837755711692712,0.4219520892746127,0.94872703281111614,0.8268376461138931,0.95732233131077471,0.94918033730925411,0.44140637980186187,0.75629200339923142,0.56441339581884153,0.53892101847704643,0.27733007678306765,0.71222013154103692,0.3194978518218316,0.72718929422802381,0.50610844277124389,0.40516482319576991,0.82469474546937993,0.58002453936037468,176,{"$f":"AVERAGE(Data!EY180:FQ180)","v":0.53864744039249868},199,{"$f":"AVERAGE(Data!FR180:FZ180)","v":0.53767689611027902},130,{"$f":"AVERAGE(Data!GA180:GL180)","v":0.67729901183041674},87]
["E05005043","29ULGM","Folkestone Park","Folkestone & Hythe","NHS South Kent Coast CCG",177,0.89392677231104312,1.0672686825306419,1.1056100519376277,0.67359429993979836,0.92147063385129058,1.0098756773553594,1.1076755844534034,0.63489128634483549,0.813701415350505,0.40858325544571322,0.99323678705656904,1.0602851998564116,0.75119492763990869,0.43396855290086811,0.64839635321777034,0.66939800445906128,0.82862479684385226,0.84513774079278392,0.85404411255957424,1.0107203717496727,0.99806287342700761,0.76538799121902612,1.7464841963626061,0.77074294157510492,0.97349979895392125,0.65776650038352114,1.0982527371009789,0.74624061606774839,1.1244801455798277,1.1686309417079486,0.6493253660002053,1.34002346914461,0.99323678705656904,1.1255202437224505,0.80800559968049745,1.0701408863597992,1.0541257217042279,1.0681173816102683,1.0703731749380543,1.4861457694971822,1.0222685022597708,150,0.52800000000000002,null,null,null,null,0.86950149638893737,206,0.72599999999999998,null,null,null,null,0.72234556199085098,246,0.86799999999999999,null,null,null,null,0.84260221673207003,189,0.66600000000000004,null,null,null,null,1.0582796748666836,135,0.47499999999999998,null,null,null,null,0.86893991312654251,180,0.63400000000000001,null,null,null,null,0.98081215109599384,171,0.60199999999999998,null,null,null,null,1.1666301281005895,66,0.23,null,null,null,null,0.96676292170147393,172,0.60599999999999998,null,null,null,null,1.1497805868219062,26,8.7999999999999995E-2,null,null,null,null,0.82741495446563251,219,0.77300000000000002,null,null,null,null,{"$f":"AVERAGE(Data!Z181:AH181)","v":0.97412866964884293},157,0.55300000000000005,null,null,null,null,1.0798437905834699,46,0.159,null,null,null,null,0.93615419121720633,195,0.68700000000000006,null,null,null,null,"Folkestone & Hythe",89,65,127,238,0.22600000000000001,0.44600000000000001,0.84,89,0.312,0.52178431372549017,0.66739321123840412,0.83445512083159545,0.46771547548451287,0.65328857917043159,0.76660188913288085,0.72992438241740076,0.36214931386009552,0.41260029160236317,0.23096664905663572,0.7577890648407396,0.68135432626829273,0.32765191260393639,0.26978814911740923,0.34638713347399852,0.39980479669165858,0.40211666278927766,0.44464963025896298,0.32991223941389297,0.73243394172294862,0.61639413396196419,0.48580114953674514,0.98114498981219422,0.46378579771689177,0.39446623721001595,0.19393254527934736,0.51146186944493732,0.25983262853270928,0.66216189407791215,0.95254245957643346,0.46968909747942372,0.18485954953479908,0.7577890648407396,0.3822383787635763,0.38627852636588472,0.93123610944005764,0.77043674242631743,0.9499530403389056,0.94788003483001682,0.80811604803101122,0.67454421526516317,0.59593592801306428,0.42829279045687924,0.39222617748737787,0.65591200255014881,0.33992332011675247,0.69479781704458976,0.47132430718776935,0.38425845256473051,0.88152439501326163,0.56121918452252029,192,{"$f":"AVERAGE(Data!EY181:FQ181)","v":0.50559648115673572},217,{"$f":"AVERAGE(Data!FR181:FZ181)","v":0.51547258813530605},158,{"$f":"AVERAGE(Data!GA181:GL181)","v":0.68359841214208983},72]
["E05005044","29ULGN","Folkestone Sandgate","Folkestone & Hythe","NHS South Kent Coast CCG",178,1.0063403062203917,1.2518609144662749,1.1259782468768724,0.67359429993979836,0.99101715678602487,1.0080788643777734,1.0996573553129394,0.63489128634483549,0.813701415350505,0.40858325544571322,1.1807436031264646,1.0074315248586507,0.96982697254704131,0.64315863956149921,0.95656697489563214,1.0185672925291755,1.2292966968306884,1.2349844410221256,1.1240046870029998,1.0853387818040372,0.70880412819506677,1.3014590973208815,1.7464841963626061,0.77074294157510492,0.92902568264894092,0.4697239694286568,1.030188224065975,0.81545301910121137,0.8667000518904906,1.0584180727404635,0,1.1922526954653729,1.1807436031264646,1.373250371944412,0.93992470285409335,1.0544620969962006,1.1167280057219473,1.0074219803684452,1.0572627728310897,1.2795097563579028,1.1280598225211798,100,0.35099999999999998,null,null,null,null,0.88144779255227435,202,0.71199999999999997,null,null,null,null,0.87482245978933526,198,0.69799999999999995,null,null,null,null,1.196095274951938,100,0.35099999999999998,null,null,null,null,1.1225658290515395,103,0.36099999999999999,null,null,null,null,0.81109772381119605,200,0.70499999999999996,null,null,null,null,0.64170604154365141,269,0.95,null,null,null,null,1.1864981492959188,60,0.20899999999999999,null,null,null,null,1.1565875373992527,33,0.113,null,null,null,null,1.1030769224551169,63,0.219,null,null,null,null,0.96727810176291595,174,0.61299999999999999,null,null,null,null,{"$f":"AVERAGE(Data!Z182:AH182)","v":0.98413556005583125},153,0.53900000000000003,null,null,null,null,1.0105561758580734,123,0.432,null,null,null,null,0.98405445210736919,169,0.59499999999999997,null,null,null,null,"Folkestone & Hythe",115,110,131,161,0.38600000000000001,0.46,0.56699999999999995,115,0.40400000000000003,0.58740000000000003,0.78282394059239635,0.84982794105818626,0.46771547548451287,0.70259449027080489,0.76523791903842009,0.72464061428566706,0.36214931386009552,0.41260029160236317,0.23096664905663572,0.90084721235655252,0.64738980415313019,0.42301358909367787,0.39983675728643037,0.51101843920875301,0.60834972108331886,0.59655550641286159,0.64975843412334444,0.4341964284368327,0.78650731130053697,0.43775068523217209,0.82605205831170658,0.98114498981219422,0.46378579771689177,0.37644513712256067,0.13849103734669296,0.47976388053608604,0.28393161245295367,0.51036538992096481,0.86270876312318701,0,0.1644742060794416,0.90084721235655252,0.46637010638961995,0.44934432293159593,0.91759243411301405,0.81619134149736805,0.89597228697139075,0.93626998265685368,0.69575433914191875,0.74001729388352755,0.60446756258790013,0.51675280798010781,0.56017012299101288,0.69904816847470042,0.31965791686457334,0.45769138434805062,0.53266070921799702,0.45785721466060791,0.85235607687610904,0.58616713556044198,172,{"$f":"AVERAGE(Data!EY182:FQ182)","v":0.58194329091599917},174,{"$f":"AVERAGE(Data!FR182:FZ182)","v":0.53043027887019945},137,{"$f":"AVERAGE(Data!GA182:GL182)","v":0.63465753209849229},183]
["E05005045","29ULGP","Hythe Central","Folkestone & Hythe","NHS South Kent Coast CCG",179,1.2884205435700469,0.99102306031657927,1.1217624322085413,0.67359429993979836,0.91601289453409196,0.99807179362670717,1.0415506826571521,0.63489128634483549,0.813701415350505,0.40858325544571322,1.0354034373929444,0.68041495171010546,1.1938958168918539,0.92069645803250988,0.81141084450671719,0.56492745911681974,0.92883745566952536,0.88717428252848118,1.0430385375449853,1.045602570587941,9.0956288038925609E-2,0.85840268433134181,1.7464841963626061,0.77074294157510492,0.74552200846577765,0.27436942061578412,1.1545310919307561,0.97930162257393483,1.1993301139570876,1.1847382587924371,0.27771691559203626,1.0347714070959022,1.0354034373929444,1.3787751817889273,1.1998718172067591,1.0642217035741717,1.1414497233582208,1.049872717843118,1.0577827270185789,1.4345679210170568,1.1337353453650558,94,0.32900000000000001,null,null,null,null,0.85282419142051702,212,0.748,null,null,null,null,0.80362920480589617,221,0.78,null,null,null,null,0.95301675858099733,157,0.55300000000000005,null,null,null,null,0.90243773617918399,193,0.68,null,null,null,null,0.78843103589656316,211,0.74399999999999999,null,null,null,null,0.88726176278052027,213,0.751,null,null,null,null,1.0350874222444233,89,0.312,null,null,null,null,1.2893234994978431,10,3.1E-2,null,null,null,null,1.1495789585622291,27,9.1999999999999998E-2,null,null,null,null,0.89228478459936367,195,0.68700000000000006,null,null,null,null,{"$f":"AVERAGE(Data!Z183:AH183)","v":0.85176809160913036},206,0.72599999999999998,null,null,null,null,1.08820849371977,38,0.13100000000000001,null,null,null,null,0.94194564141268289,192,0.67700000000000005,null,null,null,null,"Folkestone & Hythe",92,89,78,246,0.312,0.27300000000000002,0.86799999999999999,92,0.32200000000000001,0.75205,0.61971467303595618,0.84664607044087359,0.46771547548451287,0.6494192439653439,0.75764149948453652,0.68635009154787907,0.36214931386009552,0.41260029160236317,0.23096664905663572,0.7899600707300416,0.43724431036865841,0.52074665770636208,0.57237555959103326,0.43347294460183455,0.33740869622139497,0.45074805795112649,0.46676618219830673,0.40291967903760278,0.75771185943905095,5.6173738034800039E-2,0.544838716569646,0.98114498981219422,0.46378579771689177,0.30208867197790645,8.0893691083103833E-2,0.53767098470423924,0.34098186193691671,0.70623808077376682,0.96567141490805652,0.20088635723981799,0.142749273122317,0.7899600707300416,0.46824638926389345,0.57361572439826503,0.92608523928958375,0.83425988798163453,0.93372675836469332,0.93673043346493357,0.7800697500599828,0.73947024782560999,0.58465512486847349,0.46684689748479052,0.44014463972901202,0.5607310203145166,0.31540880242554159,0.62426528430721384,0.4663546719261793,0.52093105683107921,0.88217441383216555,0.56301062894390719,191,{"$f":"AVERAGE(Data!EY183:FQ183)","v":0.53667870878339763},201,{"$f":"AVERAGE(Data!FR183:FZ183)","v":0.45169892347497215},207,{"$f":"AVERAGE(Data!GA183:GL183)","v":0.68818661496641564},65]
["E05005046","29ULGQ","Hythe East","Folkestone & Hythe","NHS South Kent Coast CCG",180,1.0570473759136672,1.1229920658148176,1.1948256996403999,0.67359429993979836,1.1731477782671502,1.1573142285040043,1.3050810181215824,0.63489128634483549,0.813701415350505,0.40858325544571322,1.1957302122963231,1.0224686118722763,1.1504304949721322,0.87677292846535226,0.95128104558219739,0.8037388669531953,1.6753515787862496,1.5606797354767854,1.8234378867587246,1.0851282238787707,0.61206395590925256,0.88272727431743003,1.7464841963626061,0.77074294157510492,1.1928266289403906,0.70540747508529666,1.0196010898356127,1.1895174112396689,0.85159588601226621,1.0122774937544061,0.16311599386678247,0.49482715092112511,1.1957302122963231,1.2395844602180408,1.0939414209833092,1.1210581735893119,1.1934703306431662,1.0960247602855306,1.102404649558133,1.3230561113569896,1.1249550471229615,103,0.36099999999999999,null,null,null,null,0.98880572223547425,164,0.57799999999999996,null,null,null,null,0.90283835386721201,188,0.66300000000000003,null,null,null,null,1.6864897336739197,5,1.4E-2,null,null,null,null,1.0194293184086329,152,0.53500000000000003,null,null,null,null,1.0268381512752423,125,0.439,null,null,null,null,0.67566312454448496,266,0.93899999999999995,null,null,null,null,0.8452786816087241,156,0.54900000000000004,null,null,null,null,1.166762940600675,27,9.1999999999999998E-2,null,null,null,null,1.1672028050866261,14,4.5999999999999999E-2,null,null,null,null,1.0842668307634582,110,0.38600000000000001,null,null,null,null,{"$f":"AVERAGE(Data!Z184:AH184)","v":1.022722133016015},139,0.48899999999999999,null,null,null,null,0.99059055362378212,146,0.51400000000000001,null,null,null,null,1.0423163906283806,130,0.45700000000000002,null,null,null,null,"Folkestone & Hythe",154,174,145,138,0.61299999999999999,0.51,0.48499999999999999,154,0.54200000000000004,0.61699767441860454,0.70223861457480974,0.90179030284573791,0.46771547548451287,0.83171836091824869,0.87852326161068706,0.86000853456307458,0.36214931386009552,0.41260029160236317,0.23096664905663572,0.91228123161153396,0.6570528498059357,0.50178820187162121,0.54506932353909943,0.5081945832546898,0.48004124923419689,0.81301789232747901,0.82111546300303861,0.70438337763348757,0.78635472728672418,0.37800487532072202,0.56027783230287165,0.98114498981219422,0.46378579771689177,0.4833383966464439,0.20797876909603202,0.47483339843246825,0.41417664623573247,0.50147114387695402,0.82509991757146317,0.11798985216869542,6.8262628471170289E-2,0.91228123161153396,0.42097577280991882,0.52297419745002538,0.97554430947916093,0.87228057791495317,0.97477306450187517,0.97624583844826818,0.71943338128589618,0.7403421972797174,0.68002298928732385,0.53099929749700947,0.77950557765466844,0.63391364448788079,0.39508180260266912,0.48152030453903755,0.49027193004135211,0.4719749851299721,0.90365543432603057,0.62112199999139617,130,{"$f":"AVERAGE(Data!EY184:FQ184)","v":0.64250803427451864},122,{"$f":"AVERAGE(Data!FR184:FZ184)","v":0.52776615920556458},141,{"$f":"AVERAGE(Data!GA184:GL184)","v":0.65727765963249285},128]
["E05005047","29ULGR","Hythe West","Folkestone & Hythe","NHS South Kent Coast CCG",181,0.85294040646595182,0.44468983475743967,0.85981919176671096,0.67359429993979836,0.97897665772964237,1.0570206879851374,1.2503995098723686,0.63489128634483549,0.813701415350505,0.40858325544571322,0.9791381173347028,0.71188433557990527,1.1793654266607301,0.93482168465623394,0.82037731703577776,0.77005846381782161,0.58077543072771409,0.49683570643737796,1.0841516640659681,0.95270591314688968,0.6919972991723935,0.60578628282958458,1.7464841963626061,0.77074294157510492,0.88885628528577454,0.57170113826898383,1.3558141181349701,1.1204305288065652,0.66200253052048375,0.88341949615979565,0.38033984302141771,0.26028356411345671,0.9791381173347028,0.74118017361449839,1.3485172164434851,1.1203056278206971,1.1677611439749254,1.0959234386426782,1.1069951094263293,1.2888484811854486,0.71914981099670083,245,0.86499999999999999,null,null,null,null,0.91897648837435642,193,0.68,null,null,null,null,0.82724125198517373,215,0.75800000000000001,null,null,null,null,0.72058760041035341,212,0.748,null,null,null,null,0.95354332661731578,179,0.63100000000000001,null,null,null,null,0.98420051762407357,140,0.49199999999999999,null,null,null,null,0.64192062323389909,268,0.94599999999999995,null,null,null,null,0.61971084072407978,252,0.89,null,null,null,null,1.0448486950289917,82,0.28699999999999998,null,null,null,null,1.1559667602100157,22,7.3999999999999996E-2,null,null,null,null,0.81747498378812289,225,0.79400000000000004,null,null,null,null,{"$f":"AVERAGE(Data!Z185:AH185)","v":0.96716874484254134},166,0.58499999999999996,null,null,null,null,0.91955956185482657,232,0.81899999999999995,null,null,null,null,0.88178145344537806,219,0.77300000000000002,null,null,null,null,"Folkestone & Hythe",65,59,118,52,0.20499999999999999,0.41399999999999998,0.18,65,0.22600000000000001,0.49786060606060606,0.27807709687510873,0.6489453730106749,0.46771547548451287,0.69405822201429912,0.80238991237414148,0.82397509056678464,0.36214931386009552,0.41260029160236317,0.23096664905663572,0.74703249814560879,0.45746698333211155,0.51440887509504041,0.58115688423127509,0.43826302508470782,0.45992528438468605,0.28183983743156354,0.26139858925196996,0.41880143905488526,0.6903928789532322,0.42737094754640281,0.38449998686742981,0.98114498981219422,0.46378579771689177,0.36016832736269322,0.16855746958678922,0.6314095108122566,0.3901213671833606,0.38982711363728156,0.72006871431966801,0.2751185876267444,3.5906760979372912E-2,0.74703249814560879,0.25171249430141263,0.6446777638085559,0.97488944449579951,0.85349031256113306,0.97468295193153687,0.980310967658932,0.70083242337576801,0.47496102531546325,0.63005760285996681,0.48022756136655359,0.32067995524613963,0.58943892017923016,0.38756416873627492,0.46167147186123131,0.39146962956249087,0.44819512905498426,0.89684122000463395,0.53562581889000338,216,{"$f":"AVERAGE(Data!EY185:FQ185)","v":0.49363323404826692},223,{"$f":"AVERAGE(Data!FR185:FZ185)","v":0.49971680842680566},169,{"$f":"AVERAGE(Data!GA185:GL185)","v":0.62904583607015108},198]
["E05005048","29ULGS","Lydd","Folkestone & Hythe","NHS South Kent Coast CCG",182,0.45212390569321942,0.75038484024299756,0.65466086722650507,0.67359429993979836,0.70529326040192286,0.94045153726191966,0.74033895507451242,0.63489128634483549,0.813701415350505,0.40858325544571322,1.060795363019243,0.68169875473239705,0.97518370083608841,0.91272589707003482,0.70650959776334965,0.79490804130483328,1.145373539830969,0.94724116764956023,1.5195095984105027,0.85760694519852831,0.92556767963843989,0.56266280407451186,1.7464841963626061,0.77074294157510492,0.50711507965548996,0.40084486816574272,0.95891624696980771,1.2772981429918275,0.84820237099926921,1.0103143042565186,0.32132650544508107,0.82621392240202163,1.060795363019243,0.95266757024614079,1.866627933724103,1.1011326551010707,1.1179538768488611,1.0764345567379807,1.0820534795126371,1.4788912497487028,0.6190565377209073,261,0.92100000000000004,null,null,null,null,0.73891386780459778,235,0.82899999999999996,null,null,null,null,0.79426325319027069,228,0.80400000000000005,null,null,null,null,1.2040414352970108,99,0.34699999999999998,null,null,null,null,0.97261291336983824,174,0.61299999999999999,null,null,null,null,0.78604358444571698,214,0.755,null,null,null,null,0.72661439356695634,261,0.92100000000000004,null,null,null,null,0.94350464271063239,118,0.41399999999999998,null,null,null,null,1.4096477519851218,5,1.4E-2,null,null,null,null,1.1712931635898505,12,3.9E-2,null,null,null,null,0.81673522545257404,226,0.79700000000000004,null,null,null,null,{"$f":"AVERAGE(Data!Z186:AH186)","v":0.8896932116257843},197,0.69499999999999995,null,null,null,null,1.0618844823368025,62,0.216,null,null,null,null,0.90669554940681496,208,0.73399999999999999,null,null,null,null,"Folkestone & Hythe",76,58,87,222,0.20200000000000001,0.30399999999999999,0.78300000000000003,76,0.26500000000000001,0.2639043478260869,0.4692368064308986,0.49410288203134811,0.46771547548451287,0.50002682132224308,0.71390166261942534,0.48786076189353789,0.36214931386009552,0.41260029160236317,0.23096664905663572,0.80933281630854648,0.4380693004217433,0.42535005624038791,0.5674204473481772,0.37743246569266375,0.47476694840054573,0.5558291125709125,0.49836898132882623,0.58697765964348281,0.62147796054941673,0.57162179207705488,0.35712898576526753,0.98114498981219422,0.46378579771689177,0.20548517577416278,0.11818307180469242,0.44657215934733124,0.44474091434790575,0.49947283707054152,0.82349973629421636,0.23243132679136633,0.11397825264367423,0.80933281630854648,0.32353581340054288,0.89236793383295454,0.95820513241184624,0.81708730308734523,0.9573500979429026,0.95822364934335846,0.8041712843679637,0.40908134542944447,0.506330807035963,0.46699237188388293,0.54705858451440714,0.59903190518416494,0.30374533031852302,0.5184679667187081,0.46165553447611035,0.60795187361674874,0.89900749343068331,0.53839524576931519,213,{"$f":"AVERAGE(Data!EY186:FQ186)","v":0.48084277895170691},230,{"$f":"AVERAGE(Data!FR186:FZ186)","v":0.46779342746610186},195,{"$f":"AVERAGE(Data!GA186:GL186)","v":0.6824713486246049},73]
["E05005049","29ULGT","Lympne and Stanford","Folkestone & Hythe","NHS South Kent Coast CCG",183,1.5001023778088625,0.74889810808014268,1.2176826897975879,0.67359429993979836,1.2914560291089634,1.1984965125872582,1.3740228507804135,0.63489128634483549,0.813701415350505,0.40858325544571322,1.2970041666332472,1.2060639061535783,1.4896747852326915,1.1266422092460944,0.99528257073596693,1.0263679580157372,1.5551360385966506,1.4024115264189201,1.5216038272211578,1.2953455642157803,1.214784437982888,1.1290677529845929,1.7464841963626061,0.77074294157510492,1.4860811689511633,1.6390782220943716,0.74309873355509659,1.9157592461180175,0.32683512306822493,0.93483020583260956,0.63464020495698559,4.336363347310404,1.2970041666332472,0.83093899926537829,1.2695287834559423,1.1451736847461056,1.181138295662888,1.1243896658609633,1.126421585449872,1.4949281794684035,1.1555610585621976,78,0.27300000000000002,null,null,null,null,1.0344921957522537,143,0.503,null,null,null,null,1.0454150333516916,125,0.439,null,null,null,null,1.4930504640789095,31,0.106,null,null,null,null,1.2312849786241944,51,0.17699999999999999,null,null,null,null,1.4460043426796623,20,6.7000000000000004E-2,null,null,null,null,0.63210184461927332,272,0.96,null,null,null,null,2.8166837569718255,4,0.01,null,null,null,null,1.0502338913606604,77,0.26900000000000002,null,null,null,null,1.2144102822376466,3,7.0000000000000001E-3,null,null,null,null,1.1306113586051643,86,0.30099999999999999,null,null,null,null,{"$f":"AVERAGE(Data!Z187:AH187)","v":1.3267158070932912},21,7.0000000000000007E-2,null,null,null,null,1.3085160201425854,5,1.4E-2,null,null,null,null,1.228106257976219,21,7.0000000000000007E-2,null,null,null,null,"Folkestone & Hythe",263,198,263,279,0.69799999999999995,0.92900000000000005,0.98499999999999999,263,0.92900000000000005,0.87560851063829792,0.46830711087376259,0.9190415321105555,0.46771547548451287,0.91559453261300539,0.90978494805877075,0.90543909684368429,0.36214931386009552,0.41260029160236317,0.23096664905663572,0.98954809903912011,0.77503379310119824,0.649757838585036,0.70040723992156495,0.53170113459610258,0.61300874823628249,0.75467945975754325,0.73784631379510757,0.58778664796927038,0.93869193103281101,0.75023931010464084,0.7166331567747628,0.98114498981219422,0.46378579771689177,0.60216637695738695,0.48325752578972847,0.34606484883388899,0.66704592303978094,0.19246028041735638,0.76197320451632611,0.45906659542129885,0.59821204140157291,0.98954809903912011,0.28219552487138555,0.60691622415283641,0.99652961624862901,0.86326737136656118,1,0.99751428440954648,0.81289162697070882,0.75431905120753873,0.71213667337201392,0.61287797426728796,0.69343747384064047,0.77009903708826011,0.52463366865519634,0.47116669345166046,0.79388007022034657,0.44455587451211098,0.93404057979908917,0.68291453662550861,44,{"$f":"AVERAGE(Data!EY187:FQ187)","v":0.67405140716541634},91,{"$f":"AVERAGE(Data!FR187:FZ187)","v":0.66100331778467614},25,{"$f":"AVERAGE(Data!GA187:GL187)","v":0.71338123906794515},23]
["E05005050","29ULGU","New Romney Coast","Folkestone & Hythe","NHS South Kent Coast CCG",184,1.0207853823862347,1.5991602320170972,0.97239937186099545,0.67359429993979836,1.1561951303067726,1.1009259392932653,1.2371638586883911,0.63489128634483549,0.813701415350505,0.40858325544571322,1.19833712531768,0.86542621082295579,0.7191807197056983,0.9228965166255374,0.8357465466795615,0.35547946908312822,1.1026237895213244,0.96070500729936192,1.6060487967326276,1.186960166328562,0.85224213540030036,0.83839359259076007,1.7464841963626061,0.77074294157510492,1.0154486329967094,0.70564997942219576,1.0312203030009504,1.5196924476548272,0.90055325890683302,0.98046607827599641,0.34818080573482396,0.40676249335780718,1.19833712531768,0.98148280750512695,1.499489808122271,1.1297368065110214,1.3682183930954483,1.111828566341686,1.101455819764567,0.92820052668223718,1.1974483287547759,53,0.184,null,null,null,null,0.96055410291461263,181,0.63800000000000001,null,null,null,null,0.76491890737884738,236,0.83299999999999996,null,null,null,null,1.2231258645177714,94,0.32900000000000001,null,null,null,null,1.0789646064514666,127,0.44600000000000001,null,null,null,null,1.0680028407686706,114,0.4,null,null,null,null,0.74306671430588445,258,0.91100000000000003,null,null,null,null,0.80254980933774356,174,0.61299999999999999,null,null,null,null,1.240486307813699,17,5.6000000000000001E-2,null,null,null,null,1.127888022478992,38,0.13100000000000001,null,null,null,null,0.95704443965376218,181,0.63800000000000001,null,null,null,null,{"$f":"AVERAGE(Data!Z188:AH188)","v":1.0740927105924465},109,0.38200000000000001,null,null,null,null,0.99622604080129162,135,0.47499999999999998,null,null,null,null,0.99513478095922436,161,0.56699999999999995,null,null,null,null,"Folkestone & Hythe",123,103,175,149,0.36099999999999999,0.61699999999999999,0.52400000000000002,123,0.432,0.59583157894736849,1,0.73391484992451061,0.46771547548451287,0.81969956086932716,0.83571861743198317,0.81525320064526552,0.36214931386009552,0.41260029160236317,0.23096664905663572,0.91427017342915384,0.55613517277243052,0.31368813825697706,0.57374328481396741,0.44647359470557957,0.21231374446610063,0.53508343009186332,0.50545266844062708,0.62040724518323875,0.86014879841313241,0.52633663365535632,0.5321387005251309,0.98114498981219422,0.46378579771689177,0.41146408224089026,0.20805026784713701,0.4802445249302813,0.5291398976863142,0.53030020492563013,0.79917066748834764,0.25185636811421952,5.6113891302049509E-2,0.91427017342915384,0.33332176761593307,0.71685235054208818,0.98309645187488082,1,0.98882851746092926,0.97540559241180969,0.50472420458225775,0.776582142957293,0.66010723365823698,0.45752388113790099,0.55364778123857639,0.6727109840245411,0.40722469317615567,0.52710908017606573,0.48519203236560166,0.52508705907901065,0.89041095326597564,0.59994527181391566,157,{"$f":"AVERAGE(Data!EY188:FQ188)","v":0.5763903678937895},177,{"$f":"AVERAGE(Data!FR188:FZ188)","v":0.55471707698081429},114,{"$f":"AVERAGE(Data!GA188:GL188)","v":0.67116168247894159},97]
["E05005051","29ULGW","New Romney Town","Folkestone & Hythe","NHS South Kent Coast CCG",185,0.64005573442958519,0.78748062079424119,0.85100051326815918,0.67359429993979836,0.80067185218366188,0.84803379574697468,0.95527690285315336,0.63489128634483549,0.813701415350505,0.40858325544571322,1.1160606687830539,0.6263568448263569,0.71072540394573425,0.91444720232944865,0.63792669700239668,0.79035623134201638,0.60131654943363899,0.6112179880314319,0.78285652320079235,0.98469130306357355,0.70148738007687983,0.75872566125380436,1.7464841963626061,0.77074294157510492,0.6418079335122483,0.57909784408115328,1.0971053034204676,1.0936374767351056,1.2082963563562978,1.1813996006765626,0.45884887354359721,0.88553334206327683,1.1160606687830539,0.93924437342581624,1.5621608718242288,1.0989483995526999,1.1053084830490763,1.0850320641405327,1.0813913764970822,1.1432970370025921,0.75951228949732841,234,0.82599999999999996,null,null,null,null,0.78249362741368478,227,0.80100000000000005,null,null,null,null,0.75226971487815308,240,0.84699999999999998,null,null,null,null,0.66513035355528771,221,0.78,null,null,null,null,0.99242629646639391,168,0.59199999999999997,null,null,null,null,0.85291213943724364,187,0.65900000000000003,null,null,null,null,0.94951494352548593,186,0.65600000000000003,null,null,null,null,1.0007970054231654,99,0.34699999999999998,null,null,null,null,1.2507026226250226,13,4.2000000000000003E-2,null,null,null,null,1.1027954720483966,64,0.223,null,null,null,null,0.74760809396060524,245,0.86499999999999999,null,null,null,null,{"$f":"AVERAGE(Data!Z189:AH189)","v":0.93042000445343809},181,0.63800000000000001,null,null,null,null,1.0721267872429014,55,0.191,null,null,null,null,0.88609638180618133,215,0.75800000000000001,null,null,null,null,"Folkestone & Hythe",69,39,103,229,0.13400000000000001,0.36099999999999999,0.80800000000000005,69,0.24099999999999999,0.37359999999999999,0.49243384435651844,0.64228950784448235,0.46771547548451287,0.5676467132855334,0.64374687344746973,0.62949830540570861,0.36214931386009552,0.41260029160236317,0.23096664905663572,0.85149742893531433,0.40250580321972912,0.31000014692678207,0.56849054276614952,0.34079402026954547,0.47204833339924518,0.29180807171014916,0.32157817509233638,0.30241289051791409,0.71357157987687836,0.43323193121395892,0.48157248695929478,0.98114498981219422,0.46378579771689177,0.26006329001419348,0.17073827688542814,0.5109275037607256,0.38079232639377553,0.7115179463838095,0.96295009930714315,0.3319080457640311,0.12216151319824139,0.85149742893531433,0.31897715617599059,0.7468131405937255,0.95630439423352398,0.80784506963718972,0.96499647505182828,0.9576373171704865,0.62168644707086473,0.50277445073366689,0.53415133629666411,0.44861290202197052,0.30526637910679988,0.61466135711584358,0.33063034926353069,0.66879203048499447,0.48682947106677787,0.53289514838485808,0.8616939406327786,0.53584764008339936,214,{"$f":"AVERAGE(Data!EY189:FQ189)","v":0.45704117827265706},242,{"$f":"AVERAGE(Data!FR189:FZ189)","v":0.48842535362592671},182,{"$f":"AVERAGE(Data!GA189:GL189)","v":0.69619125279351246},47]
["E05005052","29ULGX","North Downs East","Folkestone & Hythe","NHS South Kent Coast CCG",186,0.89404393707827168,0.97632078083895313,1.0513003936252467,0.67359429993979836,1.0418628884701517,1.0529680852609944,1.1569610220222999,0.63489128634483549,0.813701415350505,0.40858325544571322,1.122265541444039,1.282597227454793,0.65447802252254528,1.003581078069457,0.87155043197277782,1.1755676509392037,0.79890667423291284,0.83499449823376848,0.61597143194323289,0.92878317678146238,1.3535712390123014,0.79999256635107507,1.7464841963626061,0.77074294157510492,1.2899539939902673,1.4431817830595755,0.78972992879621506,0.83574587875714801,1.1064438033339807,0.59174512581093652,0.71760108603122619,0.244498993879596,1.122265541444039,1.2660899493965332,0.7343537212880662,1.0385542734881861,1.1815312737788863,1.0177269983114292,1.0197054643909076,1.4112249585988355,0.97388837051415711,176,0.62,null,null,null,null,0.91205551640761584,195,0.68700000000000006,null,null,null,null,0.91654057789987931,182,0.64100000000000001,null,null,null,null,0.74995753480330463,204,0.71899999999999997,null,null,null,null,1.11991482401651,105,0.36799999999999999,null,null,null,null,1.0896528961508014,107,0.375,null,null,null,null,0.80526333839204778,239,0.84299999999999997,null,null,null,null,0.68338226766181753,233,0.82199999999999995,null,null,null,null,1.0002218353422996,131,0.46,null,null,null,null,1.1337485937136491,36,0.124,null,null,null,null,0.89811262743102638,191,0.67300000000000004,null,null,null,null,{"$f":"AVERAGE(Data!Z190:AH190)","v":1.1064650782984173},97,0.34,null,null,null,null,0.95431176581271859,194,0.68400000000000005,null,null,null,null,0.96185167039069719,179,0.63100000000000001,null,null,null,null,"Folkestone & Hythe",105,93,187,90,0.32600000000000001,0.65900000000000003,0.315,105,0.36799999999999999,0.52185270270270256,0.61052092297685079,0.79346510594347353,0.46771547548451287,0.73864223242182048,0.79931356052817082,0.76240198062807196,0.36214931386009552,0.41260029160236317,0.23096664905663572,0.85623143064819696,0.82421519219959727,0.28546648539079078,0.62390299880429734,0.46560079234079471,0.70211978904962946,0.38769499409894825,0.43931299832809878,0.23794615704138919,0.67305690296751364,0.83595271785032343,0.50776509798020775,0.98114498981219422,0.46378579771689177,0.52269481589020583,0.42550041135622141,0.36778123294728582,0.29099735901152574,0.65154100531371872,0.48232708673494962,0.51907629687172019,3.3729240502888634E-2,0.85623143064819696,0.42997731255869726,0.35106820225333218,0.903749453378343,0.86355459021845027,0.90513727510305708,0.90301071975122105,0.76737663278580592,0.64194624387434229,0.62604451258453442,0.55013795363653817,0.35498471648947877,0.69234110126542625,0.40174345480130969,0.55098146297346284,0.44498033557554278,0.39052275740601472,0.86856573424737549,0.58143944111897983,175,{"$f":"AVERAGE(Data!EY190:FQ190)","v":0.55379574068981263},189,{"$f":"AVERAGE(Data!FR190:FZ190)","v":0.56318659172581897},105,{"$f":"AVERAGE(Data!GA190:GL190)","v":0.63889827051003178},176]
["E05005053","29ULGY","North Downs West","Folkestone & Hythe","NHS South Kent Coast CCG",187,1.0312343150322751,1.4127240187950407,1.1560251718817949,0.67359429993979836,1.2798857657658269,1.1083692374360943,1.176902094275835,0.63489128634483549,0.813701415350505,0.40858325544571322,1.2893616067931397,1.025827874220024,1.5961912431503003,1.2768494350145623,1.1035163921755169,1.1197174635177267,1.650194654749513,1.4567328000107762,1.616998634191589,1.231368406130398,0.74606455836289998,1.0143621700978864,1.7464841963626061,0.77074294157510492,1.1111946844750742,1.3048823182489504,0.82530957572925268,1.9532262541587591,0.99313844266949258,0.66855495073454074,0.76458276949106363,0.57295659459537562,1.2893616067931397,0.79725664129071883,1.491668849494975,1.1329797062363869,1.1854864977875861,1.1103849825914203,1.1167883924975623,0.75763957524609571,1.1999945019030369,51,0.17699999999999999,null,null,null,null,0.97472853675247806,173,0.60899999999999999,null,null,null,null,1.079218585708436,110,0.38600000000000001,null,null,null,null,1.5746420296506261,19,6.3E-2,null,null,null,null,1.101804454505779,114,0.4,null,null,null,null,1.2986532081530091,49,0.17,null,null,null,null,0.80875872096503232,238,0.84,null,null,null,null,0.93115910069425767,123,0.432,null,null,null,null,1.1444627453928469,35,0.12,null,null,null,null,1.0606558308718101,104,0.36499999999999999,null,null,null,null,1.1490158402153086,79,0.27600000000000002,null,null,null,null,{"$f":"AVERAGE(Data!Z191:AH191)","v":1.1892927894601035},65,0.22600000000000001,null,null,null,null,0.99006658411902981,148,0.52100000000000002,null,null,null,null,1.1103933769665035,74,0.25800000000000001,null,null,null,null,"Folkestone & Hythe",210,205,219,136,0.72299999999999998,0.77300000000000002,0.47799999999999998,210,0.74099999999999999,0.60193061224489786,0.88341617713511067,0.87250574720842822,0.46771547548451287,0.90739164407550132,0.84136886383915954,0.775542538254956,0.36214931386009552,0.41260029160236317,0.23096664905663572,0.98371721525622347,0.65921155949462895,0.6962175787621302,0.79378757624605611,0.58952194584423534,0.66876269405010258,0.80080969100617316,0.76642619261480993,0.62463710327157262,0.89232990708785931,0.4607623723671625,0.64382811584918831,0.98114498981219422,0.46378579771689177,0.450260787381427,0.38472489724010606,0.3843508549658004,0.68009151580553062,0.58481995868457459,0.54493420840283513,0.55306046822520472,7.9040778328684294E-2,0.98371721525622347,0.27075664584901671,0.71311343044733255,0.98591842173141642,0.86644537434228552,0.98754463537441051,0.98898351076446889,0.41197890001525161,0.78595084552947891,0.67083356710284503,0.62934818878904697,0.73062432896418528,0.6883702365666593,0.47485701384821599,0.56093821177087155,0.53137899679245393,0.49193503814817463,0.8481741684455667,0.65625679137388626,75,{"$f":"AVERAGE(Data!EY191:FQ191)","v":0.68098309838461002},86,{"$f":"AVERAGE(Data!FR191:FZ191)","v":0.59347547091401787},78,{"$f":"AVERAGE(Data!GA191:GL191)","v":0.66419279561847544},110]
["E05005054","29ULGZ","Romney Marsh","Folkestone & Hythe","NHS South Kent Coast CCG",188,0.54047806259289899,0.8676350903068244,0.84260970151033521,0.67359429993979836,0.83798188075761515,0.92456999451163391,0.85556765789757805,0.63489128634483549,0.813701415350505,0.40858325544571322,1.1607302647199065,1.0503891533211671,0.78375815221460932,1.1090916634925845,0.76806752614967833,0.87009326719375413,1.2167327798925116,1.0542397356075144,1.183491309233377,1.0269964270349452,1.1879693971605538,0.28088755825681305,1.7464841963626061,0.77074294157510492,0.81417470784703405,1.310936383713452,0.55485778232438143,2.2653254448892866,0.4077723093613862,0.61772930448032648,0.8148239890479636,1.0078986123070597,1.1607302647199065,1.373736084186572,1.2277418529477258,1.143132201924546,0.83209741976796714,1.116219989636027,1.1265462702691098,1.556966433896446,0.75024095147001946,238,0.84,null,null,null,null,0.78532102389029212,225,0.79400000000000004,null,null,null,null,0.87055183723598972,199,0.70199999999999996,null,null,null,null,1.151487941577801,107,0.375,null,null,null,null,1.0026161040780046,162,0.56999999999999995,null,null,null,null,1.2363235796935386,64,0.223,null,null,null,null,0.61344186762989217,275,0.97099999999999997,null,null,null,null,1.0843144385134831,78,0.27300000000000002,null,null,null,null,1.3007389685671489,9,2.8000000000000001E-2,null,null,null,null,1.1549924630988193,23,7.8E-2,null,null,null,null,0.87348455244646539,208,0.73399999999999999,null,null,null,null,{"$f":"AVERAGE(Data!Z192:AH192)","v":1.1064860932404641},96,0.33600000000000002,null,null,null,null,1.0321162277120866,93,0.32600000000000001,null,null,null,null,0.97349940170480131,173,0.60899999999999999,null,null,null,null,"Folkestone & Hythe",111,76,188,191,0.26500000000000001,0.66300000000000003,0.67300000000000004,111,0.39,0.31547659574468084,0.5425566950301377,0.635956573527379,0.46771547548451287,0.59409814283789364,0.70184590075911713,0.56379295803956797,0.36214931386009552,0.41260029160236317,0.23096664905663572,0.88557805479706397,0.67499498623350374,0.34185515389308235,0.68949647409950454,0.41031802134164286,0.51967209265030689,0.5904584642171844,0.55466379740947269,0.45717576225177431,0.74422863356996849,0.7336785960405221,0.17828277978910786,0.98114498981219422,0.46378579771689177,0.32990703622239298,0.38650984725524673,0.25840008318377383,0.78876096014341712,0.24012098904603696,0.50350659908265516,0.58940242297634315,0.13904210466311265,0.88557805479706397,0.46653505931785411,0.58693938990261563,0.99475311883182194,0.60816125844166979,0.99273412370018477,0.99762470034070871,0.84662594161475224,0.49799662143406581,0.5379203581962374,0.52068521545926294,0.53409934129281045,0.62022415938573683,0.44089448170120765,0.44434333703501178,0.51231007973008835,0.52673722461023487,0.88797982858582747,0.56667734723210628,188,{"$f":"AVERAGE(Data!EY192:FQ192)","v":0.52375638962294313},208,{"$f":"AVERAGE(Data!FR192:FZ192)","v":0.54052208041483496},127,{"$f":"AVERAGE(Data!GA192:GL192)","v":0.65425198022623487},137]
["E05005055","29ULHA","Tolsford","Folkestone & Hythe","NHS South Kent Coast CCG",189,1.2147239049832002,0.84305781172764571,1.2068847056176673,0.67359429993979836,1.1882962789749643,1.1475633966906413,1.3774246791735252,0.63489128634483549,0.813701415350505,0.40858325544571322,1.2479731469279263,1.2292249581349695,1.2596951985865219,1.0297042749397674,1.2294286722454721,1.0174276484094487,1.5922110619786118,1.4511687143157292,1.6529107599486588,1.206479412943124,0.94213553774867687,1.1535773995553924,1.7464841963626061,0.77074294157510492,1.4228003382679257,1.1778978865884329,0.79838485150110683,1.9321301067814973,0.49836358138218451,0.87615940475148257,0.35113371833974127,3.3481711388767432,1.2479731469279263,0.74052140185457493,1.3073106737441742,1.1170149529986517,1.2787873093791806,1.1082306418507952,1.1217145943889639,0.89856534721587167,1.088222140776171,122,0.42899999999999999,null,null,null,null,1.004353988224753,159,0.56000000000000005,null,null,null,null,1.0294673212550405,129,0.45300000000000001,null,null,null,null,1.5654301787476665,21,7.0000000000000007E-2,null,null,null,null,1.163883897636981,77,0.26900000000000002,null,null,null,null,1.3328032957847409,40,0.13800000000000001,null,null,null,null,0.57521890149113608,277,0.97799999999999998,null,null,null,null,2.2980721429023347,7,2.1000000000000001E-2,null,null,null,null,1.0239160377993746,98,0.34300000000000003,null,null,null,null,1.1048625691666927,61,0.21199999999999999,null,null,null,null,1.1167613405124002,93,0.32600000000000001,null,null,null,null,{"$f":"AVERAGE(Data!Z193:AH193)","v":1.2389591857026518},42,0.14499999999999999,null,null,null,null,1.1578288259758576,16,5.2999999999999999E-2,null,null,null,null,1.1565761013192439,46,0.159,null,null,null,null,"Folkestone & Hythe",238,191,242,268,0.67300000000000004,0.85399999999999998,0.94599999999999995,238,0.84,0.7090333333333334,0.5271878294923934,0.91089179326022385,0.46771547548451287,0.84245808732993943,0.87112135436967253,0.90768079786497857,0.36214931386009552,0.41260029160236317,0.23096664905663572,0.9521399290489696,0.78991741400865112,0.54944665615836052,0.64014318230506051,0.65678696599150121,0.6076690569902784,0.77267129964934178,0.76349877791349618,0.63850974715072806,0.87429371835040148,0.58185394360113529,0.73218973019299716,0.98114498981219422,0.46378579771689177,0.57652471663658977,0.34728545021989948,0.37181187434430185,0.6727460734550037,0.2934666070225001,0.714151067370566,0.25399235560055899,0.46188848385861836,0.9521399290489696,0.25148876856134461,0.62497839217447715,0.97202590077200279,0.93463683563415678,0.98562862635544157,0.99334595979601492,0.48860959146382066,0.71570431869531692,0.69022500578183976,0.60495876814522764,0.72489327490452204,0.72665363593472398,0.49209202866394869,0.4205366766645417,0.70701420645379398,0.43823358036791088,0.87484938280428737,0.65351441917146058,82,{"$f":"AVERAGE(Data!EY193:FQ193)","v":0.6638204186773965},102,{"$f":"AVERAGE(Data!FR193:FZ193)","v":0.62240403270326838},51,{"$f":"AVERAGE(Data!GA193:GL193)","v":0.66052937647153931},121]
["E05005056","29UMGC","Abbey","Swale","NHS Canterbury & Coastal CCG",190,0.89045869520107379,0.93452723812807736,1.0261669970745939,0.85730449970530431,0.96154819019476701,0.8550590004552423,0.80026703384116882,0.68981450511251119,0.46972251425076367,0.59507166664589284,1.0926398587618393,0.86160807053902966,0.39699592023946245,1.0366762022810094,0.73128987201738471,0.84650697787130769,0.42971946746653245,0.68199345223944607,0.52337940197721233,0.96769100905741823,0.75486119421742115,0.91324182917777441,0,0.62138584642115569,0.54565333321650877,0.37519990101454803,1.163715903822149,0.52710015930766063,1.1670648382671016,1.114772080135384,1.3119820864112581,1.6889449590413299,1.0926398587618393,1.2964373440206867,0.97992080663530612,0.99544163058077362,0.93867965382051488,0.98285932236524454,1.0164891795777411,0.97804159905943988,0.95038431013458169,185,0.65200000000000002,null,null,null,null,0.83279864586179875,216,0.76200000000000001,null,null,null,null,0.75381388532583626,239,0.84299999999999997,null,null,null,null,0.54503077389439702,240,0.84699999999999998,null,null,null,null,0.65143597577475387,253,0.89300000000000002,null,null,null,null,0.65291732434021665,248,0.875,null,null,null,null,1.197939668271248,32,0.109,null,null,null,null,1.3907924089015846,41,0.14099999999999999,null,null,null,null,1.1381790753279963,39,0.13400000000000001,null,null,null,null,0.9823022770807428,179,0.63100000000000001,null,null,null,null,0.77267102968434831,235,0.82899999999999996,null,null,null,null,{"$f":"AVERAGE(Data!Z194:AH194)","v":0.65209435291495954},258,0.91100000000000003,null,null,null,null,1.1302727798897183,23,7.8E-2,null,null,null,null,0.85282180247284689,230,0.81200000000000006,null,null,null,null,"Swale",54,49,26,261,0.17,8.7999999999999995E-2,0.92100000000000004,54,0.187,0.51976,0.58438624186477772,0.77449576732464687,0.59527609089108302,0.68170208349538652,0.64907974294978976,0.52735153563375581,0.39347815144142972,0.23818029893505457,0.33638605342212941,0.83362854413858356,0.55368158160554015,0.17315941279195227,0.64447746726788002,0.39067061566521899,0.50558494039640733,0.20853510400774294,0.35881504486220273,0.20217839808287605,0.7012520573883565,0.46619509097005807,0.57964579469426913,0,0.37391186467886589,0.22110103916437202,0.11062203950776545,0.54194839818273621,0.18353037471292688,0.68723833573797466,0.90864249882634551,0.94902142183596794,0.23299413145110867,0.83362854413858356,0.44028360334780847,0.46846502708895943,0.86623285125565874,0.68605981220355627,0.87412696168160997,0.90016250547221133,0.53182610216577675,0.62621400306314146,0.56937752088228888,0.45947111427784576,0.2565095156509406,0.42420096154630993,0.26430046289195014,0.84830075213342937,0.53331133779484607,0.45437431521838395,0.77168164655576255,0.51819288823203424,227,{"$f":"AVERAGE(Data!EY194:FQ194)","v":0.48267510919876083},227,{"$f":"AVERAGE(Data!FR194:FZ194)","v":0.3531340732554834},254,{"$f":"AVERAGE(Data!GA194:GL194)","v":0.69822348293379688},45]
["E05005057","29UMGD","Borden","Swale","NHS Swale CCG",191,1.0457608799304292,1.1229920658148176,1.1338005914671738,0.85730449970530431,1.0984474643421263,1.1713321841090625,1.2456900621063809,0.68981450511251119,0.46972251425076367,0.59507166664589284,1.185409188888001,1.150834596339104,0.98938641382632386,1.1957897201201231,0.91951394462952007,0.8652713190205783,1.3587925927059055,1.2465659234902471,1.3770788765070689,1.0955752656096385,1.3051997744856632,0.7735216252057282,0,0.62138584642115569,1.2889059135815317,1.2035680974925185,0.7948528127471256,1.2552951398900476,0.56432615026602373,0.86247471833451639,1.1539581574856985,0.61471384980395183,1.185409188888001,0.74954802539392118,1.0619156635676521,1.1073730125441918,0.90848072120007084,1.1044423733961228,1.0903726852875726,0.96706726949170274,1.1008511790708069,116,0.40699999999999997,null,null,null,null,1.0125177430750771,156,0.54900000000000004,null,null,null,null,0.92137492046503833,179,0.63100000000000001,null,null,null,null,1.3274791309010736,62,0.216,null,null,null,null,0.75913650234443719,230,0.81200000000000006,null,null,null,null,1.1356554909278058,92,0.32200000000000001,null,null,null,null,0.86025300869541288,225,0.79400000000000004,null,null,null,null,0.90006151934597645,138,0.48499999999999999,null,null,null,null,0.9057318444807867,231,0.81499999999999995,null,null,null,null,1.0355472123839322,128,0.45,null,null,null,null,1.0378199478427022,146,0.51400000000000001,null,null,null,null,{"$f":"AVERAGE(Data!Z195:AH195)","v":0.92647827504815661},184,0.64800000000000002,null,null,null,null,0.94750681797161895,200,0.70499999999999996,null,null,null,null,0.98567413250260427,167,0.58799999999999997,null,null,null,null,"Swale",117,138,100,84,0.48499999999999999,0.35099999999999998,0.29399999999999998,117,0.41099999999999998,0.61040975609756098,0.70223861457480974,0.85573182687113336,0.59527609089108302,0.77875860272855935,0.88916436475791827,0.82087170831266387,0.39347815144142972,0.23818029893505457,0.33638605342212941,0.90440681658914079,0.73954265431702959,0.4315449144645187,0.74339463808689143,0.4912239217400633,0.51679213484315423,0.65939752814886166,0.65585176264097778,0.53195750584408352,0.79392533550652045,0.80607896161792147,0.49096366682991271,0,0.37391186467886589,0.52227012927437733,0.35485392525714193,0.37016698598387604,0.43707971498613069,0.33230935557796321,0.70299678042425406,0.83471491165848755,8.4801294890826689E-2,0.90440681658914079,0.25455430378084232,0.50766383031251661,0.96363548860224935,0.66398809267921766,0.98225944877431215,0.96559080805430075,0.52585863112619613,0.72279339918116803,0.69550978362633087,0.55018392904974778,0.61573559887797435,0.49297596572664409,0.42109268887538154,0.62334034922023496,0.49460405573998373,0.38110906704667946,0.82026649384725514,0.59416594228280295,164,{"$f":"AVERAGE(Data!EY195:FQ195)","v":0.62603196551089813},142,{"$f":"AVERAGE(Data!FR195:FZ195)","v":0.46102784268163849},200,{"$f":"AVERAGE(Data!GA195:GL195)","v":0.64356498020585895},163]
["E05005058","29UMGE","Boughton and Courtenay","Swale","NHS Canterbury & Coastal CCG",192,0.9221372502951215,1.050209159752153,1.1344201108631937,0.85730449970530431,1.0741876797715482,1.0781909030333623,1.0549970688604748,0.68981450511251119,0.46972251425076367,0.59507166664589284,1.1415245810954853,1.1052349907600647,0.41936666659784766,0.99579169320059557,0.8572045965838383,1.1755532681043355,2.0606576984303655,1.9006824323694536,2.5887009044491047,1.1206050619853924,0.99935597554241318,0.96859375996754826,0,0.62138584642115569,1.1164477258045489,1.602129089464124,0.70417538319642825,1.8001530335246612,0.51210637152964533,1.0618525923443645,1.0733064000210282,0.52054625849107405,1.1415245810954853,0.7480538720096801,1.3369379777504176,1.0621235178045798,0.98681270151548195,1.0705825130615401,1.0622669807893546,0.67095798565967868,1.0355888403034894,142,0.5,null,null,null,null,0.95089893129664005,183,0.64500000000000002,null,null,null,null,0.84493374715485303,210,0.74099999999999999,null,null,null,null,2.1833470117496412,1,0,null,null,null,null,0.741988128783302,234,0.82599999999999996,null,null,null,null,1.3057263079974404,47,0.16300000000000001,null,null,null,null,0.88242178796501258,217,0.76500000000000001,null,null,null,null,0.83103541979327966,163,0.57399999999999995,null,null,null,null,1.0424959248800487,86,0.30099999999999999,null,null,null,null,0.9705487397661271,190,0.67,null,null,null,null,1.1142511678884957,94,0.32900000000000001,null,null,null,null,{"$f":"AVERAGE(Data!Z196:AH196)","v":0.99253843065625247},151,0.53100000000000003,null,null,null,null,0.93725597933936078,215,0.75800000000000001,null,null,null,null,1.0337672454465003,139,0.48899999999999999,null,null,null,null,"Swale",145,190,133,69,0.67,0.46800000000000003,0.24099999999999999,145,0.51,0.53825074626865677,0.65672541045338151,0.85619940685700391,0.59527609089108302,0.76155931323318571,0.81846033293503573,0.69521084941142763,0.39347815144142972,0.23818029893505457,0.33638605342212941,0.87092509668774221,0.71023970022353311,0.18291695715361503,0.61906051952213315,0.45793694171454719,0.70211119875457029,1,1,1,0.81206355942327035,0.6171927415244447,0.61477834434914802,0,0.37391186467886589,0.45238934195264846,0.47236363056601299,0.32793804717250202,0.62679313399818859,0.3015591927295298,0.86550821471581896,0.77637551332717636,7.1810642927105692E-2,0.87092509668774221,0.25404687375423746,0.63914214467353303,0.92425939899335541,0.72123917241232471,0.95214545772419368,0.94070151076764663,0.36484436916951801,0.68372518785968073,0.65279694758243234,0.5147195958016656,1,0.48358930199514577,0.46987103842233802,0.64781430692417508,0.47136786980742396,0.44659450921388522,0.7806379818134076,0.61032263298629474,145,{"$f":"AVERAGE(Data!EY196:FQ196)","v":0.65436405620550142},110,{"$f":"AVERAGE(Data!FR196:FZ196)","v":0.47749229596278675},191,{"$f":"AVERAGE(Data!GA196:GL196)","v":0.64021313232351529},171]
["E05005059","29UMGF","Chalkwell","Swale","NHS Swale CCG",193,0.94393160505943718,1.1796787522674701,0.82392325184088699,0.85730449970530431,0.90146820928545202,0.93210227918073307,0.73739187149349239,0.68981450511251119,0.46972251425076367,0.59507166664589284,1.0362580059833522,0.7824262068306983,1.0614336378061917,1.1836510584128928,0.73051487316505348,1.2678702098210579,0.52540346848789754,0.72196779343347306,0.634429282581502,0.87038706290549239,0.98237123949103067,0.95903440383244554,0,0.62138584642115569,0.52332231561463527,0.31777428801190571,1.19644141833456,0.33458274984133496,1.2186190470562244,1.1958736831928534,1.3166878023953703,1.0364103806796348,1.0362580059833522,1.0459358741574112,0.94976941642720547,0.97268320946941855,0.92037190433127802,0.99829710991273846,0.99390753105592589,0.66061125129355303,0.98251120305593143,170,0.59899999999999998,null,null,null,null,0.82361627295549855,219,0.77300000000000002,null,null,null,null,0.89086852161448782,191,0.67300000000000004,null,null,null,null,0.62726684816762424,228,0.80400000000000005,null,null,null,null,0.68663571053002492,245,0.86499999999999999,null,null,null,null,0.59303019295060899,265,0.93600000000000005,null,null,null,null,1.2437268442148159,15,4.9000000000000002E-2,null,null,null,null,1.0363341933314936,87,0.30399999999999999,null,null,null,null,0.99785264529230833,135,0.47499999999999998,null,null,null,null,0.90917420121258274,230,0.81200000000000006,null,null,null,null,0.8460191416507401,215,0.75800000000000001,null,null,null,null,{"$f":"AVERAGE(Data!Z197:AH197)","v":0.64503325827250668},259,0.91400000000000003,null,null,null,null,1.0287854346629135,99,0.34699999999999998,null,null,null,null,0.85562720579428986,229,0.80800000000000005,null,null,null,null,"Swale",55,69,25,185,0.24099999999999999,8.5000000000000006E-2,0.65200000000000002,55,0.191,0.55097209302325578,0.73768639855399909,0.62185304435856803,0.59527609089108302,0.63910760036922398,0.70756369730209312,0.48591872381578244,0.39347815144142972,0.23818029893505457,0.33638605342212941,0.79061206302574227,0.50279819154505068,0.46297006107589705,0.73584831461975275,0.3902565947818929,0.75724843529903196,0.25496882324905557,0.37984661779266521,0.24507631665409155,0.63073926787974266,0.60670313015054744,0.6087109037144085,0,0.37391186467886589,0.2120524163542315,9.3690962465477964E-2,0.55718883625826288,0.11649796792229737,0.71759657076211658,0.97474781719062653,0.95242529855063718,0.14297537357903636,0.79061206302574227,0.35521069928190591,0.45405072775480471,0.84642848362250656,0.67267909054272734,0.8878568882508594,0.88016509308506308,0.35921816327666739,0.63683717864527434,0.56426885276392247,0.52678750158806897,0.29329725256527078,0.44401303328471292,0.24485754575006743,0.88158989550112687,0.4667937183023893,0.40463071351835533,0.72926954375556474,0.52648772971255808,224,{"$f":"AVERAGE(Data!EY197:FQ197)","v":0.51716039842925243},213,{"$f":"AVERAGE(Data!FR197:FZ197)","v":0.35549948326931491},253,{"$f":"AVERAGE(Data!GA197:GL197)","v":0.66949718907689126},{"$f":"RANK(HC197,HC$5:HC$287)","v":100}]
["E05005060","29UMGG","Davington Priory","Swale","NHS Canterbury & Coastal CCG",194,0.54224207787822243,0.72797372949180827,0.52695614904091581,0.85730449970530431,0.59743877316965155,0.78637250317976859,0.81466958497105446,0.68981450511251119,0.46972251425076367,0.59507166664589284,0.79848665942295483,0.69894852427261389,0.46153930003370947,1.0531236145460383,0.5352407441584569,0.93212592901286095,3.4736831231372958E-2,2.303212222102171E-2,6.7386036876980152E-2,0.6563739121232981,0.87525002368722848,0.63426381562350609,0,0.62138584642115569,0.53357595041189188,0.54445420460880767,1.271555493662512,0.49310306441074542,0.91475084500858572,1.0430442929825352,1.289972725179122,1.7680462673906026,0.79848665942295483,0.7880268106011693,1.1946575519301406,1.0431718006422899,0.68457300726257098,1.0156723464747663,1.0447541462730756,0.89399289554487094,{"$f":"AVERAGE(G198:I198)","v":0.59905731880364887},266,{"$f":"PERCENTRANK($AV$5:$AV$287,AV198)","v":0.93899999999999995},null,null,null,null,{"$f":"AVERAGE(J198:N198)","v":0.749119973227658},{"$f":"RANK(BB198,$BB$5:$BB$287)","v":233},{"$f":"PERCENTRANK($BC$5:$BC$287,BC198)","v":0.82199999999999995},null,null,null,null,{"$f":"AVERAGE(O198:V198)","v":0.69303236904291143},{"$f":"RANK(BI198,$BI$5:$BI$287)","v":252},{"$f":"PERCENTRANK($BJ$5:$BJ$287,BJ198)","v":0.89},null,null,null,null,{"$f":"AVERAGE(W198:Y198)","v":4.1718330109791611E-2},{"$f":"RANK(BP198,$BP$5:$BP$287)","v":281},{"$f":"PERCENTRANK($BJ$5:$BJ$287,BQ198)","v":0.99199999999999999},null,null,null,null,{"$f":"AVERAGE(Z198:AD198)","v":0.55745471957103765},{"$f":"RANK(BW198,$BW$5:$BW$287)","v":266},{"$f":"PERCENTRANK($BX$5:$BX$287,BX198)","v":0.93899999999999995},null,null,null,null,{"$f":"AVERAGE(AE198:AH198)","v":0.71067217827348916},{"$f":"RANK(CD198,$CD$5:$CD$287)","v":230},{"$f":"PERCENTRANK($CE$5:$CE$287,CE198)","v":0.81200000000000006},null,null,null,null,{"$f":"AVERAGE(AI198:AK198)","v":1.0825892877234142},{"$f":"RANK(CK198,$CK$5:$CK$287)","v":107},{"$f":"PERCENTRANK($CL$5:$CL$287,CL198)","v":0.375},null,null,null,null,{"$f":"AVERAGE(AL198:AM198)","v":1.2832664634067787},{"$f":"RANK(CR198,$CR$5:$CR$287)","v":51},{"$f":"PERCENTRANK($CS$5:$CS$287,CS198)","v":0.17699999999999999},null,null,null,null,{"$f":"AVERAGE(AN198:AO198)","v":0.99134218126565488},{"$f":"RANK(CY198,$CY$5:$CY$287)","v":144},{"$f":"PERCENTRANK($CZ$5:$CZ$287,CZ198)","v":0.50700000000000001},null,null,null,null,{"$f":"AVERAGE(AP198:AT198)","v":0.93643283923951481},{"$f":"RANK(DF198,$DF$5:$DF$287)","v":214},{"$f":"PERCENTRANK($DG$5:$DG$287,DG198)","v":0.755},null,null,null,null,{"$f":"AVERAGE(G198:Y198)","v":0.59011504027483697},{"$f":"RANK(DM198,DM$5:DM$287)","v":264},{"$f":"PERCENTRANK(DN$5:DN$287,DN198)","v":0.93200000000000005},null,null,null,null,{"$f":"AVERAGE(Data!Z198:AH198)","v":0.6255513678832384},{"$f":"RANK(DT198,DT$5:DT$287)","v":267},{"$f":"PERCENTRANK(DU$5:DU$287,DU198)","v":0.94299999999999995},null,null,null,null,{"$f":"AVERAGE(AI198:AT198)","v":1.0399291123927237},{"$f":"RANK(EA198,EA$5:EA$287)","v":86},{"$f":"PERCENTRANK(EB$5:EB$287,EB198)","v":0.30099999999999999},null,null,null,null,{"$f":"AVERAGE(G198:AT198)","v":0.73303243562209341},{"$f":"RANK(EH198,EH$5:EH$287)","v":261},{"$f":"PERCENTRANK(EI$5:EI$287,EI198)","v":0.92100000000000004},null,null,null,null,"Swale",{"$f":"RANK(EH198,EH$5:EH$287,1)","v":23},{"$f":"RANK(DM198,DM$5:DM$287,1)","v":20},{"$f":"RANK(DT198,DT$5:DT$287,1)","v":17},{"$f":"RANK(EA198,EA$5:EA$287,1)","v":198},{"$f":"PERCENTRANK(EQ$5:EQ$287,EQ198)","v":6.7000000000000004E-2},{"$f":"PERCENTRANK(ER$5:ER$287,ER198)","v":5.6000000000000001E-2},{"$f":"PERCENTRANK(ES$5:ES$287,ES198)","v":0.69799999999999995},{"$f":"RANK(EH198,EH$5:EH$287,1)","v":23},{"$f":"PERCENTRANK(EW$5:EW$287,EW198)","v":7.8E-2},{"$f":"G198/G$292","v":0.31650624999999999},0.45522250673628883,0.39771821561341608,0.59527609089108302,0.42356198117140981,0.59693946494330197,0.53684237698321513,0.39347815144142972,0.23818029893505457,0.33638605342212941,0.60920463963591087,0.44915424728787845,0.20131157550948947,0.65470244067457462,0.28593699851558096,0.55672173364359312,1.6857157429801435E-2,1.2117817173860604E-2,2.603083143408582E-2,0.47565137216769987,0.54054608653903968,0.40257502635847731,0,0.37391186467886589,0.21620723255506252,0.16052412159370272,0.59216984207871981,0.17169296685902433,0.53866060198681898,0.85017770865512632,0.93310096415094146,0.24390635244257683,0.60920463963591087,0.26762209936821107,0.57112297099664333,0.90776762339411388,0.50033898880265559,0.90330992654317011,0.92519283904460625,0.4861232461469463,{"$f":"AVERAGE(EY198:FA198)","v":0.38981565744990165},{"$f":"AVERAGE(FB198:FF198)","v":0.50921961308608787},{"$f":"AVERAGE(FG198:FN198)","v":0.4164497484530264},{"$f":"AVERAGE(FO198:FQ198)","v":1.8335268679249287E-2},{"$f":"AVERAGE(FR198:FV198)","v":0.35853686994881656},{"$f":"AVERAGE(FW198:FZ198)","v":0.28514854077162732},{"$f":"AVERAGE(GA198:GC198)","v":0.77397975826429555},{"$f":"AVERAGE(GD198:GE198)","v":0.42655549603924386},{"$f":"AVERAGE(GF198:GG198)","v":0.41937253518242723},{"$f":"AVERAGE(GH198:GL198)","v":0.74454652478629835},{"$f":"AVERAGE(EY198:GL198)","v":0.44429888263601036},{"$f":"RANK(GW198,$GW$5:$GW$287)","v":264},{"$f":"AVERAGE(Data!EY198:FQ198)","v":0.37379730691800545},{"$f":"RANK(GY198,GY$5:GY$287)","v":261},{"$f":"AVERAGE(Data!FR198:FZ198)","v":0.32591983475895464},268,{"$f":"AVERAGE(Data!GA198:GL198)","v":0.64471066343064354},160]
["E05005061","29UMGH","East Downs","Swale","NHS Canterbury & Coastal CCG",195,1.033316794615577,0.71876700291294138,1.1235617755816003,0.85730449970530431,1.0281831212685681,1.0809009176915074,1.0955350977015805,0.68981450511251119,0.46972251425076367,0.59507166664589284,1.1986193263892737,1.1948346489200434,0.49494561255774722,1.0646623138917157,0.83590690937253997,0.96886164984652889,1.3984543941991745,1.229726550177368,1.3459593485088337,1.0347930284684312,1.1295712041125099,0.91521898442967609,0,0.62138584642115569,1.2276154440332996,1.8845900785784926,0.68115748349161986,2.329303942402738,0,0.33588504661306345,0.89726201083967927,0.75202714578414065,1.1986193263892737,0.67294687050928537,1.2998823520697163,1.1345874421108395,0.66865373443036158,1.1164174284772916,1.1236018968031707,0.74718166740437975,0.95854852437003968,{"$f":"RANK(AU199,$AU$5:$AU$287)","v":181},0.63800000000000001,null,null,null,null,0.95034762829589448,184,0.64800000000000002,null,null,null,null,0.85282808023431311,207,0.73,null,null,null,null,1.3247134309617923,64,0.223,null,null,null,null,0.74019381268635454,235,0.82899999999999996,null,null,null,null,1.5306667371265377,14,4.5999999999999999E-2,null,null,null,null,0.41104901915091424,281,0.99199999999999999,null,null,null,null,0.97532323608670723,105,0.36799999999999999,null,null,null,null,0.98641461128950081,149,0.52400000000000002,null,null,null,null,0.9580884338452087,199,0.70199999999999996,null,null,null,null,0.96969203417628802,172,0.60599999999999998,null,null,null,null,{"$f":"AVERAGE(Data!Z199:AH199)","v":1.0915151124375468},103,0.36099999999999999,null,null,null,null,0.82892207678593355,271,0.95699999999999996,null,null,null,null,0.95487123956796505,183,0.64500000000000002,null,null,null,null,"Swale",101,112,181,13,0.39300000000000002,0.63800000000000001,4.2000000000000003E-2,101,0.35399999999999998,0.60314615384615389,0.44946528091580057,0.84800411823462518,0.59527609089108302,0.72894378371363622,0.82051751918389404,0.72192417241101714,0.39347815144142972,0.23818029893505457,0.33638605342212941,0.91448547846912698,0.76781771293910173,0.21588255008453702,0.66187578150511095,0.44655926386960448,0.57866251820134629,0.67864468478408546,0.64699211674427393,0.51993621441379456,0.74987855978060325,0.69761242767860965,0.58090071939286103,0,0.37391186467886589,0.4974349717062857,0.55564299874473921,0.31721849454494055,0.811037556753892,0,0.27377742366478397,0.6490339144916889,0.10374400345117724,0.91448547846912698,0.2285397550263189,0.62142717773869105,0.98731747275340409,0.48870395092234048,0.99290972015687529,0.99501727996733424,0.40629224172830619,0.63353851766552649,0.65202794352821203,0.51998120717825147,0.61519100531405135,0.48046071430618797,0.54533350543746439,0.30760377938549094,0.50911474096015208,0.42498346638250495,0.77404813310565213,0.56027659889141612,196,{"$f":"AVERAGE(Data!EY199:FQ199)","v":0.58769357600030547},169,{"$f":"AVERAGE(Data!FR199:FZ199)","v":0.50929306592008861},161,{"$f":"AVERAGE(Data!GA199:GL199)","v":0.55510403486417059},266]
["E05005062","29UMGJ","Grove","Swale","NHS Swale CCG",196,1.1233534118936253,0.73248378136321279,0.99639505298028985,0.85730449970530431,0.9999277938370531,1.0701787054985019,1.0237223465857426,0.68981450511251119,0.46972251425076367,0.59507166664589284,1.1548526338596306,1.1178354805484412,0.9295760983564807,1.2208500225896339,0.93000590127356719,1.4108418627898447,0.67247800351648035,0.72845922911869843,0.57752767032527519,0.96146578796366589,1.269574328158759,1.1521603089287951,0,0.62138584642115569,0.97327333569996199,1.0309572226922679,0.91910636828279424,0.48022887711224649,1.0112178926408157,0.89659436128924441,1.1577244033372218,0.68855923487035664,1.1548526338596306,1.1486382677253706,0.70432271448640404,0.95322540258926125,0.94489384212422278,0.98719935528249991,0.96341939978236835,0.89550519256586236,0.9507440820790426,184,0.64800000000000002,null,null,null,null,0.92818957014782255,190,0.67,null,null,null,null,0.97859452253928181,154,0.54200000000000004,null,null,null,null,0.65948830098681799,222,0.78300000000000003,null,null,null,null,0.80091725429447502,218,0.76900000000000002,null,null,null,null,0.85089145094681773,188,0.66300000000000003,null,null,null,null,1.0218455524224275,148,0.52100000000000002,null,null,null,null,0.9217059343649936,128,0.45,null,null,null,null,0.92648049110588726,217,0.76500000000000001,null,null,null,null,0.94884863846884282,204,0.71899999999999997,null,null,null,null,0.91054743053952358,188,0.66300000000000003,null,null,null,null,{"$f":"AVERAGE(Data!Z200:AH200)","v":0.82312800836218281},214,0.755,null,null,null,null,0.95884605837943837,189,0.66600000000000004,null,null,null,null,0.90536764890159627,209,0.73699999999999999,null,null,null,null,"Swale",75,96,70,95,0.33600000000000002,0.24399999999999999,0.33300000000000002,75,0.26200000000000001,0.6557004524886878,0.45804276938483895,0.75202550200545504,0.59527609089108302,0.70891180219016559,0.81237823203483905,0.67460176254334014,0.39347815144142972,0.23818029893505457,0.33638605342212941,0.88109372190572299,0.71833695389789587,0.40545719270805225,0.75897404487657227,0.49682894830819446,0.84263971562417672,0.32634144138966753,0.38326193619340032,0.2230955570543896,0.69674085592132684,0.78407702494605669,0.73129028538422469,0,0.37391186467886589,0.39437447334139303,0.30396220870820045,0.42803249694741508,0.16721031896508057,0.59546623188375603,0.7308074496954845,0.83743922324019004,9.4988448275023285E-2,0.88109372190572299,0.39008950011335158,0.33671145391245816,0.82949630898244564,0.69060162244018741,0.87798686278976557,0.85316601312852891,0.48694558236532826,0.62192290795966054,0.63692920782017148,0.58473711620972479,0.3108996448791525,0.51720400618609486,0.32339487449052234,0.7212376349398103,0.48804108509037314,0.3634004770129049,0.74763927794125118,0.5536350643729977,202,{"$f":"AVERAGE(Data!EY200:FQ200)","v":0.56110582248921548},187,{"$f":"AVERAGE(Data!FR200:FZ200)","v":0.43106661432139592},218,{"$f":"AVERAGE(Data!GA200:GL200)","v":0.63373270156102024},185]
["E05005063","29UMGK","Hartlip, Newington and Upchurch","Swale","NHS Swale CCG",197,1.0573940023820663,1.0631561190036847,1.0042072575886916,0.85730449970530431,0.92139176492915065,1.0410822083099602,1.2158704995374015,0.68981450511251119,0.46972251425076367,0.59507166664589284,1.0859756367171531,1.1450975376963091,0.98536221341028585,1.1907312479981531,0.79995421914341802,0.90940568094510077,1.0584705649409571,0.97290161019918842,1.0491835173266373,1.0770344595809693,1.0876179155193431,0.88678321842026464,0,0.62138584642115569,1.2366995730470296,1.2486231986077356,0.85383832078003474,1.1111039733579211,0.97485488262921982,0.84919710198528098,0.85855845570443989,0.72235384530374203,1.0859756367171531,0.94884411938978619,0.96995861149467866,1.1022953260894595,1.0741052050909337,1.0903807885321426,1.0825937363331839,1.0881931348392562,1.0415857929914809,137,0.48199999999999998,null,null,null,null,0.94509269551886543,186,0.65600000000000003,null,null,null,null,0.89766508960088454,189,0.66600000000000004,null,null,null,null,1.0268518974889276,141,0.496,null,null,null,null,0.7345642879883465,237,0.83599999999999997,null,null,null,null,1.1125662664481801,100,0.35099999999999998,null,null,null,null,0.89420348010631356,211,0.74399999999999999,null,null,null,null,0.90416474101044764,137,0.48199999999999998,null,null,null,null,0.95940136544223242,181,0.63800000000000001,null,null,null,null,1.0875136381769952,79,0.27600000000000002,null,null,null,null,0.95326827714961182,183,0.64500000000000002,null,null,null,null,{"$f":"AVERAGE(Data!Z201:AH201)","v":0.90256516730382819},194,0.68400000000000005,null,null,null,null,0.98727590367577311,151,0.53100000000000003,null,null,null,null,0.95206236539215894,187,0.65900000000000003,null,null,null,null,"Swale",97,101,90,133,0.35399999999999998,0.315,0.46800000000000003,97,0.34,0.61719999999999997,0.6648215092634433,0.75792173470435298,0.59527609089108302,0.65323266402328228,0.79029092939745049,0.80122152725097684,0.39347815144142972,0.23818029893505457,0.33638605342212941,0.82854408224898768,0.73585593896265833,0.4297896617138659,0.74024990369997368,0.42735257147020794,0.54315183337647865,0.51365666687252831,0.5118696283136247,0.40529344874235734,0.78048945747153997,0.67170247583314335,0.56285218979243146,0,0.37391186467886589,0.50111589921569755,0.36813774319557113,0.397636836219175,0.38687396498466109,0.57405349313661103,0.69217429328718683,0.6210377220855694,9.9650498310167451E-2,0.82854408224898768,0.32223732973064317,0.46370245853768627,0.95921688817371509,0.78503929673163142,0.9697534774985862,0.95870207935811158,0.5917227997885468,0.67998108132259871,0.64669987260084461,0.53493879297866953,0.4769399146428368,0.47779119755519617,0.41344111090377622,0.62908850283645579,0.46409729027957758,0.39296989413416472,0.85288690831011815,0.57230818862521038,182,{"$f":"AVERAGE(Data!EY201:FQ201)","v":0.57809329972262546},176,{"$f":"AVERAGE(Data!FR201:FZ201)","v":0.44919115904345397},210,{"$f":"AVERAGE(Data!GA201:GL201)","v":0.65548620157395365},133]
["E05005064","29UMGL","Iwade and Lower Halstow","Swale","NHS Swale CCG",198,1.0605797906870471,1.0458016842622697,1.0743092492365662,0.85730449970530431,1.1604891691538761,1.0869820845361533,1.1392915278075857,0.68981450511251119,0.46972251425076367,0.59507166664589284,1.2084556694706441,1.4124819864225864,0.61819597164866991,1.419094086257783,0.97154016000068455,1.4137505655112064,1.1243109747129709,1.1106996633322062,0.94722487896438712,1.0908101496320908,1.4238831242676278,1.1411113469257883,0,0.62138584642115569,1.354593689257076,1.8552886235719002,0.68168804379634229,0.49582251950054584,1.3853314736741429,1.0053605283531402,0.95424843513203117,0.54011998840144737,1.2084556694706441,1.4122090773193552,0.48687117956352588,1.0796983875691795,1.2505126166475276,1.0380091487417404,1.0754571949890701,0.96483702383091063,1.0602302413952944,129,0.45300000000000001,null,null,null,null,0.98677635726308621,165,0.58099999999999996,null,null,null,null,1.0135390775260289,135,0.47499999999999998,null,null,null,null,1.0607451723365215,135,0.47499999999999998,null,null,null,null,0.85543809344933242,201,0.70899999999999996,null,null,null,null,1.0968482190314661,106,0.372,null,null,null,null,1.1149801457197712,89,0.312,null,null,null,null,0.87428782893604573,146,0.51400000000000001,null,null,null,null,0.94954012844144053,196,0.69099999999999995,null,null,null,null,1.0817028743556858,83,0.28999999999999998,null,null,null,null,1.0213221393536371,153,0.53900000000000003,null,null,null,null,{"$f":"AVERAGE(Data!Z202:AH202)","v":0.9627314825969473},168,0.59199999999999997,null,null,null,null,1.0334258936410594,92,0.32200000000000001,null,null,null,null,1.0117703678696088,154,0.54200000000000004,null,null,null,null,"Swale",130,131,116,192,0.46,0.40699999999999997,0.67700000000000005,130,0.45700000000000002,0.61905954198473279,0.65396929170953066,0.81083095510131342,0.59527609089108302,0.82274387550538053,0.82513376462456656,0.7507583235561619,0.39347815144142972,0.23818029893505457,0.33638605342212941,0.92199010709567408,0.90768098277274234,0.26964118768894429,0.88221776530983864,0.51901743340694018,0.84437696803963647,0.54560782975715749,0.58436887952269401,0.36590742381108093,0.79047222149422403,0.87937666915949864,0.7242773736272744,0,0.37391186467886589,0.54888709388933776,0.54700390607811133,0.31746557916958074,0.17263985067765497,0.81576692673467488,0.8194619500994591,0.69025500887050584,7.4510887346150981E-2,0.92199010709567408,0.47960088785650429,0.23275566635452138,0.93955304261739581,0.91397149969485203,0.92317563942293979,0.95238224136495941,0.52464589860255717,0.69461992959852559,0.67747804120372423,0.61493634958387,0.49862804436364411,0.55360762579197265,0.39649910745367117,0.77516129523487987,0.49825049722091252,0.35617827710551286,0.85074566434054089,0.61321823098527062,142,{"$f":"AVERAGE(Data!EY202:FQ202)","v":0.62561183813558374},143,{"$f":"AVERAGE(Data!FR202:FZ202)","v":0.48378161764161642},187,{"$f":"AVERAGE(Data!GA202:GL202)","v":0.69067247967168288},59]
["E05005065","29UMGM","Kemsley","Swale","NHS Swale CCG",199,0.94618546848866214,0.92124333997035868,0.9135047491149455,0.85730449970530431,0.94185243575733035,0.98554986588812099,0.84414054043068143,0.68981450511251119,0.46972251425076367,0.59507166664589284,1.0009564596124982,1.0830255566661495,0.81082856767020828,1.2455935294026208,0.82555714167653438,1.2991434276299401,0.91948181763363657,1.0211912614752117,0.62288027431409676,0.81036327508696748,1.4889603988993876,1.1277530387798347,0,0.62138584642115569,0.82424128153183818,0.84332687964037523,0.91042559208473917,0.30786428669691629,1.042518911961702,1.1446569282797667,1.1376602874217463,0.71193029431498966,1.0009564596124982,1.0184146632682809,0.72889799884949003,1.0601023890220964,1.1768726012201434,1.0409409278147008,1.04232682255693,0.38985309784987304,0.92697785252465559,192,0.67700000000000005,null,null,null,null,0.86373236937878972,208,0.73399999999999999,null,null,null,null,0.91623735794432604,183,0.64500000000000002,null,null,null,null,0.85451778447431492,185,0.65200000000000002,null,null,null,null,0.80969251183746904,217,0.76500000000000001,null,null,null,null,0.72146450998846723,226,0.79700000000000004,null,null,null,null,1.1082787092210717,93,0.32600000000000001,null,null,null,null,0.85644337696374395,151,0.53100000000000003,null,null,null,null,0.8736563310588854,248,0.875,null,null,null,null,0.94201916769274874,211,0.74399999999999999,null,null,null,null,0.89437092744449809,194,0.68400000000000005,null,null,null,null,{"$f":"AVERAGE(Data!Z203:AH203)","v":0.77048006657124601},232,0.81899999999999995,null,null,null,null,0.95792761518101821,190,0.67,null,null,null,null,0.88556249006897203,216,0.76200000000000001,null,null,null,null,"Swale",68,90,52,94,0.315,0.18,0.32900000000000001,68,0.23699999999999999,0.5522876712328767,0.57607944565276636,0.68946434999123141,0.59527609089108302,0.66773852246648535,0.74813603888653091,0.55626283660608755,0.39347815144142972,0.23818029893505457,0.33638605342212941,0.76367878169704961,0.69596760248425604,0.35366257307637844,0.77435650717972127,0.44103019766411167,0.77592668412063981,0.44620793561881722,0.53727610887746291,0.24061500239118988,0.58724211403000048,0.91956777475539497,0.71579869153711695,{"$f":"AC203/AC$292","v":0},{"$f":"AD203/AD$292","v":0.37391186467886589},{"$f":"AE203/AE$292","v":0.33398605446904184},{"$f":"AF203/AF$292","v":0.24864222817031309},{"$f":"AG203/AG$292","v":0.42398981544751713},{"$f":"AH203/AH$292","v":0.10719489816210309},{"$f":"AI203/AI$292","v":0.61389816447194767},{"$f":"AJ203/AJ$292","v":0.93300141808781456},{"$f":"AK203/AK$292","v":0.82292585753862701},{"$f":"AL203/AL$292","v":9.8212543688698195E-2},{"$f":"AM203/AM$292","v":0.76367878169704961},{"$f":"AN203/AN$292","v":0.34586420987796612},{"$f":"AO203/AO$292","v":0.34846001683398881},{"$f":"AP203/AP$292","v":0.92250061365203506},{"$f":"AQ203/AQ$292","v":0.86014967139682608},{"$f":"AR203/AR$292","v":0.92578307985215746},{"$f":"AS203/AS$292","v":0.92304329742447266},{"$f":"AT203/AT$292","v":0.21198899274441857},0.60594382229229149,0.59217832805832338,0.54739858732241764,0.40803301562915667,0.51930408900027569,0.27845324906224378,0.78994181336612979,0.43094566269287393,0.34716211335597746,0.76869313101398196,0.54654627352879148,205,{"$f":"AVERAGE(Data!EY203:FQ203)","v":0.5464216238229106},192,{"$f":"AVERAGE(Data!FR203:FZ203)","v":0.41225927125003925},224,{"$f":"AVERAGE(Data!GA203:GL203)","v":0.64745888727216683},153]
["E05005066","29UMGN","Leysdown and Warden","Swale","NHS Swale CCG",200,0.29351592264761422,0.54029814923028918,1.3580216584279227E-2,0.85730449970530431,0.27419312600197293,0.66638011002144482,0.50246488448505799,0.68981450511251119,0.46972251425076367,0.59507166664589284,1.0339402780985738,0.48030591549420804,0.59345202217338056,1.1880994516890764,0.27695694625329564,5.6990223068870929E-2,0.90155408411745452,0.84592022825095425,1.5352280249572079,0.59138414905446168,0.84831840069513043,0,0,0.62138584642115569,0.2940439048361887,0.12206275288978918,0.98958278569552427,1.1133178105171848,0.48957746175493938,0,0.38105829370546196,0.46049687023615166,1.0339402780985738,0.94645645381129428,2.0917693957316978,1.1100020425827888,0.89637547397033024,1.0921096774696966,1.0830273599296474,0.6810174326694507,0.28246476282072758,280,0.98899999999999999,null,null,null,null,0.59803142506525819,257,0.90700000000000003,null,null,null,null,0.58681737720925775,264,0.93200000000000005,null,null,null,null,1.0942341124418722,123,0.432,null,null,null,null,0.41221767923414954,281,0.99199999999999999,null,null,null,null,0.6297518134846718,254,0.89700000000000002,null,null,null,null,0.29021191848680045,283,1,null,null,null,null,0.7472185741673627,205,0.72299999999999998,null,null,null,null,1.5191129247714961,3,7.0000000000000001E-3,null,null,null,null,0.97250639732438271,189,0.66600000000000004,null,null,null,null,0.62183119835727119,260,0.91800000000000004,null,null,null,null,{"$f":"AVERAGE(Data!Z204:AH204)","v":0.50889951667882605},279,0.98499999999999999,null,null,null,null,0.85548589499666938,266,0.93899999999999995,null,null,null,null,0.66651797897144049,275,0.97099999999999997,null,null,null,null,"Swale",9,24,5,18,8.1000000000000003E-2,1.4E-2,0.06,9,2.8000000000000001E-2,0.17132499999999998,{"$f":"H204/H$292","v":0.33786367270325707},{"$f":"I204/I$292","v":1.0249618525893477E-2},{"$f":"J204/J$292","v":0.59527609089108302},{"$f":"K204/K$292","v":0.19439277945892311},{"$f":"L204/L$292","v":0.50585261401761339},{"$f":"M204/M$292","v":0.33110901390425573},{"$f":"N204/N$292","v":0.39347815144142972},{"$f":"O204/O$292","v":0.23818029893505457},{"$f":"P204/P$292","v":0.33638605342212941},{"$f":"Q204/Q$292","v":0.78884375473385315},{"$f":"R204/R$292","v":0.30865140199877394},{"$f":"S204/S$292","v":0.25884851314782958},{"$f":"T204/T$292","v":0.73861377718727206},{"$f":"U204/U$292","v":0.14795629591730733},{"$f":"V204/V$292","v":3.4037992936466373E-2},{"$f":"W204/W$292","v":0.43750793001874211},{"$f":"X204/X$292","v":0.44506131789538461},{"$f":"Y204/Y$292","v":0.59304959577163519},{"$f":"Z204/Z$292","v":0.42855554856839306},{"$f":"AA204/AA$292","v":0.52391337243616565},{"$f":"AB204/AB$292","v":0},0,0.37391186467886589,0.11914783427783898,3.5988364165579323E-2,0.46085372195692065,0.38764479830014853,0.28829280859053952,0,0.2756382784798076,6.3526681400871213E-2,0.78884375473385315,0.32142645367146727,1,0.96592326933836536,0.65514064018857121,0.97129110185609058,0.95908607921848066,0.370314357867642,0.17314609707638351,0.404021729942661,0.35643976103483582,0.49187294789525399,0.26527615713668495,0.25090867967512187,0.18797702902344904,0.4261852180673622,0.66071322683573364,0.78435108969382994,0.39640457006591256,277,{"$f":"AVERAGE(Data!EY204:FQ204)","v":0.36140441436352122},266,{"$f":"AVERAGE(Data!FR204:FZ204)","v":0.25889061159821242},280,{"$f":"AVERAGE(Data!GA204:GL204)","v":0.55495695211214069},267]
["E05005067","29UMGP","Milton Regis","Swale","NHS Swale CCG",201,0.50455629678267566,1.030362324013278,0.56045927692947017,0.85730449970530431,0.62075684177140189,0.75621462943825057,0.67749341279412922,0.68981450511251119,0.46972251425076367,0.59507166664589284,1.1431941172022242,0.61394834869941561,0.94474033592087825,1.197108250673999,0.52678032734098301,0.97751074010989225,0.87719275589691748,0.89464706882399969,1.0288232178484249,0.65931106730237354,1.0776825168194906,0.74849679593834451,0,0.62138584642115569,0.38670776200045315,0.26079618240718289,1.2411166891912682,0.30465631433309126,1.2363927449350312,1.1814734153907518,1.2507733239139165,0.95105575122618835,1.1431941172022242,0.81192216934515182,1.0940601377776475,1.0713321048619024,0.95345413699331105,1.0655765555308025,1.0646281066610561,0.93755426234918504,0.69845929924180794,252,0.89,null,null,null,null,0.72031677776431935,238,0.84,null,null,null,null,0.80850953760550615,219,0.77300000000000002,null,null,null,null,0.93355434752311395,165,0.58099999999999996,null,null,null,null,0.62137524529627286,258,0.91100000000000003,null,null,null,null,0.54831923698299889,272,0.96,null,null,null,null,1.2228798280798998,23,7.8E-2,null,null,null,null,1.0471249342142062,85,0.29699999999999999,null,null,null,null,0.95299115356139974,189,0.66600000000000004,null,null,null,null,1.0185090332792512,151,0.53100000000000003,null,null,null,null,0.78766848052423222,232,0.81899999999999995,null,null,null,null,{"$f":"AVERAGE(Data!Z205:AH205)","v":0.58890590826815115},275,0.97099999999999997,null,null,null,null,1.0634514021822641,61,0.21199999999999999,null,null,null,null,0.82568177826402356,239,0.84299999999999997,null,null,null,null,"Swale",45,52,9,223,0.18,2.8000000000000001E-2,0.78700000000000003,45,0.156,0.29450909090909089,0.64431462425352637,0.42300457817993264,0.59527609089108302,0.4400936288943198,0.57404646583372609,0.44644746879533198,0.39347815144142972,0.23818029893505457,0.33638605342212941,0.87219886767722876,0.39453192739865783,0.41207144322857364,0.74421433784464364,0.28141726376559889,0.58382827571970952,0.42568581699187041,0.47069781547288941,0.39742838428349309,0.47777982649136025,0.66556646813241183,0.47508010063273043,0,0.37391186467886589,0.1566956212421832,7.6891826239056396E-2,0.5779943364663902,0.10607791809748909,0.72806279864391754,0.9630102651361464,0.90474610175675874,0.13120049148570562,0.87219886767722876,0.27573721167935511,0.52303095169577574,0.93227270723529287,0.69685814911186994,0.94769330231692706,0.94279243020201686,0.50981045120533164,0.45394276444751663,0.4898683611711781,0.48285355849894951,0.43127067224941767,0.39846765198707368,0.22941492551127973,0.86527305517894082,0.50169967958146722,0.39938408168756545,0.80588540801428776,0.5076305568516275,236,{"$f":"AVERAGE(Data!EY205:FQ205)","v":0.47199003073359419},236,{"$f":"AVERAGE(Data!FR205:FZ205)","v":0.32333310688672084},271,{"$f":"AVERAGE(Data!GA205:GL205)","v":0.70228447734552724},36]
["E05005068","29UMGQ","Minster Cliffs","Swale","NHS Swale CCG",202,0.83218297174049216,0.92622076166449163,0.77473412317210477,0.85730449970530431,0.84207862365474306,0.98382718710496198,1.1017957068240363,0.68981450511251119,0.46972251425076367,0.59507166664589284,1.1244906489910886,0.77606637526378641,0.88721526412074225,1.1167111856995608,0.68670462389925535,0.74332100910323462,0.63431924926240058,0.52851949055957348,0.96514622650976956,0.97502147745469148,0.91414641611692227,0.38409413847374696,0,0.62138584642115569,0.93076285639397915,0.74543124747163592,1.0475143873432777,0.90732049628266664,1.1523446531564459,0.98604820193874709,0.5110549544577232,0.2004664793060498,1.1244906489910886,0.843914747574667,1.2612049509733789,1.0908841750574609,1.1576871767085017,1.0709473327846688,1.0692189060885244,0.77158737349473727,0.84437928552569608,215,0.75800000000000001,null,null,null,null,0.89496410448031138,199,0.70199999999999996,null,null,null,null,0.79991291099679063,224,0.79,null,null,null,null,0.70932832211058117,216,0.76200000000000001,null,null,null,null,0.57892957569330328,262,0.92500000000000004,null,null,null,null,0.90775724687288983,162,0.56999999999999995,null,null,null,null,0.88314926985097209,216,0.76200000000000001,null,null,null,null,0.6624785641485692,237,0.83599999999999997,null,null,null,null,1.0525598492740229,74,0.25800000000000001,null,null,null,null,1.0320649928267787,131,0.46,null,null,null,null,0.8176445596465638,224,0.79,null,null,null,null,{"$f":"AVERAGE(Data!Z206:AH206)","v":0.72507520732867514},245,0.86499999999999999,null,null,null,null,0.93665413337766623,216,0.76200000000000001,null,null,null,null,0.83251932749436963,235,0.82899999999999996,null,null,null,null,"Swale",49,60,39,68,0.20899999999999999,0.13400000000000001,0.23699999999999999,49,0.17,0.48574450867052027,0.57919196783439586,0.58472773038826309,0.59527609089108302,0.59700258194660993,0.74682834444537227,0.72604972262752776,0.39347815144142972,0.23818029893505457,0.33638605342212941,0.85792907434124388,0.49871127346580185,0.38698048600231777,0.69423335371817296,0.36685222709128007,0.44395606640822044,0.30782368645970226,0.27806827777152843,0.37283033542075422,0.70656419318076746,0.5645681284006131,0.24378926262441949,0,0.37391186467886589,0.37714904727366866,0.21977917554123458,0.48783276264377767,0.3159188395734876,0.6785702007848019,0.80372061530643746,0.36967128174931041,2.7654846287878201E-2,0.85792907434124388,0.28660222392868817,0.60293689808584816,0.94928690976926566,0.84612747683457012,0.95246991794844282,0.94685786011290585,0.41956324324104405,0.54988806896439302,0.61172697827040445,0.47790360417302763,0.31957409988399493,0.37776668977693323,0.35016995625804209,0.61732069928018329,0.44279196031456103,0.44476956100726817,0.82286108158124571,0.51302885133971698,230,{"$f":"AVERAGE(Data!EY206:FQ206)","v":0.49948685427796885},219,{"$f":"AVERAGE(Data!FR206:FZ206)","v":0.36550147487964824},252,{"$f":"AVERAGE(Data!GA206:GL206)","v":0.64511587903253653},157]
["E05005069","29UMGR","Murston","Swale","NHS Swale CCG",203,0.71048374623109001,1.0417540026899281,0.52965962872495709,0.85730449970530431,0.57691404615197861,0.81370097163867694,0.59160873000086966,0.68981450511251119,0.46972251425076367,0.59507166664589284,1.0052137686947604,0.66166335613834182,1.0642189619070528,1.1471529128841129,0.55406840783351352,1.118271693588317,7.9127725662370391E-2,2.6561079983457525E-2,0.15442443062377828,0.68060914933356687,1.238138232263492,0.78149020609266862,0,0.62138584642115569,0.46057745643727521,0.4969623695927915,1.2455668880961912,0.24687648245624147,0.86378898038835294,1.0332636501195152,1.2165757105298289,2.3020574155861566,1.0052137686947604,0.81878669261233783,0.95647559210570399,0.9004303085734997,0.6816775809757164,0.90758505732874561,0.9045210740868086,0.96258239341426322,0.76063245921532507,233,0.82199999999999995,null,null,null,null,0.70586855052186814,240,0.84699999999999998,null,null,null,null,0.82692291024284437,216,0.76200000000000001,null,null,null,null,8.6704412089868732E-2,280,0.98899999999999999,null,null,null,null,0.6643246868221766,249,0.879,null,null,null,null,0.6124957991456248,260,0.91800000000000004,null,null,null,null,1.0378761136792323,141,0.496,null,null,null,null,1.6536355921404584,21,7.0000000000000007E-2,null,null,null,null,0.88763114235902085,241,0.85099999999999998,null,null,null,null,0.87135928287580666,247,0.872,null,null,null,null,0.6677229814982989,256,0.90400000000000003,null,null,null,null,{"$f":"AVERAGE(Data!Z207:AH207)","v":0.64128962563259817},260,0.91800000000000004,null,null,null,null,1.0460798520346406,79,0.27600000000000002,null,null,null,null,0.77528253758941867,252,0.89,null,null,null,null,"Swale",32,28,24,205,9.5000000000000001E-2,8.1000000000000003E-2,0.72299999999999998,32,0.109,0.41470877192982458,0.65143816225089213,0.39975865696293061,0.59527609089108302,0.40901070926033939,0.61768464775884524,0.38985208570045299,0.39347815144142972,0.23818029893505457,0.33638605342212941,0.76692689162433703,0.42519426876760169,0.46418494783203668,0.71315826700545781,0.29599513721122694,0.66789919318986668,3.839925753930077E-2,1.3974496491949791E-2,5.9653253243113068E-2,0.493213806659625,0.76466239123868873,0.49602142289541706,0,0.37391186467886589,0.18662793395519908,0.1465218693670042,0.58006681666554905,8.5959627469125693E-2,0.50865117502154766,0.84220557880944225,0.88000927949881347,0.31757451018387817,0.76692689162433703,0.2780684751633028,0.45725671006441426,0.78355404233753789,0.49822278695836963,0.80718018395677182,0.80100799168430892,0.52341990646943826,0.48863519704788239,0.48106033701043005,0.48849063224846384,3.7342335758121209E-2,0.42556189709451936,0.24979406186421949,0.74362201110993453,0.54225070090410754,0.36766259261385853,0.68267698228128537,0.46205556515398766,255,{"$f":"AVERAGE(Data!EY207:FQ207)","v":0.41532417586620374},255,{"$f":"AVERAGE(Data!FR207:FZ207)","v":0.34744285921438611},258,{"$f":"AVERAGE(Data!GA207:GL207)","v":0.62200646098101353},213]
["E05005070","29UMGS","Queenborough and Halfway","Swale","NHS Swale CCG",204,0.43930709898246351,0.96345985877438078,0.51791407218075725,0.85730449970530431,0.60071756202182935,0.87718171547971957,0.84576629433399364,0.68981450511251119,0.46972251425076367,0.59507166664589284,1.1328109346396587,0.59106146759934286,0.81268070947067905,1.0867125211792024,0.63807809523703141,1.0445022344696995,0.95479926949339855,0.92390568366525017,1.1901464357598401,0.77081230638849962,0.97478705567869328,0.59176315004727509,0,0.62138584642115569,0.58035036387046879,0.42175727329116947,1.2253615463620136,0.47355513911769082,1.1516583890646666,0.79499924796053978,0.72545559258958547,0.71279426752977371,1.1328109346396587,0.6529830326747621,1.1270662878395521,0.75622864044645577,1.0784641378607149,0.83761956425076478,0.78880899328138077,0.72413586335035174,0.64022700997920046,260,0.91800000000000004,null,null,null,null,0.77415691533067166,229,0.80800000000000005,null,null,null,null,0.7963300179365338,227,0.80100000000000005,null,null,null,null,1.0229504629728297,142,0.5,null,null,null,null,0.59174967170712467,260,0.91800000000000004,null,null,null,null,0.6752560806603356,240,0.84699999999999998,null,null,null,null,0.89070440987159738,212,0.748,null,null,null,null,0.92280260108471612,127,0.44600000000000001,null,null,null,null,0.8900246602571571,239,0.84299999999999997,null,null,null,null,0.83705143983793362,256,0.90400000000000003,null,null,null,null,0.80162932310535373,228,0.80400000000000005,null,null,null,null,{"$f":"AVERAGE(Data!Z208:AH208)","v":0.62886363124188516},265,0.93600000000000005,null,null,null,null,0.87358541262401734,263,0.92900000000000005,null,null,null,null,0.78434386929167221,249,0.879,null,null,null,null,"Swale",35,56,19,21,0.19500000000000001,6.3E-2,7.0000000000000007E-2,35,0.12,0.25642318840579709,0.60247862564661381,0.39089374135534571,0.59527609089108302,0.42588652113171938,0.66587321120612541,0.55733415877883674,0.39347815144142972,0.23818029893505457,0.33638605342212941,0.86427702838704845,0.37982449259297119,0.35447042970720605,0.675583882177339,0.34087490042910823,0.62383963010705468,0.46334685776326839,0.48609155739577115,0.45974659865663869,0.55858090098585056,0.60201921039230399,0.37559933242300581,0,0.37391186467886589,0.23516042278123092,0.12434877947074444,0.57065708654876801,0.16488659810624889,0.67816608699707837,0.64799802229008263,0.52475784927936298,9.8331730929050828E-2,0.86427702838704845,0.2217598280989016,0.53881000942998591,0.65806981674348308,0.7882251424941048,0.74495487612773992,0.69853796183658767,0.39376070917067607,0.41659851846925222,0.52756962668983887,0.47667958946973893,0.46972833793855945,0.38202226169600528,0.27376322172674805,0.61697398618884136,0.48130437965804962,0.38028491876444376,0.65670970127451833,0.4743269668900415,252,{"$f":"AVERAGE(Data!EY208:FQ208)","v":0.47948765360160728},231,{"$f":"AVERAGE(Data!FR208:FZ208)","v":0.33390713282077983},265,{"$f":"AVERAGE(Data!GA208:GL208)","v":0.57147075514867529},258]
["E05005071","29UMGT","Roman","Swale","NHS Swale CCG",205,0.59170862415657866,1.1597034437079641,0.68279017347167592,0.85730449970530431,0.68653534762688417,0.80159074950385456,0.63799114772188903,0.68981450511251119,0.46972251425076367,0.59507166664589284,0.84375914572957533,0.49378473149087965,1.0858464168643769,1.1464896873322628,0.54291268257952119,0.91127058474861844,0.30097462576966583,0.53986344922911045,0.35182688526472772,0.6172209712578145,0.84008246912400786,0.67229507612962314,0,0.62138584642115569,0.39251284987452134,0.24380808818817445,1.322674065934309,0.30047857960066626,1.0493230675247645,1.161943325722492,1.323197779243781,0.17552851944389547,0.84375914572957533,0.78851160941286891,1.1735262097828782,1.0539415963666605,0.69382223390312514,1.0462235744984782,1.0345881093931233,0.24050761052620534,0.81140074711207288,223,0.78700000000000003,null,null,null,null,0.73464724993408859,236,0.83299999999999996,null,null,null,null,0.76110717870523636,237,0.83599999999999997,null,null,null,null,0.39755498675450135,265,0.93600000000000005,null,null,null,null,0.55019687258652028,270,0.95299999999999996,null,null,null,null,0.56486839589941773,269,0.95,null,null,null,null,1.1781547241636792,42,0.14499999999999999,null,null,null,null,0.5096438325867354,272,0.96,null,null,null,null,0.98101890959787363,155,0.54600000000000004,null,null,null,null,0.8138166249375185,262,0.92500000000000004,null,null,null,null,0.70468215162695058,253,0.89300000000000002,null,null,null,null,{"$f":"AVERAGE(Data!Z209:AH209)","v":0.55671754961447473},277,0.97799999999999998,null,null,null,null,0.88207273179565393,259,0.91400000000000003,null,null,null,null,0.72460729022475445,265,0.93600000000000005,null,null,null,null,"Swale",19,31,7,25,0.106,2.1000000000000001E-2,8.5000000000000006E-2,19,6.3E-2,0.34537983193277311,0.72519527467561817,0.51533337247468858,0.59527609089108302,0.48672815532592062,0.60849171503005062,0.42041668248783043,0.39347815144142972,0.23818029893505457,0.33638605342212941,0.6437452401335797,0.31731308056747431,0.47361828759617258,0.71274595511584049,0.29003551132286837,0.54426566622487116,0.14605755531300652,0.28403663864883461,0.135908665485478,0.44727859606691883,0.51882693946354053,0.42671393405518304,0,0.37391186467886589,0.15904786740886739,7.1883142535315428E-2,0.61597602043298838,0.10462327763238227,0.61790486263638267,0.94709143312134114,0.95713428623330998,2.4214593088896914E-2,0.6437452401335797,0.26778674208596237,0.56102083345204523,0.91713949470345391,0.50709904018570184,0.93048131467605399,0.91619019994875062,0.13077994348130276,0.52863615969435995,0.50087815903526289,0.44453626166474886,0.18866761981577304,0.35334626685290166,0.23788257700238835,0.8407101939970113,0.33397991661123833,0.41440378776900377,0.68033799859905264,0.45878604632613873,258,{"$f":"AVERAGE(Data!EY209:FQ209)","v":0.43224169615919494},251,{"$f":"AVERAGE(Data!FR209:FZ209)","v":0.3020290713637846},277,{"$f":"AVERAGE(Data!GA209:GL209)","v":0.61838233197889836},218]
["E05005074","29UMGX","Sheerness East","Swale","NHS Swale CCG",206,0.42365112622818557,0.52184211384154255,0.24025678744880105,0.85730449970530431,4.1661306550387842E-3,0.54345179538805011,0.26217058786362896,0.68981450511251119,0.46972251425076367,0.59507166664589284,0.78815820889558241,0.48029382765251455,0.83381727566187902,1.0799719576810969,0.29150327470177334,0.97969780613984092,0.61913904046583468,0.7534592552491175,0.75480514715957792,0,1.1785485527554207,0.74987138361328298,0,0.62138584642115569,0.36640021516774995,1.0985624239556331,1.640305447769735,0.34036170689920436,1.1980215147660394,1.1561669498096467,0.48393608498828877,0.5251760488986309,0.78815820889558241,0.59346878517272039,0.89336487567299983,0.91729530900598844,0.79501562603960196,0.98404115728313546,0.89385815479668007,0.59068523332258871,0.39525000917284303,278,0.98199999999999998,null,null,null,null,0.47138150374490662,272,0.96,null,null,null,null,0.68977956645366789,253,0.89300000000000002,null,null,null,null,0.70913448095817666,217,0.76500000000000001,null,null,null,null,0.50996115655797192,274,0.96799999999999997,null,null,null,null,0.86140744844808059,182,0.64100000000000001,null,null,null,null,0.94604151652132495,189,0.66600000000000004,null,null,null,null,0.65666712889710666,243,0.85799999999999998,null,null,null,null,0.74341683042286011,274,0.96799999999999997,null,null,null,null,0.83617909608959895,257,0.90700000000000003,null,null,null,null,0.58885776424983871,265,0.93600000000000005,null,null,null,null,{"$f":"AVERAGE(Data!Z210:AH210)","v":0.6661595085091313},256,0.90400000000000003,null,null,null,null,0.81826566238765863,276,0.97499999999999998,null,null,null,null,0.67507302614952558,274,0.96799999999999997,null,null,null,null,"Swale",10,19,28,8,6.3E-2,9.5000000000000001E-2,2.4E-2,10,3.1E-2,0.24728481012658224,0.32632259319212692,0.18133292678539284,0.59527609089108302,2.9536324612900247E-3,0.41253708980114001,0.1727624108721306,0.39347815144142972,0.23818029893505457,0.33638605342212941,0.60132455810008101,0.30864363418004537,0.36368965641336148,0.67139343073101576,0.15572725420359981,0.58513452324902726,0.3004570050316665,0.39641512038906485,0.29157680822157639,0,0.72786037217617439,0.47595256829656274,0,0.37391186467886589,0.14846691734859177,0.32389458402297017,0.76389856581790239,0.11851013607582969,0.70546749845415946,0.94238315172720133,0.3500548644757599,7.244933395669477E-2,0.60132455810008101,0.20154817077386072,0.42708573779496478,0.79822995799372687,0.58105901079210298,0.87517805184525532,0.79156533323138056,0.32119474830818823,0.25164677670136731,0.31540147509341471,0.40755992615428932,0.32948297788076925,0.31554496103032059,0.33869255081632349,0.66596850488570691,0.33688694602838787,0.31431695428441275,0.6734454204341308,0.40452278685795184,275,{"$f":"AVERAGE(Data!EY210:FQ210)","v":0.34636189728672623},269,{"$f":"AVERAGE(Data!FR210:FZ210)","v":0.3258327787129886},269,{"$f":"AVERAGE(Data!GA210:GL210)","v":0.5556283681211146},265]
["E05005075","29UMGY","Sheerness West","Swale","NHS Swale CCG",207,0.15021690317318973,0.67688145562007418,0,0.85730449970530431,0.10472407789084533,0.40238083562263494,0.26824399309634606,0.68981450511251119,0.46972251425076367,0.59507166664589284,1.0234289040853346,0.2339634809142318,0.81801486661381473,1.0976185517522714,0.15368081055870497,0.80977841824445584,0.45731504693316383,0.6180010242016063,0.58342273622271501,0.11513122108876549,0.83726907810713802,0.25993468750443444,0,0.62138584642115569,9.6365381664506825E-2,0.39898315679255325,1.5030410176426561,0.21437351555912229,1.1148071743323646,1.1394206975423524,0.55484111539491932,1.005634170864993,1.0234289040853346,0.59906729025143479,1.2707866101203775,0.97636594167164259,0.69338472440254417,1.0149983820649056,0.950679526564713,0.72881741381166731,0.27569945293108794,281,0.99199999999999999,null,null,null,null,0.46449358228552839,273,0.96399999999999997,null,null,null,null,0.65015990163318371,257,0.90700000000000003,null,null,null,null,0.55291293578582834,238,0.84,null,null,null,null,0.36674416662429871,282,0.996,null,null,null,null,0.55319076791470956,271,0.95699999999999996,null,null,null,null,0.93635632908987887,194,0.68400000000000005,null,null,null,null,1.0145315374751638,95,0.33300000000000002,null,null,null,null,0.9349269501859061,210,0.74099999999999999,null,null,null,null,0.87284919770309455,246,0.86799999999999999,null,null,null,null,0.52682022582336108,273,0.96399999999999997,null,null,null,null,{"$f":"AVERAGE(Data!Z211:AH211)","v":0.44960932275337029},282,0.996,null,null,null,null,0.92268599592560419,228,0.80400000000000005,null,null,null,null,0.62820750366328615,278,0.98199999999999998,null,null,null,null,"Swale",6,11,2,56,3.5000000000000003E-2,3.0000000000000001E-3,0.19500000000000001,6,1.7000000000000001E-2,8.7681481481481444E-2,0.42327306674346898,0,0.59527609089108302,7.4245495772668271E-2,0.30544938912380082,0.17676459944239614,0.39347815144142972,0.23818029893505457,0.33638605342212941,0.78082411189793977,0.15034825529139637,0.3567970519004221,0.68236390755673171,8.2099560207599703E-2,0.48364843294258358,0.22192674080780506,0.32514691232831872,0.22537278648916445,8.3431596348892023E-2,0.51708941594121438,0.16498373562539098,0,0.37391186467886589,3.9047660352217843E-2,0.11763417424762981,0.69997382457263235,7.4642458258352806E-2,0.65646586379426619,0.92873340504150859,0.40134397388417142,0.13872971936944639,0.78082411189793977,0.20344948131600604,0.60751754601317243,0.84963319549906569,0.50677927434803383,0.90271052187917866,0.84188408664529102,0.39630637873762314,0.17031818274165014,0.30904274533427561,0.38883095901923215,0.25748214654176277,0.22788332251887264,0.2328245293577082,0.66218108090664873,0.45977691563369305,0.40548351366458923,0.69946269142183859,0.38060886687815937,278,{"$f":"AVERAGE(Data!EY211:FQ211)","v":0.31259275719344598},276,{"$f":"AVERAGE(Data!FR211:FZ211)","v":0.230079414447244},282,{"$f":"AVERAGE(Data!GA211:GL211)","v":0.60119812986880861},239]
["E05005076","29UMGZ","Sheppey Central","Swale","NHS Swale CCG",208,0.6460411820295785,0.83477175780666535,0.65312733745273022,0.85730449970530431,0.69906912879031347,0.81820925648313048,0.88074100969346969,0.68981450511251119,0.46972251425076367,0.59507166664589284,0.66568420530416517,0.98319569523045414,0.82211295123931083,1.1324645290541548,0.4164839330625929,0.85164438171820944,1.2933750204710375,1.1891299569747928,1.4545399556307455,0.84804361488135183,1.136414402979288,0.80000148689090556,0,0.62138584642115569,0.86021930501058363,0.99573102144799042,0.9982606223627194,0.68689613278592943,0.91052740471148452,0.77099982509270659,0.68764988722059328,0.44387013206802284,0.66568420530416517,1.1020084660225657,0.94342380027590877,0.89634115809485493,1.1514162153797176,0.97919831171792138,0.80349853960791806,1.0204452902780099,0.71131342576299128,248,0.875,null,null,null,null,0.78902767995694578,223,0.78700000000000003,null,null,null,null,0.74204748456319303,241,0.85099999999999998,null,null,null,null,1.3123483110255254,67,0.23400000000000001,null,null,null,null,0.68116907023454021,246,0.86799999999999999,null,null,null,null,0.88527677040180563,172,0.60599999999999998,null,null,null,null,0.78972570567492817,245,0.86499999999999999,null,null,null,null,0.55477716868609406,266,0.93899999999999995,null,null,null,null,1.0227161331492374,102,0.35799999999999998,null,null,null,null,0.97017990301568435,191,0.67300000000000004,null,null,null,null,0.83960544666609582,217,0.76500000000000001,null,null,null,null,{"$f":"AVERAGE(Data!Z212:AH212)","v":0.77188360364221387},231,0.81499999999999995,null,null,null,null,0.86458860298115592,265,0.93600000000000005,null,null,null,null,0.83186297888024041,237,0.83599999999999997,null,null,null,null,"Swale",47,67,53,19,0.23400000000000001,0.184,6.3E-2,47,0.16300000000000001,0.37709370078740151,0.52200632625395382,0.49294545607412976,0.59527609089108302,0.49561414234177081,0.62110691027689879,0.58038142809423598,0.39347815144142972,0.23818029893505457,0.33638605342212941,0.50788313319688161,0.63181551586719609,0.35858453104351906,0.70402684063706911,0.22249458220360396,0.50865330732736835,0.6276515606916282,0.62563316034461591,0.56188026709879124,0.61454774729163653,0.70183872218502041,0.5077707599562955,0,0.37391186467886589,0.34856450179811632,0.29357629385263689,0.46489503450238928,0.23916954380102728,0.53617358499710466,0.62843626975464972,0.49741111594024168,6.1232981776374824E-2,0.50788313319688161,0.37425353456376842,0.45101711603630212,0.77999566546288046,0.84154417247290547,0.87087096355348781,0.71154644150485025,0.55488380220624578,0.46401516103849505,0.53717134460908367,0.4385030328291028,0.60505499604501178,0.43961381882236361,0.33655134348854243,0.55400699023066535,0.28455805748662821,0.41263532530003527,0.75176820904007391,0.494015367661511,241,{"$f":"AVERAGE(Data!EY212:FQ212)","v":0.49479428720677698},222,{"$f":"AVERAGE(Data!FR212:FZ212)","v":0.39380827422955422},238,{"$f":"AVERAGE(Data!GA212:GL212)","v":0.56793739845547431},262]
["E05005072","29UMGU","St Ann's","Swale","NHS Canterbury & Coastal CCG",209,0.85537665898121962,0.8618897524571465,0.99457209657283741,0.85730449970530431,1.0478115168427691,1.010658967671856,1.0145236080926245,0.68981450511251119,0.46972251425076367,0.59507166664589284,1.1030702655316764,0.91058791097337155,0.45949444506564718,1.0507463367362615,0.78298306564057918,1.0421754570396651,0.7209360043438463,0.85828405136673158,0.56547884612594401,0.98171389802994202,0.93457341715850351,1.0908652802930425,0,0.62138584642115569,0.71706705001517379,0.44189612117572047,1.1571700599526102,0.55836755557646345,0.98590032808853689,1.1166062129984717,1.3387281634204624,0.2240834671753637,1.1030702655316764,0.94599625605933502,1.0344244737348403,1.0752306516978543,1.1476095676372255,1.046262914868638,1.0783785804696315,0.79308035355063944,0.90394616933706784,199,0.70199999999999996,null,null,null,null,0.92402261948501307,191,0.67300000000000004,null,null,null,null,0.80173145773548216,222,0.78300000000000003,null,null,null,null,0.71489963394550726,214,0.755,null,null,null,null,0.72570768838052879,240,0.84699999999999998,null,null,null,null,0.71862519667999203,229,0.80800000000000005,null,null,null,null,1.1470782348358235,65,0.22600000000000001,null,null,null,null,0.66357686635352009,236,0.83299999999999996,null,null,null,null,0.99021036489708769,146,0.51400000000000001,null,null,null,null,1.0281124136447977,137,0.48199999999999998,null,null,null,null,0.83634221942929732,218,0.76900000000000002,null,null,null,null,{"$f":"AVERAGE(Data!Z213:AH213)","v":0.72255991429140132},248,0.875,null,null,null,null,0.99078093626938957,144,0.50700000000000001,null,null,null,null,0.85707281582529848,228,0.80400000000000005,null,null,null,null,"Swale",56,66,36,140,0.23,0.124,0.49199999999999999,56,0.19500000000000001,0.49928264462809924,0.53896397321611966,0.7506496323608316,0.59527609089108302,0.74285958980120637,0.76719648889385172,0.6685400748002438,0.39347815144142972,0.23818029893505457,0.33638605342212941,0.84158641309292104,0.58515672261890994,0.20041966235002731,0.65322454238920258,0.41828622002572169,0.62244993851675279,0.34985723484933684,0.45156625680849077,0.21844116682389858,0.71141395788187167,0.57718364987896653,0.69238557860314431,0,0.37391186467886589,0.29055860242674841,0.13028641543573713,0.53889996549551478,0.19441733206283249,0.58055771921390142,0.91013748699261998,0.96836817991651458,3.0912868135567977E-2,0.84158641309292104,0.32127016572942391,0.49452127746280566,0.93566522090733006,0.83876197939488384,0.93051630287574505,0.95496930449014172,0.43125040237420331,0.5962987500683502,0.63347007916556297,0.48696123141883996,0.3399548861605754,0.47097901020856969,0.28854057885520817,0.81968779537434522,0.43624964061424448,0.40789572159611476,0.81823264200846091,0.54048439607287624,211,{"$f":"AVERAGE(Data!EY213:FQ213)","v":0.51956848188764793},210,{"$f":"AVERAGE(Data!FR213:FZ213)","v":0.38989526294040905},240,{"$f":"AVERAGE(Data!GA213:GL213)","v":0.68654311004883828},69]
["E05005073","29UMGW","St Michaels","Swale","NHS Swale CCG",210,1.1087849870146076,1.0524486337848504,1.1102352688488031,0.85730449970530431,1.1022524096326565,1.0920319680274631,1.0238483744123494,0.68981450511251119,0.46972251425076367,0.59507166664589284,1.017477968936304,1.0600835288531472,1.0320845917436596,1.1646816876730837,0.84739336769190532,1.2032725396587105,1.0169250347381273,0.9525774293257897,0.87122926378865739,1.0458725691444262,1.0802733220388572,0.99870786283509771,0,0.62138584642115569,0.96042464111513426,0.83973469307205306,0.94396417117009912,0.60909127746468217,1.0701776852145855,1.2040684846702618,1.3824578204705957,1.8079941342856376,1.017477968936304,1.2672709781842639,0.70006508801596601,0.9059012793582033,0.80567339308927222,0.85549438551327539,0.96515419789307311,0.91132794355553504,1.0904896298827538,120,0.42099999999999999,null,null,null,null,0.95305035137805683,182,0.64100000000000001,null,null,null,null,0.92372348318168351,177,0.624,null,null,null,null,0.94691057595085815,160,0.56299999999999994,null,null,null,null,0.7492479200879073,232,0.81899999999999995,null,null,null,null,0.83830369570549212,192,0.67700000000000005,null,null,null,null,1.218901330118481,24,8.1000000000000003E-2,null,null,null,null,1.4127360516109708,39,0.13400000000000001,null,null,null,null,0.98366803310011497,151,0.53100000000000003,null,null,null,null,0.88871023988187192,239,0.84299999999999997,null,null,null,null,0.96143369683392554,179,0.63100000000000001,null,null,null,null,{"$f":"AVERAGE(Data!Z214:AH214)","v":0.78882826480683377},222,0.78300000000000003,null,null,null,null,1.0744219465989147,52,0.18,null,null,null,null,0.95649394955732647,182,0.64100000000000001,null,null,null,null,"Swale",102,105,62,232,0.36799999999999999,0.216,0.81899999999999995,102,0.35799999999999998,0.64719687499999989,0.65812581673404091,0.83794598628612271,0.59527609089108302,0.78145616813255114,0.82896715749771399,0.67468481103226108,0.39347815144142972,0.23818029893505457,0.33638605342212941,0.77628385156900492,0.68122472961771641,0.45016876181033644,0.7240554983255636,0.4526955744013777,0.7186668168687792,0.49349537068322152,0.50117653170407594,0.33655076269773299,0.75790751801338396,0.66716652478412575,0.63389213494706831,0,0.37391186467886589,0.38916812793548339,0.24758312606659269,0.43960890181811446,0.21207876418458857,0.63018532237063796,0.98142733942167659,1,0.24941725941483028,0.77628385156900492,0.43037840221622514,0.33467603524770201,0.78831487860998239,0.58884853262827586,0.76085223075952901,0.8547022815366877,0.49554946178361658,0.71442289267338788,0.65477247579900777,0.54720769811874526,0.44374088836167686,0.48657560848468878,0.32210973000119475,0.87053755393077148,0.5128505554919176,0.3825272187319636,0.69765347706361835,0.56844919662591475,185,{"$f":"AVERAGE(Data!EY214:FQ214)","v":0.58557975300264187},170,{"$f":"AVERAGE(Data!FR214:FZ214)","v":0.41347966249202478},223,{"$f":"AVERAGE(Data!GA214:GL214)","v":0.65755296629651394},127]
["E05005077","29UMHA","Teynham and Lynsted","Swale","NHS Canterbury & Coastal CCG",211,0.77939957472601162,0.57908780824498807,0.89715633867724465,0.85730449970530431,0.92253582213860463,0.98345802340648369,0.85400391585518198,0.68981450511251119,0.46972251425076367,0.59507166664589284,1.0878858670093132,0.97223638927933997,0.92129280411387604,1.1114265000974903,0.79114898696873548,1.0654821756931057,1.0636416904335768,1.0157776259214515,1.1346680503718911,0.903866481062641,0.9874031639848293,0.82188994546261851,0,0.62138584642115569,0.83372925894094396,1.1137769104705624,0.87502371596456174,0.97974664683751034,0.83423913005221706,1.079176383823615,1.0148578377292046,0.58920597451047318,1.0878858670093132,0.94956401341815433,1.1063958445391271,1.0825791037162555,1.1193646561300694,1.0765423861845214,1.0681267408541797,0.90886617279499293,0.75188124054941474,236,0.83299999999999996,null,null,null,null,0.86142335324361718,209,0.73699999999999999,null,null,null,null,0.87678336300731474,197,0.69499999999999995,null,null,null,null,1.0713624555756398,129,0.45300000000000001,null,null,null,null,0.66690908738624888,248,0.875,null,null,null,null,0.95056913305339452,146,0.51400000000000001,null,null,null,null,0.97609111720167885,176,0.62,null,null,null,null,0.8385459207598932,160,0.56299999999999994,null,null,null,null,1.0279799289786407,96,0.33600000000000002,null,null,null,null,1.0510958119360039,114,0.4,null,null,null,null,0.88374288203430351,201,0.70899999999999996,null,null,null,null,{"$f":"AVERAGE(Data!Z215:AH215)","v":0.79298021879386926},221,0.78,null,null,null,null,0.99306700923017666,138,0.48499999999999999,null,null,null,null,0.89611852096396805,213,0.751,null,null,null,null,"Swale",71,83,63,146,0.28999999999999998,0.219,0.51400000000000001,71,0.248,0.45493488372093022,0.3621199406106772,0.67712544733446922,0.59527609089108302,0.65404375824744676,0.74654811035814894,0.56276249978935811,0.39347815144142972,0.23818029893505457,0.33638605342212941,0.8300014906390013,0.62477291023269255,0.40184423274068731,0.69094798767558852,0.42264862901676092,0.636370114332512,0.51616612076997015,0.53442785003023863,0.43831562326175999,0.65500063916780893,0.6098107988386603,0.52166363318885012,0,0.37391186467886589,0.33783062305685801,0.32838034620945755,0.40750298219811437,0.34113681440355542,0.49125043660459222,0.87962870935266091,0.7340967823407023,8.1282420449506412E-2,0.8300014906390013,0.32248181322866976,0.52892821111005472,0.94205984048989788,0.8181184098816463,0.95744599836765265,0.94589068189449543,0.4942108337035187,0.49806009055535888,0.59042172214549327,0.52264396462430329,0.49630319802065626,0.43207738717483701,0.35371269146699635,0.70165864276598511,0.45564195554425385,0.42570501216936224,0.83154515286744224,0.54292458808136268,209,{"$f":"AVERAGE(Data!EY215:FQ215)","v":0.53243948386578632},204,{"$f":"AVERAGE(Data!FR215:FZ215)","v":0.39724863352690787},236,{"$f":"AVERAGE(Data!GA215:GL215)","v":0.66878296900519996},104]
["E05005078","29UMHB","Watling","Swale","NHS Canterbury & Coastal CCG",212,0.78525039045985101,0.9110540557356902,0.9856215472968527,0.85730449970530431,1.0061313997815635,1.037353817631979,1.0692614117299131,0.68981450511251119,0.46972251425076367,0.59507166664589284,1.0127611644277601,1.0016203644022963,0.43647240629305573,1.04699211528634,0.81733614929336729,1.008262405471114,1.1456424009856361,1.075600075071883,1.0709112601395581,0.94238069129284274,1.0788564519882553,0.94526885525277582,0,0.62138584642115569,0.97741275364289637,0.78342685165928361,0.99069981042838973,0.70037180888997064,1.1350797957136212,1.0985353117241379,1.3236510422286296,0.44247331451587057,1.0127611644277601,1.0447094995466366,0.95794233362652637,1.0987302337137075,1.0263615165848148,1.0842528899986359,1.0864640153860112,1.0229457648441327,0.8939753311641313,204,0.71899999999999997,null,null,null,null,0.93197312679225419,189,0.66600000000000004,null,null,null,null,0.79852984825882367,225,0.79400000000000004,null,null,null,null,1.0973845787323591,122,0.42899999999999999,null,null,null,null,0.71757836899100591,242,0.85399999999999998,null,null,null,null,0.86297780615513509,181,0.63800000000000001,null,null,null,null,1.1857553832221297,37,0.127,null,null,null,null,0.72761723947181534,211,0.74399999999999999,null,null,null,null,1.0013259165865815,128,0.45,null,null,null,null,1.0637508841054604,100,0.35099999999999998,null,null,null,null,0.89590442893270172,192,0.67700000000000005,null,null,null,null,{"$f":"AVERAGE(Data!Z216:AH216)","v":0.7822003410639522},225,0.79400000000000004,null,null,null,null,1.0278255735258739,100,0.35099999999999998,null,null,null,null,0.90989735254018478,206,0.72599999999999998,null,null,null,null,"Swale",78,92,59,184,0.32200000000000001,0.20499999999999999,0.64800000000000002,78,0.27300000000000002,0.45834999999999992,0.56970779881546585,0.74389423821032485,0.59527609089108302,0.71330992923224401,0.78746068860518703,0.70461061573804806,0.39347815144142972,0.23818029893505457,0.33638605342212941,0.77268517004195569,0.64365546992106459,0.19037804098341249,0.65089063028985616,0.43663836854325844,0.60219502201380481,0.55595958603813211,0.56590204484133866,0.41368674855369442,0.68291054936623485,0.66629147932253219,0.59997374112402524,0,0.37391186467886589,0.39605178300488098,0.2309816071415681,0.46137392603999511,0.24386162336354011,0.66840360891542649,0.89540802867324687,0.95746215372997923,6.104028734271838E-2,0.77268517004195569,0.35479420971133285,0.45795790663216945,0.95611454642030091,0.75014451038242602,0.96430349986221719,0.96212944499963959,0.55624347611310676,0.59065067900859691,0.63882709518159841,0.48387613176881705,0.51184945981105512,0.46461752689833158,0.33306723488749612,0.84042459710621742,0.41686272869233704,0.40637605817175115,0.83778709555553799,0.55961720908459112,197,{"$f":"AVERAGE(Data!EY216:FQ216)","v":0.54592868139565698},193,{"$f":"AVERAGE(Data!FR216:FZ216)","v":0.40615073044907135},228,{"$f":"AVERAGE(Data!GA216:GL216)","v":0.69639057023537665},46]
["E05005079","29UMHC","West Downs","Swale","NHS Swale CCG",213,1.4054681460315095,0.98392072838431066,1.1574399333060639,0.85730449970530431,1.1891673622540846,1.1475459196410691,1.41255352536269,0.68981450511251119,0.46972251425076367,0.59507166664589284,1.3107035099078821,1.2508806614982024,0.99506080530995744,1.1644830842027896,0.96643679242078884,1.081538099209705,1.5336619715977062,1.3649128263012666,1.4031889897450438,1.1632144537058575,1.1753548378794108,1.1466289466651214,0,0.62138584642115569,1.5426250189164481,1.5564150200434703,0.67292147228533394,1.7397756362783636,0.86506598628919296,0.79766159344770338,1.1532874319932045,0.58412316452061241,1.3107035099078821,0.79399761056706919,1.0752780641240773,1.139460129277261,0.89370014849184543,1.1155248516654603,1.1202873257484534,1.4713233073411545,1.1822762692406279,62,0.216,null,null,null,null,1.0592771624151318,131,0.46,null,null,null,null,0.97923714168074771,152,0.53500000000000003,null,null,null,null,1.4339212625480056,41,0.14099999999999999,null,null,null,null,0.82131681693430902,211,0.74399999999999999,null,null,null,null,1.3779342868809041,33,0.113,null,null,null,null,0.9386716705767002,193,0.68,null,null,null,null,0.94741333721424725,115,0.40400000000000003,null,null,null,null,0.93463783734557326,211,0.74399999999999999,null,null,null,null,1.1480591525048349,28,9.5000000000000001E-2,null,null,null,null,1.1041513442572388,100,0.35099999999999998,null,null,null,null,{"$f":"AVERAGE(Data!Z217:AH217)","v":1.0687023591327955},114,0.4,null,null,null,null,1.0267010936144931,103,0.36099999999999999,null,null,null,null,1.0729402474114156,103,0.36099999999999999,null,null,null,null,"Swale",181,184,170,181,0.64800000000000002,0.59899999999999998,0.63800000000000001,181,0.63800000000000001,0.82037058823529407,0.61527338454586533,0.87357353319062625,0.59527609089108302,0.84307565313925581,0.87110808745026957,0.93082963469008118,0.39347815144142972,0.23818029893505457,0.33638605342212941,1,0.80383367651700244,0.43401993812890544,0.72393203117039584,0.51629110581689208,0.64595967867911952,0.74425848250581361,0.71811724202644478,0.54204368968753192,0.84294110538409017,0.72588796425726232,0.72777946188421516,0,0.37391186467886589,0.62507818418851446,0.45888552574818625,0.31338294235733044,0.60577040018729567,0.50940315330179808,0.65016808045650309,0.83422974279289008,8.0581234248867387E-2,1,0.26964984512544327,0.51405191524371963,0.99155768289509127,0.65318530506664518,0.99211588787707772,0.99208202729064621,0.80005609201224792,0.76973916865726189,0.72675352352242384,0.58732534783368739,0.66813980473993018,0.53410407924088665,0.50077926312033172,0.66460032551706372,0.54029061712443371,0.39185088018458147,0.88579939902834171,0.64016814338674699,107,{"$f":"AVERAGE(Data!EY217:FQ217)","v":0.66557933265648384},97,{"$f":"AVERAGE(Data!FR217:FZ217)","v":0.51929304985397329},152,{"$f":"AVERAGE(Data!GA217:GL217)","v":0.69059008052591075},60]
["E05005080","29UMHD","Woodstock","Swale","NHS Swale CCG",214,1.2178599321571086,1.2369849653480203,1.1708550107113564,0.85730449970530431,1.2649593990624712,1.1966296248047519,1.4350064553329354,0.68981450511251119,0.46972251425076367,0.59507166664589284,1.2301072910343658,0.88731638494349752,1.0325473980695854,1.1835644064081869,1.0560713050068526,1.0087015971247195,0.78602171725783865,0.65064313669239282,1.1188767712240479,1.2608367294592633,0.83610559390574468,0.92483089393350515,0,0.62138584642115569,1.2525411956884318,0.92627478103960448,1.1973831836456983,1.1218334876860605,1.1753127623077086,0.79766159344770338,1.2563530462977313,1.6234742752112687,1.2301072910343658,0.88565080730611423,1.1241069234944407,1.114221891721181,1.0996279402230782,1.0888683992354586,1.0959997678401121,0.94054163606701291,1.2085666360721616,47,0.16300000000000001,null,null,null,null,1.0887428968035948,124,0.436,null,null,null,null,0.93288782043548313,174,0.61299999999999999,null,null,null,null,0.85184720839142647,186,0.65600000000000003,null,null,null,null,0.72863181274393374,239,0.84299999999999997,null,null,null,null,1.1245081620149486,94,0.32900000000000001,null,null,null,null,1.0764424673510478,113,0.39700000000000002,null,null,null,null,1.4267907831228173,37,0.127,null,null,null,null,1.0048788654002774,125,0.439,null,null,null,null,1.0678519270173685,95,0.33300000000000002,null,null,null,null,1.0046346621522424,160,0.56299999999999994,null,null,null,null,{"$f":"AVERAGE(Data!Z218:AH218)","v":0.90457685686438483},193,0.68,null,null,null,null,1.1193271945155148,25,8.5000000000000006E-2,null,null,null,null,1.0165294156714562,149,0.52400000000000002,null,null,null,null,"Swale",135,124,91,259,0.436,0.31900000000000001,0.91400000000000003,135,0.47499999999999998,0.71086382978723417,0.77352159000837084,0.88369851352847695,0.59527609089108302,0.8968094024526112,0.90836778381473593,0.94562542984167319,0.39347815144142972,0.23818029893505457,0.33638605342212941,0.93850919123640653,0.57020210951908812,0.45037062602996208,0.73579444508517322,0.56417577037575928,0.60245733371567534,0.38144215696598394,0.34232080310295687,0.43221554460041162,0.91368457729635966,0.51637085916910064,0.58700151629557484,0,0.37391186467886589,0.50753499173258332,0.27309816752653371,0.55762742113981267,0.39060986175941764,0.69209521207003566,0.65016808045650309,0.9087821904541451,0.2239622888011541,0.93850919123640653,0.30077622381603464,0.53739524337061528,0.96959538012690616,0.8036932888581384,0.96840840172761145,0.97057392920380192,0.51143488448259999,0.78936131110802732,0.74791137168830657,0.55450947853990606,0.38532616822311749,0.47819376348798021,0.43221761053958685,0.75034849432689465,0.58123574001878031,0.41908573359332496,0.84474117687981154,0.60737321747391015,148,{"$f":"AVERAGE(Data!EY218:FQ218)","v":0.61577342761864273},154,{"$f":"AVERAGE(Data!FR218:FZ218)","v":0.45775991773313873},204,{"$f":"AVERAGE(Data!GA218:GL218)","v":0.70628285955032932},33]
["E05005081","29UNGE","Beacon Road","Thanet","NHS Thanet CCG",215,0.91533131072413465,0.9573482106377188,0.93886082847876229,0,0.84779717685299949,0.63483033929637223,0.83305181850823729,0,0,0,0.92844831062668975,0.74737744887517088,1.2965385399753864,0.98642075584608824,0.7070184613869962,0.88949221925188093,0.55225599749088161,0.55176178538759457,0.62952951821954162,0.68458944981170433,0.93886259311903797,0.49024803162097141,0.48849110378092825,0,0.60616074481021076,0.38207288978161469,1.1633630510617061,0.55004812640055301,0.8455978357454782,1.1269860786210828,1.2087173337381443,0.67155158139449667,0.92844831062668975,0.83316479467577209,1.1866665460330008,1.1093507610102471,1.0278174011101271,1.10010922571231,1.089904529979336,1.4529429371313913,0.93718011661353862,190,0.67,null,null,null,null,0.46313586693152181,274,0.96799999999999997,null,null,null,null,0.69441196699527663,251,0.88600000000000001,null,null,null,null,0.5778491003660059,236,0.83299999999999996,null,null,null,null,0.52043823566652836,273,0.96399999999999997,null,null,null,null,0.6754112030135212,239,0.84299999999999997,null,null,null,null,1.060433749368235,126,0.443,null,null,null,null,0.79999994601059321,176,0.62,null,null,null,null,1.0099156703543866,121,0.42499999999999999,null,null,null,null,1.1560249709886823,21,7.0000000000000007E-2,null,null,null,null,0.65347698534518184,258,0.91100000000000003,null,null,null,null,{"$f":"AVERAGE(Data!Z219:AH219)","v":0.58931511004296966},274,0.96799999999999997,null,null,null,null,1.0484381113148395,72,0.251,null,null,null,null,0.75752890119308136,255,0.9,null,null,null,null,"Thanet",29,26,10,212,8.7999999999999995E-2,3.1E-2,0.748,29,9.9000000000000005E-2,0.53427812499999994,0.59865683967776617,0.70860175764438005,0,0.60105682454160758,0.48190301865465945,0.54895570750200751,0,0,0,0.70835875818471128,0.48027536196432757,0.56551677435086234,0.61323482586883005,0.37770431147194583,0.5312583149455139,0.26799987106618606,0.29029667239032148,0.24318356637400346,0.49609819214341339,0.57983260414026083,0.31116644114088399,0.27442595818541138,0,0.24561889833633377,0.11264843672394539,0.54178407286270891,0.19152059995776535,0.49793912924686656,0.91859803888917047,0.87432492756031477,9.264220044236525E-2,0.70835875818471128,0.2829514281382291,0.56730275739496927,0.96535652441207176,0.75120858358350218,0.97840567119579358,0.96517622827944527,0.79006146534767363,0.61384557410738205,0.32638311013965493,0.40954354334827386,0.26716003661017029,0.33230463912199387,0.27289300197018834,0.76362069856545067,0.40050047931353827,0.42512709276659921,0.89004169456369731,0.467417541145074,254,{"$f":"AVERAGE(Data!EY219:FQ219)","v":0.39743582787563808},257,{"$f":"AVERAGE(Data!FR219:FZ219)","v":0.30589946705452475},276,{"$f":"AVERAGE(Data!GA219:GL219)","v":0.69936047605625939},43]
["E05005082","29UNGF","Birchington North","Thanet","NHS Thanet CCG",216,1.2469661843649456,1.0938199698625757,1.1898135573230595,0,1.1817305380801835,1.1615926701321126,1.3553546620714929,0,0,0,1.2902560426648491,0.68731824613956616,1.0698360809540566,0.9424236750436592,0.9788433077975246,0.64436179730764365,1.1667572818193424,1.013370019596352,1.5965780347155252,1.2425756464153035,0,0.6480998378035282,0.48849110378092825,0,1.0767248705658441,0.76497655302338696,1.3223284366295447,1.3883342466305617,1.1344521796196363,1.1513324158371183,0.87529077901706764,0.25860081796550227,1.2902560426648491,1.1758736769062101,1.2909641529705631,1.1362404989112402,1.2759706098196444,1.1105624473562881,1.1188112127489731,1.153030155700439,1.1768665705168602,67,0.23400000000000001,null,null,null,null,0.73973557405675783,234,0.82599999999999996,null,null,null,null,0.70162989373841245,250,0.88200000000000001,null,null,null,null,1.2589017787104064,80,0.28000000000000003,null,null,null,null,0.47583331759995195,277,0.97799999999999998,null,null,null,null,1.1380910267123343,91,0.31900000000000001,null,null,null,null,1.053691791491274,130,0.45700000000000002,null,null,null,null,0.77442843031517561,196,0.69099999999999995,null,null,null,null,1.2334189149383867,20,6.7000000000000004E-2,null,null,null,null,1.158922984907317,17,5.6000000000000001E-2,null,null,null,null,0.87468537199330987,207,0.73,null,null,null,null,{"$f":"AVERAGE(Data!Z220:AH220)","v":0.77017007720545516},233,0.82199999999999995,null,null,null,null,1.0809487491264611,44,0.152,null,null,null,null,0.91304844380598793,201,0.70899999999999996,null,null,null,null,"Thanet",83,77,51,240,0.26900000000000002,0.17699999999999999,0.84699999999999998,83,0.28999999999999998,0.72785312499999999,0.68399648012937908,0.89800740686382141,0,0.83780322000939844,0.88177104894550218,0.89313733059961342,0,0,0,0.98439962425638872,0.44168046540095901,0.46663499073216264,0.58588286472576556,0.52291893041279203,0.3848516662021354,0.56620625672477254,0.53316114377563395,0.61674874527665413,0.90045140479102681,0,0.41135691940773367,0.27442595818541138,0,0.43629347295083915,0.22554181448940774,0.61581505911290424,0.48340244261275611,0.66803403061457312,0.93844255875063021,0.6331410376912,3.5674621989232054E-2,0.98439962425638872,0.39933892828517747,0.61716370628846773,0.98875596202440563,0.93257817338129534,0.98770246745901247,0.99077484015804518,0.62697898941668184,0.76995233733106694,0.52254231991090283,0.42329606771627543,0.57203871525902017,0.31724685647683437,0.44026319729147678,0.74653920901880111,0.51003712312281035,0.5082513172868226,0.90535808648788818,0.55438313277300422,201,{"$f":"AVERAGE(Data!EY220:FQ220)","v":0.52763438416078845},207,{"$f":"AVERAGE(Data!FR220:FZ220)","v":0.37192078572778653},248,{"$f":"AVERAGE(Data!GA220:GL220)","v":0.73358207835959233},9]
["E05005083","29UNGG","Birchington South","Thanet","NHS Thanet CCG",217,0.62515079628842518,0.92143940287205373,0.86076073276643472,0,0.81884223655214938,0.92356069632977333,1.1406385530865839,0,0,0,1.0573063692372404,0.48269652470881125,1.0492552445894601,0.93142567397089093,0.66520218855430591,0.48084455420125571,1.1093767575619711,0.98488305971112233,1.630575841241942,1.0588255246624176,6.4789723251299669E-2,0.52111112947964056,0.48849110378092825,0,0.64552471625080343,0.36456069951949199,1.5852462316803893,0.92153456935878442,1.0853704604792815,1.1283166230360584,0.9332105627611964,0.58379897703361905,1.0573063692372404,0.8323017301362563,1.381688861744838,1.0358774628334484,1.2023366509386331,1.0470781716858488,1.0161175912246503,1.2328372052850776,0.80245031064230454,225,0.79400000000000004,null,null,null,null,0.57660829719370132,260,0.91800000000000004,null,null,null,null,0.58334131940774558,266,0.93899999999999995,null,null,null,null,1.2416118861716783,86,0.30099999999999999,null,null,null,null,0.4266434962348572,280,0.98899999999999999,null,null,null,null,0.87921655420236733,175,0.61699999999999999,null,null,null,null,1.0489658820921788,131,0.46,null,null,null,null,0.82055267313542979,168,0.59199999999999997,null,null,null,null,1.1069952959405471,44,0.152,null,null,null,null,1.1068494163935316,59,0.20499999999999999,null,null,null,null,0.72010308587749583,252,0.89,null,null,null,null,{"$f":"AVERAGE(Data!Z221:AH221)","v":0.62778707755375063},266,0.93899999999999995,null,null,null,null,1.0446867221996792,82,0.28699999999999998,null,null,null,null,0.7967070749013081,246,0.86799999999999999,null,null,null,null,"Thanet",38,32,18,202,0.109,0.06,0.71199999999999997,38,0.13100000000000001,0.3649,0.57620204931546992,0.6496559976177102,0,0.5805288433838709,0.70107973724982364,0.75164597207769046,0,0,0,0.80667089181103147,0.31018764142851163,0.45765815908736596,0.57904566342723918,0.35536516843512889,0.28718932227483424,0.53836052363621589,0.51817339021928799,0.62988189884722934,0.76729407490110269,4.0013516599403776E-2,0.33075562805003156,0.27442595818541138,0,0.26156934610478583,0.10748523119589029,0.73825720965286856,0.32086802069550308,0.6391317469785921,0.91968255582636904,0.67503727704583905,8.0536511783783502E-2,0.80667089181103147,0.28265832244582345,0.66053593888705175,0.90142009397193346,0.87876077167657018,0.93124136896445431,0.89983344156317735,0.67037537679607972,0.53025268231106004,0.40665091054227698,0.34951460580801391,0.56213860423424444,0.28249783554718988,0.35704495191226193,0.74461719328359999,0.44360370179740749,0.4715971306664376,0.85632621059444303,0.48232746354867767,249,{"$f":"AVERAGE(Data!EY221:FQ221)","v":0.42666027677954782},253,{"$f":"AVERAGE(Data!FR221:FZ221)","v":0.31562988726499969},274,{"$f":"AVERAGE(Data!GA221:GL221)","v":0.69549035814589211},50]
["E05005084","29UNGH","Bradstowe","Thanet","NHS Thanet CCG",218,1.0894396193855604,1.050209159752153,1.1585227335893233,0,1.1217958756097728,1.1449530951651381,1.2607925041517902,0,0,0,1.0906945473836227,0.79057337534696559,1.4957173932417327,1.0389812983930315,1.0483331100550335,0.9776961799167132,1.1586765570115478,0.98738589211345063,1.5824249541199733,1.1827978491736311,0.43147610922182555,0.77725063013582951,0.48849110378092825,0,0.91670918209552266,0.49967482196921842,1.2875144345488065,1.0831842446158351,1.1032633849672915,1.112786836470524,1.106642661218209,0.7253219397330235,1.0906945473836227,1.2978472260563856,1.193023600485744,1.1087981547417958,1.0613491175661991,1.0703178696040605,1.1045472518493105,0.37739396076117326,1.0993905042423455,117,0.41099999999999998,null,null,null,null,0.70550829498534018,241,0.85099999999999998,null,null,null,null,0.80524948804213736,220,0.77600000000000002,null,null,null,null,1.2428291344149904,83,0.28999999999999998,null,null,null,null,0.57600313846244289,264,0.93200000000000005,null,null,null,null,0.94677067080734578,149,0.52400000000000002,null,null,null,null,1.107564294218675,95,0.33300000000000002,null,null,null,null,0.9080082435583231,134,0.47099999999999997,null,null,null,null,1.2454354132710648,16,5.2999999999999999E-2,null,null,null,null,0.94448127090450773,208,0.73399999999999999,null,null,null,null,0.89453664711767411,193,0.68,null,null,null,null,{"$f":"AVERAGE(Data!Z222:AH222)","v":0.74078870839351074},241,0.85099999999999998,null,null,null,null,1.0293322125697784,98,0.34300000000000003,null,null,null,null,0.90038203054036892,210,0.74099999999999999,null,null,null,null,"Thanet",74,91,43,186,0.31900000000000001,0.14799999999999999,0.65600000000000003,74,0.25800000000000001,0.63590500000000005,0.65672541045338151,0.87439077272243071,0,0.79531176227871958,0.86913986087940698,0.8308237564012112,0,0,0,0.83214437066722902,0.50803367772947283,0.65239346883016891,0.64591049187172089,0.5600418619194244,0.58393903153877491,0.56228482677842584,0.51949019746688707,0.61128149312279301,0.8571325117667975,0.2664755395177173,0.49333051201490991,0.27442595818541138,0,0.3714544389897797,0.1473215950949073,0.59960200178506529,0.37715262799123506,0.64966818269615145,0.90702434136029331,0.80048927701931771,0.10005995427254993,0.83214437066722902,0.44076241394813237,0.57034183735555899,0.96487564669022785,0.77571615973164176,0.95191009140456728,0.97814324206594172,0.20521413335131664,0.72234039439193742,0.49905507591186754,0.47280786281959886,0.56435217245603531,0.37827290429696719,0.37388266596524689,0.78572726702525431,0.46610216246988945,0.50555212565184571,0.77517185464873894,0.5425265204642199,210,{"$f":"AVERAGE(Data!EY222:FQ222)","v":0.53356926224526557},202,{"$f":"AVERAGE(Data!FR222:FZ222)","v":0.37632168726064708},247,{"$f":"AVERAGE(Data!GA222:GL222)","v":0.68136247088024404},77]
["E05005085","29UNGJ","Central Harbour","Thanet","NHS Thanet CCG",219,0.72258025069137533,0.89237956125729034,1.0012964159404167,0,0.78630876249898374,0.61292618538703347,0.67326471375566888,0,0,0,0.54323450135202411,0.76571665623262264,0.51716022376993054,0.73645708467185056,0.56883088122461678,0.63029426491412555,0.71382721649930658,0.80308597146846494,0.74200413369695239,0.70640344652882303,0.91411713729017674,1.057862703326486,0.48849110378092825,0,0.52281409057477779,0.43863676678042535,1.2507909949823823,0.53925926715508221,1.1346754850600964,1.152745238443456,0.99943364443684968,0.86826150560112236,0.54323450135202411,1.3267943444758639,0.81177871999307072,0.75405331641776374,0.56173488361227519,0.68873444808813356,0.82040793335741247,0.98258264686086005,0.87208540929636091,211,0.74399999999999999,null,null,null,null,0.41449993232833721,277,0.97799999999999998,null,null,null,null,0.47021170152064629,274,0.96799999999999997,null,null,null,null,0.75297244055490797,202,0.71199999999999997,null,null,null,null,0.63337487818528282,256,0.90400000000000003,null,null,null,null,0.68787527987316688,234,0.82599999999999996,null,null,null,null,1.0956181226468005,103,0.36099999999999999,null,null,null,null,0.70574800347657329,218,0.76900000000000002,null,null,null,null,1.0692865322344673,66,0.23,null,null,null,null,0.76150264566728898,268,0.94599999999999995,null,null,null,null,0.56365088544003472,271,0.95699999999999996,null,null,null,null,{"$f":"AVERAGE(Data!Z223:AH223)","v":0.6575972789354535},257,0.90700000000000003,null,null,null,null,0.88703638897491066,255,0.9,null,null,null,null,0.68180447503696673,273,0.96399999999999997,null,null,null,null,"Thanet",11,13,27,29,4.2000000000000003E-2,9.1999999999999998E-2,9.9000000000000005E-2,11,3.5000000000000003E-2,0.42176949152542376,0.5580301106735811,0.75572478767490447,0,0.55746381422408031,0.46527546127974539,0.44366088527087849,0,0,0,0.41446024768042572,0.49206039704264731,0.225571992309996,0.45783822917557826,0.30388156472667133,0.37644968876706852,0.34640746837431546,0.42252506667687323,0.28663185168348237,0.51190603776207066,0.56455004607580594,0.67143843805225467,0.27442595818541138,0,0.21184648141788748,0.12932544388507522,0.58249970973645049,0.18776403994714594,0.66816552635862358,0.93959414003464037,0.72293970176727518,0.11977882066967642,0.41446024768042572,0.45059315637702391,0.38808231999642184,0.65617685076949683,0.41055937154989552,0.61254071341962968,0.72652073001610029,0.53429537111537995,0.57850812995796985,0.29328003215494081,0.28378276496279842,0.35185479557822363,0.40446409601510852,0.27785891874663976,0.77689978938684634,0.26711953417505108,0.41933773818672287,0.5880186073741005,0.4076303540475591,274,{"$f":"AVERAGE(Data!EY223:FQ223)","v":0.34356584510977223},270,{"$f":"AVERAGE(Data!FR223:FZ223)","v":0.34819512834023347},257,{"$f":"AVERAGE(Data!GA223:GL223)","v":0.55364224581288246},268]
["E05005086","29UNGK","Cliffsend and Pegwell","Thanet","NHS Thanet CCG",220,1.0405318501415621,0.912108261069148,1.1765632131220627,0,1.0660468856309411,0.99867229519497469,1.2403657426801813,0,0,0,1.1056586065365168,0.87767616690967842,0.55344602842189894,0.83760358874558871,0.85260808229435991,0.73448862404934989,1.110845988712194,0.99181583153616604,1.1596211194426329,1.1880751666966778,0.78580913402959029,0.79674276276242606,0.48849110378092825,0,1.0469418532601611,0.727675275906426,1.0616942716541389,0.94383574224651334,1.1252650484251798,0.92892862859033676,0.94706464022187897,0.2119644083350917,1.1056586065365168,1.1188788409555293,1.0243208543998941,1.0644134103204221,1.1051115790116404,1.0513077338952621,1.0553289801708408,0.86714358928985502,1.0430677747775909,135,0.47499999999999998,null,null,null,null,0.6610169847012195,251,0.88600000000000001,null,null,null,null,0.62018513711967405,261,0.92100000000000004,null,null,null,null,1.0874276465636645,125,0.439,null,null,null,null,0.65182363345392447,252,0.89,null,null,null,null,0.94503678576680983,153,0.53900000000000003,null,null,null,null,1.0004194390791319,159,0.56000000000000005,null,null,null,null,0.6588115074358043,241,0.85099999999999998,null,null,null,null,1.0715998476777115,64,0.223,null,null,null,null,1.0286610585376041,136,0.47799999999999998,null,null,null,null,0.77147643602564497,237,0.83599999999999997,null,null,null,null,{"$f":"AVERAGE(Data!Z224:AH224)","v":0.78214059003742897},226,0.79700000000000004,null,null,null,null,0.96711552667937051,178,0.627,null,null,null,null,0.83256759787441403,234,0.82599999999999996,null,null,null,null,"Thanet",50,47,58,106,0.16300000000000001,0.20200000000000001,0.372,50,0.17299999999999999,0.60735757575757576,0.57036702314605603,0.88800675830610842,0,0.75578779144826636,0.75809734335421619,0.8173631444122692,0,0,0,0.84356118540815073,0.56400716851227051,0.24139892731332896,0.52071865666587103,0.45548138594097864,0.43868083420369003,0.53907351500365264,0.52182090739889442,0.44795484771903732,0.86095680044561129,0.48530824412535789,0.50570240776655562,0.27442595818541138,0,0.424225268332864,0.21454409476782774,0.49443640668047734,0.32863303943880734,0.66262409232728858,0.75716287244218217,0.6850586153142042,2.9241014015409544E-2,0.84356118540815073,0.37998288932169122,0.48969109907145769,0.92625206241241476,0.80770115691212363,0.93500302058562479,0.9345574925673511,0.47152349711255731,0.68857711906991348,0.46624965584295036,0.38298101975553622,0.50294975670719477,0.42527868210458725,0.36545970230499408,0.70161519336122502,0.43640109971178015,0.43483699419657446,0.81500744591801444,0.51200670704559337,232,{"$f":"AVERAGE(Data!EY224:FQ224)","v":0.47208826655738756},235,{"$f":"AVERAGE(Data!FR224:FZ224)","v":0.39869246886032361},234,{"$f":"AVERAGE(Data!GA224:GL224)","v":0.66019658312420482},122]
["E05005087","29UNGL","Cliftonville East","Thanet","NHS Thanet CCG",221,0.83834464362894656,1.0222157343434359,1.088276077582141,0,1.0996133244773889,1.0028897049930767,1.3248080776922546,0,0,0,1.1733877126321279,0.74838932351669962,0.94437359067948501,0.49661367847492954,0.8224673041887689,0.66655113598475502,1.1283833302545183,1.0625341703905902,1.1724618685254247,1.1861570297875901,0.42836926983694334,0.30447918148408332,0.48849110378092825,0,0.96902692324237816,0.51533663592291024,1.3074647058086766,1.0108699947213646,1.2050726853135703,1.1887969733422412,1.2191468956328584,0.44298351177674872,1.1733877126321279,1.0130616432940815,1.1591443813512652,1.074944727131427,1.090142106167455,1.0553033246806065,1.0723248393600893,0.27642062828303082,0.98294548518484115,169,0.59499999999999997,null,null,null,null,0.68546222143254398,245,0.86499999999999999,null,null,null,null,0.60647284318459571,262,0.92500000000000004,null,null,null,null,1.1211264563901777,115,0.40400000000000003,null,null,null,null,0.48149931697790899,276,0.97499999999999998,null,null,null,null,0.9506745649238324,145,0.51,null,null,null,null,1.2043388514295565,29,9.9000000000000005E-2,null,null,null,null,0.8081856122044383,171,0.60199999999999998,null,null,null,null,1.0861030123226734,56,0.19500000000000001,null,null,null,null,0.91382712512452158,226,0.79700000000000004,null,null,null,null,0.76796366722971265,238,0.84,null,null,null,null,{"$f":"AVERAGE(Data!Z225:AH225)","v":0.69002164939831934},253,0.89300000000000002,null,null,null,null,0.99756078574712514,132,0.46400000000000002,null,null,null,null,0.81930584877287305,242,0.85399999999999998,null,null,null,null,"Thanet",42,46,31,152,0.159,0.106,0.53500000000000003,42,0.14499999999999999,0.48934107142857147,0.63922033194513994,0.82137236743228437,0,0.77958515442027621,0.7612988011088373,0.8730080643677689,0,0,0,0.89523504267917553,0.48092560697834846,0.4119114783840846,0.30873316567881526,0.43937954070872298,0.39810447541194749,0.54758407042277091,0.55902772198825446,0.45291515389451048,0.85956679326226404,0.26455678507549685,0.19325667252681872,0.27442595818541138,0,0.39265380904789776,0.15193924503901374,0.60889294428837404,0.35197361571840852,0.7096196539755999,0.96897964319639773,0.88186914463535282,6.1110670315846473E-2,0.89523504267917553,0.34404626863005056,0.55414539657981665,0.93541640948051052,0.79676030644576024,0.93855658471615677,0.94960835144299816,0.15030823375953872,0.64997792360199858,0.48277840397937649,0.36678616373013678,0.51984231543517856,0.3183612418099982,0.3763649035234235,0.85348948060245011,0.47817285649751101,0.44909583260493358,0.75412997716899288,0.50351408939625997,237,{"$f":"AVERAGE(Data!EY225:FQ225)","v":0.46619168667628985},238,{"$f":"AVERAGE(Data!FR225:FZ225)","v":0.34414064701596497},260,{"$f":"AVERAGE(Data!GA225:GL225)","v":0.6821379754881004},75]
["E05005088","29UNGM","Cliftonville West","Thanet","NHS Thanet CCG",222,0.12554501262174894,9.3070099903978132E-2,0.20746647266783924,0,0.28473957619533785,0.37706658533839432,0.24042616812815229,0,0,0,0.64940034409067093,0.46807214349646553,0.70323811354831312,0.39755692920666752,0.21669477955330943,0.60036163612181515,0.56987219659809862,0.85878113250907451,0.79055133176377623,0.25106982266640482,1.0044466249542243,0.92706150307053092,0.48849110378092825,0,0.47711764980553528,1.5812048531938769,2.0967288148607652,0.60723366631395137,1.0441375802413075,1.1299232117957332,1.293243580142216,0.48778367197021155,0.64940034409067093,0.81818896242559269,0.83528688233929771,0.59191384263533198,0.76522312268990667,0.63200201642942699,0.59319446418732658,0.36547358994706519,0.1420271950645221,283,1,null,null,null,null,0.1804464659323769,281,0.99199999999999999,null,null,null,null,0.37941549325215518,281,0.99199999999999999,null,null,null,null,0.7397348869569832,207,0.73,null,null,null,null,0.53421381089441755,272,0.96,null,null,null,null,1.1905712460435323,78,0.27300000000000002,null,null,null,null,1.1557681240597522,60,0.20899999999999999,null,null,null,null,0.56859200803044119,263,0.92900000000000005,null,null,null,null,0.82673792238244515,262,0.92500000000000004,null,null,null,null,0.58956140717781147,277,0.97799999999999998,null,null,null,null,0.34646539588124431,281,0.99199999999999999,null,null,null,null,{"$f":"AVERAGE(Data!Z226:AH226)","v":0.82592822651624631},213,0.751,null,null,null,null,0.76714760574117402,283,1,null,null,null,null,0.58054919573209873,280,0.98899999999999999,null,null,null,null,"Thanet",4,3,71,1,7.0000000000000001E-3,0.248,0,4,0.01,7.328051948051946E-2,5.819935866375589E-2,0.15658455729046972,0,0.20186982236078838,0.28623320982071937,0.15843350232778031,0,0,0,0.49545937672533708,0.30078980638433872,0.3067343833697202,0.24715189011395572,0.11576296374239653,0.35857212043098241,0.27654869463869663,0.45182778452815475,0.30538535000512607,0.18194157850494136,0.62033667816314864,0.5884173112850003,0.27442595818541138,0,0.1933300902861142,0.46619443466511284,0.97645724261842037,0.21143196477740886,0.61485133421720339,0.92099207447254816,0.93546693504326173,6.729096314141686E-2,0.49545937672533708,0.27786547977624171,0.39932073011667502,0.51508315490537626,0.55928434126562998,0.5620845118186788,0.52530949255842196,0.19873223692427877,9.6021478478248365E-2,0.1293073069018576,0.22805881759584135,0.34458727639065917,0.33302430522770032,0.46185343308676408,0.82377011457767113,0.28137516993337697,0.33859310494645833,0.47209874749447706,0.33442773073333432,281,{"$f":"AVERAGE(Data!EY226:FQ226)","v":0.19962280736224955},281,{"$f":"AVERAGE(Data!FR226:FZ226)","v":0.39028169538728424},239,{"$f":"AVERAGE(Data!GA226:GL226)","v":0.50597838591375577},279]
["E05005089","29UNGN","Dane Valley","Thanet","NHS Thanet CCG",223,0.48926138465023922,0.58900427169758962,0.54347013899413443,0,0.2704788031314419,0.44700722649195362,0.45054487156902367,0,0,0,0.5940282918079175,0.46902706756866647,0.68473720044994291,0.4055042823036179,0.42359915778868579,0.8587420491634854,0.34972961879470621,0.19819232683575086,0.45128883066851083,0.21880847517434723,1.0995194216615445,0.33231275462552429,0.48849110378092825,0,0.20925035787381302,0.30644690146571985,1.2970559371166908,0.34446347791365189,1.0750606084223022,1.1834383089271661,1.3167499331891208,0.12377795661766831,0.5940282918079175,0.72231781604429612,1.2149886304469706,0.86843323265713002,0.82255204164145967,0.88236269444525339,0.84817454348766341,0.28967783146971665,0.54057859844732103,274,0.96799999999999997,null,null,null,null,0.23360618023848384,280,0.98899999999999999,null,null,null,null,0.42945475613528949,279,0.98499999999999999,null,null,null,null,0.33307025876632262,270,0.95299999999999996,null,null,null,null,0.42782635104846883,279,0.98499999999999999,null,null,null,null,0.53930416859246888,273,0.96399999999999997,null,null,null,null,1.1917496168461963,34,0.11700000000000001,null,null,null,null,0.35890312421279291,281,0.99199999999999999,null,null,null,null,0.9686532232456333,168,0.59199999999999997,null,null,null,null,0.74224006874024462,270,0.95299999999999996,null,null,null,null,0.38024292220608763,280,0.98899999999999999,null,null,null,null,{"$f":"AVERAGE(Data!Z227:AH227)","v":0.47737204773469105},280,0.98899999999999999,null,null,null,null,0.82846349076305559,272,0.96,null,null,null,null,0.53656314601711363,282,0.996,null,null,null,null,"Thanet",2,4,4,12,0.01,0.01,3.9E-2,2,3.0000000000000001E-3,0.28558146341463414,0.36832098491759663,0.41018208880059853,0,0.19175946199710905,0.33932551498039365,0.29689531099814637,0,0,0,0.45321332194316516,0.30140345415376901,0.29866476077436371,0.25209257456695694,0.22629568670498426,0.51289246171838976,0.1697174737274903,0.10427429825227445,0.17433023254749028,0.15856290071298546,0.67905273278256362,0.21092298292488415,0.27442595818541138,0,8.4789130304935206E-2,9.0351253156803826E-2,0.60404552792055721,0.11993832682473207,0.63306068276945715,0.96461183536262562,0.95247024082144682,1.7075475041706738E-2,0.45321332194316516,0.24530664152576864,0.58084253117297824,0.75571020152217061,0.60118475660930371,0.78474813602063309,0.75110973877829856,0.15751705463502619,0.35469484571094312,0.1655960575951298,0.25557028248270364,0.14944066817575166,0.26459291492116893,0.22478105955175709,0.85004758631784316,0.23514439849243596,0.41307458634937344,0.61005397751308643,0.33759721296282041,280,{"$f":"AVERAGE(Data!EY227:FQ227)","v":0.23078679418407169},280,{"$f":"AVERAGE(Data!FR227:FZ227)","v":0.24689875697920816},281,{"$f":"AVERAGE(Data!GA227:GL227)","v":0.57473755135021509},254]
["E05005090","29UNGP","Eastcliff","Thanet","NHS Thanet CCG",224,0.63339017203105386,0.72052999310889465,0.63053531747547575,0,0.43375274063193642,0.42093371014101016,0.42693141256860651,0,0,0,0.64905756027088246,0.37606147558591002,0.60685898036312813,0.70615000085184687,0.44384268586992048,0.69984993050277489,0.35998966977128993,0.45793047798392605,0.4374873643478025,0.51967382595709022,0.77266367789773915,0.98609141396903222,0.48849110378092825,0,0.38536376051833288,0.52037572059779302,1.5764458213462129,0.49274948213393871,1.1484091829134337,1.1645798017258848,1.0179018093033032,0.48119600100817073,0.64905756027088246,0.96370749570057002,1.038880542693067,0.66462612955535905,0.7265932347091667,0.72073882841449133,0.66827485037277889,0.64563092444444292,0.66148516087180809,257,0.90700000000000003,null,null,null,null,0.25632357266831063,279,0.98499999999999999,null,null,null,null,0.43522757918055782,278,0.98199999999999998,null,null,null,null,0.4184691707010062,262,0.92500000000000004,null,null,null,null,0.55338400432095791,267,0.94299999999999995,null,null,null,null,0.74373369614906948,218,0.76900000000000002,null,null,null,null,1.1102969313142073,90,0.315,null,null,null,null,0.56512678063952659,264,0.93200000000000005,null,null,null,null,1.0012940191968185,129,0.45300000000000001,null,null,null,null,0.68517279349924776,274,0.96799999999999997,null,null,null,null,0.42122639428970837,279,0.98499999999999999,null,null,null,null,{"$f":"AVERAGE(Data!Z228:AH228)","v":0.63798386735567414},261,0.92100000000000004,null,null,null,null,0.82413303009262917,274,0.96799999999999997,null,null,null,null,0.59086881647042699,279,0.98499999999999999,null,null,null,null,"Thanet",5,5,23,10,1.4E-2,7.8E-2,3.1E-2,5,1.4E-2,0.36970931677018626,0.45056772841334086,0.47589421207819216,0,0.30751464151862357,0.3195329728495499,0.28133476265752055,0,0,0,0.49519785013507672,0.24166244456491298,0.26469628358855007,0.43899702053433198,0.23711021030410789,0.4179925206162538,0.17469649134133222,0.24092950520569328,0.16899880692895386,0.37658956858373072,0.47718973549863664,0.62588432004466255,0.27442595818541138,0,0.1561510261554391,0.15342494325609896,0.73415881392905569,0.17156985346850778,0.67625275797316697,0.94924040526237974,0.73629863727546074,6.6382177650291321E-2,0.49519785013507672,0.32728508688621144,0.49665156437077906,0.57835735369823416,0.53105062640279732,0.64100449363576284,0.59179770502379536,0.35107236575129303,0.43205708575390639,0.18167647540513882,0.2619570412179042,0.19487493449199311,0.35081791646248828,0.3038261592022754,0.78726393350366919,0.28079001389268404,0.41196832562849528,0.53865650890237649,0.35737050026733541,279,{"$f":"AVERAGE(Data!EY228:FQ228)","v":0.25709656671087511},279,{"$f":"AVERAGE(Data!FR228:FZ228)","v":0.32993269101350475},266,{"$f":"AVERAGE(Data!GA228:GL228)","v":0.53671591867210411},272]
["E05005091","29UNGQ","Garlinge","Thanet","NHS Thanet CCG",225,0.59522885280203608,0.86673225150187505,0.81653853283426459,0,0.80781672792039283,0.78528367813225164,0.8899849897260228,0,0,0,1.0271633194314642,0.74689119930306436,0.17749783483126655,0.21607983713090845,0.73380255406088979,0.85670314500918332,0.35719837348541877,0.44889603337348133,0.51563423870389713,0.86973298877662497,0.89458335868581274,0.57714632059571302,0.48849110378092825,0,0.57506540619027557,0.32509263291417917,1.2391951178346485,0.43779363228261614,1.2077672523774974,1.1679572536130634,1.2324238783188701,0.38798889719591229,1.0271633194314642,0.86120133507237884,1.1267996261052455,1.0443372340932349,1.0602669837806986,1.0579335966767904,1.023480477118377,1.0906398238167292,0.75949987904605853,235,0.82899999999999996,null,null,null,null,0.4966170791557335,270,0.95299999999999996,null,null,null,null,0.4697672362208471,275,0.97099999999999997,null,null,null,null,0.4405762151875991,258,0.91100000000000003,null,null,null,null,0.56599075436781576,265,0.93600000000000005,null,null,null,null,0.64428669730542987,250,0.88200000000000001,null,null,null,null,1.2027161281031435,30,0.10199999999999999,null,null,null,null,0.70757610831368822,217,0.76500000000000001,null,null,null,null,0.99400048058881219,139,0.48899999999999999,null,null,null,null,1.0553316230971659,109,0.38200000000000001,null,null,null,null,0.51797113517086402,275,0.97099999999999997,null,null,null,null,{"$f":"AVERAGE(Data!Z229:AH229)","v":0.60078895122897746},272,0.96,null,null,null,null,1.0239966398000215,108,0.379,null,null,null,null,0.68841279517268705,272,0.96,null,null,null,null,"Thanet",12,9,12,176,2.8000000000000001E-2,3.9E-2,0.62,12,3.9E-2,0.34743458646616532,0.5419921244593634,0.61627945484553959,0,0.57271216577737216,0.59611293217587502,0.58647292863017109,0,0,0,0.78367328054508267,0.47996289108418538,7.7419991703405577E-2,0.1343318056837533,0.39201294389711294,0.51167470538291449,0.17334192561797249,0.23617624161121575,0.19918648686593943,0.6302652830806077,0.55248617027557834,0.36632185141779444,0.27442595818541138,0,0.23301893556966688,9.5848666230115578E-2,0.57709945094038395,0.15243484176764147,0.71120637797226938,0.95199334138010072,0.89147304175931152,5.3524027311196071E-2,0.78367328054508267,0.2924729288016869,0.53868252800930416,0.90878178304963464,0.77492525252635835,0.94089587337741454,0.906353721313087,0.59305322690264173,0.50190205525702281,0.35105960531668368,0.29738445228705679,0.20290155136504254,0.36469985259187837,0.26460047362695199,0.85155758703722728,0.41859865392813939,0.41557772840549556,0.82480197143382727,0.43694302512903382,265,{"$f":"AVERAGE(Data!EY229:FQ229)","v":0.32888339288137197},273,{"$f":"AVERAGE(Data!FR229:FZ229)","v":0.32021123971857773},272,{"$f":"AVERAGE(Data!GA229:GL229)","v":0.69558628191234051},49]
["E05005092","29UNGR","Kingsgate","Thanet","NHS Thanet CCG",226,1.1778755856897767,1.2396046779459884,1.1827385406951547,0,1.2215736177278673,1.1543544788101903,1.5140553725024504,0,0,0,1.102125758575204,1.1851675963862696,1.2275649327269436,0.83650292521521941,1.1384010867148107,0.91187033852487887,1.5971958776725446,1.4681373336468364,1.6903663388937784,1.2245729028171304,0.94315361240610474,0.9111371837320289,0.48849110378092825,0,1.7059457873014143,0.83899106758551611,0.76433493570088529,1.4737654730534011,0.60740966496934212,1.0037047252842395,1.1311094590053243,0.41961942347915371,1.102125758575204,0.95542261282830632,0.96553517677659628,1.1323136266903626,1.1845518974549636,1.0981400343938788,1.1148435961957552,0,1.2000729347769734,50,0.17299999999999999,null,null,null,null,0.77799669380810155,228,0.80400000000000005,null,null,null,null,0.80020407976791574,223,0.78700000000000003,null,null,null,null,1.5852331834043865,14,4.5999999999999999E-2,null,null,null,null,0.71347096054723846,243,0.85799999999999998,null,null,null,null,1.1957593159103042,75,0.26200000000000001,null,null,null,null,0.91407461641963528,204,0.71899999999999997,null,null,null,null,0.76087259102717886,201,0.70899999999999996,null,null,null,null,0.9604788948024513,180,0.63400000000000001,null,null,null,null,0.90596983094699213,232,0.81899999999999995,null,null,null,null,0.98144918219620603,168,0.59199999999999997,null,null,null,null,{"$f":"AVERAGE(Data!Z230:AH230)","v":0.92782134070860112},183,0.64500000000000002,null,null,null,null,0.89289799797109382,251,0.88600000000000001,null,null,null,null,0.94281756259396121,191,0.67300000000000004,null,null,null,null,"Thanet",93,116,101,33,0.40699999999999997,0.35399999999999998,0.113,93,0.32600000000000001,0.68752500000000005,0.77515977018914217,0.89266756408220305,0,0.86605048903415427,0.87627650019488568,0.99771625215062132,0,0,0,0.84086580240611608,0.76160552770154322,0.53543226032845381,0.52003439976597721,0.60815809221306538,0.54462387529479006,0.77509034076312289,0.77242642360649794,0.65297861795799128,0.88740544190753279,0.5824826968224821,0.57830995040530653,0.27442595818541138,0,0.69125645051408924,0.24736387929246445,0.35595465587235486,0.51314863927140086,0.35767953379909356,0.81811231723288469,0.81818731989977744,5.7887536589135161E-2,0.84086580240611608,0.32447145451042531,0.46158777289064101,0.9853387996153723,0.86576229601404575,0.97665432877579428,0.98726127628638516,0,0.78511744475711509,0.54800864827593221,0.47633999471374322,0.73349846077587078,0.46452480946414659,0.45193090623757737,0.66465972364391857,0.44937666949762561,0.39302961370053313,0.76300334013831939,0.56826917564948221,186,{"$f":"AVERAGE(Data!EY230:FQ230)","v":0.58455846924676669},171,{"$f":"AVERAGE(Data!FR230:FZ230)","v":0.45892751914122698},203,{"$f":"AVERAGE(Data!GA230:GL230)","v":0.62448403650163919},207]
["E05005093","29UNGS","Margate Central","Thanet","NHS Thanet CCG",227,0.19689788859477958,0,0.35799271786845516,0,0.27770708329469007,0,0.14496703678557399,0,0,0,0.44590088495457197,0.28453215293488465,0.40943169372128929,0.30037982351548287,0,0.40358609044221416,0.56410794198744751,0.78286607127799435,0.78180603889155476,0.20321693962272813,0.89349830604028424,0.84040443977793022,0.48849110378092825,0,0.36893308792879964,1.2103205840413391,1.9318341153484282,0.54922706033710178,1.022251497001055,1.2112521419932796,1.3031274164977626,1.4209519665815824,0.44590088495457197,0.72201858762924376,1.0400982167622563,0.63758466540296488,0.43081780008206882,0.68771827701156119,0.69664144444517317,1.0274093065066792,0.18496353548774491,282,0.996,null,null,null,null,8.4534824016052806E-2,283,1,null,null,null,null,0.23047883069605538,283,1,null,null,null,null,0.70959335071899898,215,0.75800000000000001,null,null,null,null,0.48512215784437418,275,0.97099999999999997,null,null,null,null,1.0150787119139171,132,0.46400000000000002,null,null,null,null,1.1788770184973656,41,0.14099999999999999,null,null,null,null,0.93342642576807722,121,0.42499999999999999,null,null,null,null,0.88105840219575005,244,0.86099999999999999,null,null,null,null,0.69603429868968947,273,0.96399999999999997,null,null,null,null,0.26053554864573358,283,1,null,null,null,null,{"$f":"AVERAGE(Data!Z231:AH231)","v":0.72065840409750437},249,0.879,null,null,null,null,0.88714768373901653,254,0.89700000000000002,null,null,null,null,0.55204683165036694,281,0.99199999999999999,null,null,null,null,"Thanet",3,1,35,30,0,0.12,0.10199999999999999,3,7.0000000000000001E-3,0.11492913385826772,0,0.27019368729708837,0,0.19688404514085825,0,9.552885003672483E-2,0,0,0,0.3401996573473054,0.18284440204472296,0.17858357743431932,0.18673914521398044,0,0.24104591552707397,0.27375140588227592,0.41188683493120293,0.30200709458087399,0.14726425653723094,0.55181605208608275,0.53341500990844659,0.27442595818541138,0,0.14949324810742362,0.35684479420929105,0.89966494479381987,0.19123471394610639,0.60196348520601461,0.98728268551170995,0.94261640189077989,0.19602383577694726,0.3401996573473054,0.24520502044441755,0.49723369071399554,0.55482588397138577,0.31487502452542643,0.61163695993680645,0.61691803577097248,0.55867059983313005,0.12837427371845203,5.848257903551661E-2,0.14117658719592524,0.32921511179811763,0.30138425534343433,0.39930942526416024,0.84395419086950152,0.26811174656212633,0.37121935557920654,0.5313853008075442,0.30915510019993492,283,{"$f":"AVERAGE(Data!EY231:FQ231)","v":0.147083881541826},283,{"$f":"AVERAGE(Data!FR231:FZ231)","v":0.34490655308597912},259,{"$f":"AVERAGE(Data!GA231:GL231)","v":0.53895427341074098},270]
["E05005094","29UNGT","Nethercourt","Thanet","NHS Thanet CCG",228,0.65066117118387201,1.0888305975194341,0.94634434550926472,0,0.95771296624353852,1.0007782682460789,1.1238568549972519,0,0,0,0.99603706891041877,0.76598723821534342,0.47847707138283851,0.74744823645013159,0.78781895244787514,0.90714276842769637,0.91841696613006507,0.68889937420278557,1.7065980449759914,0.97591598565653359,0.75375883977654567,0.87146910060848126,0.48849110378092825,0,0.76648529993240611,0.30851643170212534,1.4126384719871259,0.673529616905998,1.2040109838059561,1.1419553470539499,1.0349466057888481,0.12121654965617604,0.99603706891041877,0.84913392280174327,1.1052821756477567,0.98232729173051703,1.2156207585887875,1.0175373694585159,0.97151035513086015,0.54684246523517122,0.89527870473752358,203,0.71599999999999997,null,null,null,null,0.61646961789737387,254,0.89700000000000002,null,null,null,null,0.58536391697928791,265,0.93600000000000005,null,null,null,null,1.1046381284362807,120,0.42099999999999999,null,null,null,null,0.61792700596449779,259,0.91400000000000003,null,null,null,null,0.79029245513191382,209,0.73699999999999999,null,null,null,null,1.1269709788829181,79,0.27600000000000002,null,null,null,null,0.55862680928329744,265,0.93600000000000005,null,null,null,null,0.97720804922474991,161,0.56699999999999995,null,null,null,null,0.94676764802877034,206,0.72599999999999998,null,null,null,null,0.7244742065706623,249,0.879,null,null,null,null,{"$f":"AVERAGE(Data!Z232:AH232)","v":0.69453387226112717},252,0.89,null,null,null,null,0.93220174115072496,219,0.77300000000000002,null,null,null,null,0.78005589172503564,251,0.88600000000000001,null,null,null,null,"Thanet",33,35,32,65,0.12,0.109,0.22600000000000001,33,0.113,0.37979038461538456,0.68087648486983698,0.71424991460260345,0,0.67898305164146111,0.7596959984715147,0.74058734553965444,0,0,0,0.75992553722574641,0.49223427686720961,0.20869939586555367,0.46467117242713296,0.42086965369352547,0.54180028575768502,0.44569118239756039,0.3624484356095094,0.65924883096495401,0.70721241220008391,0.4655142873563845,0.55313213130907779,0.27442595818541138,0,0.31058308637148269,9.0961422975492784E-2,0.65787290058530834,0.23451547260652739,0.70899445993905719,0.93079937916026045,0.74862798015533449,1.6722122620663683E-2,0.75992553722574641,0.28837471010866367,0.52839580591584789,0.85482075959141635,0.88846982669088015,0.90496862462656225,0.86033104231377577,0.29735452670359336,0.59163892802927498,0.43585327913052607,0.36102504022960663,0.48912948299067455,0.40005695781019152,0.32348322063470281,0.79614060641821738,0.38832382992320502,0.40838525801225578,0.76118895598524561,0.48479435992977249,246,{"$f":"AVERAGE(Data!EY232:FQ232)","v":0.43735641844996492},250,{"$f":"AVERAGE(Data!FR232:FZ232)","v":0.36602418573219653},250,{"$f":"AVERAGE(Data!GA232:GL232)","v":0.64898206458765018},151]
["E05005095","29UNGU","Newington","Thanet","NHS Thanet CCG",229,0,1.1479845960197206,0.38143261132435191,0,0,0.4981923624741349,0.26876107222570966,0,0,0,0.56363116516731482,0.31228870837079781,0.14310103943221586,0.81278914504603295,0.26385586511032505,0.69540847023817121,0.12535528402132617,0.15559098107439401,0.21660553644602415,4.9321956624012737E-2,1.1128227261535446,0.17106423495074793,0.48849110378092825,0,7.142312062031117E-2,0.29524532233365491,1.4166867949200985,0.24629179237998147,1.0972116267544989,1.1569243065165531,1.0979306281567935,0.81498970850575525,0.56363116516731482,0.65796056530618863,1.3563051084862989,0.95380729147437482,0.94964756830306329,0.99251050447357347,0.90843173198998972,0.41531284731294738,0.50980573578135757,276,0.97499999999999998,null,null,null,null,0.15339068693996891,282,0.996,null,null,null,null,0.3488842991706072,282,0.996,null,null,null,null,0.16585060051391479,277,0.97799999999999998,null,null,null,null,0.36434000430184671,283,1,null,null,null,null,0.50741175756351153,280,0.98899999999999999,null,null,null,null,1.1173555204759487,88,0.308,null,null,null,null,0.68931043683653503,229,0.80800000000000005,null,null,null,null,1.0071328368962438,123,0.432,null,null,null,null,0.84394198871078974,254,0.89700000000000002,null,null,null,null,0.2939472019447642,282,0.996,null,null,null,null,{"$f":"AVERAGE(Data!Z233:AH233)","v":0.42792745019591993},283,1,null,null,null,null,0.91372192103727945,239,0.84299999999999997,null,null,null,null,0.51002517352902887,283,1,null,null,null,null,"Thanet",1,2,1,45,3.0000000000000001E-3,0,0.156,1,0,0,0.71786714866696799,0.28788486068298613,0,0,0.378180418429718,0.17710533879736523,0,0,0,0.43002186299701567,0.20068115873162784,6.2416993965716268E-2,0.50529209455133328,0.1409574195047503,0.41533981309953671,6.0832657513575014E-2,8.1860587768167639E-2,8.3673450290743204E-2,3.5741908556841798E-2,0.68726872705457021,0.10857656892596333,0.27442595818541138,0,2.8940950651623925E-2,8.7048636269256713E-2,0.65975822510622018,8.5756044930035066E-2,0.64610454158035568,0.94300046759196776,0.79418743335189235,0.11242984459521629,0.43002186299701567,0.22345024994061521,0.64840087595404627,0.83000266842390469,0.69407601381135275,0.88271044692819378,0.80447111523436443,0.2258331475657322,0.33525066978331802,0.11105715144541665,0.21933866785624753,7.5455565190828619E-2,0.22120263254455735,0.21537596423928398,0.79443081417473849,0.27122585379611597,0.43592556294733076,0.68741867839270965,0.31860798731635198,282,{"$f":"AVERAGE(Data!EY233:FQ233)","v":0.18642704236839489},282,{"$f":"AVERAGE(Data!FR233:FZ233)","v":0.21861300218665802},283,{"$f":"AVERAGE(Data!GA233:GL233)","v":0.60289072233122132},236]
["E05005096","29UNGW","Northwood","Thanet","NHS Thanet CCG",230,0.35325139678167328,0.82270189891598888,0.531695829765362,0,0.53183158131715758,0.69202654999531243,0.70678122109955621,0,0,0,0.89207210157195826,0.39906826197697165,0.27178787126291698,0.78371454662420725,0.31856536464139268,0.58547178634873076,0.62934719989742971,0.54793461009736744,0.820393901628232,0.61300533042197647,0.77359601525613941,0.47924331175454593,0.48849110378092825,0,0.35848353175949149,0.20538153656408947,1.414695235224801,0.44454621419487222,1.1801205772129935,1.1500801164370784,1.1548997537033017,1.4771842725703366,0.89207210157195826,0.66155602037751193,1.2989486103405337,1.0449530293993141,0.82208773885683539,1.0413589590558863,1.0369405219426595,0.82664048814732916,0.56921637515434143,271,0.95699999999999996,null,null,null,null,0.38612787048240527,278,0.98199999999999998,null,null,null,null,0.40633499155327218,280,0.98899999999999999,null,null,null,null,0.66589190387434305,220,0.77600000000000002,null,null,null,null,0.47086715224271797,278,0.98199999999999998,null,null,null,null,0.60577662943581356,263,0.92900000000000005,null,null,null,null,1.1617001491177914,56,0.19500000000000001,null,null,null,null,1.1846281870711475,61,0.21199999999999999,null,null,null,null,0.9802523153590228,157,0.55300000000000005,null,null,null,null,0.9543961474804048,202,0.71199999999999997,null,null,null,null,0.46771811168022409,278,0.98199999999999998,null,null,null,null,{"$f":"AVERAGE(Data!Z234:AH234)","v":0.53082691988409381},278,0.98199999999999998,null,null,null,null,1.0489035158013116,71,0.248,null,null,null,null,0.65627321476242106,277,0.97799999999999998,null,null,null,null,"Thanet",7,6,6,213,1.7000000000000001E-2,1.7000000000000001E-2,0.751,7,2.1000000000000001E-2,0.20619254658385089,0.51445870303957952,0.40129547221007017,0,0.37704891002822821,0.52532096024512798,0.46574724003678908,0,0,0,0.68060556398041094,0.25644693221333359,0.11854688119584175,0.48721709339716412,0.17018439868549043,0.34967900554022624,0.30541084061501972,0.28828309283329046,0.3169133599861812,0.44422366760145615,0.4777655381799028,0.30418161041088432,0.27442595818541138,0,0.14525904373773499,6.0553652574330881E-2,0.65883074565594646,0.15478601519597796,0.69492634415944909,0.93742181874789099,0.83539601469371982,0.20378122137036503,0.68060556398041094,0.22467130387104883,0.62098078927393585,0.90931764784309688,0.60084540816393317,0.92615486487818344,0.91827340321056439,0.44949927398445028,0.37398224061116686,0.27362342206202905,0.25783498437655838,0.30353576447816383,0.30011935487553093,0.25485736429099759,0.82258139253368656,0.44219339267538799,0.42282604657249234,0.76081811961604562,0.39963127215773236,276,{"$f":"AVERAGE(Data!EY234:FQ234)","v":0.28754478950476858},278,{"$f":"AVERAGE(Data!FR234:FZ234)","v":0.28000291461573834},278,{"$f":"AVERAGE(Data!GA234:GL234)","v":0.66682280451475417},105]
["E05005098","29UNGY","Salmestone","Thanet","NHS Thanet CCG",231,0.49337534980863279,0.85962991956960644,0.78137119657626264,0,0.72414718397230915,0.68629332585292957,0.6886743762505021,0,0,0,0.94318596334001592,0.71085001159772876,0.41192129525466353,0.35879218515941785,0.54610996452041538,0.82748589949560669,0.62042061515064872,0.65249860302027263,0.62182259113475102,0.66501216975961808,1.0130169227876467,0.72285417028575594,0.48849110378092825,0,0.42648124578204927,0.45644420639172312,1.3739945783590997,0.35767828507867278,0.86775411335274377,1.0144360238553516,1.359563015501682,2.2683070667003982,0.94318596334001592,0.96826032006639906,1.0370826196933594,1.027038296155707,1.0342003871617378,1.0515965034554347,0.99745981791704663,0.7755057489045396,0.71145882198483401,247,0.872,null,null,null,null,0.41982297721514816,276,0.97499999999999998,null,null,null,null,0.474793164920981,272,0.96,null,null,null,null,0.63158060310189079,226,0.79700000000000004,null,null,null,null,0.57787487332278975,263,0.92900000000000005,null,null,null,null,0.65364957890288622,247,0.872,null,null,null,null,1.0805843842365925,109,0.38200000000000001,null,null,null,null,1.605746515020207,25,8.5000000000000006E-2,null,null,null,null,1.0026714698798793,127,0.44600000000000001,null,null,null,null,0.97716015071889295,184,0.64800000000000002,null,null,null,null,0.52245149898440868,274,0.96799999999999997,null,null,null,null,{"$f":"AVERAGE(Data!Z235:AH235)","v":0.61155252024727702},270,0.95299999999999996,null,null,null,null,1.1120324896753679,28,9.5000000000000001E-2,null,null,null,null,0.71937352597584181,267,0.94299999999999995,null,null,null,null,"Thanet",17,10,14,256,3.1E-2,4.5999999999999999E-2,0.90400000000000003,17,5.6000000000000001E-2,0.28798278145695366,0.53755083596927256,0.58973703713228975,0,0.51339355541946163,0.52096883992286935,0.45381538225327078,0,0,0,0.71960283634725619,0.45680231205299299,0.17966947761018259,0.22305275095373506,0.29174356739215129,0.49422440701836329,0.30107893010238074,0.34329701369778343,0.24020642557278343,0.48191121739000953,0.62562961255784211,0.45880441148933604,0.27442595818541138,0,0.1728120051437709,0.13457569923665313,0.6398762433406433,0.12453957474304228,0.51098608503689347,0.82685931953323177,0.98343905714163471,0.31291856613862479,0.71960283634725619,0.32883127338449619,0.49579204180420156,0.89372825517520083,0.75587376429136399,0.93525984397073791,0.88331085745256066,0.42169392390229754,0.47175688485283862,0.29763555551912041,0.29563691892183519,0.29486078979098251,0.36815423992451979,0.2679508806160274,0.77376148723725324,0.51626070124294055,0.41231165759434885,0.77797332895843219,0.42834991747917384,270,{"$f":"AVERAGE(Data!EY235:FQ235)","v":0.32384874488956561},274,{"$f":"AVERAGE(Data!FR235:FZ235)","v":0.32361941356518986},270,{"$f":"AVERAGE(Data!GA235:GL235)","v":0.67235798534820823},95]
["E05005099","29UNGZ","Sir Moses Montefiore","Thanet","NHS Thanet CCG",232,0.50841532076685969,0.77595244546618547,0.78072160808645619,0,0.69930689523663836,0.81583894767586385,0.77828030613411558,0,0,0,0.98172341267709495,0.81016986892238851,0.70009271443048682,0.68240258236532669,0.63742396310257143,1.0188911613998484,0.89629858343686286,1.0267051242530543,0.91089833786086083,0.57847042313346364,1.0152855027343315,0.82962383089890046,0.48849110378092825,0,0.4883746054825171,0.29039085078434129,1.2277251553930817,0.43590110550968858,1.2602158915449768,1.1773806416653967,1.0403009329356989,0.29388324538859084,0.98172341267709495,1.0004110220459608,1.0162980610247641,1.0396656719957966,1.022984951849599,1.0473941587576343,1.0105295623970671,0.99019628634097789,0.68836312477316708,253,0.89300000000000002,null,null,null,null,0.45868522980932358,275,0.97099999999999997,null,null,null,null,0.60383796286221458,263,0.92900000000000005,null,null,null,null,0.94463401518359269,161,0.56699999999999995,null,null,null,null,0.5823741721095248,261,0.92100000000000004,null,null,null,null,0.61059792929240708,261,0.92100000000000004,null,null,null,null,1.1592991553820242,57,0.19800000000000001,null,null,null,null,0.63780332903284287,248,0.875,null,null,null,null,1.0083545415353625,122,0.42899999999999999,null,null,null,null,1.022154126268215,145,0.51,null,null,null,null,0.63279585641129543,259,0.91400000000000003,null,null,null,null,{"$f":"AVERAGE(Data!Z236:AH236)","v":0.59491806419080584},273,0.96399999999999997,null,null,null,null,0.99008198655196333,147,0.51700000000000002,null,null,null,null,0.73145919220388556,263,0.92900000000000005,null,null,null,null,"Thanet",21,25,11,137,8.5000000000000006E-2,3.5000000000000003E-2,0.48199999999999998,21,7.0000000000000007E-2,0.29676159999999996,0.4852249511529183,0.58924676260846254,0,0.49578270995335577,0.61930759650964629,0.51286295353607436,0,0,0,0.74900494677556151,0.52062666278586278,0.3053624411494813,0.42423380316070275,0.34052544911920435,0.60854315507495249,0.43495753036498358,0.54017709995516172,0.3518746937103987,0.4191974200068081,0.62703066594715307,0.52657242517204716,0.27442595818541138,0,0.1978914563522505,8.5617368451580314E-2,0.57175783126155433,0.15177588513168472,0.74209130767908893,0.95967427546506867,0.75250102934900043,4.0541920055354612E-2,0.74900494677556151,0.33974998610363322,0.48585568901550186,0.90471659185090925,0.7476766552854216,0.9315223988257022,0.89488490484370364,0.53843541200106471,0.45707777125379362,0.32559065199981524,0.36853705725822067,0.44233644134351469,0.36944529386228397,0.25176063529926751,0.81808887083105264,0.39477343341545806,0.41280283755956754,0.80344719256136032,0.45538541209038164,261,{"$f":"AVERAGE(Data!EY236:FQ236)","v":0.38286801872930348},259,{"$f":"AVERAGE(Data!FR236:FZ236)","v":0.31714100116761001},273,{"$f":"AVERAGE(Data!GA236:GL236)","v":0.67388792643750095},93]
["E05005097","29UNGX","St Peters","Thanet","NHS Thanet CCG",233,1.0011218829828203,0.94663348573989936,1.115488963527286,0,1.1075195970740901,0.96180821264149752,1.1612915544795459,0,0,0,1.0837227433390464,0.76556810950965615,1.2225067204517457,1.0049532490368707,0.83520871877752223,0.84742474705391513,0.946882770684224,0.86812979399622137,1.2992500693221138,1.0533505873445392,0.53547485456495425,0.65173752089141268,0.48849110378092825,0,0.79647533127498071,0.4235006002231857,1.2615022719638946,0.80001561373735797,1.2176560418176197,1.1633884090932152,1.2139583666830904,2.0924771151545101,1.0837227433390464,1.0630015570237465,1.1401742498232785,0.96070683407929247,1.0665975852628307,0.9837371195240856,0.99012039989764644,0.91246837576300488,1.0210814440833353,152,0.53500000000000003,null,null,null,null,0.64612387283902672,252,0.89,null,null,null,null,0.71992303602109453,247,0.872,null,null,null,null,1.0380875446675197,136,0.47799999999999998,null,null,null,null,0.54581081331636683,271,0.95699999999999996,null,null,null,null,0.82037345429985475,197,0.69499999999999995,null,null,null,null,1.1983342725313084,31,0.106,null,null,null,null,1.5880999292467783,28,9.5000000000000001E-2,null,null,null,null,1.1015879034235125,46,0.159,null,null,null,null,0.98272606290537223,178,0.627,null,null,null,null,0.79829003255876074,229,0.80800000000000005,null,null,null,null,{"$f":"AVERAGE(Data!Z237:AH237)","v":0.66783865375347262},255,0.9,null,null,null,null,1.1573340664551139,17,5.6000000000000001E-2,null,null,null,null,0.87665168249647674,221,0.78,null,null,null,null,"Thanet",63,55,29,267,0.191,9.9000000000000005E-2,0.94299999999999995,63,0.219,0.58435401069518711,0.59195661997288751,0.8419111930243055,0,0.78519040910934379,0.7301136261894926,0.76525566926557465,0,0,0,0.82682523938248387,0.49196493880899478,0.53322599819149785,0.62475604555871456,0.44618627559225454,0.50613308741659269,0.45950512373087443,0.4567463660481052,0.50189269339271314,0.7633265780221411,0.33070417508332717,0.41366580149893301,0.27442595818541138,0,0.3227351739530393,0.12486277315844793,0.58748800574886739,0.27855648072325589,0.71702949505579305,0.94826930991641378,0.87811602546387479,0.28866238974624642,0.82682523938248387,0.36100638264495877,0.5450764563961159,0.8360066472403529,0.77955214653251903,0.87490764936088428,0.87681135992146475,0.49616959043281339,0.67274060789746004,0.45611194091288221,0.42863644811881735,0.47271472772389761,0.35642450255796254,0.32841060839590264,0.84780494347869384,0.55774381456436517,0.45304141952053734,0.77268947869760685,0.51675537337115918,229,{"$f":"AVERAGE(Data!EY237:FQ237)","v":0.48136933138836957},228,{"$f":"AVERAGE(Data!FR237:FZ237)","v":0.34397388293038034},261,{"$f":"AVERAGE(Data!GA237:GL237)","v":0.70236939100782692},35]
["E05005100","29UNHA","Thanet Villages","Thanet","NHS Thanet CCG",234,0.89335823507990064,0.76907518743317871,1.0348050634439503,0,0.93679901195500515,0.94458031359044459,0.9768152331683404,0,0,0,1.066464061467798,0.94350569603557799,0.51320338726387615,1.1858182924029455,0.81858376453373549,0.78423056573100436,1.1039200880774447,1.0583813053954996,1.0569198623487994,1.130401989407116,0.83380901727629686,0.85785730219260681,0.48849110378092825,0,0.87075223356419418,0.96675884816678226,0.85966851912460651,1.2159015446553345,0.89594841497439948,1.0029540644199515,0.86307565419082888,1.2910297896958054,1.066464061467798,1.0259511879747705,1.2906457581570829,1.0572578500032963,0.89391985176682365,1.0573473608755257,1.0566459472061871,0.90659994702473101,0.89907949531900988,201,0.70899999999999996,null,null,null,null,0.57163891174275805,261,0.92100000000000004,null,null,null,null,0.66397572092936719,254,0.89700000000000002,null,null,null,null,1.0730737519405811,128,0.45,null,null,null,null,0.66211188253138953,250,0.88200000000000001,null,null,null,null,0.97827028637772928,141,0.496,null,null,null,null,0.92065937786172658,201,0.70899999999999996,null,null,null,null,1.1787469255818017,62,0.216,null,null,null,null,1.1582984730659267,30,0.10199999999999999,null,null,null,null,0.99435419137531267,171,0.60199999999999998,null,null,null,null,0.74139263515407905,246,0.86799999999999999,null,null,null,null,{"$f":"AVERAGE(Data!Z238:AH238)","v":0.80262672868531837},218,0.76900000000000002,null,null,null,null,1.0339866573131,91,0.31900000000000001,null,null,null,null,0.84294851284631422,233,0.82199999999999995,null,null,null,null,"Thanet",51,38,66,193,0.13100000000000001,0.23,0.68,51,0.17699999999999999,0.52145245901639348,0.48092440772061185,0.78101531615052822,0,0.66415583199921668,0.71703583824542227,0.64369140731593333,0,0,0,0.81365774441448657,0.60631015875698069,0.22384612196480741,0.73719563355098006,0.43730487116105538,0.4683897170336484,0.5357125003916553,0.55684278834317757,0.40828195352051305,0.8191630523877238,0.51495251529490649,0.54449255583420997,0.27442595818541138,0,0.35283248901065539,0.28503428494305738,0.40035198915603065,0.42336330612711487,0.52758859441634798,0.8175004591000411,0.62430523478613875,0.17810075036336384,0.81365774441448657,0.34842369203867135,0.61701149313622927,0.92002529709999814,0.65334588124080484,0.94037449202799084,0.93572374634553113,0.49297853640738626,0.59446406096251114,0.40497661551211445,0.41083803086024484,0.50027908075178196,0.43060681634045039,0.3653955173092146,0.65646476276750931,0.49587924738892519,0.48271759258745028,0.78848959062434221,0.50198672054753779,238,{"$f":"AVERAGE(Data!EY238:FQ238)","v":0.45241140787291628},245,{"$f":"AVERAGE(Data!FR238:FZ238)","v":0.40162401677101223},231,{"$f":"AVERAGE(Data!GA238:GL238)","v":0.65575299344808247},132]
["E05005101","29UNHB","Viking","Thanet","NHS Thanet CCG",235,1.2699963839233352,1.0962427926464877,1.1693168586345906,0,1.0176163294355733,1.0623698167428197,1.2445907909527347,0,0,0,1.2212328680302973,0.95066684864680373,1.2491321294109996,0.9091194163762143,0.95532991904730691,1.0176899364859024,1.1684235331761923,1.1435298258506879,1.6568433475581279,1.140974436203912,0.57889521566043745,0.91996227141593412,0.48849110378092825,0,1.0237753108441991,0.58778503994369879,1.0964940902463851,1.021268032820023,1.1726961719782703,1.1401686624869112,1.0746175762383037,0.78208925035987475,1.2212328680302973,1.2970555602405662,1.0182935616593025,1.0391429333456277,1.0851562505252108,1.0437639477395662,1.0317929588380932,0.73525523463525411,1.1785186784014712,65,0.22600000000000001,null,null,null,null,0.66491538742622558,250,0.88200000000000001,null,null,null,null,0.78789638974969045,231,0.81499999999999995,null,null,null,null,1.3229322355283359,65,0.22600000000000001,null,null,null,null,0.62566460541224234,257,0.90700000000000003,null,null,null,null,0.93233061846357645,156,0.54900000000000004,null,null,null,null,1.1291608035678284,76,0.26500000000000001,null,null,null,null,1.0016610591950861,98,0.34300000000000003,null,null,null,null,1.1576745609499344,32,0.109,null,null,null,null,0.98702226501675017,175,0.61699999999999999,null,null,null,null,0.90168951562726707,190,0.67,null,null,null,null,{"$f":"AVERAGE(Data!Z239:AH239)","v":0.76196061121283531},234,0.82599999999999996,null,null,null,null,1.0534387480064398,70,0.24399999999999999,null,null,null,null,0.91577528184777157,200,0.70499999999999996,null,null,null,null,"Thanet",84,94,50,214,0.32900000000000001,0.17299999999999999,0.755,84,0.29399999999999998,0.74129583333333338,0.68551153955582322,0.88253759890507466,0,0.72145231934204235,0.80645046388835662,0.82014732219348219,0,0,0,0.93173845862068916,0.61091201711866194,0.54483931698315957,0.5651783822383678,0.51035757764294976,0.60782571122345908,0.56701485844359223,0.6016417084600113,0.64002888271509939,0.82682453730231831,0.35752017694688459,0.58391134184440596,0.27442595818541138,0,0.41483808733312427,0.17329956573790292,0.51064285868579429,0.35559409618085547,0.69055440548898794,0.92934306575006875,0.77732395182407688,0.1078911450780964,0.93173845862068916,0.44049355600475099,0.48680966637008516,0.90426170491682234,0.7931162568792548,0.92829379300666126,0.91371492546739008,0.39980704901416603,0.76978165726474368,0.46961002108477617,0.4713564329784109,0.60289514987290094,0.40853640285580406,0.36359365198441923,0.79907380768771119,0.51981480184939277,0.46365161118741804,0.78783874585685887,0.55093341478254609,203,{"$f":"AVERAGE(Data!EY239:FQ239)","v":0.53878589424547907},198,{"$f":"AVERAGE(Data!FR239:FZ239)","v":0.38856184691296636},243,{"$f":"AVERAGE(Data!GA239:GL239)","v":0.69194566486842091},57]
["E05005102","29UNHC","Westbrook","Thanet","NHS Thanet CCG",236,0.89537180444019704,0.84092223082017659,0.90034157334382781,0,1.0274890554500371,0.78142939005591416,0.97679836597629066,0,0,0,0.88994515154986431,0.95949858043899683,0.26627235549008099,0.24229631693985085,0.63880672630513124,0.59124297760993805,0.50670965666724799,0.76691772774652756,0.46137517701733227,1.0420721885489066,1.0353221469999527,0.67096831034942228,0.48849110378092825,0,0.92919331025294105,0.8821214729923933,1.0989130018829081,0.68374190214917874,1.0961317370944952,1.1583548676803688,1.2218782404774216,0.3473484634259294,0.88994515154986431,1.0619566529436257,0.66856665341944055,1.0517111831158039,1.0010539876271516,1.0405713157688095,1.0368726243588096,1.1043837533913026,0.87887853620140055,209,0.73699999999999999,null,null,null,null,0.55714336229644845,263,0.92900000000000005,null,null,null,null,0.44850776354173283,276,0.97499999999999998,null,null,null,null,0.57833418714370255,235,0.82899999999999996,null,null,null,null,0.64737074993584198,254,0.89700000000000002,null,null,null,null,0.89849242181935529,165,0.58099999999999996,null,null,null,null,1.1587882817507618,59,0.20499999999999999,null,null,null,null,0.6186468074878968,253,0.89300000000000002,null,null,null,null,0.86526165318153314,253,0.89300000000000002,null,null,null,null,1.0469185728523756,119,0.41799999999999998,null,null,null,null,0.56554826788691648,270,0.95299999999999996,null,null,null,null,{"$f":"AVERAGE(Data!Z240:AH240)","v":0.75898038188407002},235,0.82899999999999996,null,null,null,null,0.97323121923775202,171,0.60199999999999998,null,null,null,null,0.73137537894152671,264,0.93200000000000005,null,null,null,null,"Thanet",20,14,49,113,4.5999999999999999E-2,0.17,0.39700000000000002,20,6.7000000000000004E-2,0.5226277777777778,0.52585239051341415,0.67952949148540875,0,0.72845171673311415,0.59318712201246926,0.64368029235148627,0,0,0,0.67898280947795031,0.61658741338550305,0.11614115503146971,0.15062998101638891,0.34126415065512611,0.35312590847911418,0.24589705367039683,0.40349598369805656,0.17822652907656647,0.75515351421824406,0.63940510679495677,0.4258718195347278,0.27442595818541138,0,0.37651306053689881,0.26008022969128963,0.51176935810240753,0.23807127600415504,0.64546863726005799,0.94416650744332065,0.88384486122078421,4.7917579026813734E-2,0.67898280947795031,0.36065152235366105,0.31961776225604299,0.91519859011355775,0.73164780760063719,0.92545435747315163,0.91821327580299161,0.60052671320538753,0.57600321992553349,0.39306382621941394,0.28209142725569403,0.27587318881500661,0.41897127974666792,0.34660848108368775,0.82449333530805424,0.36345019425238201,0.34013464230485202,0.81820814883914517,0.45576651304166715,260,{"$f":"AVERAGE(Data!EY240:FQ240)","v":0.35671998817706535},268,{"$f":"AVERAGE(Data!FR240:FZ240)","v":0.38681003589645457},246,{"$f":"AVERAGE(Data!GA240:GL240)","v":0.66430753526952968},108]
["E05005103","29UNHD","Westgate-on-Sea","Thanet","NHS Thanet CCG",237,1.0222677150430266,1.2533511268471538,0.91055193498170217,0,0.94347610406204974,0.77928878826606762,0.8603196041093174,0,0,0,0.89141658637497501,0.70335793707648364,0.37369231134681047,0.25837778767136182,0.74266204417006221,0.8085246117054542,0.4029637663829882,0.44491340665731266,0.60374011963626162,0.95082193117689029,0.58947115766805713,0.73107945759749371,0.48849110378092825,0,0.47808307392365063,0.22211559570305234,1.2067943522466371,0.59345949560659828,1.0807424757545616,1.1476494721790953,1.1013127636406799,0.48399575187115534,0.89141658637497501,1.2530447926924726,1.0276889561125648,0.81056107724315063,1.06890370908885,0.89166201223828545,0.76846534911948938,1.1707264051770789,1.0620569256239609,128,0.45,null,null,null,null,0.51661689928748689,266,0.93899999999999995,null,null,null,null,0.47225390979314347,273,0.96399999999999997,null,null,null,null,0.48387243089218751,247,0.872,null,null,null,null,0.55197273004467384,268,0.94599999999999995,null,null,null,null,0.62511312936998453,258,0.91100000000000003,null,null,null,null,1.109901570524779,91,0.31900000000000001,null,null,null,null,0.68770616912306515,231,0.81499999999999995,null,null,null,null,1.1403668744025186,38,0.13100000000000001,null,null,null,null,0.9420637105733709,210,0.74099999999999999,null,null,null,null,0.57888967601742258,267,0.94299999999999995,null,null,null,null,{"$f":"AVERAGE(Data!Z241:AH241)","v":0.58447957418925645},276,0.97499999999999998,null,null,null,null,0.97468077929103003,169,0.59499999999999997,null,null,null,null,0.69888473408816743,269,0.95,null,null,null,null,"Thanet",15,17,8,115,5.6000000000000001E-2,2.4E-2,0.40400000000000003,15,4.9000000000000002E-2,0.5966968152866241,0.78375581242802794,0.68723572438310621,0,0.66888964320855493,0.59156218003914141,0.56692434547156256,0,0,0,0.68010543928246969,0.45198779857259536,0.1629949777787387,0.16062745708864987,0.39674587209408385,0.48289958417835505,0.19555104503282222,0.23408087489011456,0.23322127272356408,0.68902762266772477,0.36405177809966049,0.46402510227251392,0.27442595818541138,0,0.19372128422328189,6.5487437861027578E-2,0.56201025008591077,0.20663595273559729,0.63640650977175461,0.93544061854411165,0.79663389893934511,6.6768410201629672E-2,0.68010543928246969,0.42554704168877011,0.49130126782119821,0.70534987837262142,0.78123764048411104,0.79301868321203883,0.68052243735573636,0.63660161425305406,0.68922945069925279,0.36547523374385182,0.2919201411243616,0.22095106421550029,0.35830609224506216,0.25696373122645438,0.78949367575173712,0.3734369247420497,0.45842415475498416,0.71934605073551228,0.43353994171290938,267,{"$f":"AVERAGE(Data!EY241:FQ241)","v":0.36280414960307422},263,{"$f":"AVERAGE(Data!FR241:FZ241)","v":0.31326504290345869},275,{"$f":"AVERAGE(Data!GA241:GL241)","v":0.63574445332723684},181]
["E05005104","29UPHJ","Aylesford","Tonbridge and Malling","NHS West Kent CCG",238,0.91439624999018509,1.2314665892735965,0.98527305328031145,1.4275880407495989,0.96303922028562727,0.96204824727069072,0.89819119451577178,1.4046956916049906,1.6124037262705873,1.5760713661918584,0.92019588737726055,0.85212486658702558,1.3224788854910616,1.050500095671026,1.0387145189708569,0.96006924017309858,1.1249559785776455,1.0597685197888074,1.4916679271071265,1.0574277631985258,0.88044992018710988,0.90516068623195212,1.1775212534410535,1.4444187648840481,0.87798833406185983,0.82341769224847716,1.0223744187172212,0.57044440087374515,0.74642218694307472,1.139962101138315,1.1745329174548942,5.4729818534407109,0.92019588737726055,1.0127647097384063,0.98206028428008807,1.0718073951415514,0.98910751109485817,1.0575450903545522,1.0706833598513577,1.0738957796379525,1.0437119641813644,133,0.46800000000000003,null,null,null,null,1.1311124788853359,107,0.375,null,null,null,null,1.1665698233415969,84,0.29399999999999998,null,null,null,null,1.2254641418245267,93,0.32600000000000001,null,null,null,null,1.0929956775885379,121,0.42499999999999999,null,null,null,null,0.82355621147532587,196,0.69099999999999995,null,null,null,null,1.0203057351787612,150,0.52800000000000002,null,null,null,null,3.1965888704089855,2,3.0000000000000001E-3,null,null,null,null,0.99741249700924717,136,0.47799999999999998,null,null,null,null,1.0526078272160544,112,0.39300000000000002,null,null,null,null,1.1471394367987962,81,0.28299999999999997,null,null,null,null,{"$f":"AVERAGE(Data!Z242:AH242)","v":0.97324480376044376},158,0.55600000000000005,null,null,null,null,1.392663256371085,3,7.0000000000000001E-3,null,null,null,null,1.1816702902368537,33,0.113,null,null,null,null,"Tonbridge and Malling",251,203,126,281,0.71599999999999997,0.443,0.99199999999999999,251,0.88600000000000001,0.53373233082706772,0.77007079379424592,0.74363121363292306,0.99125693215467836,0.68275916865228115,0.73029583772733131,0.59188056697412184,0.80125462711214268,0.81759504787565118,0.8909320616341635,0.70206257969198016,0.54758754007741395,0.57683128608288536,0.65307146004998118,0.55490340582359332,0.57341116170117823,0.54592083849469109,0.55757263903768761,0.57622258505934454,0.76628116572542793,0.54375749313983901,0.57451659410882672,0.66151132693742198,0.86916256117762625,0.35576458754673612,0.24277230414240494,0.4761249517575411,0.19862235439800208,0.4395385112230214,0.92917469911863448,0.84959765141700827,0.7550113735582622,0.70206257969198016,0.34394542690680757,0.46948783469344374,0.93268630461907343,0.72291639703593502,0.94055034696959161,0.94815472228791464,0.58394837925745557,0.68247811275141224,0.75948942652411111,0.66454931786710592,0.55990535419724108,0.68304582821782833,0.31832104946117107,0.73943695391955477,0.72853697662512118,0.40671663080012566,0.82565123003399399,0.65366449105290758,81,{"$f":"AVERAGE(Data!EY242:FQ242)","v":0.67584168823175583},90,{"$f":"AVERAGE(Data!FR242:FZ242)","v":0.52094592654820282},150,{"$f":"AVERAGE(Data!GA242:GL242)","v":0.71808951889826078},19]
["E05005105","29UPHK","Blue Bell Hill and Walderslade","Tonbridge and Malling","NHS West Kent CCG",239,1.135358294197365,1.4806012808904498,1.193816565721743,1.4275880407495989,1.3337129936913035,1.2016843544696487,1.4569529754850052,1.4046956916049906,1.6124037262705873,1.5760713661918584,1.060089155084764,1.2323725413870483,1.1004151082649196,1.4020579925241567,1.3037192972942835,1.0717560740056058,1.2919204819941188,1.1931077391125275,1.2810562040021118,1.2888619002352126,1.2286166927026079,1.1830418373253309,1.1775212534410535,1.4444187648840481,1.5576505898611341,1.2631670445330967,0.71407302631420477,1.0364598100976037,0.94162195652345348,1.0471941326832592,0.89648564955461296,0.38491525094440099,1.060089155084764,1.1548342891835408,0.74881621956357458,1.0357406283555612,1.1723688765332685,1.0002426929116488,1.0532604743345226,1.3264942498882351,1.2699253802698527,27,9.1999999999999998E-2,null,null,null,null,1.3649268112001092,4,0.01,null,null,null,null,1.2948606576279031,31,0.106,null,null,null,null,1.2553614750362527,81,0.28299999999999997,null,null,null,null,1.2644920897176506,41,0.14099999999999999,null,null,null,null,1.1428376177015098,89,0.312,null,null,null,null,0.96176724625377519,180,0.63400000000000001,null,null,null,null,0.72250220301458246,213,0.751,null,null,null,null,0.95182525437355769,191,0.67300000000000004,null,null,null,null,1.1176213844046472,47,0.16300000000000001,null,null,null,null,1.3031252569969518,25,8.5000000000000006E-2,null,null,null,null,{"$f":"AVERAGE(Data!Z243:AH243)","v":1.2104234354882548},56,0.19500000000000001,null,null,null,null,0.98517196463006995,154,0.54200000000000004,null,null,null,null,1.1868813594474303,31,0.106,null,null,null,null,"Tonbridge and Malling",253,259,228,130,0.91400000000000003,0.80400000000000005,0.45700000000000002,253,0.89300000000000002,0.66270769230769233,0.92586174371213359,0.90102866273171012,0.99125693215467836,0.94555315672745255,0.91220485544350671,0.96008751638853485,0.80125462711214268,0.81759504787565118,0.8909320616341635,0.80879401563460251,0.79194009570446655,0.47997277619278961,0.87162682233513977,0.69647459922223065,0.64011726419340864,0.6269456994134418,0.62772597820308151,0.49486450976256385,0.93399344498382253,0.75878197900427358,0.75089117038190378,0.66151132693742198,0.86916256117762625,0.63116660910534694,0.37242577710549413,0.33254742976824175,0.36088370296065975,0.55448393703333398,0.85356021238175062,0.64847233404158733,5.3100010214057913E-2,0.80879401563460251,0.3921937334313792,0.3579822044875266,0.90130102067191376,0.85685800048405192,0.88958723410691154,0.93272570583158132,0.72130292529663831,0.82986603291717864,0.9220714175652629,0.74968158534905649,0.58317872912636248,0.79486809649700962,0.42425587973493567,0.68550549448555731,0.43094701292433024,0.3750879689594529,0.8603549772782193,0.71221673479473802,24,{"$f":"AVERAGE(Data!EY243:FQ243)","v":0.78141810824996794},23,{"$f":"AVERAGE(Data!FR243:FZ243)","v":0.63015155571386561},45,{"$f":"AVERAGE(Data!GA243:GL243)","v":0.66419677780127784},109]
["E05005106","29UPHL","Borough Green and Long Mill","Tonbridge and Malling","NHS West Kent CCG",240,1.1849044558440136,1.1260673998738033,1.191867212900368,1.4275880407495989,1.1935602167530299,1.1724656172374794,1.2298317557619203,1.4046956916049906,1.6124037262705873,1.5760713661918584,1.229956748117736,1.2657330524416261,1.1511013513328543,1.3080997760313378,1.4788697894608842,1.3363588356148162,1.6803846133702727,1.4864844456368487,1.5774308340269316,1.1134287466305108,0.99631768728163361,1.3749440780650326,1.1775212534410535,1.4444187648840481,1.4768843472901627,1.7605482101352867,0.61346785213956079,1.4753194740308011,1.0602962381095427,0.8488379254214149,0.7838072758983573,0.84137378855542777,1.229956748117736,0.91584851265373635,0.87969389038728718,1.1077342739107729,1.0126546715949982,1.0920823802613893,1.0962088139096371,0.92503090348780737,1.1676130228727282,70,0.24399999999999999,null,null,null,null,1.2856282644214039,34,0.11700000000000001,null,null,null,null,1.3698243306827123,21,7.0000000000000007E-2,null,null,null,null,1.5814332976780177,16,5.2999999999999999E-2,null,null,null,null,1.2213261060604557,55,0.191,null,null,null,null,1.3315549708989529,41,0.14099999999999999,null,null,null,null,0.89764714647643828,209,0.73699999999999999,null,null,null,null,1.0356652683365819,88,0.308,null,null,null,null,0.89777120152051171,234,0.82599999999999996,null,null,null,null,1.0467422086329212,120,0.42099999999999999,null,null,null,null,1.3491513120642609,17,5.6000000000000001E-2,null,null,null,null,{"$f":"AVERAGE(Data!Z244:AH244)","v":1.2703167126553432},34,0.11700000000000001,null,null,null,null,0.98279378519234228,158,0.55600000000000005,null,null,null,null,1.2215062691356788,22,7.3999999999999996E-2,null,null,null,null,"Tonbridge and Malling",262,267,250,126,0.94299999999999995,0.88200000000000001,0.443,262,0.92500000000000004,0.69162774566473995,0.70416170770670095,0.89955739585850003,0.99125693215467836,0.84619002441566216,0.89002475975200879,0.81042156873467686,0.80125462711214268,0.81759504787565118,0.8909320616341635,0.93839433466091726,0.81337803385227436,0.50208081216701239,0.81321518593308706,0.79004372034246051,0.79815396672990624,0.81546033319859346,0.78207933125564166,0.60935229377633371,0.80686313298551704,0.6153163236041993,0.87269387726987524,0.66151132693742198,0.86916256117762625,0.59843978591052205,0.51907112216791329,0.28569508993704512,0.51368972501506871,0.62436652889791555,0.69188153111963102,0.56696650291402406,0.11606959364825785,0.93839433466091726,0.31103167857025554,0.42055012956128063,0.96394985807807643,0.74012648617007326,0.97126682449999591,0.97075905211261726,0.5030006701738553,0.76511561640998027,0.86782958243383379,0.79547414539943406,0.73563065274352291,0.76510944439492801,0.47922393075763731,0.62773818764385692,0.52723196415458751,0.36579090406576809,0.82982057820692356,0.71914965045593082,20,{"$f":"AVERAGE(Data!EY244:FQ244)","v":0.80027262541184996},18,{"$f":"AVERAGE(Data!FR244:FZ244)","v":0.63804921611168774},36,{"$f":"AVERAGE(Data!GA244:GL244)","v":0.65153026586724172},145]
["E05005107","29UPHM","Burham, Eccles and Wouldham","Tonbridge and Malling","NHS West Kent CCG",241,0.74854981903849427,1.1161209523054052,1.0078355278076188,1.4275880407495989,1.1174006317771257,1.0809661078282775,0.99810239356529595,1.4046956916049906,1.6124037262705873,1.5760713661918584,1.0622011845322479,1.130933067674043,1.0872058750995497,1.4141556273863078,1.0070359695076341,1.2040492230762629,0.90978241853503461,1.0940193231967563,0.75294990666863248,1.1066054462595889,1.2383598010432695,1.140774953283398,1.1775212534410535,1.4444187648840481,0.95079602042708378,0.78888647735706119,0.98581649872944077,0.44955019428962528,1.0335022103790092,1.0635406918045589,0.83607377646163172,0.30465904618373707,1.0622011845322479,1.0521858137123177,0.65857736697283431,1.0943269189663845,1.1747513217058516,1.0720781222961251,1.0791052771355345,1.1682393312426331,0.95750209971717271,182,0.64100000000000001,null,null,null,null,1.2057505731050577,78,0.27300000000000002,null,null,null,null,1.2617570049673112,40,0.13800000000000001,null,null,null,null,0.91891721613347455,172,0.60599999999999998,null,null,null,null,1.2215360437822718,54,0.187,null,null,null,null,0.79376229770080275,207,0.73,null,null,null,null,0.97770555954839988,173,0.60899999999999999,null,null,null,null,0.68343011535799247,232,0.81899999999999995,null,null,null,null,0.85538159034257599,257,0.90700000000000003,null,null,null,null,1.1177001942693059,46,0.159,null,null,null,null,1.1448456238324065,82,0.28699999999999998,null,null,null,null,{"$f":"AVERAGE(Data!Z245:AH245)","v":1.0314143788571744},130,0.45700000000000002,null,null,null,null,0.96660342178273873,180,0.63400000000000001,null,null,null,null,1.065850933098079,107,0.375,null,null,null,null,"Tonbridge and Malling",177,202,154,104,0.71199999999999997,0.54200000000000004,0.36499999999999999,177,0.624,0.43692790697674416,0.69794191348642309,0.76066015830916611,0.99125693215467836,0.79219569705313908,0.82056700535642135,0.65771899592061966,0.80125462711214268,0.81759504787565118,0.8909320616341635,0.81040538649881289,0.72675364938031251,0.47421124832376826,0.87914764036755499,0.5379800503995158,0.71913069897446202,0.44150099224535438,0.57559290524557316,0.29086013968418106,0.80191852424315779,0.76479923000883065,0.72406386045481164,0.66151132693742198,0.86916256117762625,0.38526657009600657,0.23259129554501398,0.45909974301613149,0.15652834504663163,0.60858858544398498,0.86688417213268587,0.60477344341473505,4.2028468408227146E-2,0.81040538649881289,0.35733324374626557,0.31484224232206293,0.95228278394285226,0.85859927598846397,0.9534756097880156,0.95561283823810472,0.63524922715865395,0.63184332625744444,0.81259865151940025,0.73201947293178016,0.43598467905836952,0.76429110056436966,0.30837148842594592,0.69341540033046867,0.42621692745352002,0.33608774303416422,0.87104394702321808,0.6534412447651794,84,{"$f":"AVERAGE(Data!EY245:FQ245)","v":0.69066489773677286},76,{"$f":"AVERAGE(Data!FR245:FZ245)","v":0.56166016183618128},106,{"$f":"AVERAGE(Data!GA245:GL245)","v":0.66333960642357204},111]
["E05005108","29UPHN","Cage Green","Tonbridge and Malling","NHS West Kent CCG",242,1.2473330371012741,1.12419178404662,1.1692207666192285,1.4275880407495989,1.1602924232542864,1.164542656724431,1.190983524511078,1.4046956916049906,1.6124037262705873,1.5760713661918584,1.0400220211425264,1.0056840523568413,1.2032021834252113,1.1395612264890436,1.1488678906207255,1.059832198701979,0.94768316222458082,0.86448650565575247,0.99756441099969206,1.1074721510250123,0.82125728435575363,0.83654070038167971,1.1775212534410535,1.4444187648840481,1.2537857745582364,0.95485784496653492,0.91244439184309833,1.1161298870065137,1.0175259475272,0.90846230125864946,0.798265861066349,0.25208556783821845,1.0400220211425264,0.97114025590394992,1.0747827567586163,1.1012260199207393,1.0841005825368077,1.0708374587690621,1.0883609000239396,1.0487377714592496,1.1802485292557074,63,0.219,null,null,null,null,1.2696204673688771,44,0.152,null,null,null,null,1.2232055831498465,57,0.19800000000000001,null,null,null,null,0.93657802629334175,163,0.57399999999999995,null,null,null,null,1.0774420308175094,128,0.45,null,null,null,null,1.0593044745935958,117,0.41099999999999998,null,null,null,null,0.90808470328406621,206,0.72599999999999998,null,null,null,null,0.64605379449037237,245,0.86499999999999999,null,null,null,null,1.0229615063312831,101,0.35399999999999998,null,null,null,null,1.0786525465419596,86,0.30099999999999999,null,null,null,null,1.1833803509837002,56,0.19500000000000001,null,null,null,null,{"$f":"AVERAGE(Data!Z246:AH246)","v":1.0693808947179921},113,0.39700000000000002,null,null,null,null,0.95462895368377565,192,0.67700000000000005,null,null,null,null,1.0891050541339384,94,0.32900000000000001,null,null,null,null,"Tonbridge and Malling",190,228,171,92,0.80400000000000005,0.60199999999999998,0.32200000000000001,190,0.67,0.7280672566371682,0.70298883222516306,0.88246507380985739,0.99125693215467836,0.82260438994341167,0.88401039914008273,0.78482177074168225,0.80125462711214268,0.81759504787565118,0.8909320616341635,0.79348381482217933,0.64626685350805468,0.52480585550157077,0.70843869226319889,0.61374968165309207,0.63299560785474718,0.45989353930371141,0.45482953434680562,0.38535329024887149,0.80254659507797255,0.50720068447415412,0.53096264710455754,0.66151132693742198,0.86916256117762625,0.50803930035618083,0.28152545340381674,0.4249299807333064,0.38862393185322092,0.59918079597626994,0.74048092001455779,0.57742511145447839,3.4775827131254641E-2,0.79348381482217933,0.32980932954264025,0.51381512653915606,0.95828637843518294,0.7923446929288428,0.95237219914246063,0.96380925080827462,0.57026830119042737,0.77117372089072944,0.85678962381839963,0.70353345188908212,0.43335878796646282,0.67427676295434646,0.40077966658663122,0.63902894248176867,0.41412982097671697,0.42181222804089813,0.84741616450103763,0.65815918724700539,72,{"$f":"AVERAGE(Data!EY246:FQ246)","v":0.711884908461907},57,{"$f":"AVERAGE(Data!FR246:FZ246)","v":0.55272249790202865},116,{"$f":"AVERAGE(Data!GA246:GL246)","v":0.65217097899881049},144]
["E05005109","29UPHP","Castle","Tonbridge and Malling","NHS West Kent CCG",243,1.4614474341652526,1.3293183444588574,1.2480514483072374,1.4275880407495989,1.3237772336463363,1.1011938485096675,1.1435945283251852,1.4046956916049906,1.6124037262705873,1.5760713661918584,1.0404006206371414,1.260345626990949,1.0368109814886473,1.1643974907485579,1.2894297515430599,1.2552900520920014,0.88411703121300411,1.1775930772536802,0.72045012383672968,1.1972657404767897,1.0520247786750287,1.3995292798910821,1.1775212534410535,1.4444187648840481,1.2993545836336615,1.0639970719146083,0.94125227077492979,0.97284319305944156,1.0557138476900512,1.1040434708372078,0.89779810785233749,1.6313561303662376,1.0404006206371414,1.2776910157608021,0.74627925578728238,0.87298176999255273,1.123870094483554,0.85573518375577906,0.93368792618524099,1.2934537372839152,1.3462724089771159,10,3.1E-2,null,null,null,null,1.2801698685671556,37,0.127,null,null,null,null,1.2793937019953501,34,0.11700000000000001,null,null,null,null,0.92738674410113797,167,0.58799999999999997,null,null,null,null,1.2541519634736005,45,0.156,null,null,null,null,1.0693617798456603,112,0.39300000000000002,null,null,null,null,1.0191851421265321,151,0.53100000000000003,null,null,null,null,1.3358783755016894,48,0.16600000000000001,null,null,null,null,1.0119851357740424,119,0.41799999999999998,null,null,null,null,1.0159457423402085,152,0.53500000000000003,null,null,null,null,1.2345777062122811,37,0.127,null,null,null,null,{"$f":"AVERAGE(Data!Z247:AH247)","v":1.1720229929722938},71,0.248,null,null,null,null,1.069417596719342,57,0.19800000000000001,null,null,null,null,1.1709548628854023,40,0.13800000000000001,null,null,null,null,"Tonbridge and Malling",244,247,213,227,0.872,0.751,0.80100000000000005,244,0.86099999999999999,0.85304565217391304,0.83126025637976542,0.94196224091495118,0.99125693215467836,0.93850907054141086,0.8359219887142264,0.75359386948624607,0.80125462711214268,0.81759504787565118,0.8909320616341635,0.79377266694758608,0.80991599775221002,0.45223029149148353,0.7238788197120094,0.68884081971861666,0.74973480757724209,0.42904604286604686,0.61956329852833636,0.27830566389439532,0.86761688999026942,0.64972049319029812,0.88829840653569947,0.66151132693742198,0.86916256117762625,0.52650397458563636,0.31370351060119495,0.43834595605071025,0.33873310908051679,0.62166814037455898,0.8998976885325296,0.64942169993057897,0.22504961020036524,0.79377266694758608,0.4339171553325073,0.35676937300549566,0.75966833662930622,0.82141133327473959,0.76106638982716801,0.82683699920268594,0.70333660663615083,0.87542271648954317,0.86410729760174088,0.74086256408862017,0.4423050017629262,0.78726193556626312,0.40432163757951461,0.72366250961255585,0.50941113857397569,0.39534326416900145,0.77446393311401018,0.69017580958795288,38,{"$f":"AVERAGE(Data!EY247:FQ247)","v":0.74740106081447755},33,{"$f":"AVERAGE(Data!FR247:FZ247)","v":0.61706624757215267},56,{"$f":"AVERAGE(Data!GA247:GL247)","v":0.65440133332447281},136]
["E05008540","29UPHQ","Ditton","Tonbridge and Malling","NHS West Kent CCG",244,0.90016508174665855,1.1543766947587624,0.98218034973685364,1.4275880407495989,0.90937011738880835,1.1775628824129765,1.0178887052929702,1.4046956916049906,1.6124037262705873,1.5760713661918584,1.0223444414678728,1.0471025583809628,0.91547910470278648,1.1977901131453561,1.1724716312907209,1.150194186085111,1.0036031198516562,1.008840578208857,0.91119673119350342,1.0893354565037747,1.1067543052120707,0.91332586294787199,1.1775212534410535,1.4444187648840481,0.9214224329376558,1.0146317395900957,1.0051049821503577,0.53708639232610444,1.171871846194444,1.043184583687391,1.1908265604113815,0.73420308089643171,1.0223444414678728,1.0750945691994891,0.89188947940399943,0.68144116002259902,1.1292034900186929,0.69547594653139189,0.69280532302458742,0.94267988799446845,1.0122407087474248,156,0.54900000000000004,null,null,null,null,1.1874210874898687,83,0.28999999999999998,null,null,null,null,1.2117321409419068,62,0.216,null,null,null,null,0.97454680975133889,154,0.54200000000000004,null,null,null,null,1.1462711285977638,87,0.30399999999999999,null,null,null,null,0.86956138675105343,179,0.63100000000000001,null,null,null,null,1.1352943300977387,71,0.248,null,null,null,null,0.87827376118215228,145,0.51,null,null,null,null,0.98349202430174421,152,0.53500000000000003,null,null,null,null,0.82832116151834789,260,0.91800000000000004,null,null,null,null,1.1363855326568892,83,0.28999999999999998,null,null,null,null,{"$f":"AVERAGE(Data!Z248:AH248)","v":1.0232890211103369},138,0.48499999999999999,null,null,null,null,0.93925169740439574,212,0.748,null,null,null,null,1.0517986669831669,120,0.42099999999999999,null,null,null,null,"Tonbridge and Malling",164,201,146,72,0.70899999999999996,0.51400000000000001,0.251,164,0.57799999999999996,0.52542560975609753,0.72186430830804982,0.74129700700688017,0.99125693215467836,0.64470976079402398,0.89389412030852822,0.67075757108725353,0.80125462711214268,0.81759504787565118,0.8909320616341635,0.77999672217229699,0.67288297365282923,0.39930844654024988,0.74463823587336109,0.62635930234168546,0.68696522795177983,0.4870304857600154,0.53077808319152131,0.35198996130741222,0.78940356261389044,0.683520928022739,0.57969913195926626,0.66151132693742198,0.86916256117762625,0.37336426817178986,0.29914888591192967,0.46808248756658993,0.18700746925650077,0.690068992629987,0.85029205857372736,0.86138364786132715,0.10128512964643395,0.77999672217229699,0.36511329533196318,0.42638040370220531,0.59298978551353809,0.82530939191950947,0.61853640926062292,0.61352091877393322,0.51259759391042059,0.66286230835700921,0.80037460229132529,0.7023347522552521,0.45659951008631627,0.71665950214218888,0.33190077772670251,0.80058156635501387,0.44064092590936549,0.39574684951708428,0.63259081987560484,0.6281827863935584,118,{"$f":"AVERAGE(Data!EY248:FQ248)","v":0.68310192025413785},82,{"$f":"AVERAGE(Data!FR248:FZ248)","v":0.54565562462419481},122,{"$f":"AVERAGE(Data!GA248:GL248)","v":0.6031228624413304},235]
["E05005111","29UPHR","Downs","Tonbridge and Malling","NHS West Kent CCG",245,1.2814387567565562,1.2373136031291274,1.2027505466749899,1.4275880407495989,1.2433381745799938,1.2186858103423353,1.3695467032225939,1.4046956916049906,1.6124037262705873,1.5760713661918584,1.2107763059372318,1.3281877607331005,1.5447548119702978,1.349518212197141,1.5645572880093286,1.2587193466286948,1.7109223947043786,1.4854689563521473,1.5294777502059358,1.1834551096432901,1.1942296775936969,1.1190845053029768,1.1775212534410535,1.4444187648840481,1.5946010838068057,1.8947753664540561,0.60262619817084995,2.3793970325027893,0.41998540398939693,0.7007152685089737,0.66221673659383917,1.3126002352934005,1.2107763059372318,0.4462990285986323,1.2544920397408217,1.1303125250371713,0.44625943570452176,1.1101090591199625,1.1206341073810799,0.74059619195586901,1.240500968853558,36,0.124,null,null,null,null,1.3327708840999024,12,3.9E-2,null,null,null,null,1.43062360224228,15,4.9000000000000002E-2,null,null,null,null,1.5752897004208206,17,5.6000000000000001E-2,null,null,null,null,1.2237418621730132,53,0.184,null,null,null,null,1.6178499202336254,5,1.4E-2,null,null,null,null,0.59430580303073655,276,0.97499999999999998,null,null,null,null,1.2616882706153163,53,0.184,null,null,null,null,0.85039553416972702,259,0.91400000000000003,null,null,null,null,0.90958226383972085,229,0.80800000000000005,null,null,null,null,1.3976955392768886,6,1.7000000000000001E-2,null,null,null,null,{"$f":"AVERAGE(Data!Z249:AH249)","v":1.3989009990888406},11,3.5000000000000003E-2,null,null,null,null,0.87958302815507527,260,0.91800000000000004,null,null,null,null,1.2425330143980335,14,4.5999999999999999E-2,null,null,null,null,"Tonbridge and Malling",270,278,273,24,0.98199999999999998,0.96399999999999997,8.1000000000000003E-2,270,0.95299999999999996,0.74797473684210525,0.77372709648266114,0.90777155200156046,0.99125693215467836,0.88148075441632212,0.92511074919088587,0.90248945230190003,0.80125462711214268,0.81759504787565118,0.8909320616341635,0.92376063448729662,0.85351231630381019,0.67378233002236854,0.83896406372115606,0.83581980598738448,0.75178298877274241,0.83027976747793397,0.78154505510965999,0.5908282983087304,0.85760880559641306,0.73754488566884635,0.71029666697419136,0.66151132693742198,0.86916256117762625,0.64613910558193888,0.55864597746280897,0.2806460767004843,0.8284794099467776,0.24731279754814825,0.57114784617358128,0.47901406233748034,0.18107644664649067,0.92376063448729662,0.15156779106086674,0.59972769574917806,0.98359744187279419,0.32616096812944262,0.98729923693307342,0.99238912335182272,0.4027112818365613,0.80982446177544221,0.90031850303518579,0.82326865610057154,0.73421770696544142,0.76722484927089984,0.57847764242300248,0.43249156868640332,0.55241854056689366,0.37564774340502238,0.73843161042473882,0.7178917103094099,21,{"$f":"AVERAGE(Data!EY249:FQ249)","v":0.82736148790542896},7,{"$f":"AVERAGE(Data!FR249:FZ249)","v":0.68333720178294532},18,{"$f":"AVERAGE(Data!GA249:GL249)","v":0.57048044384389474},259]
["E05005112","29UPHS","East Malling","Tonbridge and Malling","NHS West Kent CCG",246,0.74246381281442642,0.7439854278898379,0.71323816832378395,1.4275880407495989,0.65087587588026896,0.96179805464509394,0.84311481475825245,1.4046956916049906,1.6124037262705873,1.5760713661918584,0.78761744439047232,0.9825553892518144,1.0118754226240156,1.2620991226177001,0.98015351388144811,1.115362730613638,1.2092063287749206,1.2237080157156395,0.98695862876425411,0.68038237540453073,1.1827147938669262,0.84842819630210375,1.1775212534410535,1.4444187648840481,0.84755073148643978,1.0603859887824152,1.0255048489458327,0.69729024091818648,0.94176974945535119,0.96738047227843327,1.1195750084576839,0.42456528758889694,0.78761744439047232,0.88350515529977625,1.1175003090908637,0.93088924210062107,1.0562819979102922,0.94564084169838214,0.91841326859923089,1.1946661206924347,0.73322913634268272,240,0.84699999999999998,null,null,null,null,1.057614495527641,132,0.46400000000000002,null,null,null,null,1.1660173394801918,85,0.29699999999999999,null,null,null,null,1.1399576577516046,109,0.38200000000000001,null,null,null,null,1.0666930767797325,132,0.46400000000000002,null,null,null,null,0.90768295253321862,163,0.57399999999999995,null,null,null,null,1.0095750767304894,155,0.54600000000000004,null,null,null,null,0.60609136598968461,255,0.9,null,null,null,null,1.0005027321953199,130,0.45700000000000002,null,null,null,null,1.0091782942001921,161,0.56699999999999995,null,null,null,null,1.065040609250663,124,0.436,null,null,null,null,{"$f":"AVERAGE(Data!Z250:AH250)","v":0.99602191044794863},147,0.51700000000000002,null,null,null,null,0.94065040813020318,210,0.74099999999999999,null,null,null,null,1.0121943416839143,152,0.53500000000000003,null,null,null,null,"Tonbridge and Malling",132,160,137,74,0.56299999999999994,0.48199999999999998,0.25800000000000001,132,0.46400000000000002,0.43337551020408172,0.46523507338061648,0.53831388461716412,0.99125693215467836,0.4614469094831215,0.73010591520148937,0.55558691471299382,0.80125462711214268,0.81759504787565118,0.8909320616341635,0.60091198233369125,0.63140404615249979,0.44135404186142607,0.78461765032895381,0.52361887039150756,0.66616178533545445,0.58680601329177162,0.64382560435944292,0.38125633867860315,0.49304947147121242,0.73043340304444571,0.5385077866279222,0.66151132693742198,0.86916256117762625,0.34343114220805027,0.31263883713023949,0.4775828089909489,0.24278865589316834,0.55457096644697146,0.78850468657246509,0.80984388230852122,5.8569830767140188E-2,0.60091198233369125,0.3000475380825991,0.53423685773926521,0.810059392349885,0.77201271612828326,0.84102590979817449,0.81331036820739611,0.64961922577564479,0.47897482273395414,0.70793025973288515,0.66957443573916842,0.53729598544327251,0.65853290985172575,0.34411036105560178,0.71763984510931922,0.32974090655041571,0.41714219791093216,0.77720552245187668,0.60367196397751322,154,{"$f":"AVERAGE(Data!EY250:FQ250)","v":0.62868732679523442},138,{"$f":"AVERAGE(Data!FR250:FZ250)","v":0.51878955483122613},153,{"$f":"AVERAGE(Data!GA250:GL250)","v":0.62772611304250303},201]
["E05005113","29UPHT","East Peckham and Golden Green","Tonbridge and Malling","NHS West Kent CCG",247,1.1678260440642976,0.76019727251784264,1.1030754661871953,1.4275880407495989,1.1332785003558297,1.1600862871942639,1.2358315092463146,1.4046956916049906,1.6124037262705873,1.5760713661918584,0.92675406250761549,1.119883406641949,1.0915462784014307,1.066356145057934,1.2565058925931176,0.91303810499529126,1.0374131298637448,0.96686980262751632,1.188538719673238,1.1163647235783545,1.0701762131378305,1.0001242402638024,1.1775212534410535,1.4444187648840481,1.228681385282681,1.3134686979531123,0.8041519933823511,1.2947528991604307,0.95603714565290099,0.91774589094888692,0.74269341992698712,0.84714216918256879,0.92675406250761549,0.94149394123506169,1.1052866191087831,1.101321789114684,1.0145621129245821,1.0840957818648678,1.1014175200717282,1.2392153205128456,1.0103662609231119,159,0.56000000000000005,null,null,null,null,1.2722960058301995,42,0.14499999999999999,null,null,null,null,1.195319872832473,69,0.24099999999999999,null,null,null,null,1.0642738840548329,132,0.46400000000000002,null,null,null,null,1.161721039061018,82,0.28699999999999998,null,null,null,null,1.1602637439446437,84,0.29399999999999998,null,null,null,null,0.8721588188429249,222,0.78300000000000003,null,null,null,null,0.88694811584509214,143,0.503,null,null,null,null,1.0233902801719224,100,0.35099999999999998,null,null,null,null,1.1081225048977417,58,0.20200000000000001,null,null,null,null,1.1656820761444535,66,0.23,null,null,null,null,{"$f":"AVERAGE(Data!Z251:AH251)","v":1.1610733523426293},74,0.25800000000000001,null,null,null,null,0.9981471477542927,131,0.46,null,null,null,null,1.1143846347719946,68,0.23699999999999999,null,null,null,null,"Tonbridge and Malling",216,218,210,153,0.76900000000000002,0.74099999999999999,0.53900000000000003,216,0.76200000000000001,0.68165909090909094,0.47537279710799807,0.83254215155736666,0.99125693215467836,0.80345251829407549,0.88062754580763425,0.81437522305207721,0.80125462711214268,0.81759504787565118,0.8909320616341635,0.70706613318884681,0.71965298028766178,0.47610442064297148,0.66292879691877804,0.67125219345942111,0.54532133574907371,0.50343787357500391,0.50869613258969537,0.4591255473471425,0.80899073348593453,0.66093064640183752,0.63479112708038721,0.66151132693742198,0.86916256117762625,0.49786689561030933,0.38725646196678659,0.37449766156639569,0.45081846504406609,0.5629724719131779,0.74804790548587619,0.537226820905227,0.11686535601274781,0.70706613318884681,0.3197411327966872,0.52839793017535541,0.95836971674391414,0.74152059206662424,0.96416377238291151,0.97537167572272221,0.67384358117921639,0.66319134652481859,0.85819336928412171,0.68635662121957086,0.49041985117061393,0.72707727901664154,0.42760987104688941,0.6160823994347604,0.41196574460079732,0.42406953148602133,0.86265386761907759,0.66055165942768856,68,{"$f":"AVERAGE(Data!EY251:FQ251)","v":0.69698175838228815},69,{"$f":"AVERAGE(Data!FR251:FZ251)","v":0.5939806532523072},77,{"$f":"AVERAGE(Data!GA251:GL251)","v":0.65279892404777562},141]
["E05005114","29UPHU","Hadlow, Mereworth and West Peckham","Tonbridge and Malling","NHS West Kent CCG",248,1.0968092832442451,0.70816856185122246,1.0659943734181241,1.4275880407495989,1.0252183991030681,1.1234842361773183,1.0561532054987373,1.4046956916049906,1.6124037262705873,1.5760713661918584,0.65856704328559423,1.1033362439726295,1.0612369498826313,1.0328936241588709,1.1624430634647682,0.97357922742165592,1.3890064507098914,1.2784183334095811,1.2079606714438547,0.98909604793547234,1.0426107540369995,1.1157354077622998,1.1775212534410535,1.4444187648840481,1.1456877222905077,1.3101019103889056,0.79340890780611051,1.5814886627723115,0.92194830278179596,0.91942887516287752,0.60961633723075437,0.83919475504665941,0.65856704328559423,0.67677828898080583,1.240976419494038,1.1168502351881049,1.0042774229998914,1.0951243361396545,1.102963134271888,1.3316223917638768,0.9569907395045304,183,0.64500000000000002,null,null,null,null,1.2074279146267426,75,0.26200000000000001,null,null,null,null,1.1475664055810744,90,0.315,null,null,null,null,1.2917951518544424,70,0.24399999999999999,null,null,null,null,1.1538764456119748,84,0.29399999999999998,null,null,null,null,1.2076718008144587,73,0.255,null,null,null,null,0.81699783839180939,235,0.82899999999999996,null,null,null,null,0.74888089916612688,203,0.71599999999999997,null,null,null,null,0.95887735423742193,182,0.64100000000000001,null,null,null,null,1.1301675040726831,37,0.127,null,null,null,null,1.156001499571538,75,0.26200000000000001,null,null,null,null,{"$f":"AVERAGE(Data!Z252:AH252)","v":1.1777854923686344},68,0.23699999999999999,null,null,null,null,0.95977896186216183,188,0.66300000000000003,null,null,null,null,1.102036136638072,85,0.29699999999999999,null,null,null,null,"Tonbridge and Malling",199,209,216,96,0.73699999999999999,0.76200000000000001,0.33600000000000002,199,0.70199999999999996,0.6402066666666667,0.44283777677361047,0.804555333155205,0.99125693215467836,0.72684190541173133,0.85284273814773548,0.69597270814833412,0.80125462711214268,0.81759504787565118,0.8909320616341635,0.502453101183714,0.70901953857430688,0.46288427086090833,0.6421259264853918,0.62100182794374637,0.58148013960257072,0.6740597682807381,0.67261016971460219,0.46662813358151078,0.71676354546793886,0.643906481149223,0.7081709536708245,0.66151132693742198,0.86916256117762625,0.46423751223706394,0.38626381536444254,0.36949455213009685,0.55065664799663361,0.54289890027104271,0.74941969350329773,0.44096559634871019,0.1157689905900821,0.502453101183714,0.22984094458118215,0.59326636197387639,0.97188256340866652,0.7340037438963386,0.97397225302769053,0.97674041036236414,0.72409143624310357,0.62919992553182735,0.81363378219492444,0.65343648927005649,0.6044326905256171,0.71990297368060696,0.44266313193205931,0.57776139670768356,0.30911104588689803,0.41155365327752924,0.87613808138763272,0.64805075162071857,91,{"$f":"AVERAGE(Data!EY252:FQ252)","v":0.68402940385828459},79,{"$f":"AVERAGE(Data!FR252:FZ252)","v":0.59668526623680795},71,{"$f":"AVERAGE(Data!GA252:GL252)","v":0.62960866628250567},196]
["E05005115","29UPHW","Higham","Tonbridge and Malling","NHS West Kent CCG",249,1.2331480646299118,0.96618973188207302,1.0900257596563494,1.4275880407495989,1.1861971457604426,1.1739567731019585,1.2618323021820734,1.4046956916049906,1.6124037262705873,1.5760713661918584,1.1181079485481671,1.0817323639191534,1.0410183336621062,1.1434435798113012,1.1631202166122947,1.0784281588502396,1.602038094017868,1.4601274147526646,1.4220838555942765,1.1870277086089183,0.83186605575117134,0.96624373794660978,1.1775212534410535,1.4444187648840481,1.2877422886596279,1.2188904119525925,0.91334150663695046,1.0931382690755103,1.1962761934257768,0.84445570182752472,0.87221314427266183,0.21872024390486086,1.1181079485481671,1.0386495607775725,1.0625255451248214,1.083788849966312,1.1893549943848114,1.0701646245941927,1.0700205628476731,1.662646924698945,1.0964545187227781,119,0.41799999999999998,null,null,null,null,1.2908539906798127,30,0.10199999999999999,null,null,null,null,1.2267907117332135,56,0.19500000000000001,null,null,null,null,1.494749788121603,30,0.10199999999999999,null,null,null,null,1.1214155041263603,104,0.36499999999999999,null,null,null,null,1.1282781190811704,93,0.32600000000000001,null,null,null,null,0.9709816798419878,177,0.624,null,null,null,null,0.66841409622651393,235,0.82899999999999996,null,null,null,null,1.050587552951197,76,0.26500000000000001,null,null,null,null,1.2151951912983869,2,3.0000000000000001E-3,null,null,null,null,1.2653793983051536,31,0.106,null,null,null,null,{"$f":"AVERAGE(Data!Z253:AH253)","v":1.1244655552173868},85,0.29699999999999999,null,null,null,null,1.0355770245311102,90,0.315,null,null,null,null,1.1647330714781932,44,0.152,null,null,null,null,"Tonbridge and Malling",240,253,199,194,0.89300000000000002,0.70199999999999996,0.68400000000000005,240,0.84699999999999998,0.71978750000000002,0.60418569230137231,0.82269293354335737,0.99125693215467836,0.84096987956202296,0.8911567039391336,0.83150895154836957,0.80125462711214268,0.81759504787565118,0.8909320616341635,0.85305939909075934,0.69513657846073484,0.45406543032949886,0.71085226096542464,0.62136357756884919,0.64410223502847097,0.77744018098598566,0.76821219046699007,0.54934266571707591,0.86019774395733728,0.5137525607444593,0.61328675653707609,0.66151132693742198,0.86916256117762625,0.52179862353296846,0.35937147888913767,0.42534777164251142,0.38061850787521267,0.70443974772953732,0.68830961299598681,0.63091483252324909,3.0172998229802381E-2,0.85305939909075934,0.35273619148961455,0.50795539283294255,0.94311256112292075,0.86927277135488756,0.95177379967713449,0.94756777554667737,0.90409143546747694,0.71555537528157653,0.87122941886326954,0.71088832386919409,0.69833167905668392,0.70358218987078414,0.42178409548495754,0.67455473108292441,0.44161619866028085,0.43034579216127855,0.92316366863381949,0.69683421744098539,36,{"$f":"AVERAGE(Data!EY253:FQ253)","v":0.75183762359393047},31,{"$f":"AVERAGE(Data!FR253:FZ253)","v":0.57833859236597229},92,{"$f":"AVERAGE(Data!GA253:GL253)","v":0.69861720983841569},44]
["E05005116","29UPHX","Hildenborough","Tonbridge and Malling","NHS West Kent CCG",250,1.4027773965496371,1.2884332099803364,1.2646326278581748,1.4275880407495989,1.3342027379028021,1.2343792854591453,1.4129290180493808,1.4046956916049906,1.6124037262705873,1.5760713661918584,1.1489905209997797,1.3264598826367278,1.5159957997693763,1.1134391912726034,1.4174514839602466,1.2022752529719702,1.3942399880388761,1.2364039167174035,1.2206187400102757,1.2392886228183977,1.1435003520429172,1.2149693942566078,1.1775212534410535,1.4444187648840481,1.7125409921185559,1.6987239395298244,0.61764654001246189,1.5132336124905734,1.0618019467172033,1.1250958865192464,0.77788088350435902,1.1944002170802488,1.1489905209997797,0.88645394753339479,0.90369151249183444,1.1028150195929181,1.0265445897003656,1.088562663241889,1.0954584359930655,1.6201701543969997,1.3186144114627163,16,5.2999999999999999E-2,null,null,null,null,1.3627589547531833,5,1.4E-2,null,null,null,null,1.3641359030091436,22,7.3999999999999996E-2,null,null,null,null,1.2837542149221852,71,0.248,null,null,null,null,1.2439396774886049,47,0.16300000000000001,null,null,null,null,1.3855362710378538,30,0.10199999999999999,null,null,null,null,0.98825957224693628,168,0.59199999999999997,null,null,null,null,1.1716953690400143,64,0.223,null,null,null,null,0.89507273001261467,235,0.82899999999999996,null,null,null,null,1.1867101725850475,8,2.4E-2,null,null,null,null,1.3438940987891457,18,0.06,null,null,null,null,{"$f":"AVERAGE(Data!Z254:AH254)","v":1.3068714968438266},27,9.1999999999999998E-2,null,null,null,null,1.0859888148142756,40,0.13800000000000001,null,null,null,null,1.258192428158988,10,3.1E-2,null,null,null,null,"Tonbridge and Malling",274,266,257,244,0.93899999999999995,0.90700000000000003,0.86099999999999999,274,0.96799999999999997,0.81880000000000008,0.80569362855851789,0.95447682520392296,0.99125693215467836,0.94590036724977777,0.93702374793060406,0.93107707290329256,0.80125462711214268,0.81759504787565118,0.8909320616341635,0.87662122845809132,0.85240195730192347,0.66123838835620641,0.69219923093561042,0.75723275421099168,0.71807117720690472,0.67659950951625303,0.65050525835400153,0.47151787134328393,0.89806941297913689,0.70621493690321446,0.77115598252562567,0.66151132693742198,0.86916256117762625,0.69392885540892624,0.50084316718454813,0.28764112607162601,0.52689100358720875,0.62525318115896,0.91705735725094195,0.5626796506815408,0.16477046199397091,0.87662122845809132,0.3010489785888677,0.43202253285464315,0.95966912522252867,0.75027831439827219,0.96813648888204518,0.97009454718821397,0.8809939974812,0.85965681792081361,0.92130254947009915,0.78328648074744278,0.5995408797378462,0.78122284410460507,0.5023260380630773,0.70166339636381425,0.52069584522603107,0.36653575572175545,0.90583449463445187,0.73936104808101599,8,{"$f":"AVERAGE(Data!EY254:FQ254)","v":0.80265250980558012},17,{"$f":"AVERAGE(Data!FR254:FZ254)","v":0.65726870808614835},26,{"$f":"AVERAGE(Data!GA254:GL254)","v":0.70071882201327307},37]
["E05005117","29UPHY","Ightham","Tonbridge and Malling","NHS West Kent CCG",251,1.7105012918401699,1.4550958854364171,1.299272839318512,1.4275880407495989,1.351355238864189,1.3173404496793644,1.3321791613982854,1.4046956916049906,1.6124037262705873,1.5760713661918584,1.2663310774713885,1.4796081285920371,1.1454126241302529,1.3194391018978566,1.8718834811063849,1.5280434921367414,1.7857337362367189,1.5980321163691282,1.6230915394705661,1.2454045401424887,1.3253329570986718,1.5378850988449424,1.1775212534410535,1.4444187648840481,2.2947376305821319,1.8402819388588842,0.12903381068870962,2.4916334785550731,0.64127710996050724,0.93258899151626529,0.95611261243597967,0.61402616125816867,1.2663310774713885,5.6153921879005579E-2,0.65450483233621615,1.1491617168961195,0.97732603173779609,1.1242111437651134,1.1283070508374595,1.2105971421013544,1.4882900055316997,1,0,null,null,null,null,1.3666317164592858,3,7.0000000000000001E-3,null,null,null,null,1.4748991247246384,7,2.1000000000000001E-2,null,null,null,null,1.6689524640254711,6,1.7000000000000001E-2,null,null,null,null,1.3461125228822408,16,5.2999999999999999E-2,null,null,null,null,1.6889217146711997,3,7.0000000000000001E-3,null,null,null,null,0.84332623797091744,229,0.80800000000000005,null,null,null,null,0.94017861936477853,119,0.41799999999999998,null,null,null,null,0.35532937710761087,282,0.996,null,null,null,null,1.1179206170675688,45,0.156,null,null,null,null,1.4791620520402653,1,0,null,null,null,null,{"$f":"AVERAGE(Data!Z255:AH255)","v":1.4984721636773335},2,3.0000000000000001E-3,null,null,null,null,0.89254981601628114,252,0.89,null,null,null,null,1.3075231563514107,3,7.0000000000000001E-3,null,null,null,null,"Tonbridge and Malling",281,283,282,32,1,0.996,0.109,281,0.99199999999999999,0.99841818181818176,0.90991250051349459,0.98062139741463072,0.99125693215467836,0.95806085568059218,1,0.87786538342163833,0.80125462711214268,0.81759504787565118,0.8909320616341635,0.96614609474906177,0.95081719497211048,0.49959953563061404,0.82026458091186594,1,0.91263958607618501,0.86658436168070985,0.84076755230328959,0.62699075690089134,0.90250140580142568,0.81851302363049983,0.97611454248765372,0.66151132693742198,0.86916256117762625,0.92983739646648556,0.54257941112298225,6.0091700031323081E-2,0.86755888400248482,0.37762273298414079,0.76014640726054883,0.69160346035766507,8.4706426556263217E-2,0.96614609474906177,1.9070455800296211E-2,0.31289530943121546,1,0.7143055791895182,0.99984122755547278,0.99918397778294465,0.65828197900370089,0.96298402658210236,0.92568755967381033,0.85724926273120661,0.77811422362829685,0.84556057200692547,0.60001684790581888,0.60979086686745154,0.52542626065266251,0.16598288261575583,0.87432255270632742,0.77303501382946571,1,{"$f":"AVERAGE(Data!EY255:FQ255)","v":0.87945929741315276},1,{"$f":"AVERAGE(Data!FR255:FZ255)","v":0.7364300279619892},3,{"$f":"AVERAGE(Data!GA255:GL255)","v":0.63198363755590237},190]
["E05005118","29UPHZ","Judd","Tonbridge and Malling","NHS West Kent CCG",252,1.0534037039820709,1.2208043875370411,1.1126268775432719,1.4275880407495989,1.1826239292217524,1.0419989020244953,1.0156764581150468,1.4046956916049906,1.6124037262705873,1.5760713661918584,0.95545652795432845,1.1499521257952916,0.87379081569270112,1.1441506316299479,1.1289042770052271,1.1683232300351665,0.47383688208705027,0.70395650781115859,0.4099380681517561,1.160391696546536,1.11782660680498,1.3174829660431306,1.1775212534410535,1.4444187648840481,0.93338314140728462,0.96446982743138654,1.1125269600806102,0.5557364684325129,0.93519854392075408,0.98606178248644127,0.9426750841283259,0.56941850692679052,0.95545652795432845,1.1422552670528192,0.89947643404559396,1.112395896671974,1.1250989796866964,1.1016746817769196,1.089637177307069,1.8390251908970281,1.1289449896874613,98,0.34300000000000003,null,null,null,null,1.2145166043431768,73,0.255,null,null,null,null,1.2011315875718886,66,0.23,null,null,null,null,0.52924381934998832,242,0.85399999999999998,null,null,null,null,1.2435282575439497,48,0.16600000000000001,null,null,null,null,0.89152909933794855,169,0.59499999999999997,null,null,null,null,0.95464513684517371,184,0.64800000000000002,null,null,null,null,0.76243751744055954,200,0.70499999999999996,null,null,null,null,1.0208658505492065,103,0.36099999999999999,null,null,null,null,1.2535663852679375,1,0,null,null,null,null,1.0871685341791233,106,0.372,null,null,null,null,{"$f":"AVERAGE(Data!Z256:AH256)","v":1.0870841872301715},106,0.372,null,null,null,null,1.0581978394045617,66,0.23,null,null,null,null,1.0784583476832406,101,0.35399999999999998,null,null,null,null,"Tonbridge and Malling",183,178,178,218,0.627,0.627,0.76900000000000002,183,0.64500000000000002,0.61487086614173236,0.76340341830360692,0.83975104415315938,0.99125693215467836,0.83843660126765918,0.79098679637303615,0.66929976775768285,0.80125462711214268,0.81759504787565118,0.8909320616341635,0.72896465198409299,0.73897556621383598,0.38112508676936518,0.71129181862509305,0.60308469431974654,0.6977929846561387,0.22994448929969255,0.37037039740172856,0.15835667513663346,0.84089555133124216,0.69035907613247949,0.83622260440676144,0.66151132693742198,0.86916256117762625,0.37821079784693751,0.28435940165673362,0.51810944747812082,0.19350121697368913,0.55070144334310156,0.80373168471067913,0.68188343265867923,7.8552690390159774E-2,0.72896465198409299,0.38792176670977141,0.43000745487576009,0.96800640007095806,0.82230949778513052,0.97979794303191992,0.9649394713555669,1,0.73934177619949948,0.81824694493303984,0.69622023900976082,0.25289052061268485,0.77963022399710624,0.34354521598887028,0.67877218690415331,0.40375867118712638,0.40896461079276575,0.94701066244871512,0.65767104870091675,73,{"$f":"AVERAGE(Data!EY256:FQ256)","v":0.66514176458841268},99,{"$f":"AVERAGE(Data!FR256:FZ256)","v":0.58581466488233469},84,{"$f":"AVERAGE(Data!GA256:GL256)","v":0.69973470307631824},42]
["E05005119","29UPJA","Kings Hill","Tonbridge and Malling","NHS West Kent CCG",253,1.3338499783153634,1.2109833403084871,1.2390925651246074,1.4275880407495989,1.2824812316877261,1.2110470866520191,1.2783440071034324,1.4046956916049906,1.6124037262705873,1.5760713661918584,1.1088381974542645,1.5381155679370944,1.8139005366915859,1.3630698691222665,1.4602220323747217,1.6631441424700935,1.4788086060658538,1.3754203630923516,1.4372763638770132,1.1339281440360232,1.6005521945894527,1.4803116839161232,1.1775212534410535,1.4444187648840481,1.9185345533012816,2.4044890946049295,0.36639378383951393,1.0325745563420292,0.9753833248462771,0.92018618434473676,0.96881554352569499,2.5623945434338991,1.1088381974542645,1.1312762865151531,0.52056526595632036,1.0847502522936985,1.262106186946482,1.0670731059423118,1.0713756118134459,1.1411686942862012,1.2613086279161527,30,0.10199999999999999,null,null,null,null,1.3208312115595535,18,0.06,null,null,null,null,1.516970679814059,2,3.0000000000000001E-3,null,null,null,null,1.4305017776784059,43,0.14799999999999999,null,null,null,null,1.3673464081733402,12,3.9E-2,null,null,null,null,1.4304979970219387,24,8.1000000000000003E-2,null,null,null,null,0.95479501757223628,183,0.64500000000000002,null,null,null,null,1.8356163704440818,12,3.9E-2,null,null,null,null,0.82592077623573679,264,0.93200000000000005,null,null,null,null,1.125294770256428,40,0.13800000000000001,null,null,null,null,1.411334353320733,5,1.4E-2,null,null,null,null,{"$f":"AVERAGE(Data!Z257:AH257)","v":1.3954137809949396},12,3.9E-2,null,null,null,null,1.1511610997798736,20,6.7000000000000004E-2,null,null,null,null,{"$f":"AVERAGE(G257:AT257)","v":1.3297002484851714},{"$f":"RANK(EH257,EH$5:EH$287)","v":1},0,null,null,null,null,"Tonbridge and Malling",283,279,272,264,0.98499999999999999,0.96,0.93200000000000005,283,1,0.77856712328767119,0.75726204045295442,0.93520055677905178,0.99125693215467836,0.90923173336550511,0.91931215423225132,0.84238966083413813,0.80125462711214268,0.81759504787565118,0.8909320616341635,0.84598705128377583,0.9884149063445159,0.79117677483200566,0.84738881342908912,0.78008169157604357,0.99332982966764172,0.71763913394848888,0.72364553892241068,0.55521144269962563,0.82171833415126849,0.9884858059666507,0.93957198959153354,0.66151132693742198,0.86916256117762625,0.77739831791580771,0.70892739283815587,0.17063144329621815,0.35953090109743896,0.57436467186282758,0.75003697063074881,0.70079211761839155,0.35348866041278248,0.84598705128377583,0.38419319075158614,0.24886360179977077,0.94394917298811865,0.92244497904395306,0.94902429143657829,0.94876775317218853,0.62052912593849197,0.8236765735065591,0.89268902153974317,0.86936327208036079,0.66549870519017507,0.85609000356490017,0.50412201378690513,0.67506458670398928,0.5997378558482791,0.31652839627567847,0.87694306451586601,{"$f":"AVERAGE(EY257:GL257)","v":0.76063141950857849},2,{"$f":"AVERAGE(Data!EY257:FQ257)","v":0.83609879581220026},4,{"$f":"AVERAGE(Data!FR257:FZ257)","v":0.69965978588579114},13,{"$f":"AVERAGE(Data!GA257:GL257)","v":0.68687013224493454},66]
["E05008541","29UPJB","Larkfield North","Tonbridge and Malling","NHS West Kent CCG",254,1.2460841767222839,1.2303407667299853,1.0964107538528918,1.4275880407495989,1.1945175940756112,1.1578238530551646,1.2164392682460095,1.4046956916049906,1.6124037262705873,1.5760713661918584,0.95728423809960672,1.2054428746284798,0.85680961211333884,1.2558183247289996,1.2669528326194719,1.1721168710880918,1.0998556631633718,1.1534756309519358,0.94245394180650854,0.97888982773871991,1.2992995461354162,1.2535380711348156,1.1775212534410535,1.4444187648840481,1.2085939959846008,0.97851197200958917,0.93248739482224496,0.66184007855639038,0.96576026695698192,1.0283296502794543,0.99684228816823028,1.7866655080179867,0.95728423809960672,1.1671237843193558,0.68541641523501373,0.73090431163918201,1.1505960743345038,0.74000562440098006,0.85691870503579637,1.0232791112211597,1.1909452324350536,57,0.19800000000000001,null,null,null,null,1.280212889546275,36,0.124,null,null,null,null,1.2378624807175542,51,0.17699999999999999,null,null,null,null,1.0652617453072721,131,0.46,null,null,null,null,1.2307334926668108,52,0.18,null,null,null,null,0.94535836034320631,152,0.53500000000000003,null,null,null,null,0.99697740180155547,162,0.56999999999999995,null,null,null,null,1.3719748730587966,43,0.14799999999999999,null,null,null,null,0.92627009977718477,218,0.76900000000000002,null,null,null,null,0.90034076532632434,234,0.82599999999999996,null,null,null,null,1.2143465908788835,46,0.159,null,null,null,null,{"$f":"AVERAGE(Data!Z258:AH258)","v":1.1039001005229865},100,0.35099999999999998,null,null,null,null,1.0074271648090209,125,0.439,null,null,null,null,1.1274203027278475,61,0.21199999999999999,null,null,null,null,"Tonbridge and Malling",223,238,184,159,0.84,0.64800000000000002,0.56000000000000005,223,0.78700000000000003,0.72733829787234039,0.76936678520206669,0.82751198443245444,0.99125693215467836,0.84686876950836798,0.87891012026312143,0.80159632846009976,0.80125462711214268,0.81759504787565118,0.8909320616341635,0.73035910170629348,0.77463470942405921,0.37371832239120906,0.78071302446137369,0.67683317119216946,0.70005877553060003,0.53374010831646068,0.60687446324948402,0.36406443872551969,0.70936745224795261,0.802435036730063,0.79563599498793625,0.66151132693742198,0.86916256117762625,0.48972740048118762,0.28849951648113348,0.43426410886857025,0.23044530621473089,0.56869803358215665,0.83818391193800679,0.72106524583071918,0.24647492270594348,0.73035910170629348,0.39636737377479997,0.32767302965308759,0.63603259740791851,0.84094474985926981,0.65813983076262605,0.75885322146907441,0.55642473865299857,0.7747390225022871,0.86397735549968202,0.71810552677693995,0.50155967009715474,0.76762247441620013,0.36073408301140553,0.70931573045029417,0.48841701220611849,0.36202020171394378,0.69007902763037743,0.66134731327454432,66,{"$f":"AVERAGE(Data!EY258:FQ258)","v":0.7312435299743294},42,{"$f":"AVERAGE(Data!FR258:FZ258)","v":0.58678318934740248},83,{"$f":"AVERAGE(Data!GA258:GL258)","v":0.60660139644524114},233]
["E05005121","29UPJC","Larkfield South","Tonbridge and Malling","NHS West Kent CCG",255,1.033316794615577,0.99747972570955123,0.92613036384604197,1.4275880407495989,1.1215824807471391,1.1761923059430945,1.1050568683625064,1.4046956916049906,1.6124037262705873,1.5760713661918584,0.82380564179948523,0.9983993689367765,0.84723681586411126,1.2447994616122837,1.0914467098529528,0.96248133441704309,0.76983506183681993,0.84293801475268648,0.79052374045434171,1.1749801388714483,1.1464571808316135,0.87223741254683329,1.1775212534410535,1.4444187648840481,0.84946659687065951,0.74764207170557484,1.093535594667679,0.48910176332855676,1.394591129870437,1.1924413665386637,1.0532279095470753,0.62448253900014095,0.82380564179948523,0.99884986757490468,0.90093997391153391,1.0961891580480005,1.105990447395844,1.074825824688602,1.0867567241618998,0.9592498034122684,0.98564229472372344,168,0.59199999999999997,null,null,null,null,1.2470230774814659,57,0.19800000000000001,null,null,null,null,1.1445805531181372,91,0.31900000000000001,null,null,null,null,0.80109893901461604,199,0.70199999999999996,null,null,null,null,1.1631229501149993,80,0.28000000000000003,null,null,null,null,0.79493650664311755,206,0.72599999999999998,null,null,null,null,1.2134201353187253,26,8.7999999999999995E-2,null,null,null,null,0.72414409039981309,212,0.748,null,null,null,null,0.94989492074321924,193,0.68,null,null,null,null,1.064602391541323,98,0.34300000000000003,null,null,null,null,1.092209658608813,103,0.36099999999999999,null,null,null,null,{"$f":"AVERAGE(Data!Z259:AH259)","v":0.99948453079416311},143,0.503,null,null,null,null,1.0259458654957379,105,0.36799999999999999,null,null,null,null,1.0514673669165944,121,0.42499999999999999,null,null,null,null,"Tonbridge and Malling",163,181,141,179,0.63800000000000001,0.496,0.63100000000000001,163,0.57399999999999995,0.60314615384615389,0.6237522080269482,0.69899348627897262,0.99125693215467836,0.79516047321806915,0.89285370856818014,0.72819872848749334,0.80125462711214268,0.81759504787565118,0.8909320616341635,0.628521733231174,0.64158561249438384,0.36954291480441726,0.7738628537156701,0.58307406463560885,0.57485180963017923,0.37358706515071138,0.44349229539721274,0.30537469164386571,0.8514672886923248,0.7080410462285962,0.55361978832373737,0.66151132693742198,0.86916256117762625,0.34420745896736155,0.22043100376690897,0.50926507229081219,0.17029975861579805,0.82121957212779273,0.97195016120605304,0.76185174979772707,8.6148909709472907E-2,0.628521733231174,0.33921980181121891,0.43070712084703122,0.9539033035392116,0.80834350201480509,0.95591933768404969,0.96238865628331205,0.52160775619629851,0.6419639493840249,0.8417448939081128,0.65999576225265599,0.37415135073059663,0.72876040227194128,0.31105082341022017,0.85167382771052436,0.35733532147032343,0.38496346132912507,0.84043251114353534,0.64167058443386016,103,{"$f":"AVERAGE(Data!EY259:FQ259)","v":0.65984402462661462},104,{"$f":"AVERAGE(Data!FR259:FZ259)","v":0.54311170055562075},125,{"$f":"AVERAGE(Data!GA259:GL259)","v":0.68681513370401215},68]
["E05005122","29UPJD","Medway","Tonbridge and Malling","NHS West Kent CCG",256,1.0056311164344718,0.67062456672400572,1.0992078270779388,1.4275880407495989,0.91537120112488934,1.0829592461736883,0.83941257097486455,1.4046956916049906,1.6124037262705873,1.5760713661918584,0.96489922834457975,1.1334728946293424,0.88893066257387299,1.1610254723687603,1.1089609957452577,1.2702165840979145,0.81516614588756253,0.85170854899766457,0.78515494216330517,1.0334287857823343,1.0172546969934255,1.2676977212413751,1.1775212534410535,1.4444187648840481,0.81198366209230932,0.99037646041529515,0.89770292119448925,0.57641881555541574,1.0687373878455118,1.1298418613815699,1.0055283018773429,2.6162585829893539,0.96489922834457975,1.5761233790256708,0.66400925336368788,1.0440036891464444,1.1345864400720456,1.0439259433279475,1.0484165071664528,0.74274666844038528,0.92515450341213878,193,0.68,null,null,null,null,1.1340053501256062,104,0.36499999999999999,null,null,null,null,1.2144976162777719,60,0.20899999999999999,null,null,null,null,0.81734321234951068,193,0.68,null,null,null,null,1.1880642444684475,65,0.22600000000000001,null,null,null,null,0.81912046481437728,198,0.69799999999999995,null,null,null,null,1.0680358503681415,120,0.42099999999999999,null,null,null,null,1.7905789056669668,16,5.2999999999999999E-2,null,null,null,null,1.1200663161946793,40,0.13800000000000001,null,null,null,null,1.0027358496306551,163,0.57399999999999995,null,null,null,null,1.0849210962176397,109,0.38200000000000001,null,null,null,null,{"$f":"AVERAGE(Data!Z260:AH260)","v":1.0240892312888608},135,0.47499999999999998,null,null,null,null,1.1699231035817494,13,4.2000000000000003E-2,null,null,null,null,1.0967345288178971,89,0.312,null,null,null,null,"Tonbridge and Malling",195,175,149,271,0.61699999999999999,0.52400000000000002,0.95699999999999996,195,0.68700000000000006,0.58698604651162789,0.41936045763101232,0.829623065162854,0.99125693215467836,0.64896430708492592,0.82208000706064743,0.55314724912401037,0.80125462711214268,0.81759504787565118,0.8909320616341635,0.7361689512927253,0.72838577824922479,0.38772869870100035,0.7217825143659321,0.59243056896351343,0.75864983130629859,0.39558542231855737,0.44810670867089381,0.30330075630363029,0.74888994049877866,0.62824682158449219,0.80462329865316484,0.66151132693742198,0.86916256117762625,0.32901921521272254,0.29199758218319383,0.41806480309103838,0.20070257870804142,0.6293371882015375,0.92092576635008705,0.72734826841592604,0.36091933779838237,0.7361689512927253,0.53526788921861934,0.31743903258103573,0.90849153238962188,0.82924366884526723,0.92843786724826982,0.92843608060975047,0.40388063856705136,0.61198985643516479,0.76334062450728102,0.7042091815485636,0.38233096243102715,0.74248678977029681,0.30994604479874904,0.75920374098918353,0.54854414454555389,0.42635346089982751,0.79969795753199213,0.64028633452720607,106,{"$f":"AVERAGE(Data!EY260:FQ260)","v":0.65438626481702566},109,{"$f":"AVERAGE(Data!FR260:FZ260)","v":0.55024645867183108},119,{"$f":"AVERAGE(Data!GA260:GL260)","v":0.68549135179318954},71]
["E05005123","29UPJE","Snodland East","Tonbridge and Malling","NHS West Kent CCG",257,0.58929837751644565,0.82170200265295434,0.52418312818991308,1.4275880407495989,0.67723856244772362,0.83131232143668621,0.46602364016265307,1.4046956916049906,1.6124037262705873,1.5760713661918584,0.66178433497550948,0.69295268156183698,0.74620469483719976,1.2858384502356952,0.68438037471552027,0.82153378351093775,0.47976895048202522,0.62161182782472946,0.46491892677544611,0.58841766782007698,1.1560312551749923,1.1490243307091381,1.1775212534410535,1.4444187648840481,0.3004571080519865,0.37406144256505558,1.2080531634306202,0.19991479225038114,0.96124240491880542,1.1657179655284178,0.88746588268921978,0.89263758732789755,0.66178433497550948,0.82068606346252626,1.1453934886292516,1.0723637949428773,1.0005791944775331,1.0540967319272629,1.0613867435878488,1.0634916786727431,0.64506116945310443,259,0.91400000000000003,null,null,null,null,0.96137165128033042,179,0.63100000000000001,null,null,null,null,1.0101461765373931,138,0.48499999999999999,null,null,null,null,0.52209990169406695,244,0.86099999999999999,null,null,null,null,1.1030826544058618,113,0.39700000000000002,null,null,null,null,0.52062162657451083,277,0.97799999999999998,null,null,null,null,1.0048087510454808,156,0.54900000000000004,null,null,null,null,0.77721096115170352,192,0.67700000000000005,null,null,null,null,0.98303977604588888,153,0.53900000000000003,null,null,null,null,1.050383628721653,115,0.40400000000000003,null,null,null,null,0.86260583590222684,210,0.74099999999999999,null,null,null,null,{"$f":"AVERAGE(Data!Z261:AH261)","v":0.84421108648081711},207,0.73,null,null,null,null,0.98223715592832439,159,0.56000000000000005,null,null,null,null,0.89435641329023885,214,0.755,null,null,null,null,"Tonbridge and Malling",70,74,77,125,0.25800000000000001,0.26900000000000002,0.439,70,0.24399999999999999,0.34397297297297302,0.51383343970260087,0.39562528832387428,0.99125693215467836,0.48013707867363231,0.63105351516308816,0.30709534678918721,0.80125462711214268,0.81759504787565118,0.8909320616341635,0.50490773082771445,0.44530123361649521,0.32547530136498209,0.79937583779792865,0.36561056370400485,0.49066944494007214,0.23282321505773257,0.32704665294865043,0.17959545885598724,0.42640584267121573,0.71395390344480636,0.72929984152893879,0.66151132693742198,0.86916256117762625,0.12174649135380071,0.11028638218153171,0.56259648483833913,6.9608092664137686E-2,0.56603764327100614,0.95016811418157121,0.64194789131947749,0.12314156139115913,0.50490773082771445,0.27871352125509558,0.54757158746392054,0.93317048347148823,0.73130079198382159,0.9374834756419822,0.93992200761046951,0.57829097933889628,0.41781056699981606,0.64215949997854582,0.5799834027201265,0.24648844228745673,0.6800666951520018,0.21605936275945231,0.71938454959068487,0.31402464610943681,0.41314255435950809,0.82403354760933156,0.54601971160174945,206,{"$f":"AVERAGE(Data!EY261:FQ261)","v":0.51808219734292416},212,{"$f":"AVERAGE(Data!FR261:FZ261)","v":0.47384121408864643},192,{"$f":"AVERAGE(Data!GA261:GL261)","v":0.64438798231305017},{"$f":"RANK(HC261,HC$5:HC$287)","v":161}]
["E05005124","29UPJF","Snodland West","Tonbridge and Malling","NHS West Kent CCG",258,0.64883900154848295,1.1623145951536511,0.80295670639825056,1.4275880407495989,1.0478609203314539,1.0462815848579203,0.96371267804478666,1.4046956916049906,1.6124037262705873,1.5760713661918584,0.96780020874923811,1.0305115800051712,0.75335526506026784,1.2862943192178988,1.0128902092634084,1.1192120570205062,0.84400071572178226,0.94123643196868012,0.66654241281771776,1.0790849286098994,1.1465190475082145,1.0772904299995172,1.1775212534410535,1.4444187648840481,0.80236079543980765,0.60094653598932712,1.0469353009407756,0.37927759047099902,1.2351502657873692,0.9805745705666743,0.76227330607405308,0.46965316505446292,0.96780020874923811,1.0383730569994831,0.74814436268022722,1.0944832247072529,1.1555329306470143,1.0840995335298547,1.0752907596718979,0.71307854212210864,{"$f":"AVERAGE(G262:I262)","v":0.87137010103346146},212,{"$f":"PERCENTRANK($AV$5:$AV$287,AV262)","v":0.748},null,null,null,null,{"$f":"AVERAGE(J262:N262)","v":1.1780277831177499},{"$f":"RANK(BB262,$BB$5:$BB$287)","v":87},{"$f":"PERCENTRANK($BC$5:$BC$287,BC262)","v":0.30399999999999999},null,null,null,null,{"$f":"AVERAGE(O262:V262)","v":1.1698173414723672},{"$f":"RANK(BI262,$BI$5:$BI$287)","v":83},{"$f":"PERCENTRANK($BJ$5:$BJ$287,BJ262)","v":0.28999999999999998},null,null,null,null,{"$f":"AVERAGE(W262:Y262)","v":0.81725985350272679},{"$f":"RANK(BP262,$BP$5:$BP$287)","v":194},{"$f":"PERCENTRANK($BJ$5:$BJ$287,BQ262)","v":0.68400000000000005},null,null,null,null,{"$f":"AVERAGE(Z262:AD262)","v":1.1849668848885466},{"$f":"RANK(BW262,$BW$5:$BW$287)","v":67},{"$f":"PERCENTRANK($BX$5:$BX$287,BX262)","v":0.23400000000000001},null,null,null,null,{"$f":"AVERAGE(AE262:AH262)","v":0.70738005571022733},{"$f":"RANK(CD262,$CD$5:$CD$287)","v":232},{"$f":"PERCENTRANK($CE$5:$CE$287,CE262)","v":0.81899999999999995},null,null,null,null,{"$f":"AVERAGE(AI262:AK262)","v":0.99266604747603226},{"$f":"RANK(CK262,$CK$5:$CK$287)","v":165},{"$f":"PERCENTRANK($CL$5:$CL$287,CL262)","v":0.58099999999999996},null,null,null,null,{"$f":"AVERAGE(AL262:AM262)","v":0.71872668690185049},{"$f":"RANK(CR262,$CR$5:$CR$287)","v":215},{"$f":"PERCENTRANK($CS$5:$CS$287,CS262)","v":0.75800000000000001},null,null,null,null,{"$f":"AVERAGE(AN262:AO262)","v":0.89325870983985522},{"$f":"RANK(CY262,$CY$5:$CY$287)","v":236},{"$f":"PERCENTRANK($CZ$5:$CZ$287,CZ262)","v":0.83299999999999996},null,null,null,null,{"$f":"AVERAGE(AP262:AT262)","v":1.0244969981356256},{"$f":"RANK(DF262,$DF$5:$DF$287)","v":143},{"$f":"PERCENTRANK($DG$5:$DG$287,DG262)","v":0.503},null,null,null,null,{"$f":"AVERAGE(G262:Y262)","v":1.0691877637355922},{"$f":"RANK(DM262,DM$5:DM$287)","v":123},{"$f":"PERCENTRANK(DN$5:DN$287,DN262)","v":0.432},null,null,null,null,{"$f":"AVERAGE(Data!Z262:AH262)","v":0.97270607192040459},{"$f":"RANK(DT262,DT$5:DT$287)","v":159},{"$f":"PERCENTRANK(DU$5:DU$287,DU262)","v":0.56000000000000005},null,null,null,null,{"$f":"AVERAGE(AI262:AT262)","v":0.9437044938824698},{"$f":"RANK(EA262,EA$5:EA$287)","v":206},{"$f":"PERCENTRANK(EB$5:EB$287,EB262)","v":0.72599999999999998},null,null,null,null,{"$f":"AVERAGE(G262:AT262)","v":1.0098344021212382},{"$f":"RANK(EH262,EH$5:EH$287)","v":155},{"$f":"PERCENTRANK(EI$5:EI$287,EI262)","v":0.54600000000000004},null,null,null,null,"Tonbridge and Malling",{"$f":"RANK(EH262,EH$5:EH$287,1)","v":129},{"$f":"RANK(DM262,DM$5:DM$287,1)","v":161},{"$f":"RANK(DT262,DT$5:DT$287,1)","v":125},{"$f":"RANK(EA262,EA$5:EA$287,1)","v":78},{"$f":"PERCENTRANK(EQ$5:EQ$287,EQ262)","v":0.56699999999999995},{"$f":"PERCENTRANK(ER$5:ER$287,ER262)","v":0.439},{"$f":"PERCENTRANK(ES$5:ES$287,ES262)","v":0.27300000000000002},{"$f":"RANK(EH262,EH$5:EH$287,1)","v":129},{"$f":"PERCENTRANK(EW$5:EW$287,EW262)","v":0.45300000000000001},{"$f":"G262/G$292","v":0.37872678571428564},0.72682810132638687,0.60602862128996948,0.99125693215467836,0.74289461504644294,0.79423780322890813,0.63505722363356087,0.80125462711214268,0.81759504787565118,0.8909320616341635,0.73838225154158343,0.66222137534427961,0.32859419623978897,0.79965924093423113,0.54110750988877543,0.66846083485643615,0.40957831878854528,0.49520972885265407,0.25748143081039448,0.78197536114501609,0.70807925449939746,0.68376945455489457,0.66151132693742198,0.86916256117762625,0.3251199889327942,0.17718003460690815,0.48756307916930192,0.13206021108168314,0.72733115180337338,0.79925909875412982,0.55138991930659509,6.4789814901511547E-2,0.73838225154158343,0.35264228793128377,0.35766101378423093,0.95241880112700505,0.84455298691954006,0.96416710900641556,0.95223485284856912,0.38774811005948628,{"$f":"AVERAGE(EY262:FA262)","v":0.57052783611021407},{"$f":"AVERAGE(FB262:FF262)","v":0.79294024023514664},{"$f":"AVERAGE(FG262:FN262)","v":0.68086906478936382},{"$f":"AVERAGE(FO262:FQ262)","v":0.38742315948386463},{"$f":"AVERAGE(FR262:FV262)","v":0.74089959166287123},{"$f":"AVERAGE(FW262:FZ262)","v":0.28048082844767186},{"$f":"AVERAGE(GA262:GC262)","v":0.6926600566213662},{"$f":"AVERAGE(GD262:GE262)","v":0.40158603322154751},{"$f":"AVERAGE(GF262:GG262)","v":0.35515165085775735},{"$f":"AVERAGE(GH262:GL262)","v":0.82022437199220322},{"$f":"AVERAGE(EY262:GL262)","v":0.62011263440904119},{"$f":"RANK(GW262,$GW$5:$GW$287)","v":133},{"$f":"AVERAGE(Data!EY262:FQ262)","v":0.64660561611962508},{"$f":"RANK(GY262,GY$5:GY$287)","v":120},{"$f":"AVERAGE(Data!FR262:FZ262)","v":0.53626903023389372},131,{"$f":"AVERAGE(Data!GA262:GL262)","v":0.64104811649864368},167]
["E05005125","29UPJG","Trench","Tonbridge and Malling","NHS West Kent CCG",259,0.4558053288973728,0.78683101726385107,0.60142857750958467,1.4275880407495989,0.74079351648458636,0.83004119582177383,0.50725837299716281,1.4046956916049906,1.6124037262705873,1.5760713661918584,0.7163899305630449,0.66174966055932405,1.2557261968219142,1.1351125445902441,0.72312450960833541,0.86794603943513515,0,0,1.0728120967197191E-2,0.71011475469513141,0.99315150475884861,0.64118377088224188,1.1775212534410535,1.4444187648840481,0.2628377916829675,0.54205251563204859,1.2785606219257857,0.35149588184216229,1.228634366441077,0.95481597112453098,0.80561741733643732,0.1820729534525625,0.7163899305630449,0.83933128633895493,1.3647910244469916,1.0879788027242887,1.0034287287587222,1.0763499176877613,1.0694921652272698,1.2553543241122751,0.61468830789026951,{"$f":"RANK(AU263,$AU$5:$AU$287)","v":262},0.92500000000000004,null,null,null,null,0.98207536353162239,170,0.59899999999999998,null,null,null,null,1.0685654967550555,115,0.40400000000000003,null,null,null,null,3.5760403223990636E-3,283,1,null,null,null,null,0.99327800973226466,167,0.58799999999999997,null,null,null,null,0.60873670277074099,262,0.92500000000000004,null,null,null,null,0.99635591830068171,163,0.57399999999999995,null,null,null,null,0.44923144200780368,277,0.97799999999999998,null,null,null,null,1.1020611553929733,45,0.156,null,null,null,null,1.0985207877020635,66,0.23,null,null,null,null,0.80598388612297689,227,0.80100000000000005,null,null,null,null,{"$f":"AVERAGE(Data!Z263:AH263)","v":0.82237076219380967},215,0.75800000000000001,null,null,null,null,0.96535474068449301,182,0.64100000000000001,null,null,null,null,0.85748218960736922,226,0.79700000000000004,null,null,null,null,"Tonbridge and Malling",58,57,69,102,0.19800000000000001,0.24099999999999999,0.35799999999999998,58,0.20200000000000001,0.26605319148936174,0.49202762894583962,0.45392600712863945,0.99125693215467836,0.52519518915128505,0.63008859708498488,0.33426777644351452,0.80125462711214268,0.81759504787565118,0.8909320616341635,0.54656901820106796,0.42524972921411203,0.54771547964018585,0.70567305026571669,0.38630850526066374,0.51838963893552614,0,0,4.144210305933438E-3,0.51459549386207204,0.61336091940466586,0.40696720687085053,0.66151132693742198,0.86916256117762625,0.10650298520162071,0.15981601977343571,0.59543216583735947,0.12238693114658893,0.72349419632690559,0.7782634543704513,0.58274285508559021,2.511741393544124E-2,0.54656901820106796,0.28504563283080625,0.65245768832447693,0.94675865609490928,0.73338345239503155,0.95727482239316275,0.94709984756925858,0.68261942812210541,0.40400227585461362,0.65641262438932113,0.60480406637838591,1.3814034353111461E-3,0.61311950165052731,0.24603452548975122,0.69483350192764914,0.28584321606825458,0.46875166057764162,0.85342724131489356,0.53118021916760783,220,{"$f":"AVERAGE(Data!EY263:FQ263)","v":0.49140245741281391},224,{"$f":"AVERAGE(Data!FR263:FZ263)","v":0.44997062335684901},208,{"$f":"AVERAGE(Data!GA263:GL263)","v":0.65506887213743392},135]
["E05005126","29UPJH","Vauxhall","Tonbridge and Malling","NHS West Kent CCG",260,1.3931473457724084,1.0061344048533216,1.2051577345954143,1.4275880407495989,1.0538588402347178,1.035497105433506,0.93802590033908184,1.4046956916049906,1.6124037262705873,1.5760713661918584,1.0443794920308325,1.1541517208347316,0.88350750418084423,1.1273467537429267,1.2753438600273326,1.2926106107444022,0.81372295243787596,1.0395957569955487,0.57322639537699771,1.1274844735161849,1.2639932537972915,1.3316060620553092,1.1775212534410535,1.4444187648840481,1.0110248876943335,1.0609516141413422,1.0248847344000405,0.54721675068272924,1.0702839218412634,1.1747279157519217,1.0564022777721762,0.50725824766344707,1.0443794920308325,1.2162183912346789,0.78948659826143419,1.0552997616165973,1.1954273478737565,1.0786705354564443,1.0422106452134061,1.3317699843818673,1.201479828407048,49,0.17,null,null,null,null,1.1719331156723789,89,0.312,null,null,null,null,1.2457268792529395,45,0.156,null,null,null,null,0.80884836827014084,196,0.69099999999999995,null,null,null,null,1.2690047615387774,37,0.127,null,null,null,null,0.91101949672961124,160,0.56299999999999994,null,null,null,null,1.1004713717884538,101,0.35399999999999998,null,null,null,null,0.77581886984713977,194,0.68400000000000005,null,null,null,null,1.0028524947480566,126,0.443,null,null,null,null,1.1406756549084143,32,0.109,null,null,null,null,1.1503402738114199,78,0.27300000000000002,null,null,null,null,{"$f":"AVERAGE(Data!Z264:AH264)","v":1.1099001994013702},93,0.32600000000000001,null,null,null,null,1.046844593258152,78,0.27300000000000002,null,null,null,null,1.1101925529031784,76,0.26500000000000001,null,null,null,null,"Tonbridge and Malling",208,206,191,206,0.72599999999999998,0.67300000000000004,0.72599999999999998,208,0.73399999999999999,0.81317894736842111,0.6291642230148734,0.90958836823209466,0.99125693215467836,0.74714691829695945,0.78605124870001686,0.61813042158404041,0.80125462711214268,0.81759504787565118,0.8909320616341635,0.79680834310440873,0.74167428562356152,0.3853632564509939,0.70084523883761707,0.68131583664253237,0.77202489249690032,0.39488506657738509,0.54695920754081695,0.22143399973006331,0.81704882997392714,0.78063020652488668,0.84518670673975815,0.66151132693742198,0.86916256117762625,0.40967156192842713,0.31280560324780143,0.47729401850206921,0.19053474662938119,0.63024788091933093,0.95751205814219797,0.76414792706845225,6.9977528991141069E-2,0.79680834310440873,0.41304041280542958,0.37742525532326804,0.91832136948223198,0.87371091772069331,0.95933871344369648,0.92294041537641291,0.72417169214102228,0.78397717953846302,0.7887680295695676,0.72331987033322864,0.38775942461608848,0.79470792627072406,0.3475764825769197,0.78396928870999372,0.4333929360477749,0.39523283406434884,0.87969662163281137,0.67542742497892272,52,{"$f":"AVERAGE(Data!EY264:FQ264)","v":0.69713731173564852},68,{"$f":"AVERAGE(Data!FR264:FZ264)","v":0.59598284018458869},73,{"$f":"AVERAGE(Data!GA264:GL264)","v":0.70063687620985726},38]
["E05005127","29UPJJ","Wateringbury","Tonbridge and Malling","NHS West Kent CCG",261,1.4305497751303946,1.293916628016279,1.2761273844395791,1.4275880407495989,1.3147501662359955,1.1271901503319945,1.4729773619150552,1.4046956916049906,1.6124037262705873,1.5760713661918584,0.93647741204653634,1.3160552588142853,0.7587393438054626,1.2236414145757766,1.4456849592576222,1.0557688743313303,1.4848211989419975,1.4100855748144607,1.384108172732355,1.2910943277526856,1.2637711461188699,1.1478088806131403,1.1775212534410535,1.4444187648840481,1.7900225469284232,1.7981705491398194,0.6035207660920997,1.3297086147596968,1.3561992170718189,1.10156420056378,0.98825631516520596,0.56983281950571973,0.93647741204653634,1.1535238744387804,0.82898305812516715,1.1406555471340132,1.1163924589085041,1.1161988880800195,1.1233929401431018,1.1314115408101408,1.3335312625287508,11,3.5000000000000003E-2,null,null,null,null,1.3494402821675269,9,2.8000000000000001E-2,null,null,null,null,1.2406052944116823,49,0.17,null,null,null,null,1.426338315496271,45,0.156,null,null,null,null,1.2649228745619596,40,0.13800000000000001,null,null,null,null,1.3803556192300097,32,0.109,null,null,null,null,1.148673244266935,64,0.223,null,null,null,null,0.75315511577612804,202,0.71199999999999997,null,null,null,null,0.99125346628197375,145,0.51,null,null,null,null,1.125610275015156,39,0.13400000000000001,null,null,null,null,1.3132448684319031,23,7.8E-2,null,null,null,null,{"$f":"AVERAGE(Data!Z265:AH265)","v":1.3162263166366486},24,8.1000000000000003E-2,null,null,null,null,1.0469073559993989,77,0.26900000000000002,null,null,null,null,1.2340144405482198,19,6.3E-2,null,null,null,null,"Tonbridge and Malling",265,261,260,207,0.92100000000000004,0.91800000000000004,0.73,265,0.93600000000000005,0.83501071428571438,0.80912256452513209,0.9631524504619019,0.99125693215467836,0.93210921380595579,0.8556559168940332,0.9706470976709406,0.80125462711214268,0.81759504787565118,0.8909320616341635,0.71448455349932893,0.84571579828020427,0.33094259295223177,0.76070938830726231,0.77231567768477971,0.63056874586370748,0.72055693678431332,0.74188383645794076,0.53467288181247175,0.93561120765284145,0.78049303493606981,0.72852838043911972,0.66151132693742198,0.86916256117762625,0.72532470922612524,0.53016350215117081,0.28106268151820196,0.46298965389500174,0.79861209275527023,0.89787685362227632,0.71485458762770671,7.8609845834426983E-2,0.71448455349932893,0.39174870295739278,0.39630709762592647,0.99259793496681958,0.81594609789069206,0.99271535657998777,0.99483223623598738,0.6152235142892567,0.86909524309091613,0.91018475752755013,0.72040798326216615,0.66570455168490861,0.79506130222861582,0.49988513669762497,0.80378117800175108,0.39654719966687796,0.39402790029165963,0.88226302799254874,0.73243107424702991,13,{"$f":"AVERAGE(Data!EY265:FQ265)","v":0.78518879147697651},20,{"$f":"AVERAGE(Data!FR265:FZ265)","v":0.66387189532595325},23,{"$f":"AVERAGE(Data!GA265:GL265)","v":0.70031740615708937},40]
["E05005128","29UPJK","West Malling and Leybourne","Tonbridge and Malling","NHS West Kent CCG",262,1.2373997937791528,1.082388009930717,1.1649223767873065,1.4275880407495989,1.1707065970450585,1.1298627199749522,1.1631348413697249,1.4046956916049906,1.6124037262705873,1.5760713661918584,0.96428868657239386,1.2339957110263049,1.7564675084777679,1.3548129993640134,1.240521726883796,1.2561646282652279,1.3143708657903523,1.3426898465716013,1.0556860881388983,1.2095640525820099,0.86312765748585596,1.139752303189298,1.1775212534410535,1.4444187648840481,1.2832743036847813,1.2908713488920114,0.83325812984433911,0.79212854721976778,1.0789885919690743,1.1995670320367962,0.95461656529568095,0.85158481306398326,0.96428868657239386,1.375846447726611,0.65301855149598953,1.0876827814857233,0.72807128318566672,1.0783438892557804,1.0818457734386968,0.87234798242405986,1.1615700601657255,72,0.251,null,null,null,null,1.2591975781488649,50,0.17299999999999999,null,null,null,null,1.3743407941314936,19,6.3E-2,null,null,null,null,1.2375822668336174,88,0.308,null,null,null,null,1.1668768063164532,76,0.26500000000000001,null,null,null,null,1.049883082410225,120,0.42099999999999999,null,null,null,null,1.0777240631005172,111,0.39,null,null,null,null,0.9079367498181885,135,0.47499999999999998,null,null,null,null,1.0144324996113003,113,0.39700000000000002,null,null,null,null,0.96965834195798539,194,0.68400000000000005,null,null,null,null,1.288851117094437,29,9.9000000000000005E-2,null,null,null,null,{"$f":"AVERAGE(Data!Z266:AH266)","v":1.1148795956914628},91,0.31900000000000001,null,null,null,null,0.99385019982920475,137,0.48199999999999998,null,null,null,null,1.1612072495991979,45,0.156,null,null,null,null,"Tonbridge and Malling",239,255,193,147,0.9,0.68,0.51700000000000002,239,0.84299999999999997,0.72226923076923066,0.67684775312693291,0.87922087989149378,0.99125693215467836,0.82998765377090056,0.85768467843673712,0.76647033903334416,0.80125462711214268,0.81759504787565118,0.8909320616341635,0.73570313902658679,0.79298316756487219,0.76612596465146376,0.84225570967147323,0.66271311190298032,0.75025715713131758,0.637840465590927,0.70642513641679727,0.4078053537681891,0.87652904953858457,0.53305942851858057,0.72341477189190329,0.66151132693742198,0.86916256117762625,0.51998817711805134,0.38059397396013084,0.38805253692820335,0.27581029245562116,0.63537371696171163,0.97775823858742894,0.69052129559419362,0.11747822971650916,0.73570313902658679,0.46725176072117885,0.31218477181494692,0.9465010585486171,0.53213089873648245,0.959048203658182,0.95803971308149127,0.47435347092692703,0.75944595459588571,0.84933084610156051,0.78232066993231353,0.58402365192530448,0.7327354276128234,0.39111124511550166,0.7678844170477781,0.42659068437154796,0.38971826626806289,0.77401466899033999,0.68925237563575659,39,{"$f":"AVERAGE(Data!EY266:FQ266)","v":0.76503307418578315},28,{"$f":"AVERAGE(Data!FR266:FZ266)","v":0.58090245761401371},90,{"$f":"AVERAGE(Data!GA266:GL266)","v":0.65052870811452124},147]
["E05005129","29UPJL","Wrotham","Tonbridge and Malling","NHS West Kent CCG",263,1.2233940977581232,1.0798022094699398,1.0987595994572974,1.4275880407495989,1.0851365288409651,0.96420417946282022,1.025588433553057,1.4046956916049906,1.6124037262705873,1.5760713661918584,0.85063730743233834,1.1008705702053692,1.1348333441901519,1.3231986673448861,1.1184065881589427,1.244267656093234,1.2453304050593939,1.1619570029210895,1.2781774363288254,0.95572760406280421,0.81793213602214998,1.0777515992489559,1.1775212534410535,1.4444187648840481,1.1848907470215237,1.470173611740075,0.66457259302763327,1.7452717687552579,0.53809579800835661,0.9349169874948029,0.78760203129229389,1.2142757924028305,0.85063730743233834,0.49359645554128978,1.3311197905441066,1.1038554562923755,0.81450401077505064,1.0728512203412455,1.1044395888128475,1.3299419997149393,1.1339853022284536,93,0.32600000000000001,null,null,null,null,1.1814425748422863,86,0.30099999999999999,null,null,null,null,1.245086153235921,47,0.16300000000000001,null,null,null,null,1.2284882814364362,91,0.31900000000000001,null,null,null,null,1.0946702715318024,120,0.42099999999999999,null,null,null,null,1.2662271801361225,60,0.20899999999999999,null,null,null,null,0.75353827226515113,253,0.89300000000000002,null,null,null,null,1.0324565499175844,91,0.31900000000000001,null,null,null,null,0.91235812304269814,227,0.80100000000000005,null,null,null,null,1.0851184551872917,81,0.28299999999999997,null,null,null,null,1.2081748868996562,50,0.17299999999999999,null,null,null,null,{"$f":"AVERAGE(Data!Z267:AH267)","v":1.1709177864670557},72,0.251,null,null,null,null,0.9646530365543734,185,0.65200000000000002,null,null,null,null,1.1267354841987358,62,0.216,null,null,null,null,"Tonbridge and Malling",222,234,212,99,0.82599999999999996,0.748,0.34699999999999998,222,0.78300000000000003,0.71409411764705877,0.67523077916209406,0.8292847670145268,0.99125693215467836,0.76932164204687337,0.73193241708891865,0.6758314568656415,0.80125462711214268,0.81759504787565118,0.8909320616341635,0.6489929270824355,0.70743506159705905,0.49498512573671744,0.82260181524983766,0.59747660548716608,0.74315156896286461,0.60433637571537524,0.61133674049512599,0.49375245866838807,0.69258259338867034,0.5051471045024345,0.68406216433618017,{"$f":"AC267/AC$292","v":0.66151132693742198},{"$f":"AD267/AD$292","v":0.86916256117762625},{"$f":"AE267/AE$292","v":0.48012274371786373},{"$f":"AF267/AF$292","v":0.43345854548847235},{"$f":"AG267/AG$292","v":0.30949482694576735},{"$f":"AH267/AH$292","v":0.60768409198788476},{"$f":"AI267/AI$292","v":0.31686333832141866},{"$f":"AJ267/AJ$292","v":0.7620439396089902},{"$f":"AK267/AK$292","v":0.56971143685540448},{"$f":"AL267/AL$292","v":0.16751234673366341},{"$f":"AM267/AM$292","v":0.6489929270824355},{"$f":"AN267/AN$292","v":0.16763048908436695},{"$f":"AO267/AO$292","v":0.6363606778358486},{"$f":"AP267/AP$292","v":0.96057451276212369},{"$f":"AQ267/AQ$292","v":0.59530263215678758},{"$f":"AR267/AR$292","v":0.95416318107099107},{"$f":"AS267/AS$292","v":0.97804789995055441},{"$f":"AT267/AT$292","v":0.72317769560634926},0.73953655460789325,0.79391941505365093,0.7153962767032368,0.56980852495962975,0.68249315006846667,0.45769005203499702,0.54953957159527123,0.40825263690804947,0.40199558346010777,0.84225318430936125,0.6586102390786992,69,{"$f":"AVERAGE(Data!EY267:FQ267)","v":0.71688434355772201},53,{"$f":"AVERAGE(Data!FR267:FZ267)","v":0.58258066205359127},87,{"$f":"AVERAGE(Data!GA267:GL267)","v":0.62336508975574445},211]
["E05005130","29UQGB","Benenden and Cranbrook","Tunbridge Wells","NHS West Kent CCG",264,1.2714136269730825,1.0837189366384703,1.0946503457413133,1.3691590904932365,1.1246439111358886,1.0654669163658668,0.99928454496762675,1.4353037048641697,1.7339519621173594,1.5460748693641204,1.0129449399073043,1.0211306173529322,1.3904750206146572,1.1646192605775296,1.3369092706123937,1.2882376345279434,1.5911012618228189,1.4512889715900221,1.6198993809740558,1.0481425820827914,0.84310728511296518,1.2834122844618909,1.7800470006954927,1.6452770775044554,1.0026757451388595,1.3193681188335344,0.72438299600646139,1.7823144112116698,0.85929755283832121,1.0311279330238157,0.65621082759798466,1.0627202197869161,1.0129449399073043,0.66909297262189582,1.4276894769054926,1.0901214726314252,0.87982314479546031,1.0879462312936397,1.0849199242898115,1.4424709172492474,1.1499276364509552,82,0.28699999999999998,null,null,null,null,1.1987716335653578,80,0.28000000000000003,null,null,null,null,1.3117929468842799,29,9.9000000000000005E-2,null,null,null,null,1.5540965381289658,22,7.3999999999999996E-2,null,null,null,null,1.3199972459715192,17,5.6000000000000001E-2,null,null,null,null,1.2071853177976313,74,0.25800000000000001,null,null,null,null,0.84887877115337373,227,0.80100000000000005,null,null,null,null,1.0378325798471102,86,0.30099999999999999,null,null,null,null,1.0483912247636942,79,0.27600000000000002,null,null,null,null,1.117056338051917,48,0.16600000000000001,null,null,null,null,1.2947512771916205,27,9.1999999999999998E-2,null,null,null,null,{"$f":"AVERAGE(Data!Z268:AH268)","v":1.2698586112275692},35,0.12,null,null,null,null,1.0253638010784429,106,0.372,null,null,null,null,1.2083341845157562,28,9.5000000000000001E-2,null,null,null,null,"Tunbridge Wells",256,257,249,178,0.90700000000000003,0.879,0.627,256,0.90400000000000003,0.742123076923077,{"$f":"H268/H$292","v":0.67768001913824716},{"$f":"I268/I$292","v":0.82618332288412133},{"$f":"J268/J$292","v":0.95068633312547357},{"$f":"K268/K$292","v":0.7973309140714433},{"$f":"L268/L$292","v":0.80880148835116794},{"$f":"M268/M$292","v":0.65849799759257222},{"$f":"N268/N$292","v":0.81871379097033403},{"$f":"O268/O$292","v":0.87922802111132914},{"$f":"P268/P$292","v":0.87397544321331599},{"$f":"Q268/Q$292","v":0.7728253813698075},{"$f":"R268/R$292","v":0.65619303552728514},{"$f":"S268/S$292","v":0.60648945189734016},{"$f":"T268/T$292","v":0.72401668885319115},{"$f":"U268/U$292","v":0.71420538944133838},{"$f":"V268/V$292","v":0.76941308777756656},{"$f":"W268/W$292","v":0.77213273365818347},{"$f":"X268/X$292","v":0.76356204849055043},{"$f":"Y268/Y$292","v":0.62575764476691553},{"$f":"Z268/Z$292","v":0.75955251753123354},{"$f":"AA268/AA$292","v":0.52069503703689846},{"$f":"AB268/AB$292","v":0.81459752475101044},1,0.99002676598805328,0.40628845404147446,0.38899581735558691,0.33734883494082674,0.6205819254078403,0.50600635093520585,0.8404647715599578,0.47466969182076535,0.1466048809105831,0.7728253813698075,0.22723093122806884,0.68252718479327834,0.94862320646726583,0.64304291568903282,0.96758825194340581,0.96076205916046142,0.78436713340813347,0.74866213964848194,0.80680610482219828,0.74954331239889671,0.7204841423052164,0.81697436906143928,0.43830375793643206,0.60704693810530963,0.4597151311401953,0.45487905801067358,0.86087671333365989,0.70576538763755348,28,{"$f":"AVERAGE(Data!EY268:FQ268)","v":0.75988504574543481},30,{"$f":"AVERAGE(Data!FR268:FZ268)","v":0.64867631967254735},29,{"$f":"AVERAGE(Data!GA268:GL268)","v":0.66289272994049719},112]
["E05005131","29UQGC","Brenchley and Horsmonden","Tunbridge Wells","NHS West Kent CCG",265,1.3014258327324317,1.3524064203996693,1.2214984348548892,1.3691590904932365,1.2088450356548819,1.1861593800700778,1.2088146145423349,1.4353037048641697,1.7339519621173594,1.5460748693641204,1.1830463112206342,1.2562915070456342,1.9628921127541823,1.454975283906615,1.5086403467671068,1.1829566075044,1.7522103374152247,1.5300767522160998,1.5639120399050253,1.1535132386970171,1.1505026133635008,1.3874061137161453,1.7800470006954927,1.6452770775044554,1.4132882651795113,1.8345763147019862,0.51340666912330402,2.4286482456045189,1.0188721489137986,1.0656166750687532,0.84442211400147704,0.58880387724271888,1.1830463112206342,0.28738737933690572,1.352079376820597,1.0723121972360961,0.97708686122852173,1.0872867081181712,1.0657831630543753,0.87348747393266502,1.2917768959956633,23,7.8E-2,null,null,null,null,1.2816563651249402,35,0.12,null,null,null,null,1.4786036250850065,6,1.7000000000000001E-2,null,null,null,null,1.61539970984545,8,2.4E-2,null,null,null,null,1.4233492087953221,6,1.7000000000000001E-2,null,null,null,null,1.5474798736523301,9,2.8000000000000001E-2,null,null,null,null,0.97630364599467623,175,0.61699999999999999,null,null,null,null,0.88592509423167654,144,0.50700000000000001,null,null,null,null,0.81973337807875135,266,0.93899999999999995,null,null,null,null,1.015191280713966,153,0.53900000000000003,null,null,null,null,1.4188758233593735,4,0.01,null,null,null,null,{"$f":"AVERAGE(Data!Z269:AH269)","v":1.4785183931762145},5,1.4E-2,null,null,null,null,0.9513486905145595,198,0.69799999999999995,null,null,null,null,1.2920372617147184,4,0.01,null,null,null,null,"Tunbridge Wells",280,280,279,86,0.98899999999999999,0.98499999999999999,0.30099999999999999,280,0.98899999999999999,0.75964117647058826,0.84569788150235226,0.9219214516601949,0.95068633312547357,0.85702639538229208,0.9004197664763004,0.79657191452165621,0.81871379097033403,0.87922802111132914,0.87397544321331599,0.9026040613134394,0.80731076270382418,0.85616306941756437,0.90452427078606756,0.80594778574327619,0.70653291884331482,0.85031606110510738,0.80501441280154074,0.60413006277287085,0.83591097188027397,0.71053946686760072,0.88060368421006019,1,0.99002676598805328,0.572670384377574,0.54089719377912326,0.23909608954715475,0.84562813099345568,0.59997352074198895,0.86857629077676801,0.61081220815404802,8.1226950137606821E-2,0.9026040613134394,9.7599742490229721E-2,0.64638070505264356,0.93312558317066674,0.71413077485237342,0.96700169090011889,0.94381530233667532,0.47497308805574373,0.84242016987771173,0.86468364009521126,0.84203579164151643,0.75315351222650628,0.88341617778919745,0.5495729496743269,0.69312067322426829,0.49191550572552312,0.37199022377143665,0.8066092878631157,0.75755045463866111,3,{"$f":"AVERAGE(Data!EY269:FQ269)","v":0.83402239894320229},5,{"$f":"AVERAGE(Data!FR269:FZ269)","v":0.73504140973814391},4,{"$f":"AVERAGE(Data!GA269:GL269)","v":0.6533516598318585},140]
["E05005132","29UQGD","Broadwater","Tunbridge Wells","NHS West Kent CCG",266,1.1521322393340974,0.70283228383413321,0.91484554577561039,1.3691590904932365,0.97430179503663084,0.97059515005621733,0.71432357163778137,1.4353037048641697,1.7339519621173594,1.5460748693641204,0.8762391414674614,1.0024209269497413,0.93286840602641741,0.67507776013168752,1.1532173251770359,0.99558294017597415,0.31942073530846832,0.46404006516129803,0.31640906243972783,0.80197001624383646,0.99300567495499292,0.98482751609827246,1.7800470006954927,1.6452770775044554,0.83548607705495914,0.79435254387035126,0.97926856552927244,0.75916305917559435,1.2028442097704499,1.1736238965906747,1.0005780710621091,0.65381556721228995,0.8762391414674614,1.0721261464077401,0.88503492778433535,1.0960201246860293,0.99638399449725068,1.0767538829556698,1.0825973294855904,1.1958023167504237,0.92327002298128036,194,0.68400000000000005,null,null,null,null,1.0927366624176074,122,0.42899999999999999,null,null,null,null,1.1144291664262247,103,0.36099999999999999,null,null,null,null,0.36662328763649804,267,0.94299999999999995,null,null,null,null,1.2410254570994099,49,0.17,null,null,null,null,0.84206756140754424,190,0.67,null,null,null,null,1.1256820591410779,80,0.28000000000000003,null,null,null,null,0.76502735433987568,199,0.70199999999999996,null,null,null,null,0.97858053709603765,159,0.56000000000000005,null,null,null,null,1.0895115296749929,75,0.26200000000000001,null,null,null,null,0.96046297765006161,180,0.63400000000000001,null,null,null,null,{"$f":"AVERAGE(Data!Z270:AH270)","v":1.0637108367919141},120,0.42099999999999999,null,null,null,null,1.0259849673891688,104,0.36499999999999999,null,null,null,null,1.0033503428787103,160,0.56299999999999994,null,null,null,null,"Tunbridge Wells",124,104,164,180,0.36499999999999999,0.57799999999999996,0.63400000000000001,124,0.436,0.6724986301369863,0.43950085161110919,0.69047631134010379,0.95068633312547357,0.69074391736438312,0.7367838361696526,0.4707174187026899,0.81871379097033403,0.87922802111132914,0.87397544321331599,0.66852582208240563,0.64416992278263796,0.40689321266138778,0.4196801316565858,0.61607324217393156,0.59462208183365162,0.15500911944364945,0.24414392286606781,0.12222696793435164,0.58115981092203661,0.61327085630538958,0.62508210855773516,1,0.99002676598805328,0.33854249318938667,0.23420288292590138,0.45605033731703992,0.26433207855925561,0.70830739284556632,0.95661218026823303,0.72376752205105765,9.0195473450069785E-2,0.66852582208240563,0.36410518808402031,0.42310348817143462,0.95375621078500128,0.72823461482858598,0.95763409754498408,0.95870526131138545,0.65023705094933626,0.60082526436273309,0.73352905926650658,0.63789598468940567,0.17379333674802297,0.76190790835464295,0.32328194799789589,0.79622903172161896,0.37936064776623768,0.39360433812772744,0.84971344708385865,0.60951301533292312,146,{"$f":"AVERAGE(Data!EY270:FQ270)","v":0.58392994616737082},172,{"$f":"AVERAGE(Data!FR270:FZ270)","v":0.56696303708497764},101,{"$f":"AVERAGE(Data!GA270:GL270)","v":0.68193202519767337},76]
["E05005133","29UQGE","Capel","Tunbridge Wells","NHS West Kent CCG",267,1.135358294197365,1.1883100584351576,1.13278374093902,1.3691590904932365,1.1683298757232226,1.1102124450331221,1.0994991601952098,1.4353037048641697,1.7339519621173594,1.5460748693641204,1.083310750680927,1.1814049761846197,1.1882938274104609,1.0995073816778753,1.2915168519715883,1.1887396576083598,1.2888131917541072,1.2053126614859901,1.3145381520299435,1.1903368232957958,1.2602037609107062,1.1976745910119735,1.7800470006954927,1.6452770775044554,1.2041761614353488,1.7432385808363045,0.71976987223554223,1.4982267534883169,0.85202220058107769,0.70581356143618901,1.0918921771064556,1.1160895426856832,1.083310750680927,0.64517920076045787,1.0765288581988879,1.0310291064869035,0.9425589303917572,1.0089391656328519,1.0423400384958357,1.2959367803426081,1.1521506978571809,81,0.28299999999999997,null,null,null,null,1.2365008552617922,64,0.223,null,null,null,null,1.2891000346269137,32,0.109,null,null,null,null,1.269554668423347,77,0.26900000000000002,null,null,null,null,1.4147078506836848,8,2.4E-2,null,null,null,null,1.291352841998878,51,0.17699999999999999,null,null,null,null,0.88324264637457406,215,0.75800000000000001,null,null,null,null,1.099700146683305,76,0.26500000000000001,null,null,null,null,0.86085402947967293,254,0.89700000000000002,null,null,null,null,1.064160804269991,99,0.34699999999999998,null,null,null,null,1.2505484553771504,35,0.12,null,null,null,null,{"$f":"AVERAGE(Data!Z271:AH271)","v":1.359883402379326},14,4.5999999999999999E-2,null,null,null,null,0.99097002606663598,143,0.503,null,null,null,null,1.197275289659486,30,0.10199999999999999,null,null,null,null,"Tunbridge Wells",254,249,270,141,0.879,0.95299999999999996,0.496,254,0.89700000000000002,0.66270769230769233,0.74308379776070677,0.85496436267446552,0.95068633312547357,0.82830264630741057,0.84276805233100038,0.72453636853426573,0.81871379097033403,0.87922802111132914,0.87397544321331599,0.82651090997464671,0.75918761452795014,0.51830321393374201,0.683538149160691,0.68995579319297784,0.70998690459718583,0.62543778752570889,0.63414731517427003,0.50779839021599416,0.86259574441470144,0.77828985177552967,0.76017875869451523,1,0.99002676598805328,0.48793727523089742,0.51396763868884232,0.33520047980530182,0.5216657832807573,0.50172218366940113,0.57530342712836346,0.78981952356041496,0.15396731091066443,0.82651090997464671,0.21910956563076364,0.51464987507493376,0.89720105649856519,0.68889508805631394,0.89732162813884531,0.92305500093584947,0.70468680187598964,0.7535852842476215,0.83300143825369699,0.74258575621397971,0.58912783097199106,0.87821822417455986,0.46469279425144971,0.62228171145272659,0.49023911044265556,0.36687972035284871,0.8222319151011126,0.70189843139931285,30,{"$f":"AVERAGE(Data!EY271:FQ271)","v":0.74388592561258737},36,{"$f":"AVERAGE(Data!FR271:FZ271)","v":0.69442914420873303},14,{"$f":"AVERAGE(Data!GA271:GL271)","v":0.6410201976212293},168]
["E05005134","29UQGF","Culverden","Tunbridge Wells","NHS West Kent CCG",268,1.6818856478896533,1.1387624077626293,1.3076666676650532,1.3691590904932365,1.2877486760570258,1.1716520510253132,0.94648872934708794,1.4353037048641697,1.7339519621173594,1.5460748693641204,0.68378841905861953,1.3807899714034417,1.0952471977866045,0.6624847958011022,1.440554497931996,1.3377681335383693,1.2206132901759812,1.3277024747882273,1.2612652274698355,1.2534275417474765,1.047490682075201,1.5755170442657289,1.7800470006954927,1.6452770775044554,1.3686333947036315,0.96724892312748034,1.1675345353345425,1.1248492875219764,1.1840648994318572,1.1684996085604036,1.0977066261485824,1.9288535846055648,0.68378841905861953,1.873876450521426,0.20218591282574042,0.18126141293432596,1.1100758767541283,0.28078012470602787,0.32152941139747271,1.155436915422339,1.3761049077724454,7,2.1000000000000001E-2,null,null,null,null,1.2420704503573667,60,0.20899999999999999,null,null,null,null,1.2350824808752017,53,0.184,null,null,null,null,1.2698603308113479,76,0.26500000000000001,null,null,null,null,1.4603518692576709,2,3.0000000000000001E-3,null,null,null,null,1.1570665351719076,85,0.29699999999999999,null,null,null,null,1.1500903780469478,63,0.219,null,null,null,null,1.3063210018320921,50,0.17299999999999999,null,null,null,null,1.0380311816735832,90,0.315,null,null,null,null,0.60981674824285881,275,0.97099999999999997,null,null,null,null,1.2646793586599907,33,0.113,null,null,null,null,{"$f":"AVERAGE(Data!Z272:AH272)","v":1.3255583874417762},22,7.3999999999999996E-2,null,null,null,null,0.93233827019720739,218,0.76900000000000002,null,null,null,null,1.1786748135970575,35,0.12,null,null,null,null,"Tunbridge Wells",249,251,262,66,0.88600000000000001,0.92500000000000004,0.23,249,0.879,0.98171525423728823,0.71210025422296419,0.98695660849097488,0.95068633312547357,0.91296615649464674,0.88940717740086772,0.62370716745067534,0.81871379097033403,0.87922802111132914,0.87397544321331599,0.52169572591338909,0.88731524387119187,0.47771866652020994,0.41185137882198525,0.76957487603905239,0.79899568431204848,0.5923416058405726,0.69853987819157648,0.48721937142376914,0.90831539635137204,0.64692027827262022,1,1,0.99002676598805328,0.55457604193533716,0.28517877616365073,0.54372675424420669,0.39165992950113837,0.69724899954964248,0.95243541089671635,0.79402540163931901,0.26609011929946125,0.52169572591338909,0.63638792855616022,9.6657840600548647E-2,0.15773359856079455,0.81132945029535808,0.24971780978708122,0.28473369550946498,0.62828770434555448,0.89359070565040921,0.83909612508839948,0.70254437997531527,0.59270028515197282,0.90905248812240913,0.44378537546108321,0.81456993736189265,0.39389292260642517,0.36652288457835441,0.4263604516996507,0.66728640662653849,58,{"$f":"AVERAGE(Data!EY272:FQ272)","v":0.75130045461324557},32,{"$f":"AVERAGE(Data!FR272:FZ272)","v":0.70226710471737541},11,{"$f":"AVERAGE(Data!GA272:GL272)","v":0.50802864041279083},278]
["E05005135","29UQGG","Frittenden and Sissinghurst","Tunbridge Wells","NHS West Kent CCG",269,1.1879251273152558,0.8618897524571465,1.2447664229125452,1.3691590904932365,1.2149181499772865,1.1373767735113178,1.177423226139654,1.4353037048641697,1.7339519621173594,1.5460748693641204,1.1052712631989388,1.2410428878276094,1.2176477781550377,1.2091670237629129,1.7345528462884505,1.2829474609137532,1.5875481576022665,1.3933957166552848,1.5241022541585614,1.1421039755350539,1.1637020026550646,1.3220039366198888,1.7800470006954927,1.6452770775044554,1.324992856333602,1.7799000423225173,0.58835209955301782,2.5504859245570382,1.006504152329551,0.6125898135130825,0.63826014108413165,0.61285034170412911,1.1052712631989388,0.26544288346029721,1.3864181871478807,1.018471574762112,0.96556116063357234,1.0534191467583094,1.0125963094918842,1.2996799589646002,1.0981937675616491,118,0.41399999999999998,null,null,null,null,1.2668361889971329,47,0.16300000000000001,null,null,null,null,1.3838320114535227,18,0.06,null,null,null,null,1.5016820428053712,29,9.9000000000000005E-2,null,null,null,null,1.4106267986019909,9,2.8000000000000001E-2,null,null,null,null,1.5609327306915439,8,2.4E-2,null,null,null,null,0.7524513689755884,254,0.89700000000000002,null,null,null,null,0.85906080245153393,149,0.52400000000000002,null,null,null,null,0.82593053530408889,263,0.92900000000000005,null,null,null,null,1.0699456301220958,92,0.32200000000000001,null,null,null,null,1.3265507614586793,20,6.7000000000000004E-2,null,null,null,null,{"$f":"AVERAGE(Data!Z273:AH273)","v":1.4774294350862367},6,1.7000000000000001E-2,null,null,null,null,0.91475541108737402,237,0.83599999999999997,null,null,null,null,1.2369598579134879,18,0.06,null,null,null,null,"Tunbridge Wells",266,264,278,47,0.93200000000000005,0.98199999999999998,0.16300000000000001,266,0.93899999999999995,0.69339090909090906,0.53896397321611966,0.93948288007895064,0.95068633312547357,0.86133200869331117,0.86338863563185275,0.77588594823816315,0.81871379097033403,0.87922802111132914,0.87397544321331599,0.8432656621760467,0.79751178345255658,0.53110665249550071,0.75171099641710948,0.92663505169842919,0.76625347754240603,0.77040847628964593,0.73310285449328416,0.58875177566444348,0.82764307521622937,0.71869128410058114,0.83909211990531651,1,0.99002676598805328,0.53689271115381765,0.52477671840867679,0.27399855658322142,0.88805064686155932,0.59269049660290851,0.49931743790936411,0.46168507395535918,8.4544219342659183E-2,0.8432656621760467,9.0147163495366889E-2,0.66279685991051307,0.88627349814001732,0.7057068999409466,0.93688085077844374,0.89671513410774828,0.70672221642089117,0.72394592079532638,0.85400134333182698,0.79621088601333678,0.69742103548245782,0.87509064904203593,0.55592965825181884,0.51789766948921068,0.46390494075935296,0.37647201170293998,0.82645971987760947,0.72174280161492266,19,{"$f":"AVERAGE(Data!EY273:FQ273)","v":0.7844102459789043},21,{"$f":"AVERAGE(Data!FR273:FZ273)","v":0.73324131980193941},5,{"$f":"AVERAGE(Data!GA273:GL273)","v":0.61389545939835544},224]
["E05005136","29UQGH","Goudhurst and Lamberhurst","Tunbridge Wells","NHS West Kent CCG",270,1.3123941488934792,1.1404533113667901,1.2527685494535123,1.3691590904932365,1.2867920360835872,1.1565280134673253,1.0504162455596904,1.4353037048641697,1.7339519621173594,1.5460748693641204,1.2024601884740669,1.2065157542237477,1.7927209913607696,1.2019501301801809,1.415889665797746,1.3840009124793748,1.6534570750559305,1.4483529195011782,1.5128106041961997,1.1810608652573018,1.1730939379450256,1.4685438786430192,1.7800470006954927,1.6452770775044554,1.2562585527397245,2.0700499777270625,0.52624916772582442,2.273191582358189,0.71383232106120909,0.89365934423133275,0.63413646058857942,0.74232020668105514,1.2024601884740669,0.3327384322138553,1.3095802512684374,0.88919617614326985,0.87629964020102125,0.96625463456511351,0.94644312767349781,1.320774165344851,1.2352053365712605,40,0.13800000000000001,null,null,null,null,1.2596398180936019,49,0.17,null,null,null,null,1.4354455592496707,13,4.2000000000000003E-2,null,null,null,null,1.5382068662511028,23,7.8E-2,null,null,null,null,1.4496045520090588,3,7.0000000000000001E-3,null,null,null,null,1.5314373201377001,13,4.2000000000000003E-2,null,null,null,null,0.74720937529370712,257,0.90700000000000003,null,null,null,null,0.97239019757756107,106,0.372,null,null,null,null,0.82115934174114635,265,0.93600000000000005,null,null,null,null,0.99979354878555071,167,0.58799999999999997,null,null,null,null,1.3737894827859194,12,3.9E-2,null,null,null,null,{"$f":"AVERAGE(Data!Z274:AH274)","v":1.4859746711773438},3,7.0000000000000001E-3,null,null,null,null,0.9023079123705241,246,0.86799999999999999,null,null,null,null,1.257586679049371,11,3.5000000000000003E-2,null,null,null,null,"Tunbridge Wells",273,272,281,38,0.96,0.99199999999999999,0.13100000000000001,273,0.96399999999999997,0.766043373493976,0.71315762394133686,0.94552245565801674,0.95068633312547357,0.91228793415519649,0.87792644167938494,0.69219222675176295,0.81871379097033403,0.87922802111132914,0.87397544321331599,0.91741586055459434,0.77532415708766877,0.78193880173023544,0.74722442164332092,0.75639839770415529,0.82660868384576547,0.80239288471607584,0.76201731274782902,0.58438987740769432,0.85587377986418034,0.72449165397047166,0.93210281919065829,1,0.99002676598805328,0.50904128053712672,0.61032305658922092,0.24507690627694281,0.79149986115059445,0.42034762785802088,0.72841513894324994,0.45870221224739871,0.10240490721049456,0.91741586055459434,0.11300143164117239,0.6260633958698627,0.77377810543931502,0.64046766555921431,0.85935922741271076,0.83813249979447957,0.71819253585135079,0.80824115103110994,0.85036134533643037,0.81976422336129817,0.71626669162386636,0.90049900380267256,0.53898527613847125,0.53582165968288986,0.5099103838825445,0.36953241375551754,0.76598600681141404,0.73095401933716453,14,{"$f":"AVERAGE(Data!EY274:FQ274)","v":0.8096549495546036},12,{"$f":"AVERAGE(Data!FR274:FZ274)","v":0.73982623595191632},2,{"$f":"AVERAGE(Data!GA274:GL274)","v":0.59969005069848869},242]
["E05005137","29UQGJ","Hawkhurst and Sandhurst","Tunbridge Wells","NHS West Kent CCG",271,1.2460841767222839,1.050209159752153,1.0772050408482046,1.3691590904932365,1.071296217118247,1.1185346172768487,0.9390672527677566,1.4353037048641697,1.7339519621173594,1.5460748693641204,1.120740529909364,1.0324917041690678,1.4882397464238941,1.1507837980492428,1.4144682886398852,1.1207829567281014,0.91829037746771058,0.90508508776372332,0.9817326599794346,1.1222427148870762,1.0420463576298353,1.2805792403626666,1.7800470006954927,1.6452770775044554,0.97890302739213919,1.3865382838100977,0.68815432647273089,1.8125379963642518,1.1727309288420456,1.0522158282328289,0.49018951824187917,0.73828064041426888,1.120740529909364,0.65333911918076804,1.4932947336507081,0.64376511329996589,0.81865100929647705,0.77249614460065585,0.7129715425843306,1.335389324106623,1.1244994591075472,104,0.36499999999999999,null,null,null,null,1.1866721765040515,84,0.29399999999999998,null,null,null,null,1.3259417319251292,27,9.1999999999999998E-2,null,null,null,null,0.9350360417369562,164,0.57799999999999996,null,null,null,null,1.3740384782159052,11,3.5000000000000003E-2,null,null,null,null,1.216533408509805,69,0.24099999999999999,null,null,null,null,0.9050454251055845,207,0.73,null,null,null,null,0.92951058516181639,124,0.436,null,null,null,null,1.0733169264157381,62,0.216,null,null,null,null,0.8566546267776104,249,0.879,null,null,null,null,1.195763223181832,54,0.187,null,null,null,null,{"$f":"AVERAGE(Data!Z275:AH275)","v":1.3040362250131941},29,9.9000000000000005E-2,null,null,null,null,0.91700536936332622,235,0.82899999999999996,null,null,null,null,1.1364972924483365,57,0.19800000000000001,null,null,null,null,"Tunbridge Wells",227,230,255,49,0.81200000000000006,0.9,0.17,227,0.80100000000000005,0.72733829787234039,0.65672541045338151,0.81301654317095684,0.95068633312547357,0.7595093732143654,0.84908545664797264,0.61881664103226841,0.81871379097033403,0.87922802111132914,0.87397544321331599,0.85506792454392,0.6634938312512394,0.64913191155456385,0.71541550380708852,0.75563906777138579,0.66939907075501137,0.44562975120379594,0.47618953716293067,0.37923757754021215,0.81325030959026046,0.64355791529844575,0.8127993568990437,1,0.99002676598805328,0.39665564823311045,0.40879992877376237,0.32047695980565832,0.63110543941228925,0.69057487243172599,0.85765335937907394,0.35457828150953363,0.10184763905990704,0.85506792454392,0.22188075877919317,0.71389070740675775,0.56020410690217959,0.59833357995163794,0.68703596987361415,0.63137932306343292,0.72613976726183682,0.73236008383222628,0.79936231899808274,0.75766884675098178,0.43368562196897958,0.85192686955516062,0.43925949405620507,0.63426883777344445,0.47845778180191351,0.46788573309297543,0.64061854941054031,0.66428895251413322,61,{"$f":"AVERAGE(Data!EY275:FQ275)","v":0.71348944665273084},55,{"$f":"AVERAGE(Data!FR275:FZ275)","v":0.66851914711118043},22,{"$f":"AVERAGE(Data!GA275:GL275)","v":0.58321552418023448},247]
["E05005138","29UQGK","Paddock Wood East","Tunbridge Wells","NHS West Kent CCG",272,1.2147239049832002,0.92591835093744868,1.0211850994657419,1.3691590904932365,1.2302806689499191,0.98089179294089113,1.1408932839748216,1.4353037048641697,1.7339519621173594,1.5460748693641204,0.9835599662082245,1.0648127097388722,1.3031078272114232,1.1074285694401345,0.98521460973060515,0.96468639598963435,1.1961201175471639,1.0995558199583835,1.0378240741415536,1.1166235036048344,0.83888063362658438,1.0774838746439885,1.7800470006954927,1.6452770775044554,1.0272591916193929,1.0526178732059048,0.92858871152017097,0.93520580408892429,1.1293287535884333,0.83556946668505028,0.80524283023170784,2.3962729539341061,0.9835599662082245,1.130764991735169,0.96579143537963319,0.55628500727906605,1.1497304312161061,0.53671912427247492,0.68029896724340833,1.2968210502979689,1.0539424517954636,130,0.45700000000000002,null,null,null,null,1.2313057082446077,65,0.22600000000000001,null,null,null,null,1.2111046137250465,63,0.219,null,null,null,null,1.1111666705490337,119,0.41799999999999998,null,null,null,null,1.2916624180150711,29,9.9000000000000005E-2,null,null,null,null,0.98591789510859829,139,0.48899999999999999,null,null,null,null,0.92338035016839726,200,0.70499999999999996,null,null,null,null,1.6899164600711654,20,6.7000000000000004E-2,null,null,null,null,1.0482782135574011,80,0.28000000000000003,null,null,null,null,0.84397091606180497,253,0.89300000000000002,null,null,null,null,1.1758259377924685,59,0.20499999999999999,null,null,null,null,{"$f":"AVERAGE(Data!Z276:AH276)","v":1.155775963389972},76,0.26500000000000001,null,null,null,null,1.0388654148392789,88,0.308,null,null,null,null,1.1302265366659501,59,0.20499999999999999,null,null,null,null,"Tunbridge Wells",225,225,208,196,0.79400000000000004,0.73399999999999999,0.69099999999999995,225,0.79400000000000004,0.7090333333333334,0.57900286187678862,0.77073569842523726,0.95068633312547357,0.87222346613473145,0.74460007143911544,0.75181383195371299,0.81871379097033403,0.87922802111132914,0.87397544321331599,0.75040614355061153,0.68426376841277869,0.56838212853275838,0.68846256723408894,0.52632261552321069,0.57616880518118163,0.58045551110126969,0.57850580466913715,0.4009053623606666,0.80917826238129631,0.51808469729591489,0.68389223624435669,1,0.99002676598805328,0.41624977056280316,0.31034852525680351,0.4324484722826637,0.3256281915823922,0.66501704761284997,0.68106650828525905,0.58247189773760988,0.33057177655959191,0.75040614355061153,0.3840195497274807,0.46171028094700695,0.48407895868789408,0.84031207080542414,0.47734263358023699,0.60244578607159627,0.70516763811452399,0.68625729787845302,0.82760749872467354,0.69340118659490935,0.51995555937702453,0.80023639238192423,0.37116873992116561,0.64285181787857304,0.54048896005510172,0.4228649153372438,0.62186941745193514,0.64385881928558608,100,{"$f":"AVERAGE(Data!EY276:FQ276)","v":0.70020450306047766},64,{"$f":"AVERAGE(Data!FR276:FZ276)","v":0.60953965795492038},63,{"$f":"AVERAGE(Data!GA276:GL276)","v":0.5803841909733406},251]
["E05005139","29UQGL","Paddock Wood West","Tunbridge Wells","NHS West Kent CCG",273,1.2629101686746,1.0615599185480165,0.94235966395200277,1.3691590904932365,1.0963996281111783,1.1060960388546355,1.1770193988747673,1.4353037048641697,1.7339519621173594,1.5460748693641204,1.016352131423288,1.0878667554465737,1.2830455172184405,1.0915989010142642,1.1752169477456678,1.2196572908615817,1.0064511670289833,0.97739118851441908,0.97048606248014091,1.0691721494402555,1.2358414211435098,1.0934391915220854,1.7800470006954927,1.6452770775044554,1.0964810721118461,1.2827126594403213,0.94787334549653679,0.6859804497099139,1.0787099130829434,1.1647346455778178,0.93051613296136093,0.99067969967975522,1.016352131423288,0.98180522108933699,0.95948415904074669,0.75265474158918988,1.152434592017509,0.73665865662146113,0.76018261094051776,1.5923658172504074,1.0889432503915397,121,0.42499999999999999,null,null,null,null,1.2367955722395974,63,0.219,null,null,null,null,1.2692205468989119,37,0.127,null,null,null,null,0.98477613934118102,152,0.53500000000000003,null,null,null,null,1.3647553680611597,13,4.2000000000000003E-2,null,null,null,null,1.0032618816896544,137,0.48199999999999998,null,null,null,null,1.057986897207374,129,0.45300000000000001,null,null,null,null,1.0035159155515216,97,0.34,null,null,null,null,0.97064469006504184,165,0.58099999999999996,null,null,null,null,0.99885928368381693,168,0.59199999999999997,null,null,null,null,1.187310547662497,55,0.191,null,null,null,null,{"$f":"AVERAGE(Data!Z277:AH277)","v":1.2040915963404908},61,0.21199999999999999,null,null,null,null,1.0097148601061945,124,0.436,null,null,null,null,1.1378075773481549,56,0.19500000000000001,null,null,null,null,"Tunbridge Wells",228,229,223,160,0.80800000000000005,0.78700000000000003,0.56299999999999994,228,0.80400000000000005,0.73715961538461539,0.66382336009507947,0.71124249085088087,0.95068633312547357,0.77730676262368448,0.83964326695035818,0.77561983840324145,0.81871379097033403,0.87922802111132914,0.87397544321331599,0.77542489490603295,0.69907862556918976,0.55963146475883463,0.67862163079477655,0.6278259088279633,0.72845277691029586,0.48841259166702577,0.51423171586637484,0.3748930827861196,0.77479191444344953,0.76324390254537189,0.6940192716427791,1,0.99002676598805328,0.44429876940163276,0.37818850726246916,0.44142942412727226,0.23885071320480786,0.63520961398505593,0.94936661734380468,0.67308826293492885,0.13666671310837036,0.77542489490603295,0.33343126262182671,0.45869499811910219,0.65495981159388683,0.84228848101526288,0.65516313337635457,0.6731875729015464,0.86587493479286881,0.70407515544352517,0.83239399841461825,0.72777984576146737,0.45917913010650674,0.84441637092393085,0.37569185349904555,0.75255483142126323,0.45604580400720163,0.39606313037046448,0.73829478673598392,0.67130442950324498,54,{"$f":"AVERAGE(Data!EY277:FQ277)","v":0.70915640077973285},61,{"$f":"AVERAGE(Data!FR277:FZ277)","v":0.63609436317953738},38,{"$f":"AVERAGE(Data!GA277:GL277)","v":0.63777969139158674},177]
["E05005140","29UQGM","Pantiles and St Mark's","Tunbridge Wells","NHS West Kent CCG",274,1.6479026203410023,1.2732952268554685,1.32494848954346,1.3691590904932365,1.3370053061510736,1.2333861691847612,1.1239785268291558,1.4353037048641697,1.7339519621173594,1.5460748693641204,1.1568433966530514,1.4748244597200713,1.2152437822307185,0.6189419134055254,1.6126464295702707,1.4136674673671998,1.6608855685924486,1.5824895878872196,1.5588892653630493,1.2266597980220171,1.0804706444023708,1.4958522178780551,1.7800470006954927,1.6452770775044554,1.7801470233449876,1.1682456660420231,0.65152274548367528,1.3877110421149212,1.0800747383299507,1.0571514910174988,1.0658508930423192,1.3180563095067148,1.1568433966530514,1.1525964595284208,0.27445653171197559,0.7288736032544475,1.2246759940206435,0.78654502087228217,0.76471855878061201,1.4246743560907551,1.4153821122466435,5,1.4E-2,null,null,null,null,1.2997665595044794,28,9.5000000000000001E-2,null,null,null,null,1.3465242850535395,24,8.1000000000000003E-2,null,null,null,null,1.6007548072809057,10,3.1E-2,null,null,null,null,1.445661347700478,4,0.01,null,null,null,null,1.2469066192464018,63,0.219,null,null,null,null,1.0676923741299229,121,0.42499999999999999,null,null,null,null,1.237449853079883,55,0.191,null,null,null,null,0.71352649562019821,277,0.97799999999999998,null,null,null,null,0.98589750660374809,176,0.62,null,null,null,null,1.3852335703438614,8,2.4E-2,null,null,null,null,{"$f":"AVERAGE(Data!Z278:AH278)","v":1.3573259128319994},15,4.9000000000000002E-2,null,null,null,null,1.0028764460673891,127,0.44600000000000001,null,null,null,null,1.2642472101207509,9,2.8000000000000001E-2,null,null,null,null,"Tunbridge Wells",275,276,269,157,0.97499999999999998,0.95,0.55300000000000005,275,0.97099999999999997,0.96187938931297712,0.79622742071906105,1,0.95068633312547357,0.94788728442508619,0.93626986819159974,0.74066752356109555,0.81871379097033403,0.87922802111132914,0.87397544321331599,0.88261257249120806,0.94774314142331983,0.53005809128520343,0.3847817822574085,0.86151004902137873,0.84432733682420313,0.8059977985948712,0.83259021125082733,0.60218979438058828,0.88891774236530618,0.66728838919829003,0.94943575718357165,1,0.99002676598805328,0.72132310528884391,0.34443963837470604,0.30341744676238386,0.48318544977703298,0.63601330560575386,0.86167638170439276,0.77098257701598305,0.181829125569305,0.88261257249120806,0.39143374320988561,0.13120783403371819,0.63426547590110449,0.89508809426976388,0.69953063849089359,0.67720442842196293,0.77468996245550958,0.91936893667734598,0.87884496005471779,0.77552955470342089,0.74692593474209568,0.89913373094704419,0.46309141005074167,0.75622408810870978,0.53222084903025657,0.26132078862180191,0.73615571990784689,0.73704785715667376,9,{"$f":"AVERAGE(Data!EY278:FQ278)","v":0.8209129395873308},10,{"$f":"AVERAGE(Data!FR278:FZ278)","v":0.70533714388202096},9,{"$f":"AVERAGE(Data!GA278:GL278)","v":0.62804451159745678},199]
["E05005141","29UQGN","Park","Tunbridge Wells","NHS West Kent CCG",275,1.5594960055025358,1.1440905588568557,1.2915678369369119,1.3691590904932365,1.2608544476166521,1.1363808783161626,1.0590933452666531,1.4353037048641697,1.7339519621173594,1.5460748693641204,1.071470047234321,1.232586310245734,1.3460459437467787,0.58797354498591903,1.3515867934587431,1.211783108615365,0.96303447579205037,1.1490940116065984,0.95403000465557597,1.2310377527234229,0.60685224674012761,1.32120137466615,1.7800470006954927,1.6452770775044554,1.2531093725267641,1.1031360280754776,1.023526521154229,1.0664182431558167,1.2346420134782305,1.0434621192061253,1.2180472697229261,2.496882349571298,1.071470047234321,1.5804575333157318,0.59413488250402424,0.17785542380821945,1.0463818925681574,0.39321995281459737,0.45301295747122561,1.4122245117583361,1.3317181337654345,12,3.9E-2,null,null,null,null,1.2521582933113748,53,0.184,null,null,null,null,1.2601840724710425,41,0.14099999999999999,null,null,null,null,1.0220528306847416,143,0.503,null,null,null,null,1.3168830904659297,19,6.3E-2,null,null,null,null,1.1115475412280718,101,0.35399999999999998,null,null,null,null,1.1653838008024273,53,0.184,null,null,null,null,1.7841761984028095,17,5.6000000000000001E-2,null,null,null,null,1.087296207909878,52,0.18,null,null,null,null,0.69653894768410718,272,0.96,null,null,null,null,1.231767207351355,39,0.13400000000000001,null,null,null,null,{"$f":"AVERAGE(Data!Z279:AH279)","v":1.225622846360215},48,0.16600000000000001,null,null,null,null,1.0601492461210993,65,0.22600000000000001,null,null,null,null,1.1788993377592718,34,0.11700000000000001,null,null,null,null,"Tunbridge Wells",250,245,236,219,0.86499999999999999,0.83299999999999996,0.77300000000000002,250,0.88200000000000001,0.91027652173913032,0.71543209739136626,0.97480607520217621,0.95068633312547357,0.89389914378664093,0.86263264639961024,0.69791017046531367,0.81871379097033403,0.87922802111132914,0.87397544321331599,0.81747705650809266,0.79207746660873513,0.58711063093441984,0.36552946837138334,0.72204643456754147,0.72374984112158558,0.4673432547897734,0.60456917580602865,0.36853620401488629,0.89209029405048124,0.37478617332779657,0.83858272398563416,1,0.99002676598805328,0.50776521939131292,0.32524304230952683,0.47666149170533084,0.37131489397416256,0.72703186211559045,0.8505182757276637,0.88107373092098862,0.34445109135124391,0.81747705650809266,0.5367398130852794,0.2840345994718011,0.15476970838239038,0.76477695216538477,0.3497185760005207,0.40117030953351857,0.76792015615049303,0.86683823144422423,0.84476841694947458,0.72014929530455041,0.48014954487022948,0.81909719147039295,0.42024616184508329,0.81954128958808103,0.58096407392966831,0.41038720627854025,0.48767114044646148,0.66705381280680998,59,{"$f":"AVERAGE(Data!EY279:FQ279)","v":0.73821051453300723},38,{"$f":"AVERAGE(Data!FR279:FZ279)","v":0.64183006719247748},33,{"$f":"AVERAGE(Data!GA279:GL279)","v":0.57330684428441392},256]
["E05005142","29UQGP","Pembury","Tunbridge Wells","NHS West Kent CCG",276,1.3621171821568938,1.2658735768735578,1.1792629466051829,1.3691590904932365,1.2812793991843971,1.1283000052642607,1.2746105170463085,1.4353037048641697,1.7339519621173594,1.5460748693641204,0.96269032486450767,1.1998367110336048,0.79271103915592556,0.92559864817268955,1.0678386338502521,0.95827553652599928,1.8845250156214319,1.7333165192742701,1.9958216963116253,1.2202630912504571,1.0305486041872649,1.2490399549295683,1.7800470006954927,1.6452770775044554,1.3377759995350855,1.2360570573939063,0.78327303581308405,1.1116226579327173,1.1968228967294492,1.2053272288751835,1.2750315256241402,2.1860596212417227,0.96269032486450767,1.1960244760840084,0.88058994555249981,0.59444443914531131,1.1279085776455884,0.78772128587854207,0.59198722471581156,1.0890697943084318,1.2690845685452115,28,9.5000000000000001E-2,null,null,null,null,1.2977305433704747,29,9.9000000000000005E-2,null,null,null,null,1.1483722156355574,88,0.308,null,null,null,null,1.8712210770691093,3,7.0000000000000001E-3,null,null,null,null,1.3850351457134478,10,3.1E-2,null,null,null,null,1.1171821876686983,95,0.33300000000000002,null,null,null,null,1.2257272170762576,22,7.3999999999999996E-2,null,null,null,null,1.5743749730531151,29,9.9000000000000005E-2,null,null,null,null,1.0383072108182541,89,0.312,null,null,null,null,0.83822626433873704,255,0.9,null,null,null,null,1.3208709146726207,21,7.0000000000000007E-2,null,null,null,null,{"$f":"AVERAGE(Data!Z280:AH280)","v":1.2659893865824479},37,0.127,null,null,null,null,1.0911397783887662,35,0.12,null,null,null,null,1.2396032299671755,17,5.6000000000000001E-2,null,null,null,null,"Tunbridge Wells",267,263,247,249,0.92900000000000005,0.872,0.879,267,0.94299999999999995,0.7950666666666667,0.79158645364564317,0.89004437222425437,0.95068633312547357,0.90837967859603397,0.85649841355655976,0.83992940490500478,0.81871379097033403,0.87922802111132914,0.87397544321331599,0.73448367047721319,0.77103210908628861,0.345760172978961,0.57542313710719217,0.57046212792000361,0.57233985387358299,0.91452598704622479,0.91194430471662769,0.7709742337871015,0.88428227118485592,0.63645701217457085,0.79278098543940823,1,0.99002676598805328,0.54207249486186204,0.36443280573141518,0.364774225138978,0.38705456514705755,0.7047616796875904,0.98245333253733147,0.92229325679543195,0.30157232775700588,0.73448367047721319,0.40618234922893387,0.4209785014301114,0.51728527882994835,0.82436296963806732,0.70057677493448955,0.52424040915919157,0.59219949770085101,0.82556583084552138,0.87484152423068129,0.66533806697098585,0.8658148418499847,0.86070940695737763,0.41458352271982823,0.86983608967345127,0.51802799911710951,0.41358042532952266,0.6317329860525096,0.70910813372125436,27,{"$f":"AVERAGE(Data!EY280:FQ280)","v":0.7774239039477796},25,{"$f":"AVERAGE(Data!FR280:FZ280)","v":0.66243123618513333},24,{"$f":"AVERAGE(Data!GA280:GL280)","v":0.63594917068134726},180]
["E05005143","29UQGQ","Rusthall","Tunbridge Wells","NHS West Kent CCG",277,1.2759060200364314,1.1756836905555685,1.0312718281096516,1.3691590904932365,0.96708728633088392,1.0256865110112192,0.8465432379909904,1.4353037048641697,1.7339519621173594,1.5460748693641204,0.86182297085102577,0.95086442783367564,0.16372583778937891,0.76479804436111376,1.0213786449300464,0.89794667574994724,0.98632533424773361,1.0040124647507105,0.79148487583770999,0.94377557874763707,0.95715176210436015,1.1383777266440047,1.7800470006954927,1.6452770775044554,0.69818454845436606,0.74168926115862033,1.2498537346526979,0.54977386410660767,1.2822417682103651,1.1298795810135422,0.99673212607440231,0.31138457651542517,0.86182297085102577,1.1326211847222991,1.0419928974178323,0.64786801507743552,0.9785330864257149,0.69263572858629896,0.64871141542788746,0.99946681445639973,1.1609538462338838,73,0.255,null,null,null,null,1.1287559661380999,110,0.38600000000000001,null,null,null,null,0.99257042912458338,144,0.50700000000000001,null,null,null,null,0.9272742249453847,168,0.59199999999999997,null,null,null,null,1.2929258291391901,26,8.7999999999999995E-2,null,null,null,null,0.80987535209307304,202,0.71199999999999997,null,null,null,null,1.1362844917661032,70,0.24399999999999999,null,null,null,null,0.58660377368322547,259,0.91400000000000003,null,null,null,null,1.0873070410700656,51,0.17699999999999999,null,null,null,null,0.7934430119947472,266,0.93899999999999995,null,null,null,null,1.0446856566960512,141,0.496,null,null,null,null,{"$f":"AVERAGE(Data!Z281:AH281)","v":1.0782367282298049},107,0.375,null,null,null,null,0.89365751373155222,249,0.879,null,null,null,null,1.006926204901796,157,0.55300000000000005,null,null,null,null,"Tunbridge Wells",127,143,177,35,0.503,0.624,0.12,127,0.44600000000000001,0.74474528301886789,0.73518817377832268,0.77834861977539882,0.95068633312547357,0.68562909767437141,0.77860397535114589,0.55784614092141172,0.81871379097033403,0.87922802111132914,0.87397544321331599,0.6575270183808356,0.61103898430991765,7.1413000701313373E-2,0.47545714420448365,0.54564221290438231,0.53630782545918709,0.47864588815455994,0.52823788322127829,0.30574597261406838,0.68392137584735768,0.59112782088235138,0.72254231129219337,1,0.99002676598805328,0.2829073329063973,0.21867590723909322,0.5820632228476107,0.19142510489731321,0.75506147551069569,0.92095651134384937,0.72098556014903192,4.2956271940125079E-2,0.6575270183808356,0.38464993216798338,0.49813946964901679,0.56377445015077954,0.71518778826813467,0.6160104006789644,0.57447310288395603,0.54347641315825923,0.75276069219086317,0.75829586760854728,0.5813237062855956,0.43754324799663552,0.79752365480199117,0.31876789197260358,0.79900118233452566,0.35024164516048034,0.44139470090850008,0.60258443102801873,0.60672172612680009,151,{"$f":"AVERAGE(Data!EY281:FQ281)","v":0.63226214783631562},135,{"$f":"AVERAGE(Data!FR281:FZ281)","v":0.58474331576670768},86,{"$f":"AVERAGE(Data!GA281:GL281)","v":0.58276653285680258},249]
["E05005146","29UQGT","Sherwood","Tunbridge Wells","NHS West Kent CCG",278,0.6180570021998516,0.68879616958173606,0.75153109033141874,1.3691590904932365,0.83938970063281859,0.94057897870209428,0.61149596003808959,1.4353037048641697,1.7339519621173594,1.5460748693641204,0.48741884354080961,0.94623163384729081,0.86062273349020246,0.66350437783282834,0.94054080403687346,1.0317041053550988,1.086212774164651,1.0979263628900227,0.92765675354884491,0.71283733479843614,1.1276466594586159,0.83821039034129008,1.7800470006954927,1.6452770775044554,0.66191493092123033,0.80186161904979825,1.2053426760193575,0.47998278988216242,0.95628704912691187,1.1034709489196284,1.3149132563108648,1.6366176879297947,0.48741884354080961,0.91859100386670034,0.99214974515730103,0,0.97536245792377085,0.21856277900820847,0,1.1307170133132249,0.68612808737100206,254,0.89700000000000002,null,null,null,null,1.0391854869460817,139,0.48899999999999999,null,null,null,null,1.0262561661980729,132,0.46400000000000002,null,null,null,null,1.0372652968678395,137,0.48199999999999998,null,null,null,null,1.2208036925596581,57,0.19800000000000001,null,null,null,null,0.78727550396813706,212,0.748,null,null,null,null,1.124890418119135,82,0.28699999999999998,null,null,null,null,1.0620182657353021,82,0.28699999999999998,null,null,null,null,0.95537037451200069,187,0.65900000000000003,null,null,null,null,0.46492845004904082,282,0.996,null,null,null,null,0.97769246931744813,170,0.59899999999999998,null,null,null,null,{"$f":"AVERAGE(Data!Z282:AH282)","v":1.0281244976300932},132,0.46400000000000002,null,null,null,null,0.81117423209143447,278,0.98199999999999998,null,null,null,null,0.93908420451998909,193,0.68,null,null,null,null,"Tunbridge Wells",91,114,152,6,0.4,0.53500000000000003,1.7000000000000001E-2,91,0.31900000000000001,0.36075935828877004,0.43072367345761503,0.56721532668064345,0.95068633312547357,0.5950962350311908,0.71399840408075799,0.40295716295109374,0.81871379097033403,0.87922802111132914,0.87397544321331599,0.37187574448096661,0.60806188510513715,0.37538150789226882,0.41248522924127035,0.50245691760737299,0.61619581674846635,0.52711946044800939,0.57764850360683939,0.35834837155366828,0.51656845308250199,0.69642384721259665,0.53202241980945297,1,0.99002676598805328,0.26821073043281046,0.23641682063996106,0.56133419710470622,0.16712463414645193,0.5631196301874597,0.89943103014101433,0.95114168175001645,0.22577545507058341,0.37187574448096661,0.31196305710463862,0.47431124443344697,0,0.71287044732465354,0.19438348256327259,0,0.61484585361318023,0.45289945280900951,0.69629038523177,0.57995757067501585,0.48770544520283893,0.74700829721852091,0.30827159558098244,0.80456411402616335,0.298825599775775,0.39313715076904276,0.30441995670022126,0.53076931701700725,222,{"$f":"AVERAGE(Data!EY282:FQ282)","v":0.57594353608392235},179,{"$f":"AVERAGE(Data!FR282:FZ282)","v":0.55201420760183717},117,{"$f":"AVERAGE(Data!GA282:GL282)","v":0.44330980222243599},282]
["E05005147","29UQGU","Southborough and High Brooms","Tunbridge Wells","NHS West Kent CCG",279,1.0958583588753825,0.96097473291082669,0.97585220181160892,1.3691590904932365,1.0658426948399884,1.0472433068822942,0.87186048939169492,1.4353037048641697,1.7339519621173594,1.5460748693641204,0.91901243539786492,1.1407956500818652,0.96014480262112489,0.56671377496532427,1.0185135398664245,1.0946864920009183,0.49812292534767949,0.68446792459084249,0.45381516822623519,0.93703546660584569,1.2186202131786825,1.2394016990291787,1.7800470006954927,1.6452770775044554,0.80849506148021033,0.79790589523283806,1.06977141961429,0.4545772939904239,1.341964789538052,1.1584981363135449,1.1784596200182962,0.64788240284019405,0.91901243539786492,1.0647094698727919,0.8333981068458276,0.18602212944267399,1.1914351805897456,0.46634781885180032,5.3543351621171055E-2,1.1265987349145046,1.0108950978659392,158,0.55600000000000005,null,null,null,null,1.1578818572942766,94,0.32900000000000001,null,null,null,null,1.1224866908018751,100,0.35099999999999998,null,null,null,null,0.54546867272158572,239,0.84299999999999997,null,null,null,null,1.3640762914027311,14,4.5999999999999999E-2,null,null,null,null,0.7826874175794406,215,0.75800000000000001,null,null,null,null,1.2263075152899645,21,7.0000000000000007E-2,null,null,null,null,0.78344741911902949,186,0.65600000000000003,null,null,null,null,0.94905378835930976,197,0.69499999999999995,null,null,null,null,0.60478944308397908,276,0.97499999999999998,null,null,null,null,1.0230733749815242,151,0.53100000000000003,null,null,null,null,{"$f":"AVERAGE(Data!Z283:AH283)","v":1.1056812363701574},98,0.34300000000000003,null,null,null,null,0.84732268135387212,268,0.94599999999999995,null,null,null,null,0.98893493570567137,166,0.58499999999999996,null,null,null,null,"Tunbridge Wells",118,133,186,16,0.46800000000000003,0.65600000000000003,5.2999999999999999E-2,118,0.41399999999999998,0.63965161290322581,0.60092460634710965,0.7365208606319934,0.95068633312547357,0.75564302773382919,0.79496785142913451,0.57452943642104515,0.81871379097033403,0.87922802111132914,0.87397544321331599,0.70115966612651726,0.73309148489160447,0.41879047552134618,0.35231276415127766,0.54411161279356324,0.65381269059683667,0.24173006789390947,0.36011693112644921,0.17530614195184921,0.67903705072475129,0.75260824836778473,0.78666346615552041,1,0.99002676598805328,0.32760561948516104,0.2352505350541218,0.49819797544868921,0.15827872488529204,0.79023000123153453,0.94428328464932743,0.85243802926091627,8.9376978760688175E-2,0.70115966612651726,0.36158640760864086,0.39841777422807456,0.16187637188708209,0.8707931325891991,0.41475640786391454,4.7415868771682051E-2,0.61260647243498567,0.65903235996077625,0.77890808793596322,0.6445602698007239,0.25905104699073594,0.84166710624722185,0.30483321371831607,0.86231710504725934,0.39526832244360272,0.38000209091835768,0.42148965070937272,0.58694704001155218,171,{"$f":"AVERAGE(Data!EY283:FQ283)","v":0.62133014836527056},148,{"$f":"AVERAGE(Data!FR283:FZ283)","v":0.60307426512326368},67,{"$f":"AVERAGE(Data!GA283:GL283)","v":0.52041169961771361},276]
["E05005148","29UQGW","Southborough North","Tunbridge Wells","NHS West Kent CCG",280,1.550384225269511,1.2208043875370411,1.2830472873315524,1.3691590904932365,1.2835798080567535,1.0758076131547387,1.1346616928245343,1.4353037048641697,1.7339519621173594,1.5460748693641204,0.87131343757048152,1.1392762758908845,0.88653318857511454,0.58300510898210056,1.1932613129267235,0.98214422234446308,1.4771895481411332,1.3990084319721745,1.8704041994281109,1.1350540103680815,0.69612361089673602,1.1549362580455242,1.7800470006954927,1.6452770775044554,1.4415675957018419,1.0948649121893284,0.86432382806651575,1.1792507085682413,1.2196463942155962,1.1056078139302858,1.1010840970454916,0.61226388355618833,0.87131343757048152,1.0548534846593469,0.844531891238397,0.72667991081507421,0.91917129929418406,0.82668457442700294,0.77098182404667215,1.6061154448200572,1.3514119667127016,9,2.8000000000000001E-2,null,null,null,null,1.2597023818786866,48,0.16600000000000001,null,null,null,null,1.116945047221406,102,0.35799999999999998,null,null,null,null,1.5822007265138061,15,4.9000000000000002E-2,null,null,null,null,1.282287591502058,31,0.106,null,null,null,null,1.1450017611314818,88,0.308,null,null,null,null,1.1421127683971246,69,0.24099999999999999,null,null,null,null,0.74178866056333492,209,0.73699999999999999,null,null,null,null,0.94969268794887196,195,0.68700000000000006,null,null,null,null,0.96992661068059827,193,0.68,null,null,null,null,1.2649952824654842,32,0.109,null,null,null,null,{"$f":"AVERAGE(Data!Z284:AH284)","v":1.2212716668929131},51,0.17699999999999999,null,null,null,null,0.97157783796823149,174,0.61299999999999999,null,null,null,null,1.1671322356124798,43,0.14799999999999999,null,null,null,null,"Tunbridge Wells",241,252,233,110,0.89,0.82199999999999995,0.38600000000000001,241,0.85099999999999998,0.90495798319327736,0.76340341830360692,0.96837522172175494,0.95068633312547357,0.91001058335688523,0.81665116516887204,0.74770740369467026,0.81871379097033403,0.87922802111132914,0.87397544321331599,0.66476776096503976,0.73211511346023361,0.38668298218694003,0.36244070734361206,0.63746559279503934,0.58659567031967408,0.71685343435075666,0.7360558545427941,0.72252618918373934,0.82253421037034102,0.42991931840509423,0.73305221435023149,1,0.99002676598805328,0.5841292887491506,0.3228044283710455,0.4025199901396273,0.41060189529877911,0.71820153488140248,0.90117277304751275,0.79646849310069867,8.4463315991676419E-2,0.66476776096503976,0.3582392125403005,0.40374043762265727,0.6323565257445517,0.67180159536859974,0.73522960902882117,0.68275092775280266,0.87335151947355127,0.87891220773954648,0.84875385526324698,0.64040891142439804,0.72514515935909662,0.79510650182274401,0.43001390063965061,0.80528093367653797,0.3746155384783581,0.38098982508147888,0.71909803547366535,0.68493361215493198,42,{"$f":"AVERAGE(Data!EY284:FQ284)","v":0.74627435100038664},35,{"$f":"AVERAGE(Data!FR284:FZ284)","v":0.63284312351914684},42,{"$f":"AVERAGE(Data!GA284:GL284)","v":0.62687864212646793},204]
["E05005149","29UQGX","Speldhurst and Bidborough","Tunbridge Wells","NHS West Kent CCG",281,1.6724188183120385,1.2325023460137192,1.3101559632401878,1.3691590904932365,1.4105108572713851,1.2084796245108818,1.3835227898112188,1.4353037048641697,1.7339519621173594,1.5460748693641204,1.2629672926033826,1.404327047206515,0.34855171835543863,0.7866767409650931,1.5591192032333623,1.3606917994498033,1.576097729674611,1.4578227321926955,1.5794328662882966,1.2388285380694031,1.0951413417870686,1.3382764134107434,1.7800470006954927,1.6452770775044554,2.1722432022520004,1.4360706752637544,0.36848586157215324,1.9475436338152099,0.92392839548104555,1.0037901021101105,0.86463388240549377,0.66990478874800896,1.2629672926033826,0.46396634568247863,0.69954685867209077,0.93232358317253472,1.0188278664224697,0.97019357880676427,0.95954201951179108,1.2287546772747542,1.4050257091886484,6,1.7000000000000001E-2,null,null,null,null,1.3613952133901783,6,1.7000000000000001E-2,null,null,null,null,1.2502950791618841,44,0.152,null,null,null,null,1.5377844427185343,24,8.1000000000000003E-2,null,null,null,null,1.4195140742934327,7,2.1000000000000001E-2,null,null,null,null,1.4810858432257796,17,5.6000000000000001E-2,null,null,null,null,0.93078412666554999,198,0.69799999999999995,null,null,null,null,0.96643604067569577,110,0.38600000000000001,null,null,null,null,0.58175660217728464,281,0.99199999999999999,null,null,null,null,1.0219283450376628,146,0.51400000000000001,null,null,null,null,1.3493561661035534,16,5.2999999999999999E-2,null,null,null,null,{"$f":"AVERAGE(Data!Z285:AH285)","v":1.4468793049300315},7,2.1000000000000001E-2,null,null,null,null,0.91653161590757692,236,0.83299999999999996,null,null,null,null,1.241451507280718,15,4.9000000000000002E-2,null,null,null,null,"Tunbridge Wells",269,268,277,48,0.94599999999999995,0.97799999999999998,0.16600000000000001,269,0.95,0.9761894736842105,0.77071848169905099,0.98883539517195174,0.95068633312547357,1,0.91736318034189346,0.91169926654263567,0.81871379097033403,0.87922802111132914,0.87397544321331599,0.96357969827375034,0.90244050302627632,0.15202929753446426,0.48905862067652944,0.83291466534649794,0.81268707796440121,0.76485179021976757,0.7669996351654208,0.61012566711503191,0.89773600554454702,0.67634887230994867,0.84942046059200094,1,0.99002676598805328,0.88020213585882912,0.42340380833099089,0.17160573450625813,0.67811289101745853,0.54406489856575591,0.81818190725382589,0.62543237819087161,9.2415021326613445E-2,0.96357969827375034,0.15756779566042572,0.33442828836655308,0.81130755529407683,0.74463833519843292,0.86286241172794076,0.84973235893018195,0.66815543547579137,0.91191445018507122,0.91969251419606723,0.73823916589332061,0.71399236416674017,0.88270642088690998,0.53833114242838409,0.6625597280034845,0.52799735980018192,0.2459980420134894,0.78733921932528483,0.73553297748986635,10,{"$f":"AVERAGE(Data!EY285:FQ285)","v":0.80958401795696511},13,{"$f":"AVERAGE(Data!FR285:FZ285)","v":0.7296507415720096},6,{"$f":"AVERAGE(Data!GA285:GL285)","v":0.62269717368868494},212]
["E05005144","29UQGR","St James'","Tunbridge Wells","NHS West Kent CCG",282,1.4586402132263925,1.1222618025432858,1.1729583069835126,1.3691590904932365,1.2329929738719663,0.79900532882985376,0.81768862755668148,1.4353037048641697,1.7339519621173594,1.5460748693641204,0.86987331166739434,1.2033590810217574,1.1602125992741721,0.68654381041929613,1.1107441513195613,1.3667763966076576,0.99256954168674028,1.2548830037956689,0.78445248116369082,1.0387435897058783,1.2118949886017678,1.5244062573300006,1.7800470006954927,1.6452770775044554,0.97167064813732984,1.1646138083729543,0.96597988730108619,0.67241758573539046,1.2524908405554824,1.1265889417348876,1.2041665594732536,0.21735865816042518,0.86987331166739434,1.6952439858029307,0.47746957257226996,0.52477374581061265,1.1139511385176397,0.60235737247441512,0.48480212540874162,1.2966645780012365,1.2512867742510636,34,0.11700000000000001,null,null,null,null,1.1308299451231816,108,0.379,null,null,null,null,1.2096920227239147,64,0.223,null,null,null,null,1.0106350088820333,146,0.51400000000000001,null,null,null,null,1.4400737827675187,5,1.4E-2,null,null,null,null,0.94367048238669016,154,0.54200000000000004,null,null,null,null,1.1944154472545412,33,0.113,null,null,null,null,0.54361598491390972,267,0.94299999999999995,null,null,null,null,1.0863567791876003,55,0.191,null,null,null,null,0.80450979204252915,264,0.93200000000000005,null,null,null,null,1.1640763819371851,70,0.24399999999999999,null,null,null,null,{"$f":"AVERAGE(Data!Z286:AH286)","v":1.2194500937093726},54,0.187,null,null,null,null,0.90547840251494083,244,0.86099999999999999,null,null,null,null,1.098956073259254,86,0.30099999999999999,null,null,null,null,"Tunbridge Wells",198,214,230,40,0.755,0.81200000000000006,0.13800000000000001,198,0.69799999999999995,0.85140707964601781,0.70178196035285556,0.88528596865503884,0.95068633312547357,0.87414638995205973,0.60652910872381438,0.53883183384742239,0.81871379097033403,0.87922802111132914,0.87397544321331599,0.66366901827288927,0.77329563406095614,0.50605490424929078,0.42680830825856114,0.59338316862706175,0.81632116577679681,0.48167608935865269,0.66022760163637129,0.30302939973307896,0.7527413942697827,0.74845481366025646,0.96755935638922363,1,0.99002676598805328,0.3937250575603789,0.34336883984446143,0.44986173247278405,0.23412827580184015,0.7375423306116331,0.91827433554291804,0.87103312784136089,2.9985164111098434E-2,0.66366901827288927,0.57572248598471842,0.22826109491158886,0.45665787338271602,0.81416179181559167,0.53571941361910358,0.42932153596309891,0.70508255374618201,0.81282500288463744,0.75778149132382078,0.69159195794627515,0.48164436357603435,0.89175646606146319,0.35527097641986616,0.84228326466530401,0.34682709119199384,0.40199179044815364,0.58818863370533836,0.6512587045340249,88,{"$f":"AVERAGE(Data!EY286:FQ286)","v":0.69500269576691165},72,{"$f":"AVERAGE(Data!FR286:FZ286)","v":0.65331847066519777},27,{"$f":"AVERAGE(Data!GA286:GL286)","v":0.58045256048357496},250]
["E05005145","29UQGS","St John's","Tunbridge Wells","NHS West Kent CCG",283,1.407809098080739,0.92495485629547414,1.2312308908455434,1.3691590904932365,1.2579774319386781,1.1432335151010009,1.0505678926785769,1.4353037048641697,1.7339519621173594,1.5460748693641204,0.99122024300215672,1.3819647818169563,1.0897340034943661,0.62009374100760306,1.331292873461223,1.3803772769042861,1.1286165540913045,1.340211976038076,0.96986920487418948,1.0904937579778231,1.3476470330349715,1.4563650149442782,1.7800470006954927,1.6452770775044554,1.2323547331460092,1.574195632239471,1.0253938915359959,0.60921449943653161,1.2982406408540803,1.0842496437225748,1.1267556272759089,0.59988447060074834,0.99122024300215672,1.2942089391727774,0.63513067885122609,0.68183550196452947,1.2627767005048003,0.73376018699963264,0.6817580293394192,1.2966645780012365,1.1879982817405856,58,0.20200000000000001,null,null,null,null,1.2512483270151324,54,0.187,null,null,null,null,1.2593387188960086,43,0.14799999999999999,null,null,null,null,1.1462325783345235,108,0.379,null,null,null,null,1.4639659768314042,1,0,null,null,null,null,1.110289689089502,103,0.36099999999999999,null,null,null,null,1.1697486372841881,49,0.17,null,null,null,null,0.79555235680145253,178,0.627,null,null,null,null,0.96466980901200172,175,0.61699999999999999,null,null,null,null,0.93135899936192357,219,0.77300000000000002,null,null,null,null,1.2280865245510035,41,0.14099999999999999,null,null,null,null,{"$f":"AVERAGE(Data!Z287:AH287)","v":1.3067765156127811},28,9.5000000000000001E-2,null,null,null,null,0.97387377002409081,170,0.59899999999999998,null,null,null,null,1.1695279461818298,42,0.14499999999999999,null,null,null,null,"Tunbridge Wells",242,243,256,114,0.85799999999999998,0.90400000000000003,0.4,242,0.85399999999999998,0.82173700000000005,0.57840036150022589,0.92926698702814547,0.95068633312547357,0.89185944613869828,0.86783451869200523,0.69229215757189855,0.81871379097033403,0.87922802111132914,0.87397544321331599,0.75625054446662843,0.8880701937261003,0.47531395292598433,0.38549784666988646,0.71120499053410979,0.8244444304797075,0.54769724974263745,0.70512146227780059,0.37465479430524828,0.79024294345359014,0.83229398460812798,0.9243727449632374,1,0.99002676598805328,0.49935535170569589,0.4641278714404416,0.47753113556246862,0.21212166869574658,0.7644825789908386,0.88376388607078116,0.81503797844071335,8.2755545377846268E-2,0.75625054446662843,0.43952681388884979,0.30363322082597843,0.59333294169089101,0.92293504229825662,0.65258531741998949,0.60373787360029019,0.70508255374618201,0.77646811617612377,0.84427724929968195,0.7242481778908828,0.54249116877522885,0.90738728780260181,0.41328400685108813,0.82109481450077781,0.41950304492223733,0.37158001735741408,0.69553474575112184,0.6921361571928536,37,{"$f":"AVERAGE(Data!EY287:FQ287)","v":0.73538155391997528},41,{"$f":"AVERAGE(Data!FR287:FZ287)","v":0.68778582960192913},17,{"$f":"AVERAGE(Data!GA287:GL287)","v":0.62692702473477036},203]
[]
[null,null,null,null,"min",null,{"$f":"MIN(G5:G287)","v":0},{"$f":"MIN(H5:H287)","v":0},0,0,0,0,0,0,0,0,0,0,{"$f":"MIN(S5:S287)","v":0},0,0,0,0,0,0,0,0,0,0,0,0,0,0,0,0,0,0,0,0,0,0,0,0,0,0,0,{"$f":"MIN(AU5:AU287)","v":0.1420271950645221},{"$f":"MIN(AV5:AV287)","v":1},0,null,null,null,null,8.4534824016052806E-2,1,0,0,0,0,0,0.23047883069605538,1,0,0,0,0,0,3.5760403223990636E-3,1,0,0,0,0,0,0.36434000430184671,1,0,0,0,0,0,0.35386134106816453,1,0,0,0,0,0,0.29021191848680045,1,0,0,0,0,0,0.32675787670466871,1,{"$f":"MIN(CT5:CT287)","v":0},0,0,0,0,7.9021568347890744E-2,1,0,0,0,0,0,0.42163405307003954,1,0,0,0,0,0,0.26053554864573358,1,0,0,0,0,0,0.42792745019591993,1,0,0,0,0,0,0.76714760574117402,1,0,0,0,0,0,0.51002517352902887,1,0,0,0,0,0,{"$f":"MIN(EO5:EO287)","v":0},1,1,1,1,0,0,0,1,0,0,0,0,0,0,0,0,0,0,0,0,0,0,0,0,0,0,0,0,0,0,0,0,0,0,0,0,0,0,0,0,0,0,0,0,0,0,0,0,0,9.6021478478248365E-2,5.848257903551661E-2,0.14117658719592524,1.3814034353111461E-3,0.22120263254455735,0.15923776888470156,0.18797702902344904,0.14153380986217598,2.6836546335901681E-2,0.29254920301989717,0.30915510019993492]
[null,null,null,null,"lower quartile",null,{"$f":"QUARTILE(G5:G287,1)","v":0.78677922539273326},{"$f":"QUARTILE(H5:H287,1)","v":0.8618897524571465},0.89635436313683869,0.85730449970530431,0.86328620602404127,0.8922905174408895,0.83623219474155097,0.68981450511251119,{"$f":"QUARTILE(O5:O287,1)","v":0.61447564260200305},{"$f":"QUARTILE(P5:P287,1)","v":0.69771671221404741},0.89577690747875782,{"$f":"QUARTILE(R5:R287,1)","v":0.82106714863934793},{"$f":"QUARTILE(S5:S287,1)","v":0.68527058459751755},0.83497159636393503,0.77866018437850482,0.81409791457189828,0.67419367992160895,0.79836443742536756,0.63399519630541334,0.91848714565304013,0.86708725922427232,0.84049488183115084,0.50315351229780847,0.77074294157510492,0.70569421932015719,0.58553391729677351,0.77173422649375323,0.5121469527807625,0.86588301908984178,0.91310409610376819,0.84024794523155433,0.45490516998730413,0.89577690747875782,0.80002593075366013,0.82533926870762375,0.96682532385046993,0.89507057391839062,0.98324240606224378,0.96952754141709585,0.78557273890902657,{"$f":"QUARTILE(AU5:AU287,1)","v":0.86916172755098664},{"$f":"QUARTILE(AV5:AV287,1)","v":71.5},0.2495,{"$error":"#NUM!"},{"$error":"#NUM!"},{"$error":"#NUM!"},{"$error":"#NUM!"},0.85057204780610907,71.5,0.2495,{"$error":"#NUM!"},{"$error":"#NUM!"},{"$error":"#NUM!"},{"$error":"#NUM!"},0.83673531361997155,71.5,0.2495,{"$error":"#NUM!"},{"$error":"#NUM!"},{"$error":"#NUM!"},{"$error":"#NUM!"},0.72007934559332631,71.5,0.2495,{"$error":"#NUM!"},{"$error":"#NUM!"},{"$error":"#NUM!"},{"$error":"#NUM!"},0.81981941196825847,71.5,0.2495,{"$error":"#NUM!"},{"$error":"#NUM!"},{"$error":"#NUM!"},{"$error":"#NUM!"},0.78701471461364791,71.5,0.2495,{"$error":"#NUM!"},{"$error":"#NUM!"},{"$error":"#NUM!"},{"$error":"#NUM!"},0.88898308632605882,71.5,0.2495,{"$error":"#NUM!"},{"$error":"#NUM!"},{"$error":"#NUM!"},{"$error":"#NUM!"},0.72332314670719777,71.5,{"$f":"QUARTILE(CT5:CT287,1)","v":0.2495},{"$error":"#NUM!"},{"$error":"#NUM!"},{"$error":"#NUM!"},{"$error":"#NUM!"},0.93320398037055208,71.5,0.2495,{"$error":"#NUM!"},{"$error":"#NUM!"},{"$error":"#NUM!"},{"$error":"#NUM!"},0.93731560833440364,71.5,0.2495,{"$error":"#NUM!"},{"$error":"#NUM!"},{"$error":"#NUM!"},{"$error":"#NUM!"},0.85778670415065283,71.5,0.2495,{"$error":"#NUM!"},{"$error":"#NUM!"},{"$error":"#NUM!"},{"$error":"#NUM!"},0.82629453831731614,71.5,0.2495,{"$error":"#NUM!"},{"$error":"#NUM!"},{"$error":"#NUM!"},{"$error":"#NUM!"},0.93891881176986369,71.5,0.2495,{"$error":"#NUM!"},{"$error":"#NUM!"},{"$error":"#NUM!"},{"$error":"#NUM!"},0.89799850907518519,71.5,0.2495,{"$error":"#NUM!"},{"$error":"#NUM!"},{"$error":"#NUM!"},{"$error":"#NUM!"},{"$f":"QUARTILE(EO5:EO287,1)","v":{"$error":"#NUM!"}},71.5,71.5,71.5,71.5,0.2495,0.2495,0.2495,71.5,0.2495,0.45924237967914439,0.53896397321611966,0.67652015924460374,0.59527609089108302,0.61203797303202412,0.67734238150667103,0.55105147831300894,0.39347815144142972,0.31157968333006486,0.39440992469233194,0.68343214213389425,0.52762940948147963,0.29889740922508545,0.51908240825941176,0.41597684483986919,0.48622829625185504,0.32717402819262631,0.42004094099512462,0.24490863166764043,0.6655957268853121,0.53550484087622596,0.53347241458937322,0.28266304884152965,0.46378579771689177,0.28595028331306144,0.17263585613213911,0.35940054312001757,0.17832383559776882,0.50988427161138139,0.74426441275021693,0.60779282578439153,6.2755292531245371E-2,0.68343214213389425,0.27169712534776025,0.39456513246237701,0.84133095423841708,0.65418691813767305,0.87446766536168674,0.85857514112335864,0.42716801422706174,0.56688143498970422,0.57160643717169091,0.49045005129090524,0.33561978603512549,0.52177387708743583,0.3065308354446129,0.63280790187480862,0.40091504349206863,0.37668658181746095,0.74961745039403915,0.53921024011224095]
[null,null,null,null,"upper quartile",null,{"$f":"QUARTILE(G5:G287,3)","v":1.2363793787833348},{"$f":"QUARTILE(H5:H287,3)","v":1.1486330698048408},1.1709300971648453,1.3691590904932365,1.1940389054143206,1.1542915984201945,1.2329875545982611,1.395834760639715,{"$f":"QUARTILE(O5:O287,3)","v":1.6124037262705873},{"$f":"QUARTILE(P5:P287,3)","v":1.5460748693641204},1.1489473205754897,{"$f":"QUARTILE(R5:R287,3)","v":1.2057533903910289},{"$f":"QUARTILE(S5:S287,3)","v":1.2892793269328839},1.1749629178601662,1.2131102036785129,1.1831627351431666,1.3468241028806216,1.2465659234902471,1.3804259690763296,1.1819293572154663,1.1544478281886741,1.1835749999591676,1.4862059454785044,1.4444187648840481,1.2793882463895532,1.3232526321074598,1.20762991251337,1.3880226443727415,1.1726567346081196,1.1449929699254073,1.2186673832048538,1.2159432696876613,1.1489473205754897,1.149744497105929,1.1972646845684498,1.1117662099925458,1.1361783871856133,1.0954365853051811,1.0999804099386785,1.2308691892132897,{"$f":"QUARTILE(AU5:AU287,3)","v":1.1618120710633226},{"$f":"QUARTILE(AV5:AV287,3)","v":212.5},0.74950000000000006,{"$error":"#NUM!"},{"$error":"#NUM!"},{"$error":"#NUM!"},{"$error":"#NUM!"},1.2161752908746328,212.5,0.74950000000000006,{"$error":"#NUM!"},{"$error":"#NUM!"},{"$error":"#NUM!"},{"$error":"#NUM!"},1.1892980101257455,212.5,0.74950000000000006,{"$error":"#NUM!"},{"$error":"#NUM!"},{"$error":"#NUM!"},{"$error":"#NUM!"},1.2800547509400966,212.5,0.74950000000000006,{"$error":"#NUM!"},{"$error":"#NUM!"},{"$error":"#NUM!"},{"$error":"#NUM!"},1.1725099292799648,212.5,0.74950000000000006,{"$error":"#NUM!"},{"$error":"#NUM!"},{"$error":"#NUM!"},{"$error":"#NUM!"},1.2098230744269531,212.5,0.74950000000000006,{"$error":"#NUM!"},{"$error":"#NUM!"},{"$error":"#NUM!"},{"$error":"#NUM!"},1.1345975456572877,212.5,0.74950000000000006,{"$error":"#NUM!"},{"$error":"#NUM!"},{"$error":"#NUM!"},{"$error":"#NUM!"},1.1241180959818657,212.5,{"$f":"QUARTILE(CT5:CT287,3)","v":0.74950000000000006},{"$error":"#NUM!"},{"$error":"#NUM!"},{"$error":"#NUM!"},{"$error":"#NUM!"},1.0583686080535553,212.5,0.74950000000000006,{"$error":"#NUM!"},{"$error":"#NUM!"},{"$error":"#NUM!"},{"$error":"#NUM!"},1.0939396619930482,212.5,0.74950000000000006,{"$error":"#NUM!"},{"$error":"#NUM!"},{"$error":"#NUM!"},{"$error":"#NUM!"},1.1629037935873023,212.5,0.74950000000000006,{"$error":"#NUM!"},{"$error":"#NUM!"},{"$error":"#NUM!"},{"$error":"#NUM!"},1.1714703897196748,212.5,0.74950000000000006,{"$error":"#NUM!"},{"$error":"#NUM!"},{"$error":"#NUM!"},{"$error":"#NUM!"},1.0486708135580756,212.5,0.74950000000000006,{"$error":"#NUM!"},{"$error":"#NUM!"},{"$error":"#NUM!"},{"$error":"#NUM!"},1.1123983207384085,212.5,0.74950000000000006,{"$error":"#NUM!"},{"$error":"#NUM!"},{"$error":"#NUM!"},{"$error":"#NUM!"},{"$f":"QUARTILE(EO5:EO287,3)","v":{"$error":"#NUM!"}},212.5,212.5,212.5,212.5,0.74950000000000006,0.74950000000000006,0.74950000000000006,212.5,0.74950000000000006,0.72167361538461527,0.71827265761606318,0.88375518475311798,0.95068633312547357,0.84652939696201512,0.87622876736317068,0.81250114379165195,0.79620024986952709,0.81759504787565118,0.87397544321331599,0.87658826873534434,0.77483425126262873,0.56235049227165823,0.73044709984664569,0.64806929273263247,0.70665603068135541,0.65358943598760644,0.65585176264097778,0.53325046810307153,0.85650314581548892,0.71297599400452005,0.75122957524764433,0.8349251142794657,0.86916256117762625,0.51841353026092984,0.39014110758539422,0.56239937473966328,0.48329394619489452,0.69053118238111977,0.93327532315419137,0.88152228962039014,0.16774237934639824,0.87658826873534434,0.39046518711438394,0.57236934769745418,0.96745844701076633,0.83040718712685235,0.9742499585020532,0.9740990279818551,0.66930523589668955,0.76112875709106276,0.81888867258439979,0.69130591746362557,0.59890365351264474,0.7344193727787558,0.44529905169690454,0.80369297637694737,0.50155767814152452,0.43543464060957504,0.85315707481250591,0.65822267423741176]
[null,null,null,null,"max",null,{"$f":"MAX(G5:G287)","v":1.7132112805931081},{"$f":"MAX(H5:H287)","v":1.5991602320170972},1.32494848954346,1.4401796289550026,1.4105108572713851,1.3173404496793644,1.517521007840493,1.7531202243009214,{"$f":"MAX(O5:O287)","v":1.9721300055083251},{"$f":"MAX(P5:P287)","v":1.769014085429814},1.3107035099078821,{"$f":"MAX(R5:R287)","v":1.5561436377214835},{"$f":"MAX(S5:S287)","v":2.2926615067495377},1.6085530603199665,1.8718834811063849,1.6743120892952192,2.0606576984303655,1.9006824323694536,2.5887009044491047,1.3799474794574567,1.6191959307136998,1.5755170442657289,1.7800470006954927,1.6618511074924909,2.4678913101392368,3.3917282910717783,2.1472817480858444,2.8720050298602402,1.6981951931041166,1.2268544356832167,1.3824578204705957,7.2488733880223801,1.3107035099078821,2.9445505900353663,2.0917693957316978,1.1491617168961195,1.3682183930954483,1.1243896658609633,1.1292285264031372,1.8390251908970281,{"$f":"MAX(AU5:AU287)","v":1.4882900055316997},{"$f":"MAX(AV5:AV287)","v":283},1,0,0,0,0,1.3739975724966336,283,1,0,0,0,0,1.5589699271617672,283,1,0,0,0,0,2.1833470117496412,283,1,0,0,0,0,1.4639659768314042,283,1,0,0,0,0,2.1686906752237256,283,1,0,0,0,0,1.2982707561096134,283,1,0,0,0,0,4.0594800666311581,283,{"$f":"MAX(CT5:CT287)","v":1},0,0,0,0,1.7898395574153549,283,1,0,0,0,0,1.2535663852679375,283,1,0,0,0,0,1.4791620520402653,283,1,0,0,0,0,1.6182858272128291,283,1,0,0,0,0,1.5065330207492245,283,1,0,0,0,0,1.3297002484851714,283,1,0,0,0,0,{"$f":"MAX(EO5:EO287)","v":0},283,283,283,283,1,1,1,283,1,1,1,1,1,1,1,1,1,1,1,1,1,1,1,1,1,1,1,1,1,1,1,1,1,1,1,1,1,1,1,1,1,1,1,1,1,1,1,1,1,0.96298402658210236,0.92568755967381033,0.89405756783871626,1,0.90905248812240913,0.79568654879612744,0.91799286270433822,0.83191592860733476,0.67521873965057866,0.94701066244871512,0.77303501382946571]

{"sheet":"Districts","index":2,"n_rows":16,"n_cols":196,"rows_kept":16,"cut":false,"hidden":true,"merged":[]}
[{"$f":"VLOOKUP((VLOOKUP(Data!A1,Data!F5:EO287,140,FALSE)),D5:E16,2,FALSE)","v":{"$error":"#N/A"}}]
[null,null,null,null,null,{"$f":"INDEX(F5:F167,$A$1)","v":{"$error":"#N/A"}},{"$f":"INDEX(G5:G167,$A$1)","v":{"$error":"#N/A"}},{"$error":"#N/A"},{"$error":"#N/A"},{"$error":"#N/A"},{"$error":"#N/A"},{"$error":"#N/A"},{"$error":"#N/A"},{"$error":"#N/A"},{"$error":"#N/A"},{"$error":"#N/A"},{"$error":"#N/A"},{"$error":"#N/A"},{"$error":"#N/A"},{"$error":"#N/A"},{"$error":"#N/A"},{"$error":"#N/A"},{"$error":"#N/A"},{"$error":"#N/A"},{"$error":"#N/A"},{"$error":"#N/A"},{"$error":"#N/A"},{"$error":"#N/A"},{"$error":"#N/A"},{"$error":"#N/A"},{"$error":"#N/A"},{"$error":"#N/A"},{"$error":"#N/A"},{"$error":"#N/A"},{"$error":"#N/A"},{"$error":"#N/A"},{"$error":"#N/A"},{"$error":"#N/A"},{"$error":"#N/A"},{"$error":"#N/A"},{"$error":"#N/A"},{"$error":"#N/A"},{"$error":"#N/A"},{"$error":"#N/A"},{"$error":"#N/A"},{"$error":"#N/A"},{"$error":"#N/A"},{"$error":"#N/A"},{"$error":"#N/A"},{"$error":"#N/A"},{"$error":"#N/A"},{"$error":"#N/A"},{"$error":"#N/A"},{"$error":"#N/A"},{"$error":"#N/A"},{"$error":"#N/A"},{"$error":"#N/A"},{"$error":"#N/A"},{"$error":"#N/A"},{"$error":"#N/A"},{"$error":"#N/A"},{"$error":"#N/A"},{"$error":"#N/A"},{"$error":"#N/A"},{"$error":"#N/A"},{"$error":"#N/A"},{"$error":"#N/A"},{"$error":"#N/A"},{"$error":"#N/A"},{"$error":"#N/A"},{"$f":"INDEX(BS5:BS167,$A$1)","v":{"$error":"#N/A"}},{"$error":"#N/A"},{"$error":"#N/A"},{"$error":"#N/A"},{"$error":"#N/A"},{"$error":"#N/A"},{"$error":"#N/A"},{"$error":"#N/A"},{"$error":"#N/A"},{"$error":"#N/A"},{"$error":"#N/A"},{"$error":"#N/A"},{"$error":"#N/A"},{"$error":"#N/A"},{"$error":"#N/A"},{"$error":"#N/A"},{"$error":"#N/A"},{"$error":"#N/A"},{"$error":"#N/A"},{"$error":"#N/A"},{"$error":"#N/A"},{"$error":"#N/A"},{"$error":"#N/A"},{"$error":"#N/A"},{"$error":"#N/A"},{"$error":"#N/A"},{"$error":"#N/A"},{"$error":"#N/A"},{"$error":"#N/A"},{"$error":"#N/A"},{"$error":"#N/A"},{"$error":"#N/A"},{"$error":"#N/A"},{"$error":"#N/A"},{"$error":"#N/A"},{"$error":"#N/A"},{"$error":"#N/A"},{"$error":"#N/A"},{"$error":"#N/A"},{"$error":"#N/A"},{"$error":"#N/A"},{"$error":"#N/A"},{"$error":"#N/A"},{"$error":"#N/A"},{"$error":"#N/A"},{"$error":"#N/A"},{"$error":"#N/A"},{"$error":"#N/A"},{"$error":"#N/A"},{"$error":"#N/A"},{"$error":"#N/A"},{"$error":"#N/A"},{"$error":"#N/A"},{"$error":"#N/A"},{"$error":"#N/A"},{"$error":"#N/A"},{"$error":"#N/A"},{"$error":"#N/A"},{"$error":"#N/A"},{"$error":"#N/A"},{"$error":"#N/A"},{"$error":"#N/A"},{"$error":"#N/A"},{"$error":"#N/A"},{"$f":"INDEX(EE5:EE167,$A$1)","v":{"$error":"#N/A"}},{"$error":"#N/A"},{"$error":"#N/A"},{"$error":"#N/A"},{"$error":"#N/A"},{"$error":"#N/A"},{"$error":"#N/A"},{"$error":"#N/A"},{"$error":"#N/A"},{"$error":"#N/A"},{"$error":"#N/A"},{"$error":"#N/A"},{"$error":"#N/A"},{"$error":"#N/A"},{"$error":"#N/A"},{"$error":"#N/A"},{"$error":"#N/A"},{"$error":"#N/A"},{"$error":"#N/A"},{"$error":"#N/A"},{"$error":"#N/A"},{"$error":"#N/A"},{"$error":"#N/A"},{"$error":"#N/A"},{"$error":"#N/A"},{"$error":"#N/A"},{"$error":"#N/A"},{"$error":"#N/A"},{"$error":"#N/A"},{"$error":"#N/A"},{"$error":"#N/A"},{"$error":"#N/A"},{"$error":"#N/A"},{"$error":"#N/A"},{"$error":"#N/A"},{"$error":"#N/A"},{"$error":"#N/A"},{"$error":"#N/A"},{"$error":"#N/A"},{"$error":"#N/A"},{"$error":"#N/A"},{"$error":"#N/A"},{"$error":"#N/A"},{"$error":"#N/A"},{"$error":"#N/A"},{"$error":"#N/A"},{"$error":"#N/A"},{"$error":"#N/A"},{"$error":"#N/A"},{"$error":"#N/A"},{"$error":"#N/A"},{"$error":"#N/A"},{"$error":"#N/A"},{"$error":"#N/A"},{"$error":"#N/A"},{"$error":"#N/A"},{"$error":"#N/A"},{"$error":"#N/A"},{"$error":"#N/A"},{"$error":"#N/A"},{"$error":"#N/A"},{"$error":"#N/A"}]
[]
["ward11","ward01","wardname","District","Index Number",{"$f":"Data!G4","v":"education1"},{"$f":"Data!H4","v":"education7"},{"$f":"Data!I4","v":"education5"},{"$f":"Data!J4","v":"matwellbeing1b"},{"$f":"Data!K4","v":"matwellbeing4"},{"$f":"Data!L4","v":"matwellbeing5"},{"$f":"Data!M4","v":"matwellbeing6"},{"$f":"Data!N4","v":"matwellbeing7"},{"$f":"Data!O4","v":"health1"},{"$f":"Data!P4","v":"health2"},{"$f":"Data!Q4","v":"health7"},{"$f":"Data!R4","v":"health8b"},{"$f":"Data!S4","v":"health10"},{"$f":"Data!T4","v":"health11"},{"$f":"Data!U4","v":"health12"},{"$f":"Data!V4","v":"health13"},{"$f":"Data!W4","v":"lifesatisfaction1"},{"$f":"Data!X4","v":"lifesatisfaction2"},{"$f":"Data!Y4","v":"lifesatisfaction3"},{"$f":"Data!Z4","v":"strong2"},{"$f":"Data!AA4","v":"strong3"},{"$f":"Data!AB4","v":"strong7b"},{"$f":"Data!AC4","v":"strong8b"},{"$f":"Data!AD4","v":"strong12"},{"$f":"Data!AE4","v":"social4a"},{"$f":"Data!AF4","v":"social2a"},{"$f":"Data!AG4","v":"social3"},{"$f":"Data!AH4","v":"social5"},{"$f":"Data!AI4","v":"infra1"},{"$f":"Data!AJ4","v":"infra6a"},{"$f":"Data!AK4","v":"infra6e"},{"$f":"Data!AL4","v":"economy3b"},{"$f":"Data!AM4","v":"economy4a"},{"$f":"Data!AN4","v":"services2"},{"$f":"Data!AO4","v":"services3"},{"$f":"Data!AP4","v":"crime2c"},{"$f":"Data!AQ4","v":"crime3"},{"$f":"Data!AR4","v":"crime4"},{"$f":"Data!AS4","v":"crime5"},{"$f":"Data!AT4","v":"crime6"},{"$f":"Data!AU4","v":"arithmeticmean"},{"$f":"Data!AV4","v":"rank"},{"$f":"Data!AW4","v":"percentilerank"},{"$f":"Data!AX4","v":"sloperank"},{"$f":"Data!AY4","v":"slopevar"},{"$f":"Data!AZ4","v":"tdecvar"},{"$f":"Data!BA4","v":"bdecvar"},{"$f":"Data!BB4","v":"arithmeticmean"},{"$f":"Data!BC4","v":"rank"},{"$f":"Data!BD4","v":"percentilerank"},{"$f":"Data!BE4","v":"sloperank"},{"$f":"Data!BF4","v":"slopevar"},{"$f":"Data!BG4","v":"tdecvar"},{"$f":"Data!BH4","v":"bdecvar"},{"$f":"Data!BI4","v":"arithmeticmean"},{"$f":"Data!BJ4","v":"rank"},{"$f":"Data!BK4","v":"percentilerank"},{"$f":"Data!BL4","v":"sloperank"},{"$f":"Data!BM4","v":"slopevar"},{"$f":"Data!BN4","v":"tdecvar"},{"$f":"Data!BO4","v":"bdecvar"},{"$f":"Data!BP4","v":"arithmeticmean"},{"$f":"Data!BQ4","v":"rank"},{"$f":"Data!BR4","v":"percentilerank"},{"$f":"Data!BS4","v":"sloperank"},{"$f":"Data!BT4","v":"slopevar"},{"$f":"Data!BU4","v":"tdecvar"},{"$f":"Data!BV4","v":"bdecvar"},{"$f":"Data!BW4","v":"arithmeticmean"},{"$f":"Data!BX4","v":"rank"},{"$f":"Data!BY4","v":"percentilerank"},{"$f":"Data!BZ4","v":"sloperank"},{"$f":"Data!CA4","v":"slopevar"},{"$f":"Data!CB4","v":"tdecvar"},{"$f":"Data!CC4","v":"bdecvar"},{"$f":"Data!CD4","v":"arithmeticmean"},{"$f":"Data!CE4","v":"rank"},{"$f":"Data!CF4","v":"percentilerank"},{"$f":"Data!CG4","v":"sloperank"},{"$f":"Data!CH4","v":"slopevar"},{"$f":"Data!CI4","v":"tdecvar"},{"$f":"Data!CJ4","v":"bdecvar"},{"$f":"Data!CK4","v":"arithmeticmean"},{"$f":"Data!CL4","v":"rank"},{"$f":"Data!CM4","v":"percentilerank"},{"$f":"Data!CN4","v":"sloperank"},{"$f":"Data!CO4","v":"slopevar"},{"$f":"Data!CP4","v":"tdecvar"},{"$f":"Data!CQ4","v":"bdecvar"},{"$f":"Data!CR4","v":"arithmeticmean"},{"$f":"Data!CS4","v":"rank"},{"$f":"Data!CT4","v":"percentilerank"},{"$f":"Data!CU4","v":"sloperank"},{"$f":"Data!CV4","v":"slopevar"},{"$f":"Data!CW4","v":"tdecvar"},{"$f":"Data!CX4","v":"bdecvar"},{"$f":"Data!CY4","v":"arithmeticmean"},{"$f":"Data!CZ4","v":"rank"},{"$f":"Data!DA4","v":"percentilerank"},{"$f":"Data!DB4","v":"sloperank"},{"$f":"Data!DC4","v":"slopevar"},{"$f":"Data!DD4","v":"tdecvar"},{"$f":"Data!DE4","v":"bdecvar"},{"$f":"Data!DF4","v":"arithmeticmean"},{"$f":"Data!DG4","v":"rank"},{"$f":"Data!DH4","v":"percentilerank"},{"$f":"Data!DI4","v":"sloperank"},{"$f":"Data!DJ4","v":"slopevar"},{"$f":"Data!DK4","v":"tdecvar"},{"$f":"Data!DL4","v":"bdecvar"},{"$f":"Data!DM4","v":"weightedindex"},{"$f":"Data!DN4","v":"rank"},{"$f":"Data!DO4","v":"percentilerank"},{"$f":"Data!DP4","v":"sloperank"},{"$f":"Data!DQ4","v":"slopevar"},{"$f":"Data!DR4","v":"tdecvar"},{"$f":"Data!DS4","v":"bdecvar"},{"$f":"Data!DT4","v":"weightedindex"},{"$f":"Data!DU4","v":"rank"},{"$f":"Data!DV4","v":"percentilerank"},{"$f":"Data!DW4","v":"sloperank"},{"$f":"Data!DX4","v":"slopevar"},{"$f":"Data!DY4","v":"tdecvar"},{"$f":"Data!DZ4","v":"bdecvar"},{"$f":"Data!EA4","v":"weightedindex"},{"$f":"Data!EB4","v":"rank"},{"$f":"Data!EC4","v":"percentilerank"},{"$f":"Data!ED4","v":"sloperank"},{"$f":"Data!EE4","v":"slopevar"},{"$f":"Data!EF4","v":"tdecvar"},{"$f":"Data!EG4","v":"bdecvar"},{"$f":"Data!EH4","v":"weightedindex"},{"$f":"Data!EI4","v":"rank"},{"$f":"Data!EJ4","v":"percentilerank"},{"$f":"Data!EK4","v":"sloperank"},{"$f":"Data!EL4","v":"slopevar"},{"$f":"Data!EM4","v":"tdecvar"},{"$f":"Data!EN4","v":"bdecvar"},{"$f":"Data!EO4","v":"District"},{"$f":"Data!EP4","v":"inverted rank"},{"$f":"Data!EQ4","v":"self inverted rank"},{"$f":"Data!ER4","v":"supports inverted rank"},{"$f":"Data!ES4","v":"structures inverted rank"},{"$f":"Data!ET4","v":"self inverted % rank"},{"$f":"Data!EU4","v":"supports inverted % rank"},{"$f":"Data!EV4","v":"structures inverted % rank"},{"$f":"Data!EW4","v":"Overall inverted Rank"},{"$f":"Data!EX4","v":"Overall % Rank"},{"$f":"Data!EY4","v":"education1"},{"$f":"Data!EZ4","v":"education7"},{"$f":"Data!FA4","v":"education5"},{"$f":"Data!FB4","v":"matwellbeing1b"},{"$f":"Data!FC4","v":"matwellbeing4"},{"$f":"Data!FD4","v":"matwellbeing5"},{"$f":"Data!FE4","v":"matwellbeing6"},{"$f":"Data!FF4","v":"matwellbeing7"},{"$f":"Data!FG4","v":"health1"},{"$f":"Data!FH4","v":"health2"},{"$f":"Data!FI4","v":"health7"},{"$f":"Data!FJ4","v":"health8b"},{"$f":"Data!FK4","v":"health10"},{"$f":"Data!FL4","v":"health11"},{"$f":"Data!FM4","v":"health12"},{"$f":"Data!FN4","v":"health13"},{"$f":"Data!FO4","v":"lifesatisfaction1"},{"$f":"Data!FP4","v":"lifesatisfaction2"},{"$f":"Data!FQ4","v":"lifesatisfaction3"},{"$f":"Data!FR4","v":"strong2"},{"$f":"Data!FS4","v":"strong3"},{"$f":"Data!FT4","v":"strong7b"},{"$f":"Data!FU4","v":"strong8b"},{"$f":"Data!FV4","v":"strong12"},{"$f":"Data!FW4","v":"social4a"},{"$f":"Data!FX4","v":"social2a"},{"$f":"Data!FY4","v":"social3"},{"$f":"Data!FZ4","v":"social5"},{"$f":"Data!GA4","v":"infra1"},{"$f":"Data!GB4","v":"infra6a"},{"$f":"Data!GC4","v":"infra6e"},{"$f":"Data!GD4","v":"economy3b"},{"$f":"Data!GE4","v":"economy4a"},{"$f":"Data!GF4","v":"services2"},{"$f":"Data!GG4","v":"services3"},{"$f":"Data!GH4","v":"crime2c"},{"$f":"Data!GI4","v":"crime3"},{"$f":"Data!GJ4","v":"crime4"},{"$f":"Data!GK4","v":"crime5"},{"$f":"Data!GL4","v":"crime6"},{"$f":"Data!GM4","v":"Education Average"},{"$f":"Data!GN4","v":"Material Wellbeing Average"},{"$f":"Data!GO4","v":"Health Average"}]
["E05004867","29UBGZ","Aylesford Green","Ashford",1,{"$f":"AVERAGE(Data!G5:G39)","v":1.0170515941549509},{"$f":"AVERAGE(Data!H5:H39)","v":0.99735959094175375},{"$f":"AVERAGE(Data!I5:I39)","v":0.98856661949326696},{"$f":"AVERAGE(Data!J5:J39)","v":1.0009925641936948},{"$f":"AVERAGE(Data!K5:K39)","v":1.0008051980018178},{"$f":"AVERAGE(Data!L5:L39)","v":0.99617788192703849},{"$f":"AVERAGE(Data!M5:M39)","v":0.98206594908182454},{"$f":"AVERAGE(Data!N5:N39)","v":0.92570508601167101},{"$f":"AVERAGE(Data!O5:O39)","v":1.3246630592151882},{"$f":"AVERAGE(Data!P5:P39)","v":1.202580905147189},{"$f":"AVERAGE(Data!Q5:Q39)","v":1.0430448881738021},{"$f":"AVERAGE(Data!R5:R39)","v":1.0359777341506389},{"$f":"AVERAGE(Data!S5:S39)","v":0.75120844695624545},{"$f":"AVERAGE(Data!T5:T39)","v":1.0899117310820028},{"$f":"AVERAGE(Data!U5:U39)","v":1.07276669230209},{"$f":"AVERAGE(Data!V5:V39)","v":1.1229611024593356},{"$f":"AVERAGE(Data!W5:W39)","v":1.0338860656841351},{"$f":"AVERAGE(Data!X5:X39)","v":1.0314226090091421},{"$f":"AVERAGE(Data!Y5:Y39)","v":1.0082982391612771},{"$f":"AVERAGE(Data!Z5:Z39)","v":1.0177025328634461},{"$f":"AVERAGE(Data!AA5:AA39)","v":1.0633297574761598},{"$f":"AVERAGE(Data!AB5:AB39)","v":1.0468223394939844},{"$f":"AVERAGE(Data!AC5:AC39)","v":1.4862059454785033},{"$f":"AVERAGE(Data!AD5:AD39)","v":1.00679568228441},{"$f":"AVERAGE(Data!AE5:AE39)","v":0.97570623528011957},{"$f":"AVERAGE(Data!AF5:AF39)","v":1.1091204416914486},{"$f":"AVERAGE(Data!AG5:AG39)","v":0.93406476306352748},{"$f":"AVERAGE(Data!AH5:AH39)","v":1.0924643333810171},{"$f":"AVERAGE(Data!AI5:AI39)","v":0.86279819489004583},{"$f":"AVERAGE(Data!AJ5:AJ39)","v":0.94139182625926165},{"$f":"AVERAGE(Data!AK5:AK39)","v":1.1819794762957228},{"$f":"AVERAGE(Data!AL5:AL39)","v":1.1773189773523085},{"$f":"AVERAGE(Data!AM5:AM39)","v":1.0430448881738021},{"$f":"AVERAGE(Data!AN5:AN39)","v":0.94380423258747792},{"$f":"AVERAGE(Data!AO5:AO39)","v":1.0429074106720786},{"$f":"AVERAGE(Data!AP5:AP39)","v":1.0848647002311333},{"$f":"AVERAGE(Data!AQ5:AQ39)","v":0.99611163308803974},{"$f":"AVERAGE(Data!AR5:AR39)","v":1.0689902391123303},{"$f":"AVERAGE(Data!AS5:AS39)","v":1.0751839665637586},{"$f":"AVERAGE(Data!AT5:AT39)","v":1.0586327426217663},{"$f":"AVERAGE(Data!AU5:AU39)","v":1.0009926015299904},{"$f":"AVERAGE(Data!AV5:AV39)","v":141.42857142857142},{"$f":"AVERAGE(Data!AW5:AW39)","v":0.49742857142857155},{"$f":"AVERAGE(Data!AX5:AX39)","v":{"$error":"#DIV/0!"}},{"$f":"AVERAGE(Data!AY5:AY39)","v":{"$error":"#DIV/0!"}},{"$f":"AVERAGE(Data!AZ5:AZ39)","v":{"$error":"#DIV/0!"}},{"$f":"AVERAGE(Data!BA5:BA39)","v":{"$error":"#DIV/0!"}},{"$f":"AVERAGE(Data!BB5:BB39)","v":0.98114933584320918},{"$f":"AVERAGE(Data!BC5:BC39)","v":159.94285714285715},{"$f":"AVERAGE(Data!BD5:BD39)","v":0.56314285714285728},{"$f":"AVERAGE(Data!BE5:BE39)","v":{"$error":"#DIV/0!"}},{"$f":"AVERAGE(Data!BF5:BF39)","v":{"$error":"#DIV/0!"}},{"$f":"AVERAGE(Data!BG5:BG39)","v":{"$error":"#DIV/0!"}},{"$f":"AVERAGE(Data!BH5:BH39)","v":{"$error":"#DIV/0!"}},{"$f":"AVERAGE(Data!BI5:BI39)","v":1.0803893199358112},{"$f":"AVERAGE(Data!BJ5:BJ39)","v":114.14285714285714},{"$f":"AVERAGE(Data!BK5:BK39)","v":0.40062857142857144},{"$f":"AVERAGE(Data!BL5:BL39)","v":{"$error":"#DIV/0!"}},{"$f":"AVERAGE(Data!BM5:BM39)","v":{"$error":"#DIV/0!"}},{"$f":"AVERAGE(Data!BN5:BN39)","v":{"$error":"#DIV/0!"}},{"$f":"AVERAGE(Data!BO5:BO39)","v":{"$error":"#DIV/0!"}},{"$f":"AVERAGE(Data!BP5:BP39)","v":1.0245356379515185},{"$f":"AVERAGE(Data!BQ5:BQ39)","v":137.91428571428571},{"$f":"AVERAGE(Data!BR5:BR39)","v":0.48502857142857142},{"$f":"AVERAGE(Data!BS5:BS39)","v":{"$error":"#DIV/0!"}},{"$f":"AVERAGE(Data!BT5:BT39)","v":{"$error":"#DIV/0!"}},{"$f":"AVERAGE(Data!BU5:BU39)","v":{"$error":"#DIV/0!"}},{"$f":"AVERAGE(Data!BV5:BV39)","v":{"$error":"#DIV/0!"}},{"$f":"AVERAGE(Data!BW5:BW39)","v":1.1241712515193012},{"$f":"AVERAGE(Data!BX5:BX39)","v":101.62857142857143},{"$f":"AVERAGE(Data!BY5:BY39)","v":0.35628571428571426},{"$f":"AVERAGE(Data!BZ5:BZ39)","v":{"$error":"#DIV/0!"}},{"$f":"AVERAGE(Data!CA5:CA39)","v":{"$error":"#DIV/0!"}},{"$f":"AVERAGE(Data!CB5:CB39)","v":{"$error":"#DIV/0!"}},{"$f":"AVERAGE(Data!CC5:CC39)","v":{"$error":"#DIV/0!"}},{"$f":"AVERAGE(Data!CD5:CD39)","v":1.027838943354028},{"$f":"AVERAGE(Data!CE5:CE39)","v":134.05714285714285},{"$f":"AVERAGE(Data!CF5:CF39)","v":0.47134285714285706},{"$f":"AVERAGE(Data!CG5:CG39)","v":{"$error":"#DIV/0!"}},{"$f":"AVERAGE(Data!CH5:CH39)","v":{"$error":"#DIV/0!"}},{"$f":"AVERAGE(Data!CI5:CI39)","v":{"$error":"#DIV/0!"}},{"$f":"AVERAGE(Data!CJ5:CJ39)","v":{"$error":"#DIV/0!"}},{"$f":"AVERAGE(Data!CK5:CK39)","v":0.99538983248167667},{"$f":"AVERAGE(Data!CL5:CL39)","v":138.17142857142858},{"$f":"AVERAGE(Data!CM5:CM39)","v":0.48602857142857142},{"$f":"AVERAGE(Data!CN5:CN39)","v":{"$error":"#DIV/0!"}},{"$f":"AVERAGE(Data!CO5:CO39)","v":{"$error":"#DIV/0!"}},{"$f":"AVERAGE(Data!CP5:CP39)","v":{"$error":"#DIV/0!"}},{"$f":"AVERAGE(Data!CQ5:CQ39)","v":{"$error":"#DIV/0!"}},{"$f":"AVERAGE(Data!CR5:CR39)","v":1.1101819327630553},{"$f":"AVERAGE(Data!CS5:CS39)","v":132.02857142857144},{"$f":"AVERAGE(Data!CT5:CT39)","v":0.4641142857142857},{"$f":"AVERAGE(Data!CU5:CU39)","v":{"$error":"#DIV/0!"}},{"$f":"AVERAGE(Data!CV5:CV39)","v":{"$error":"#DIV/0!"}},{"$f":"AVERAGE(Data!CW5:CW39)","v":{"$error":"#DIV/0!"}},{"$f":"AVERAGE(Data!CX5:CX39)","v":{"$error":"#DIV/0!"}},{"$f":"AVERAGE(Data!CY5:CY39)","v":0.99335582162977865},{"$f":"AVERAGE(Data!CZ5:CZ39)","v":148.68571428571428},{"$f":"AVERAGE(Data!DA5:DA39)","v":0.52317142857142851},{"$f":"AVERAGE(Data!DB5:DB39)","v":{"$error":"#DIV/0!"}},{"$f":"AVERAGE(Data!DC5:DC39)","v":{"$error":"#DIV/0!"}},{"$f":"AVERAGE(Data!DD5:DD39)","v":{"$error":"#DIV/0!"}},{"$f":"AVERAGE(Data!DE5:DE39)","v":{"$error":"#DIV/0!"}},{"$f":"AVERAGE(Data!DF5:DF39)","v":1.0567566563234054},{"$f":"AVERAGE(Data!DG5:DG39)","v":109.42857142857143},{"$f":"AVERAGE(Data!DH5:DH39)","v":0.38408571428571431},{"$f":"AVERAGE(Data!DI5:DI39)","v":{"$error":"#DIV/0!"}},{"$f":"AVERAGE(Data!DJ5:DJ39)","v":{"$error":"#DIV/0!"}},{"$f":"AVERAGE(Data!DK5:DK39)","v":{"$error":"#DIV/0!"}},{"$f":"AVERAGE(Data!DL5:DL39)","v":{"$error":"#DIV/0!"}},{"$f":"AVERAGE(Data!DM5:DM39)","v":1.0329182082708985},{"$f":"AVERAGE(Data!DN5:DN39)","v":135.57142857142858},{"$f":"AVERAGE(Data!DO5:DO39)","v":0.4767142857142857},{"$f":"AVERAGE(Data!DP5:DP39)","v":{"$error":"#DIV/0!"}},{"$f":"AVERAGE(Data!DQ5:DQ39)","v":{"$error":"#DIV/0!"}},{"$f":"AVERAGE(Data!DR5:DR39)","v":{"$error":"#DIV/0!"}},{"$f":"AVERAGE(Data!DS5:DS39)","v":{"$error":"#DIV/0!"}},{"$f":"AVERAGE(Data!DT5:DT39)","v":1.0813568923347354},{"$f":"AVERAGE(Data!DU5:DU39)","v":111.31428571428572},{"$f":"AVERAGE(Data!DV5:DV39)","v":0.39074285714285717},{"$f":"AVERAGE(Data!DW5:DW39)","v":{"$error":"#DIV/0!"}},{"$f":"AVERAGE(Data!DX5:DX39)","v":{"$error":"#DIV/0!"}},{"$f":"AVERAGE(Data!DY5:DY39)","v":{"$error":"#DIV/0!"}},{"$f":"AVERAGE(Data!DZ5:DZ39)","v":{"$error":"#DIV/0!"}},{"$f":"AVERAGE(Data!EA5:EA39)","v":1.039752357320644},{"$f":"AVERAGE(Data!EB5:EB39)","v":115.85714285714286},{"$f":"AVERAGE(Data!EC5:EC39)","v":0.40680000000000011},{"$f":"AVERAGE(Data!ED5:ED39)","v":{"$error":"#DIV/0!"}},{"$f":"AVERAGE(Data!EE5:EE39)","v":{"$error":"#DIV/0!"}},{"$f":"AVERAGE(Data!EF5:EF39)","v":{"$error":"#DIV/0!"}},{"$f":"AVERAGE(Data!EG5:EG39)","v":{"$error":"#DIV/0!"}},{"$f":"AVERAGE(Data!EH5:EH39)","v":1.0458671569001854},{"$f":"AVERAGE(Data!EI5:EI39)","v":119.62857142857143},{"$f":"AVERAGE(Data!EJ5:EJ39)","v":0.42014285714285721},{"$f":"AVERAGE(Data!EK5:EK39)","v":{"$error":"#DIV/0!"}},{"$f":"AVERAGE(Data!EL5:EL39)","v":{"$error":"#DIV/0!"}},{"$f":"AVERAGE(Data!EM5:EM39)","v":{"$error":"#DIV/0!"}},{"$f":"AVERAGE(Data!EN5:EN39)","v":{"$error":"#DIV/0!"}},{"$f":"AVERAGE(Data!EO5:EO39)","v":{"$error":"#DIV/0!"}},{"$f":"AVERAGE(Data!EP5:EP39)","v":164.37142857142857},{"$f":"AVERAGE(Data!EQ5:EQ39)","v":148.42857142857142},{"$f":"AVERAGE(Data!ER5:ER39)","v":172.68571428571428},{"$f":"AVERAGE(Data!ES5:ES39)","v":168.14285714285714},{"$f":"AVERAGE(Data!ET5:ET39)","v":0.52228571428571435},{"$f":"AVERAGE(Data!EU5:EU39)","v":0.60828571428571421},{"$f":"AVERAGE(Data!EV5:EV39)","v":0.59219999999999984},{"$f":"AVERAGE(Data!EW5:EW39)","v":164.37142857142857},{"$f":"AVERAGE(Data!GW5:GW39)","v":0.62226893182060283},{"$f":"AVERAGE(Data!EY5:EY39)","v":0.59365216986129776},{"$f":"AVERAGE(Data!EZ5:EZ39)","v":0.62367708436804736},{"$f":"AVERAGE(Data!FA5:FA39)","v":0.74611702062009921},{"$f":"AVERAGE(Data!FB5:FB39)","v":0.69504702334945367},{"$f":"AVERAGE(Data!FC5:FC39)","v":0.70953384927349095},{"$f":"AVERAGE(Data!FD5:FD39)","v":0.75620382124416241},{"$f":"AVERAGE(Data!FE5:FE39)","v":0.64715146874925511},{"$f":"AVERAGE(Data!FF5:FF39)","v":0.52803286002864214},{"$f":"AVERAGE(Data!FG5:FG39)","v":0.67169154949992804},{"$f":"AVERAGE(Data!FH5:FH39)","v":0.67980289984802444},{"$f":"AVERAGE(Data!FI5:FI39)","v":0.79579010835723551},{"$f":"AVERAGE(Data!FJ5:FJ39)","v":0.66573400362162261},{"$f":"AVERAGE(Data!FK5:FK39)","v":0.32765780938211192},{"$f":"AVERAGE(Data!FL5:FL39)","v":0.67757275651522619},{"$f":"AVERAGE(Data!FM5:FM39)","v":0.57309480164226156},{"$f":"AVERAGE(Data!FN5:FN39)","v":0.67069999054479246},{"$f":"AVERAGE(Data!FO5:FO39)","v":0.50172625296848794},{"$f":"AVERAGE(Data!FP5:FP39)","v":0.54265909519842159},{"$f":"AVERAGE(Data!FQ5:FQ39)","v":0.38949970521057581},{"$f":"AVERAGE(Data!FR5:FR39)","v":0.73749367132694676},{"$f":"AVERAGE(Data!FS5:FS39)","v":0.65670234052988974},{"$f":"AVERAGE(Data!FT5:FT39)","v":0.66443098365962605},{"$f":"AVERAGE(Data!FU5:FU39)","v":0.83492511427946514},{"$f":"AVERAGE(Data!FV5:FV39)","v":0.60582784928520428},{"$f":"AVERAGE(Data!FW5:FW39)","v":0.39536029454436178},{"$f":"AVERAGE(Data!FX5:FX39)","v":0.32700745652623275},{"$f":"AVERAGE(Data!FY5:FY39)","v":0.43499869725814161},{"$f":"AVERAGE(Data!FZ5:FZ39)","v":0.38038385101093619},{"$f":"AVERAGE(Data!GA5:GA39)","v":0.50806774061875914},{"$f":"AVERAGE(Data!GB5:GB39)","v":0.76732153292090821},{"$f":"AVERAGE(Data!GC5:GC39)","v":0.85498411509826133},{"$f":"AVERAGE(Data!GD5:GD39)","v":0.16241406275596459},{"$f":"AVERAGE(Data!GE5:GE39)","v":0.79579010835723551},{"$f":"AVERAGE(Data!GF5:GF39)","v":0.32052573176409316},{"$f":"AVERAGE(Data!GG5:GG39)","v":0.49857666566886161},{"$f":"AVERAGE(Data!GH5:GH39)","v":0.94404876553088468},{"$f":"AVERAGE(Data!GI5:GI39)","v":0.72803555201040904},{"$f":"AVERAGE(Data!GJ5:GJ39)","v":0.95072933482876465},{"$f":"AVERAGE(Data!GK5:GK39)","v":0.95214028110720506},{"$f":"AVERAGE(Data!GL5:GL39)","v":0.57564885345882244},{"$f":"AVERAGE(Data!GM5:GM39)","v":0.65448209161648141},{"$f":"AVERAGE(Data!GN5:GN39)","v":0.6671938045290009},{"$f":"AVERAGE(Data!GO5:GO39)","v":0.63275548992640041}]
["E05004868","29UBHA","Beaver","Canterbury",2,{"$f":"AVERAGE(Data!G40:G63)","v":0.86550893937453222},{"$f":"AVERAGE(Data!H40:H63)","v":1.0202531939692625},{"$f":"AVERAGE(Data!I40:I63)","v":1.0706647002587424},{"$f":"AVERAGE(Data!J40:J63)","v":1.2776938506521176},{"$f":"AVERAGE(Data!K40:K63)","v":1.0429263702374338},{"$f":"AVERAGE(Data!L40:L63)","v":1.010526820402365},{"$f":"AVERAGE(Data!M40:M63)","v":1.0679814616269443},{"$f":"AVERAGE(Data!N40:N63)","v":1.7531202243009216},{"$f":"AVERAGE(Data!O40:O63)","v":0.91983857584920126},{"$f":"AVERAGE(Data!P40:P63)","v":0.69771671221404741},{"$f":"AVERAGE(Data!Q40:Q63)","v":0.95309482223214204},{"$f":"AVERAGE(Data!R40:R63)","v":1.0702122587840046},{"$f":"AVERAGE(Data!S40:S63)","v":0.96993753107845493},{"$f":"AVERAGE(Data!T40:T63)","v":0.77880821951168688},{"$f":"AVERAGE(Data!U40:U63)","v":0.93680783324221173},{"$f":"AVERAGE(Data!V40:V63)","v":0.95251954992554078},{"$f":"AVERAGE(Data!W40:W63)","v":0.91442860074479448},{"$f":"AVERAGE(Data!X40:X63)","v":0.92073322824297499},{"$f":"AVERAGE(Data!Y40:Y63)","v":0.89724536010094091},{"$f":"AVERAGE(Data!Z40:Z63)","v":1.0383737407390961},{"$f":"AVERAGE(Data!AA40:AA63)","v":0.91490341912870976},{"$f":"AVERAGE(Data!AB40:AB63)","v":0.9907429077919061},{"$f":"AVERAGE(Data!AC40:AC63)","v":1.2973152816075286},{"$f":"AVERAGE(Data!AD40:AD63)","v":1.1028687952605163},{"$f":"AVERAGE(Data!AE40:AE63)","v":1.1266427318302907},{"$f":"AVERAGE(Data!AF40:AF63)","v":1.0228022779166286},{"$f":"AVERAGE(Data!AG40:AG63)","v":1.1840128336773688},{"$f":"AVERAGE(Data!AH40:AH63)","v":0.99919122474851152},{"$f":"AVERAGE(Data!AI40:AI63)","v":1.021171025869515},{"$f":"AVERAGE(Data!AJ40:AJ63)","v":0.90355587071652599},{"$f":"AVERAGE(Data!AK40:AK63)","v":1.0711445229285557},{"$f":"AVERAGE(Data!AL40:AL63)","v":0.94560637791282343},{"$f":"AVERAGE(Data!AM40:AM63)","v":0.95309482223214204},{"$f":"AVERAGE(Data!AN40:AN63)","v":1.3131225717985249},{"$f":"AVERAGE(Data!AO40:AO63)","v":0.94034637586068925},{"$f":"AVERAGE(Data!AP40:AP63)","v":1.009699141407725},{"$f":"AVERAGE(Data!AQ40:AQ63)","v":1.0587154992283447},{"$f":"AVERAGE(Data!AR40:AR63)","v":0.99856951548664175},{"$f":"AVERAGE(Data!AS40:AS63)","v":1.0157025915467495},{"$f":"AVERAGE(Data!AT40:AT63)","v":1.0477760636064366},{"$f":"AVERAGE(Data!AU40:AU63)","v":0.98547561120084548},{"$f":"AVERAGE(Data!AV40:AV63)","v":156.54166666666666},{"$f":"AVERAGE(Data!AW40:AW63)","v":0.55104166666666676},{"$f":"AVERAGE(Data!AX40:AX63)","v":{"$error":"#DIV/0!"}},{"$f":"AVERAGE(Data!AY40:AY63)","v":{"$error":"#DIV/0!"}},{"$f":"AVERAGE(Data!AZ40:AZ63)","v":{"$error":"#DIV/0!"}},{"$f":"AVERAGE(Data!BA40:BA63)","v":{"$error":"#DIV/0!"}},{"$f":"AVERAGE(Data!BB40:BB63)","v":1.2304497454439567},{"$f":"AVERAGE(Data!BC40:BC63)","v":61.208333333333336},{"$f":"AVERAGE(Data!BD40:BD63)","v":0.21295833333333333},{"$f":"AVERAGE(Data!BE40:BE63)","v":{"$error":"#DIV/0!"}},{"$f":"AVERAGE(Data!BF40:BF63)","v":{"$error":"#DIV/0!"}},{"$f":"AVERAGE(Data!BG40:BG63)","v":{"$error":"#DIV/0!"}},{"$f":"AVERAGE(Data!BH40:BH63)","v":{"$error":"#DIV/0!"}},{"$f":"AVERAGE(Data!BI40:BI63)","v":0.90986693785466111},{"$f":"AVERAGE(Data!BJ40:BJ63)","v":177.66666666666666},{"$f":"AVERAGE(Data!BK40:BK63)","v":0.62604166666666661},{"$f":"AVERAGE(Data!BL40:BL63)","v":{"$error":"#DIV/0!"}},{"$f":"AVERAGE(Data!BM40:BM63)","v":{"$error":"#DIV/0!"}},{"$f":"AVERAGE(Data!BN40:BN63)","v":{"$error":"#DIV/0!"}},{"$f":"AVERAGE(Data!BO40:BO63)","v":{"$error":"#DIV/0!"}},{"$f":"AVERAGE(Data!BP40:BP63)","v":0.91080239636290339},{"$f":"AVERAGE(Data!BQ40:BQ63)","v":162.08333333333334},{"$f":"AVERAGE(Data!BR40:BR63)","v":0.57074999999999998},{"$f":"AVERAGE(Data!BS40:BS63)","v":{"$error":"#DIV/0!"}},{"$f":"AVERAGE(Data!BT40:BT63)","v":{"$error":"#DIV/0!"}},{"$f":"AVERAGE(Data!BU40:BU63)","v":{"$error":"#DIV/0!"}},{"$f":"AVERAGE(Data!BV40:BV63)","v":{"$error":"#DIV/0!"}},{"$f":"AVERAGE(Data!BW40:BW63)","v":1.0688408289055513},{"$f":"AVERAGE(Data!BX40:BX63)","v":126.58333333333333},{"$f":"AVERAGE(Data!BY40:BY63)","v":0.44483333333333336},{"$f":"AVERAGE(Data!BZ40:BZ63)","v":{"$error":"#DIV/0!"}},{"$f":"AVERAGE(Data!CA40:CA63)","v":{"$error":"#DIV/0!"}},{"$f":"AVERAGE(Data!CB40:CB63)","v":{"$error":"#DIV/0!"}},{"$f":"AVERAGE(Data!CC40:CC63)","v":{"$error":"#DIV/0!"}},{"$f":"AVERAGE(Data!CD40:CD63)","v":1.0831622670432},{"$f":"AVERAGE(Data!CE40:CE63)","v":122.41666666666667},{"$f":"AVERAGE(Data!CF40:CF63)","v":0.43012499999999992},{"$f":"AVERAGE(Data!CG40:CG63)","v":{"$error":"#DIV/0!"}},{"$f":"AVERAGE(Data!CH40:CH63)","v":{"$error":"#DIV/0!"}},{"$f":"AVERAGE(Data!CI40:CI63)","v":{"$error":"#DIV/0!"}},{"$f":"AVERAGE(Data!CJ40:CJ63)","v":{"$error":"#DIV/0!"}},{"$f":"AVERAGE(Data!CK40:CK63)","v":0.99862380650486571},{"$f":"AVERAGE(Data!CL40:CL63)","v":149},{"$f":"AVERAGE(Data!CM40:CM63)","v":0.52433333333333332},{"$f":"AVERAGE(Data!CN40:CN63)","v":{"$error":"#DIV/0!"}},{"$f":"AVERAGE(Data!CO40:CO63)","v":{"$error":"#DIV/0!"}},{"$f":"AVERAGE(Data!CP40:CP63)","v":{"$error":"#DIV/0!"}},{"$f":"AVERAGE(Data!CQ40:CQ63)","v":{"$error":"#DIV/0!"}},{"$f":"AVERAGE(Data!CR40:CR63)","v":0.94935060007248284},{"$f":"AVERAGE(Data!CS40:CS63)","v":144.58333333333334},{"$f":"AVERAGE(Data!CT40:CT63)","v":0.50875000000000004},{"$f":"AVERAGE(Data!CU40:CU63)","v":{"$error":"#DIV/0!"}},{"$f":"AVERAGE(Data!CV40:CV63)","v":{"$error":"#DIV/0!"}},{"$f":"AVERAGE(Data!CW40:CW63)","v":{"$error":"#DIV/0!"}},{"$f":"AVERAGE(Data!CX40:CX63)","v":{"$error":"#DIV/0!"}},{"$f":"AVERAGE(Data!CY40:CY63)","v":1.1267344738296072},{"$f":"AVERAGE(Data!CZ40:CZ63)","v":93.791666666666671},{"$f":"AVERAGE(Data!DA40:DA63)","v":0.32858333333333334},{"$f":"AVERAGE(Data!DB40:DB63)","v":{"$error":"#DIV/0!"}},{"$f":"AVERAGE(Data!DC40:DC63)","v":{"$error":"#DIV/0!"}},{"$f":"AVERAGE(Data!DD40:DD63)","v":{"$error":"#DIV/0!"}},{"$f":"AVERAGE(Data!DE40:DE63)","v":{"$error":"#DIV/0!"}},{"$f":"AVERAGE(Data!DF40:DF63)","v":1.0260925622551793},{"$f":"AVERAGE(Data!DG40:DG63)","v":115.875},{"$f":"AVERAGE(Data!DH40:DH63)","v":0.40691666666666665},{"$f":"AVERAGE(Data!DI40:DI63)","v":{"$error":"#DIV/0!"}},{"$f":"AVERAGE(Data!DJ40:DJ63)","v":{"$error":"#DIV/0!"}},{"$f":"AVERAGE(Data!DK40:DK63)","v":{"$error":"#DIV/0!"}},{"$f":"AVERAGE(Data!DL40:DL63)","v":{"$error":"#DIV/0!"}},{"$f":"AVERAGE(Data!DM40:DM63)","v":1.0063167501446484},{"$f":"AVERAGE(Data!DN40:DN63)","v":148.54166666666666},{"$f":"AVERAGE(Data!DO40:DO63)","v":0.52270833333333322},{"$f":"AVERAGE(Data!DP40:DP63)","v":{"$error":"#DIV/0!"}},{"$f":"AVERAGE(Data!DQ40:DQ63)","v":{"$error":"#DIV/0!"}},{"$f":"AVERAGE(Data!DR40:DR63)","v":{"$error":"#DIV/0!"}},{"$f":"AVERAGE(Data!DS40:DS63)","v":{"$error":"#DIV/0!"}},{"$f":"AVERAGE(Data!DT40:DT63)","v":1.0752059125222841},{"$f":"AVERAGE(Data!DU40:DU63)","v":119.20833333333333},{"$f":"AVERAGE(Data!DV40:DV63)","v":0.41862500000000002},{"$f":"AVERAGE(Data!DW40:DW63)","v":{"$error":"#DIV/0!"}},{"$f":"AVERAGE(Data!DX40:DX63)","v":{"$error":"#DIV/0!"}},{"$f":"AVERAGE(Data!DY40:DY63)","v":{"$error":"#DIV/0!"}},{"$f":"AVERAGE(Data!DZ40:DZ63)","v":{"$error":"#DIV/0!"}},{"$f":"AVERAGE(Data!EA40:EA63)","v":1.0232086982162227},{"$f":"AVERAGE(Data!EB40:EB63)","v":121},{"$f":"AVERAGE(Data!EC40:EC63)","v":0.42495833333333333},{"$f":"AVERAGE(Data!ED40:ED63)","v":{"$error":"#DIV/0!"}},{"$f":"AVERAGE(Data!EE40:EE63)","v":{"$error":"#DIV/0!"}},{"$f":"AVERAGE(Data!EF40:EF63)","v":{"$error":"#DIV/0!"}},{"$f":"AVERAGE(Data!EG40:EG63)","v":{"$error":"#DIV/0!"}},{"$f":"AVERAGE(Data!EH40:EH63)","v":1.0268843961010889},{"$f":"AVERAGE(Data!EI40:EI63)","v":135.125},{"$f":"AVERAGE(Data!EJ40:EJ63)","v":0.47508333333333325},{"$f":"AVERAGE(Data!EK40:EK63)","v":{"$error":"#DIV/0!"}},{"$f":"AVERAGE(Data!EL40:EL63)","v":{"$error":"#DIV/0!"}},{"$f":"AVERAGE(Data!EM40:EM63)","v":{"$error":"#DIV/0!"}},{"$f":"AVERAGE(Data!EN40:EN63)","v":{"$error":"#DIV/0!"}},{"$f":"AVERAGE(Data!EO40:EO63)","v":{"$error":"#DIV/0!"}},{"$f":"AVERAGE(Data!EP40:EP63)","v":148.875},{"$f":"AVERAGE(Data!EQ40:EQ63)","v":135.45833333333334},{"$f":"AVERAGE(Data!ER40:ER63)","v":164.79166666666666},{"$f":"AVERAGE(Data!ES40:ES63)","v":163},{"$f":"AVERAGE(Data!ET40:ET63)","v":0.47633333333333344},{"$f":"AVERAGE(Data!EU40:EU63)","v":0.58041666666666669},{"$f":"AVERAGE(Data!EV40:EV63)","v":0.57404166666666656},{"$f":"AVERAGE(Data!EW40:EW63)","v":148.875},{"$f":"AVERAGE(Data!GW40:GW63)","v":0.61118634485186463},{"$f":"AVERAGE(Data!EY40:EY63)","v":0.50519684826899802},{"$f":"AVERAGE(Data!EZ40:EZ63)","v":0.63799310009252075},{"$f":"AVERAGE(Data!FA40:FA63)","v":0.80808024516308785},{"$f":"AVERAGE(Data!FB40:FB63)","v":0.88717672779416779},{"$f":"AVERAGE(Data!FC40:FC63)","v":0.73939620163928488},{"$f":"AVERAGE(Data!FD40:FD63)","v":0.76709617521296325},{"$f":"AVERAGE(Data!FE40:FE63)","v":0.70376716770908798},{"$f":"AVERAGE(Data!FF40:FF63)","v":1},{"$f":"AVERAGE(Data!FG40:FG63)","v":0.46641883307896254},{"$f":"AVERAGE(Data!FH40:FH63)","v":0.39440992469233188},{"$f":"AVERAGE(Data!FI40:FI63)","v":0.72716279084285551},{"$f":"AVERAGE(Data!FJ40:FJ63)","v":0.687733595306804},{"$f":"AVERAGE(Data!FK40:FK63)","v":0.42306181188238351},{"$f":"AVERAGE(Data!FL40:FL63)","v":0.48416694402158522},{"$f":"AVERAGE(Data!FM40:FM63)","v":0.50046268514988301},{"$f":"AVERAGE(Data!FN40:FN63)","v":0.56890203207365697},{"$f":"AVERAGE(Data!FO40:FO63)","v":0.44375570063932918},{"$f":"AVERAGE(Data!FP40:FP63)","v":0.48442244351948816},{"$f":"AVERAGE(Data!FQ40:FQ63)","v":0.34660062835334832},{"$f":"AVERAGE(Data!FR40:FR63)","v":0.75247337757183719},{"$f":"AVERAGE(Data!FS40:FS63)","v":0.56503564625773484},{"$f":"AVERAGE(Data!FT40:FT63)","v":0.62883668024908168},{"$f":"AVERAGE(Data!FU40:FU63)","v":0.72880956575902056},{"$f":"AVERAGE(Data!FV40:FV63)","v":0.66363875216510604},{"$f":"AVERAGE(Data!FW40:FW63)","v":0.45652040152721568},{"$f":"AVERAGE(Data!FX40:FX63)","v":0.30155784607186958},{"$f":"AVERAGE(Data!FY40:FY63)","v":0.55140078135197468},{"$f":"AVERAGE(Data!FZ40:FZ63)","v":0.34790719875484855},{"$f":"AVERAGE(Data!GA40:GA63)","v":0.60132723848012137},{"$f":"AVERAGE(Data!GB40:GB63)","v":0.73648172467449191},{"$f":"AVERAGE(Data!GC40:GC63)","v":0.77481172088413708},{"$f":"AVERAGE(Data!GD40:GD63)","v":0.13044873696860104},{"$f":"AVERAGE(Data!GE40:GE63)","v":0.72716279084285551},{"$f":"AVERAGE(Data!GF40:GF63)","v":0.44595008020655308},{"$f":"AVERAGE(Data!GG40:GG63)","v":0.44954590968750535},{"$f":"AVERAGE(Data!GH40:GH63)","v":0.87863973065071965},{"$f":"AVERAGE(Data!GI40:GI63)","v":0.77379130741921509},{"$f":"AVERAGE(Data!GJ40:GJ63)","v":0.88809915797475891},{"$f":"AVERAGE(Data!GK40:GK63)","v":0.89946593430649902},{"$f":"AVERAGE(Data!GL40:GL63)","v":0.5697453568297014},{"$f":"AVERAGE(Data!GM40:GM63)","v":0.65042339784153547},{"$f":"AVERAGE(Data!GN40:GN63)","v":0.8194872544711006},{"$f":"AVERAGE(Data!GO40:GO63)","v":0.53153982713105774}]
["E05004869","29UBHB","Biddenden","Dartford",3,{"$f":"AVERAGE(Data!G64:G80)","v":1.0962722139950487},{"$f":"AVERAGE(Data!H64:H80)","v":0.99368701739451548},{"$f":"AVERAGE(Data!I64:I80)","v":1.0295744780352596},{"$f":"AVERAGE(Data!J64:J80)","v":1.0883465160093186},{"$f":"AVERAGE(Data!K64:K80)","v":1.0452561800633315},{"$f":"AVERAGE(Data!L64:L80)","v":1.0124078854015068},{"$f":"AVERAGE(Data!M64:M80)","v":0.91926199919503915},{"$f":"AVERAGE(Data!N64:N80)","v":1.1206910188980148},{"$f":"AVERAGE(Data!O64:O80)","v":1.1367034299289784E-2},{"$f":"AVERAGE(Data!P64:P80)","v":0.99542918711954964},{"$f":"AVERAGE(Data!Q64:Q80)","v":1.0116614978845326},{"$f":"AVERAGE(Data!R64:R80)","v":1.0893038084851459},{"$f":"AVERAGE(Data!S64:S80)","v":1.2250745915033132},{"$f":"AVERAGE(Data!T64:T80)","v":1.1097717539155858},{"$f":"AVERAGE(Data!U64:U80)","v":0.94280996932460914},{"$f":"AVERAGE(Data!V64:V80)","v":1.0022941053489935},{"$f":"AVERAGE(Data!W64:W80)","v":0.82577578390357231},{"$f":"AVERAGE(Data!X64:X80)","v":0.90177013289741137},{"$f":"AVERAGE(Data!Y64:Y80)","v":0.73362485195575156},{"$f":"AVERAGE(Data!Z64:Z80)","v":0.97486688590373949},{"$f":"AVERAGE(Data!AA64:AA80)","v":1.1750144073887168},{"$f":"AVERAGE(Data!AB64:AB80)","v":1.0869589019189343},{"$f":"AVERAGE(Data!AC64:AC80)","v":0.50315351229780858},{"$f":"AVERAGE(Data!AD64:AD80)","v":1.0205498045351347},{"$f":"AVERAGE(Data!AE64:AE80)","v":0.92504188901896722},{"$f":"AVERAGE(Data!AF64:AF80)","v":0.91258635154497347},{"$f":"AVERAGE(Data!AG64:AG80)","v":1.0559283768341725},{"$f":"AVERAGE(Data!AH64:AH80)","v":0.58311238094735829},{"$f":"AVERAGE(Data!AI64:AI80)","v":0.94083097080853217},{"$f":"AVERAGE(Data!AJ64:AJ80)","v":1.1073046108545352},{"$f":"AVERAGE(Data!AK64:AK80)","v":1.1533221429541822},{"$f":"AVERAGE(Data!AL64:AL80)","v":1.3599667797845529},{"$f":"AVERAGE(Data!AM64:AM80)","v":1.0116614978845326},{"$f":"AVERAGE(Data!AN64:AN80)","v":1.1801619100445908},{"$f":"AVERAGE(Data!AO64:AO80)","v":0.76194966412495491},{"$f":"AVERAGE(Data!AP64:AP80)","v":0.99303975243229681},{"$f":"AVERAGE(Data!AQ64:AQ80)","v":0.93324786006572458},{"$f":"AVERAGE(Data!AR64:AR80)","v":1.0092308434719},{"$f":"AVERAGE(Data!AS64:AS80)","v":0.99842458412168611},{"$f":"AVERAGE(Data!AT64:AT80)","v":0.78685286286782186},{"$f":"AVERAGE(Data!AU64:AU80)","v":1.0398445698082748},{"$f":"AVERAGE(Data!AV64:AV80)","v":134.11764705882354},{"$f":"AVERAGE(Data!AW64:AW80)","v":0.47147058823529414},{"$f":"AVERAGE(Data!AX64:AX80)","v":{"$error":"#DIV/0!"}},{"$f":"AVERAGE(Data!AY64:AY80)","v":{"$error":"#DIV/0!"}},{"$f":"AVERAGE(Data!AZ64:AZ80)","v":{"$error":"#DIV/0!"}},{"$f":"AVERAGE(Data!BA64:BA80)","v":{"$error":"#DIV/0!"}},{"$f":"AVERAGE(Data!BB64:BB80)","v":1.0371927199134421},{"$f":"AVERAGE(Data!BC64:BC80)","v":141.35294117647058},{"$f":"AVERAGE(Data!BD64:BD80)","v":0.497},{"$f":"AVERAGE(Data!BE64:BE80)","v":{"$error":"#DIV/0!"}},{"$f":"AVERAGE(Data!BF64:BF80)","v":{"$error":"#DIV/0!"}},{"$f":"AVERAGE(Data!BG64:BG80)","v":{"$error":"#DIV/0!"}},{"$f":"AVERAGE(Data!BH64:BH80)","v":{"$error":"#DIV/0!"}},{"$f":"AVERAGE(Data!BI64:BI80)","v":0.92346399348512742},{"$f":"AVERAGE(Data!BJ64:BJ80)","v":176.29411764705881},{"$f":"AVERAGE(Data!BK64:BK80)","v":0.621},{"$f":"AVERAGE(Data!BL64:BL80)","v":{"$error":"#DIV/0!"}},{"$f":"AVERAGE(Data!BM64:BM80)","v":{"$error":"#DIV/0!"}},{"$f":"AVERAGE(Data!BN64:BN80)","v":{"$error":"#DIV/0!"}},{"$f":"AVERAGE(Data!BO64:BO80)","v":{"$error":"#DIV/0!"}},{"$f":"AVERAGE(Data!BP64:BP80)","v":0.82039025625224515},{"$f":"AVERAGE(Data!BQ64:BQ80)","v":173.58823529411765},{"$f":"AVERAGE(Data!BR64:BR80)","v":0.61152941176470588},{"$f":"AVERAGE(Data!BS64:BS80)","v":{"$error":"#DIV/0!"}},{"$f":"AVERAGE(Data!BT64:BT80)","v":{"$error":"#DIV/0!"}},{"$f":"AVERAGE(Data!BU64:BU80)","v":{"$error":"#DIV/0!"}},{"$f":"AVERAGE(Data!BV64:BV80)","v":{"$error":"#DIV/0!"}},{"$f":"AVERAGE(Data!BW64:BW80)","v":0.95210870240886669},{"$f":"AVERAGE(Data!BX64:BX80)","v":172.1764705882353},{"$f":"AVERAGE(Data!BY64:BY80)","v":0.60658823529411776},{"$f":"AVERAGE(Data!BZ64:BZ80)","v":{"$error":"#DIV/0!"}},{"$f":"AVERAGE(Data!CA64:CA80)","v":{"$error":"#DIV/0!"}},{"$f":"AVERAGE(Data!CB64:CB80)","v":{"$error":"#DIV/0!"}},{"$f":"AVERAGE(Data!CC64:CC80)","v":{"$error":"#DIV/0!"}},{"$f":"AVERAGE(Data!CD64:CD80)","v":0.86916724958636793},{"$f":"AVERAGE(Data!CE64:CE80)","v":179.47058823529412},{"$f":"AVERAGE(Data!CF64:CF80)","v":0.63229411764705901},{"$f":"AVERAGE(Data!CG64:CG80)","v":{"$error":"#DIV/0!"}},{"$f":"AVERAGE(Data!CH64:CH80)","v":{"$error":"#DIV/0!"}},{"$f":"AVERAGE(Data!CI64:CI80)","v":{"$error":"#DIV/0!"}},{"$f":"AVERAGE(Data!CJ64:CJ80)","v":{"$error":"#DIV/0!"}},{"$f":"AVERAGE(Data!CK64:CK80)","v":1.0671525748724164},{"$f":"AVERAGE(Data!CL64:CL80)","v":117.17647058823529},{"$f":"AVERAGE(Data!CM64:CM80)","v":0.41135294117647059},{"$f":"AVERAGE(Data!CN64:CN80)","v":{"$error":"#DIV/0!"}},{"$f":"AVERAGE(Data!CO64:CO80)","v":{"$error":"#DIV/0!"}},{"$f":"AVERAGE(Data!CP64:CP80)","v":{"$error":"#DIV/0!"}},{"$f":"AVERAGE(Data!CQ64:CQ80)","v":{"$error":"#DIV/0!"}},{"$f":"AVERAGE(Data!CR64:CR80)","v":1.1858141388345427},{"$f":"AVERAGE(Data!CS64:CS80)","v":125.17647058823529},{"$f":"AVERAGE(Data!CT64:CT80)","v":0.439764705882353},{"$f":"AVERAGE(Data!CU64:CU80)","v":{"$error":"#DIV/0!"}},{"$f":"AVERAGE(Data!CV64:CV80)","v":{"$error":"#DIV/0!"}},{"$f":"AVERAGE(Data!CW64:CW80)","v":{"$error":"#DIV/0!"}},{"$f":"AVERAGE(Data!CX64:CX80)","v":{"$error":"#DIV/0!"}},{"$f":"AVERAGE(Data!CY64:CY80)","v":0.97105578708477291},{"$f":"AVERAGE(Data!CZ64:CZ80)","v":162.58823529411765},{"$f":"AVERAGE(Data!DA64:DA80)","v":0.57247058823529418},{"$f":"AVERAGE(Data!DB64:DB80)","v":{"$error":"#DIV/0!"}},{"$f":"AVERAGE(Data!DC64:DC80)","v":{"$error":"#DIV/0!"}},{"$f":"AVERAGE(Data!DD64:DD80)","v":{"$error":"#DIV/0!"}},{"$f":"AVERAGE(Data!DE64:DE80)","v":{"$error":"#DIV/0!"}},{"$f":"AVERAGE(Data!DF64:DF80)","v":0.94415918059188586},{"$f":"AVERAGE(Data!DG64:DG80)","v":188.52941176470588},{"$f":"AVERAGE(Data!DH64:DH80)","v":0.66441176470588237},{"$f":"AVERAGE(Data!DI64:DI80)","v":{"$error":"#DIV/0!"}},{"$f":"AVERAGE(Data!DJ64:DJ80)","v":{"$error":"#DIV/0!"}},{"$f":"AVERAGE(Data!DK64:DK80)","v":{"$error":"#DIV/0!"}},{"$f":"AVERAGE(Data!DL64:DL80)","v":{"$error":"#DIV/0!"}},{"$f":"AVERAGE(Data!DM64:DM80)","v":0.95549368555946257},{"$f":"AVERAGE(Data!DN64:DN80)","v":164.11764705882354},{"$f":"AVERAGE(Data!DO64:DO80)","v":0.57788235294117651},{"$f":"AVERAGE(Data!DP64:DP80)","v":{"$error":"#DIV/0!"}},{"$f":"AVERAGE(Data!DQ64:DQ80)","v":{"$error":"#DIV/0!"}},{"$f":"AVERAGE(Data!DR64:DR80)","v":{"$error":"#DIV/0!"}},{"$f":"AVERAGE(Data!DS64:DS80)","v":{"$error":"#DIV/0!"}},{"$f":"AVERAGE(Data!DT64:DT80)","v":0.9152458344877562},{"$f":"AVERAGE(Data!DU64:DU80)","v":179.88235294117646},{"$f":"AVERAGE(Data!DV64:DV80)","v":0.63382352941176467},{"$f":"AVERAGE(Data!DW64:DW80)","v":{"$error":"#DIV/0!"}},{"$f":"AVERAGE(Data!DX64:DX80)","v":{"$error":"#DIV/0!"}},{"$f":"AVERAGE(Data!DY64:DY80)","v":{"$error":"#DIV/0!"}},{"$f":"AVERAGE(Data!DZ64:DZ80)","v":{"$error":"#DIV/0!"}},{"$f":"AVERAGE(Data!EA64:EA80)","v":1.0196661232846091},{"$f":"AVERAGE(Data!EB64:EB80)","v":134.64705882352942},{"$f":"AVERAGE(Data!EC64:EC80)","v":0.47347058823529409},{"$f":"AVERAGE(Data!ED64:ED80)","v":{"$error":"#DIV/0!"}},{"$f":"AVERAGE(Data!EE64:EE80)","v":{"$error":"#DIV/0!"}},{"$f":"AVERAGE(Data!EF64:EF80)","v":{"$error":"#DIV/0!"}},{"$f":"AVERAGE(Data!EG64:EG80)","v":{"$error":"#DIV/0!"}},{"$f":"AVERAGE(Data!EH64:EH80)","v":0.96568965038587273},{"$f":"AVERAGE(Data!EI64:EI80)","v":167.23529411764707},{"$f":"AVERAGE(Data!EJ64:EJ80)","v":0.58905882352941175},{"$f":"AVERAGE(Data!EK64:EK80)","v":{"$error":"#DIV/0!"}},{"$f":"AVERAGE(Data!EL64:EL80)","v":{"$error":"#DIV/0!"}},{"$f":"AVERAGE(Data!EM64:EM80)","v":{"$error":"#DIV/0!"}},{"$f":"AVERAGE(Data!EN64:EN80)","v":{"$error":"#DIV/0!"}},{"$f":"AVERAGE(Data!EO64:EO80)","v":{"$error":"#DIV/0!"}},{"$f":"AVERAGE(Data!EP64:EP80)","v":116.76470588235294},{"$f":"AVERAGE(Data!EQ64:EQ80)","v":119.88235294117646},{"$f":"AVERAGE(Data!ER64:ER80)","v":104.11764705882354},{"$f":"AVERAGE(Data!ES64:ES80)","v":149.35294117647058},{"$f":"AVERAGE(Data!ET64:ET80)","v":0.42111764705882354},{"$f":"AVERAGE(Data!EU64:EU80)","v":0.36517647058823532},{"$f":"AVERAGE(Data!EV64:EV80)","v":0.52558823529411758},{"$f":"AVERAGE(Data!EW64:EW80)","v":116.76470588235294},{"$f":"AVERAGE(Data!GW64:GW80)","v":0.58006889881242074},{"$f":"AVERAGE(Data!EY64:EY80)","v":0.63989317979246729},{"$f":"AVERAGE(Data!EZ64:EZ80)","v":0.62138052053803905},{"$f":"AVERAGE(Data!FA64:FA80)","v":0.77706755104873704},{"$f":"AVERAGE(Data!FB64:FB80)","v":0.7557019236544994},{"$f":"AVERAGE(Data!FC64:FC80)","v":0.7410479505881763},{"$f":"AVERAGE(Data!FD64:FD80)","v":0.76852410145602301},{"$f":"AVERAGE(Data!FE64:FE80)","v":0.60576558376822354},{"$f":"AVERAGE(Data!FF64:FF80)","v":0.63925508551183607},{"$f":"AVERAGE(Data!FG64:FG80)","v":5.7638361910932337E-3},{"$f":"AVERAGE(Data!FH64:FH80)","v":0.56270280452724131},{"$f":"AVERAGE(Data!FI64:FI80)","v":0.77184618049556686},{"$f":"AVERAGE(Data!FJ64:FJ80)","v":0.70000209625900101},{"$f":"AVERAGE(Data!FK64:FK80)","v":0.53434603751871979},{"$f":"AVERAGE(Data!FL64:FL80)","v":0.68991927048700197},{"$f":"AVERAGE(Data!FM64:FM80)","v":0.50366915400490486},{"$f":"AVERAGE(Data!FN64:FN80)","v":0.59863039379408467},{"$f":"AVERAGE(Data!FO64:FO80)","v":0.40073408821493173},{"$f":"AVERAGE(Data!FP64:FP80)","v":0.47444545050760262},{"$f":"AVERAGE(Data!FQ64:FQ80)","v":0.28339498421578863},{"$f":"AVERAGE(Data!FR64:FR80)","v":0.70645216605418937},{"$f":"AVERAGE(Data!FS64:FS80)","v":0.72567771762543942},{"$f":"AVERAGE(Data!FT64:FT80)","v":0.68990615231681762},{"$f":"AVERAGE(Data!FU64:FU80)","v":0.28266304884152971},{"$f":"AVERAGE(Data!FV64:FV80)","v":0.61410423589331464},{"$f":"AVERAGE(Data!FW64:FW80)","v":0.3748308870890984},{"$f":"AVERAGE(Data!FX64:FX80)","v":0.26906234026682552},{"$f":"AVERAGE(Data!FY64:FY80)","v":0.49175120022114516},{"$f":"AVERAGE(Data!FZ64:FZ80)","v":0.20303320324468033},{"$f":"AVERAGE(Data!GA64:GA80)","v":0.55401815682259437},{"$f":"AVERAGE(Data!GB64:GB80)","v":0.90255581970316956},{"$f":"AVERAGE(Data!GC64:GC80)","v":0.834254850944809},{"$f":"AVERAGE(Data!GD64:GD80)","v":0.18761077852893435},{"$f":"AVERAGE(Data!GE64:GE80)","v":0.77184618049556686},{"$f":"AVERAGE(Data!GF64:GF80)","v":0.40079525685120465},{"$f":"AVERAGE(Data!GG64:GG80)","v":0.36426083376099205},{"$f":"AVERAGE(Data!GH64:GH80)","v":0.8641427379903438},{"$f":"AVERAGE(Data!GI64:GI80)","v":0.6820898365167789},{"$f":"AVERAGE(Data!GJ64:GJ80)","v":0.8975810380639847},{"$f":"AVERAGE(Data!GK64:GK80)","v":0.88416521614265919},{"$f":"AVERAGE(Data!GL64:GL80)","v":0.42786410254881574},{"$f":"AVERAGE(Data!GM64:GM80)","v":0.67944708379308127},{"$f":"AVERAGE(Data!GN64:GN80)","v":0.70205892899575162},{"$f":"AVERAGE(Data!GO64:GO80)","v":0.54585997165970168}]
["E05004870","29UBHC","Bockhanger","Dover",4,{"$f":"AVERAGE(Data!G81:G101)","v":0.84246289004882391},{"$f":"AVERAGE(Data!H81:H101)","v":0.9966374713229017},{"$f":"AVERAGE(Data!I81:I101)","v":0.95075783139728054},{"$f":"AVERAGE(Data!J81:J101)","v":0.92038443490098965},{"$f":"AVERAGE(Data!K81:K101)","v":0.90286319128125081},{"$f":"AVERAGE(Data!L81:L101)","v":0.96922188725309355},{"$f":"AVERAGE(Data!M81:M101)","v":0.89023533409989519},{"$f":"AVERAGE(Data!N81:N101)","v":0.79643088061186162},{"$f":"AVERAGE(Data!O81:O101)","v":0.61447564260200294},{"$f":"AVERAGE(Data!P81:P101)","v":0.71658353656360196},{"$f":"AVERAGE(Data!Q81:Q101)","v":0.98782173303694165},{"$f":"AVERAGE(Data!R81:R101)","v":0.76076171611320054},{"$f":"AVERAGE(Data!S81:S101)","v":0.7907036090693379},{"$f":"AVERAGE(Data!T81:T101)","v":0.89387030141813317},{"$f":"AVERAGE(Data!U81:U101)","v":0.83289538889382531},{"$f":"AVERAGE(Data!V81:V101)","v":0.85692179773231725},{"$f":"AVERAGE(Data!W81:W101)","v":0.99420611235283707},{"$f":"AVERAGE(Data!X81:X101)","v":0.9768715847073518},{"$f":"AVERAGE(Data!Y81:Y101)","v":1.0611245448453446},{"$f":"AVERAGE(Data!Z81:Z101)","v":0.9589736011728236},{"$f":"AVERAGE(Data!AA81:AA101)","v":0.85204464087247278},{"$f":"AVERAGE(Data!AB81:AB101)","v":0.82914025890927923},{"$f":"AVERAGE(Data!AC81:AC101)","v":0.90786258477888659},{"$f":"AVERAGE(Data!AD81:AD101)","v":0.53383085330386149},{"$f":"AVERAGE(Data!AE81:AE101)","v":0.73677900535156926},{"$f":"AVERAGE(Data!AF81:AF101)","v":0.70757775668623557},{"$f":"AVERAGE(Data!AG81:AG101)","v":1.0737017284645813},{"$f":"AVERAGE(Data!AH81:AH101)","v":0.95243525392579953},{"$f":"AVERAGE(Data!AI81:AI101)","v":0.99331589890115224},{"$f":"AVERAGE(Data!AJ81:AJ101)","v":0.96420516478560914},{"$f":"AVERAGE(Data!AK81:AK101)","v":1.0926095092454935},{"$f":"AVERAGE(Data!AL81:AL101)","v":0.87842659913619481},{"$f":"AVERAGE(Data!AM81:AM101)","v":0.98782173303694165},{"$f":"AVERAGE(Data!AN81:AN101)","v":0.95051466640735405},{"$f":"AVERAGE(Data!AO81:AO101)","v":1.1949947001489929},{"$f":"AVERAGE(Data!AP81:AP101)","v":1.0401140390778476},{"$f":"AVERAGE(Data!AQ81:AQ101)","v":1.0340432666136221},{"$f":"AVERAGE(Data!AR81:AR101)","v":1.0387686006233972},{"$f":"AVERAGE(Data!AS81:AS101)","v":1.0209356821581779},{"$f":"AVERAGE(Data!AT81:AT101)","v":0.9859749605189817},{"$f":"AVERAGE(Data!AU81:AU101)","v":0.9299527309230019},{"$f":"AVERAGE(Data!AV81:AV101)","v":163.1904761904762},{"$f":"AVERAGE(Data!AW81:AW101)","v":0.57461904761904758},{"$f":"AVERAGE(Data!AX81:AX101)","v":{"$error":"#DIV/0!"}},{"$f":"AVERAGE(Data!AY81:AY101)","v":{"$error":"#DIV/0!"}},{"$f":"AVERAGE(Data!AZ81:AZ101)","v":{"$error":"#DIV/0!"}},{"$f":"AVERAGE(Data!BA81:BA101)","v":{"$error":"#DIV/0!"}},{"$f":"AVERAGE(Data!BB81:BB101)","v":0.89582714562941812},{"$f":"AVERAGE(Data!BC81:BC101)","v":187.61904761904762},{"$f":"AVERAGE(Data!BD81:BD101)","v":0.66123809523809529},{"$f":"AVERAGE(Data!BE81:BE101)","v":{"$error":"#DIV/0!"}},{"$f":"AVERAGE(Data!BF81:BF101)","v":{"$error":"#DIV/0!"}},{"$f":"AVERAGE(Data!BG81:BG101)","v":{"$error":"#DIV/0!"}},{"$f":"AVERAGE(Data!BH81:BH101)","v":{"$error":"#DIV/0!"}},{"$f":"AVERAGE(Data!BI81:BI101)","v":0.80675421567867023},{"$f":"AVERAGE(Data!BJ81:BJ101)","v":211.95238095238096},{"$f":"AVERAGE(Data!BK81:BK101)","v":0.74757142857142866},{"$f":"AVERAGE(Data!BL81:BL101)","v":{"$error":"#DIV/0!"}},{"$f":"AVERAGE(Data!BM81:BM101)","v":{"$error":"#DIV/0!"}},{"$f":"AVERAGE(Data!BN81:BN101)","v":{"$error":"#DIV/0!"}},{"$f":"AVERAGE(Data!BO81:BO101)","v":{"$error":"#DIV/0!"}},{"$f":"AVERAGE(Data!BP81:BP101)","v":1.0107340806351777},{"$f":"AVERAGE(Data!BQ81:BQ101)","v":139.71428571428572},{"$f":"AVERAGE(Data!BR81:BR101)","v":0.49138095238095236},{"$f":"AVERAGE(Data!BS81:BS101)","v":{"$error":"#DIV/0!"}},{"$f":"AVERAGE(Data!BT81:BT101)","v":{"$error":"#DIV/0!"}},{"$f":"AVERAGE(Data!BU81:BU101)","v":{"$error":"#DIV/0!"}},{"$f":"AVERAGE(Data!BV81:BV101)","v":{"$error":"#DIV/0!"}},{"$f":"AVERAGE(Data!BW81:BW101)","v":0.81637038780746485},{"$f":"AVERAGE(Data!BX81:BX101)","v":213.52380952380952},{"$f":"AVERAGE(Data!BY81:BY101)","v":0.75319047619047608},{"$f":"AVERAGE(Data!BZ81:BZ101)","v":{"$error":"#DIV/0!"}},{"$f":"AVERAGE(Data!CA81:CA101)","v":{"$error":"#DIV/0!"}},{"$f":"AVERAGE(Data!CB81:CB101)","v":{"$error":"#DIV/0!"}},{"$f":"AVERAGE(Data!CC81:CC101)","v":{"$error":"#DIV/0!"}},{"$f":"AVERAGE(Data!CD81:CD101)","v":0.86762343610704651},{"$f":"AVERAGE(Data!CE81:CE101)","v":173.85714285714286},{"$f":"AVERAGE(Data!CF81:CF101)","v":0.61247619047619051},{"$f":"AVERAGE(Data!CG81:CG101)","v":{"$error":"#DIV/0!"}},{"$f":"AVERAGE(Data!CH81:CH101)","v":{"$error":"#DIV/0!"}},{"$f":"AVERAGE(Data!CI81:CI101)","v":{"$error":"#DIV/0!"}},{"$f":"AVERAGE(Data!CJ81:CJ101)","v":{"$error":"#DIV/0!"}},{"$f":"AVERAGE(Data!CK81:CK101)","v":1.0167101909774183},{"$f":"AVERAGE(Data!CL81:CL101)","v":136.66666666666666},{"$f":"AVERAGE(Data!CM81:CM101)","v":0.48066666666666674},{"$f":"AVERAGE(Data!CN81:CN101)","v":{"$error":"#DIV/0!"}},{"$f":"AVERAGE(Data!CO81:CO101)","v":{"$error":"#DIV/0!"}},{"$f":"AVERAGE(Data!CP81:CP101)","v":{"$error":"#DIV/0!"}},{"$f":"AVERAGE(Data!CQ81:CQ101)","v":{"$error":"#DIV/0!"}},{"$f":"AVERAGE(Data!CR81:CR101)","v":0.93312416608656812},{"$f":"AVERAGE(Data!CS81:CS101)","v":160.66666666666666},{"$f":"AVERAGE(Data!CT81:CT101)","v":0.5657619047619048},{"$f":"AVERAGE(Data!CU81:CU101)","v":{"$error":"#DIV/0!"}},{"$f":"AVERAGE(Data!CV81:CV101)","v":{"$error":"#DIV/0!"}},{"$f":"AVERAGE(Data!CW81:CW101)","v":{"$error":"#DIV/0!"}},{"$f":"AVERAGE(Data!CX81:CX101)","v":{"$error":"#DIV/0!"}},{"$f":"AVERAGE(Data!CY81:CY101)","v":1.0727546832781736},{"$f":"AVERAGE(Data!CZ81:CZ101)","v":96.047619047619051},{"$f":"AVERAGE(Data!DA81:DA101)","v":0.33657142857142858},{"$f":"AVERAGE(Data!DB81:DB101)","v":{"$error":"#DIV/0!"}},{"$f":"AVERAGE(Data!DC81:DC101)","v":{"$error":"#DIV/0!"}},{"$f":"AVERAGE(Data!DD81:DD101)","v":{"$error":"#DIV/0!"}},{"$f":"AVERAGE(Data!DE81:DE101)","v":{"$error":"#DIV/0!"}},{"$f":"AVERAGE(Data!DF81:DF101)","v":1.0239673097984054},{"$f":"AVERAGE(Data!DG81:DG101)","v":127.95238095238095},{"$f":"AVERAGE(Data!DH81:DH101)","v":0.44971428571428568},{"$f":"AVERAGE(Data!DI81:DI101)","v":{"$error":"#DIV/0!"}},{"$f":"AVERAGE(Data!DJ81:DJ101)","v":{"$error":"#DIV/0!"}},{"$f":"AVERAGE(Data!DK81:DK101)","v":{"$error":"#DIV/0!"}},{"$f":"AVERAGE(Data!DL81:DL101)","v":{"$error":"#DIV/0!"}},{"$f":"AVERAGE(Data!DM81:DM101)","v":0.88185420464478914},{"$f":"AVERAGE(Data!DN81:DN101)","v":187.76190476190476},{"$f":"AVERAGE(Data!DO81:DO101)","v":0.66171428571428581},{"$f":"AVERAGE(Data!DP81:DP101)","v":{"$error":"#DIV/0!"}},{"$f":"AVERAGE(Data!DQ81:DQ101)","v":{"$error":"#DIV/0!"}},{"$f":"AVERAGE(Data!DR81:DR101)","v":{"$error":"#DIV/0!"}},{"$f":"AVERAGE(Data!DS81:DS101)","v":{"$error":"#DIV/0!"}},{"$f":"AVERAGE(Data!DT81:DT101)","v":0.83914952038505675},{"$f":"AVERAGE(Data!DU81:DU101)","v":200.8095238095238},{"$f":"AVERAGE(Data!DV81:DV101)","v":0.70804761904761904},{"$f":"AVERAGE(Data!DW81:DW101)","v":{"$error":"#DIV/0!"}},{"$f":"AVERAGE(Data!DX81:DX101)","v":{"$error":"#DIV/0!"}},{"$f":"AVERAGE(Data!DY81:DY101)","v":{"$error":"#DIV/0!"}},{"$f":"AVERAGE(Data!DZ81:DZ101)","v":{"$error":"#DIV/0!"}},{"$f":"AVERAGE(Data!EA81:EA101)","v":1.0151437350544805},{"$f":"AVERAGE(Data!EB81:EB101)","v":126.61904761904762},{"$f":"AVERAGE(Data!EC81:EC101)","v":0.44495238095238093},{"$f":"AVERAGE(Data!ED81:ED101)","v":{"$error":"#DIV/0!"}},{"$f":"AVERAGE(Data!EE81:EE101)","v":{"$error":"#DIV/0!"}},{"$f":"AVERAGE(Data!EF81:EF101)","v":{"$error":"#DIV/0!"}},{"$f":"AVERAGE(Data!EG81:EG101)","v":{"$error":"#DIV/0!"}},{"$f":"AVERAGE(Data!EH81:EH101)","v":0.91223250980925674},{"$f":"AVERAGE(Data!EI81:EI101)","v":190.1904761904762},{"$f":"AVERAGE(Data!EJ81:EJ101)","v":0.67038095238095241},{"$f":"AVERAGE(Data!EK81:EK101)","v":{"$error":"#DIV/0!"}},{"$f":"AVERAGE(Data!EL81:EL101)","v":{"$error":"#DIV/0!"}},{"$f":"AVERAGE(Data!EM81:EM101)","v":{"$error":"#DIV/0!"}},{"$f":"AVERAGE(Data!EN81:EN101)","v":{"$error":"#DIV/0!"}},{"$f":"AVERAGE(Data!EO81:EO101)","v":{"$error":"#DIV/0!"}},{"$f":"AVERAGE(Data!EP81:EP101)","v":93.80952380952381},{"$f":"AVERAGE(Data!EQ81:EQ101)","v":96.238095238095241},{"$f":"AVERAGE(Data!ER81:ER101)","v":83.19047619047619},{"$f":"AVERAGE(Data!ES81:ES101)","v":157.38095238095238},{"$f":"AVERAGE(Data!ET81:ET101)","v":0.33728571428571424},{"$f":"AVERAGE(Data!EU81:EU101)","v":0.29095238095238091},{"$f":"AVERAGE(Data!EV81:EV101)","v":0.5540952380952382},{"$f":"AVERAGE(Data!EW81:EW101)","v":93.80952380952381},{"$f":"AVERAGE(Data!GW81:GW101)","v":0.54959516149801602},{"$f":"AVERAGE(Data!EY81:EY101)","v":0.49174488843965941},{"$f":"AVERAGE(Data!EZ81:EZ101)","v":0.62322552260181907},{"$f":"AVERAGE(Data!FA81:FA101)","v":0.7175809768460395},{"$f":"AVERAGE(Data!FB81:FB101)","v":0.63907613772375194},{"$f":"AVERAGE(Data!FC81:FC101)","v":0.64009659098110583},{"$f":"AVERAGE(Data!FD81:FD101)","v":0.73574138521974197},{"$f":"AVERAGE(Data!FE81:FE101)","v":0.58663789792718835},{"$f":"AVERAGE(Data!FF81:FF101)","v":0.45429336195664954},{"$f":"AVERAGE(Data!FG81:FG101)","v":0.3115796833300648},{"$f":"AVERAGE(Data!FH81:FH101)","v":0.40507508813277482},{"$f":"AVERAGE(Data!FI81:FI101)","v":0.75365765451132938},{"$f":"AVERAGE(Data!FJ81:FJ101)","v":0.48887628215806178},{"$f":"AVERAGE(Data!FK81:FK101)","v":0.3448845835905241},{"$f":"AVERAGE(Data!FL81:FL101)","v":0.55569836237812908},{"$f":"AVERAGE(Data!FM81:FM101)","v":0.44495044552748475},{"$f":"AVERAGE(Data!FN81:FN101)","v":0.51180529795554885},{"$f":"AVERAGE(Data!FO81:FO101)","v":0.48247028757378724},{"$f":"AVERAGE(Data!FP81:FP101)","v":0.51395833836878857},{"$f":"AVERAGE(Data!FQ81:FQ101)","v":0.40990619774637882},{"$f":"AVERAGE(Data!FR81:FR101)","v":0.69493485473074357},{"$f":"AVERAGE(Data!FS81:FS101)","v":0.52621466291414998},{"$f":"AVERAGE(Data!FT81:FT101)","v":0.52626549609668039},{"$f":"AVERAGE(Data!FU81:FU101)","v":0.51002169292393451},{"$f":"AVERAGE(Data!FV81:FV101)","v":0.32122664352845681},{"$f":"AVERAGE(Data!FW81:FW101)","v":0.29854597012621303},{"$f":"AVERAGE(Data!FX81:FX101)","v":0.20861864393702442},{"$f":"AVERAGE(Data!FY81:FY101)","v":0.50002834021278908},{"$f":"AVERAGE(Data!FZ81:FZ101)","v":0.33162729313609435},{"$f":"AVERAGE(Data!GA81:GA101)","v":0.58492445564250994},{"$f":"AVERAGE(Data!GB81:GB101)","v":0.7859165168593597},{"$f":"AVERAGE(Data!GC81:GC101)","v":0.79033840531464705},{"$f":"AVERAGE(Data!GD81:GD101)","v":0.12118112044661397},{"$f":"AVERAGE(Data!GE81:GE101)","v":0.75365765451132938},{"$f":"AVERAGE(Data!GF81:GF101)","v":0.32280466486939785},{"$f":"AVERAGE(Data!GG81:GG101)","v":0.57128414948005568},{"$f":"AVERAGE(Data!GH81:GH101)","v":0.90510676068046469},{"$f":"AVERAGE(Data!GI81:GI101)","v":0.75575892842239123},{"$f":"AVERAGE(Data!GJ81:GJ101)","v":0.92385107419854773},{"$f":"AVERAGE(Data!GK81:GK101)","v":0.90410015181789827},{"$f":"AVERAGE(Data!GL81:GL101)","v":0.53613999710251348},{"$f":"AVERAGE(Data!GM81:GM101)","v":0.61085046262917275},{"$f":"AVERAGE(Data!GN81:GN101)","v":0.61116907476168747},{"$f":"AVERAGE(Data!GO81:GO101)","v":0.47706592469798975}]
["E05004871","29UBHD","Boughton Aluph and Eastwell","Gravesham",5,{"$f":"AVERAGE(Data!G102:G119)","v":1.029650847032141},{"$f":"AVERAGE(Data!H102:H119)","v":0.94748281245913801},{"$f":"AVERAGE(Data!I102:I119)","v":0.94252843945348808},{"$f":"AVERAGE(Data!J102:J119)","v":0.60544143922890836},{"$f":"AVERAGE(Data!K102:K119)","v":1.0186150150583528},{"$f":"AVERAGE(Data!L102:L119)","v":0.96797463155539532},{"$f":"AVERAGE(Data!M102:M119)","v":0.93171567904993402},{"$f":"AVERAGE(Data!N102:N119)","v":0.47243286112813443},{"$f":"AVERAGE(Data!O102:O119)","v":0.96935075409514737},{"$f":"AVERAGE(Data!P102:P119)","v":0.86982073581916797},{"$f":"AVERAGE(Data!Q102:Q119)","v":1.0456285490615262},{"$f":"AVERAGE(Data!R102:R119)","v":0.95183370220624275},{"$f":"AVERAGE(Data!S102:S119)","v":1.5819700969744679},{"$f":"AVERAGE(Data!T102:T119)","v":1.1919542971902541},{"$f":"AVERAGE(Data!U102:U119)","v":0.94863765141573131},{"$f":"AVERAGE(Data!V102:V119)","v":0.80777605132288943},{"$f":"AVERAGE(Data!W102:W119)","v":0.97745485905472174},{"$f":"AVERAGE(Data!X102:X119)","v":1.0168585261251486},{"$f":"AVERAGE(Data!Y102:Y119)","v":0.87638015939633851},{"$f":"AVERAGE(Data!Z102:Z119)","v":0.96197539512640873},{"$f":"AVERAGE(Data!AA102:AA119)","v":1.0665080468203603},{"$f":"AVERAGE(Data!AB102:AB119)","v":0.97543679276816009},{"$f":"AVERAGE(Data!AC102:AC119)","v":0.15475833015269339},{"$f":"AVERAGE(Data!AD102:AD119)","v":0.78772987041587339},{"$f":"AVERAGE(Data!AE102:AE119)","v":0.89838606503338569},{"$f":"AVERAGE(Data!AF102:AF119)","v":0.90449377425837596},{"$f":"AVERAGE(Data!AG102:AG119)","v":1.1220028551487558},{"$f":"AVERAGE(Data!AH102:AH119)","v":0.75101029056366408},{"$f":"AVERAGE(Data!AI102:AI119)","v":1.2743273229481284},{"$f":"AVERAGE(Data!AJ102:AJ119)","v":1.0787292826558332},{"$f":"AVERAGE(Data!AK102:AK119)","v":1.1400058915202269},{"$f":"AVERAGE(Data!AL102:AL119)","v":0.72364644394007049},{"$f":"AVERAGE(Data!AM102:AM119)","v":1.0456285490615262},{"$f":"AVERAGE(Data!AN102:AN119)","v":1.0032567981664331},{"$f":"AVERAGE(Data!AO102:AO119)","v":0.95326746075590074},{"$f":"AVERAGE(Data!AP102:AP119)","v":1.0141526681714972},{"$f":"AVERAGE(Data!AQ102:AQ119)","v":0.96496070753458141},{"$f":"AVERAGE(Data!AR102:AR119)","v":1.0037484790274716},{"$f":"AVERAGE(Data!AS102:AS119)","v":1.0190615347288174},{"$f":"AVERAGE(Data!AT102:AT119)","v":0.76623913429876522},{"$f":"AVERAGE(Data!AU102:AU119)","v":0.97322069964825575},{"$f":"AVERAGE(Data!AV102:AV119)","v":156},{"$f":"AVERAGE(Data!AW102:AW119)","v":0.54911111111111099},{"$f":"AVERAGE(Data!AX102:AX119)","v":{"$error":"#DIV/0!"}},{"$f":"AVERAGE(Data!AY102:AY119)","v":{"$error":"#DIV/0!"}},{"$f":"AVERAGE(Data!AZ102:AZ119)","v":{"$error":"#DIV/0!"}},{"$f":"AVERAGE(Data!BA102:BA119)","v":{"$error":"#DIV/0!"}},{"$f":"AVERAGE(Data!BB102:BB119)","v":0.79923592520414499},{"$f":"AVERAGE(Data!BC102:BC119)","v":212.33333333333334},{"$f":"AVERAGE(Data!BD102:BD119)","v":0.74900000000000011},{"$f":"AVERAGE(Data!BE102:BE119)","v":{"$error":"#DIV/0!"}},{"$f":"AVERAGE(Data!BF102:BF119)","v":{"$error":"#DIV/0!"}},{"$f":"AVERAGE(Data!BG102:BG119)","v":{"$error":"#DIV/0!"}},{"$f":"AVERAGE(Data!BH102:BH119)","v":{"$error":"#DIV/0!"}},{"$f":"AVERAGE(Data!BI102:BI119)","v":1.0458714797606783},{"$f":"AVERAGE(Data!BJ102:BJ119)","v":128.38888888888889},{"$f":"AVERAGE(Data!BK102:BK119)","v":0.45122222222222219},{"$f":"AVERAGE(Data!BL102:BL119)","v":{"$error":"#DIV/0!"}},{"$f":"AVERAGE(Data!BM102:BM119)","v":{"$error":"#DIV/0!"}},{"$f":"AVERAGE(Data!BN102:BN119)","v":{"$error":"#DIV/0!"}},{"$f":"AVERAGE(Data!BO102:BO119)","v":{"$error":"#DIV/0!"}},{"$f":"AVERAGE(Data!BP102:BP119)","v":0.95689784819206958},{"$f":"AVERAGE(Data!BQ102:BQ119)","v":151.11111111111111},{"$f":"AVERAGE(Data!BR102:BR119)","v":0.53188888888888908},{"$f":"AVERAGE(Data!BS102:BS119)","v":{"$error":"#DIV/0!"}},{"$f":"AVERAGE(Data!BT102:BT119)","v":{"$error":"#DIV/0!"}},{"$f":"AVERAGE(Data!BU102:BU119)","v":{"$error":"#DIV/0!"}},{"$f":"AVERAGE(Data!BV102:BV119)","v":{"$error":"#DIV/0!"}},{"$f":"AVERAGE(Data!BW102:BW119)","v":0.78928168705669921},{"$f":"AVERAGE(Data!BX102:BX119)","v":219.61111111111111},{"$f":"AVERAGE(Data!BY102:BY119)","v":0.7747222222222222},{"$f":"AVERAGE(Data!BZ102:BZ119)","v":{"$error":"#DIV/0!"}},{"$f":"AVERAGE(Data!CA102:CA119)","v":{"$error":"#DIV/0!"}},{"$f":"AVERAGE(Data!CB102:CB119)","v":{"$error":"#DIV/0!"}},{"$f":"AVERAGE(Data!CC102:CC119)","v":{"$error":"#DIV/0!"}},{"$f":"AVERAGE(Data!CD102:CD119)","v":0.91897324625104537},{"$f":"AVERAGE(Data!CE102:CE119)","v":164.33333333333334},{"$f":"AVERAGE(Data!CF102:CF119)","v":0.57861111111111108},{"$f":"AVERAGE(Data!CG102:CG119)","v":{"$error":"#DIV/0!"}},{"$f":"AVERAGE(Data!CH102:CH119)","v":{"$error":"#DIV/0!"}},{"$f":"AVERAGE(Data!CI102:CI119)","v":{"$error":"#DIV/0!"}},{"$f":"AVERAGE(Data!CJ102:CJ119)","v":{"$error":"#DIV/0!"}},{"$f":"AVERAGE(Data!CK102:CK119)","v":1.1643541657080629},{"$f":"AVERAGE(Data!CL102:CL119)","v":62.944444444444443},{"$f":"AVERAGE(Data!CM102:CM119)","v":0.21916666666666668},{"$f":"AVERAGE(Data!CN102:CN119)","v":{"$error":"#DIV/0!"}},{"$f":"AVERAGE(Data!CO102:CO119)","v":{"$error":"#DIV/0!"}},{"$f":"AVERAGE(Data!CP102:CP119)","v":{"$error":"#DIV/0!"}},{"$f":"AVERAGE(Data!CQ102:CQ119)","v":{"$error":"#DIV/0!"}},{"$f":"AVERAGE(Data!CR102:CR119)","v":0.88463749650079837},{"$f":"AVERAGE(Data!CS102:CS119)","v":158.16666666666666},{"$f":"AVERAGE(Data!CT102:CT119)","v":0.55683333333333329},{"$f":"AVERAGE(Data!CU102:CU119)","v":{"$error":"#DIV/0!"}},{"$f":"AVERAGE(Data!CV102:CV119)","v":{"$error":"#DIV/0!"}},{"$f":"AVERAGE(Data!CW102:CW119)","v":{"$error":"#DIV/0!"}},{"$f":"AVERAGE(Data!CX102:CX119)","v":{"$error":"#DIV/0!"}},{"$f":"AVERAGE(Data!CY102:CY119)","v":0.97826212946116697},{"$f":"AVERAGE(Data!CZ102:CZ119)","v":152.94444444444446},{"$f":"AVERAGE(Data!DA102:DA119)","v":0.53838888888888892},{"$f":"AVERAGE(Data!DB102:DB119)","v":{"$error":"#DIV/0!"}},{"$f":"AVERAGE(Data!DC102:DC119)","v":{"$error":"#DIV/0!"}},{"$f":"AVERAGE(Data!DD102:DD119)","v":{"$error":"#DIV/0!"}},{"$f":"AVERAGE(Data!DE102:DE119)","v":{"$error":"#DIV/0!"}},{"$f":"AVERAGE(Data!DF102:DF119)","v":0.95363250475222694},{"$f":"AVERAGE(Data!DG102:DG119)","v":177.33333333333334},{"$f":"AVERAGE(Data!DH102:DH119)","v":0.62477777777777777},{"$f":"AVERAGE(Data!DI102:DI119)","v":{"$error":"#DIV/0!"}},{"$f":"AVERAGE(Data!DJ102:DJ119)","v":{"$error":"#DIV/0!"}},{"$f":"AVERAGE(Data!DK102:DK119)","v":{"$error":"#DIV/0!"}},{"$f":"AVERAGE(Data!DL102:DL119)","v":{"$error":"#DIV/0!"}},{"$f":"AVERAGE(Data!DM102:DM119)","v":0.95544774250669084},{"$f":"AVERAGE(Data!DN102:DN119)","v":165.05555555555554},{"$f":"AVERAGE(Data!DO102:DO119)","v":0.58127777777777778},{"$f":"AVERAGE(Data!DP102:DP119)","v":{"$error":"#DIV/0!"}},{"$f":"AVERAGE(Data!DQ102:DQ119)","v":{"$error":"#DIV/0!"}},{"$f":"AVERAGE(Data!DR102:DR119)","v":{"$error":"#DIV/0!"}},{"$f":"AVERAGE(Data!DS102:DS119)","v":{"$error":"#DIV/0!"}},{"$f":"AVERAGE(Data!DT102:DT119)","v":0.84692238003196407},{"$f":"AVERAGE(Data!DU102:DU119)","v":200.88888888888889},{"$f":"AVERAGE(Data!DV102:DV119)","v":0.70827777777777756},{"$f":"AVERAGE(Data!DW102:DW119)","v":{"$error":"#DIV/0!"}},{"$f":"AVERAGE(Data!DX102:DX119)","v":{"$error":"#DIV/0!"}},{"$f":"AVERAGE(Data!DY102:DY119)","v":{"$error":"#DIV/0!"}},{"$f":"AVERAGE(Data!DZ102:DZ119)","v":{"$error":"#DIV/0!"}},{"$f":"AVERAGE(Data!EA102:EA119)","v":0.99891868940077111},{"$f":"AVERAGE(Data!EB102:EB119)","v":140.16666666666666},{"$f":"AVERAGE(Data!EC102:EC119)","v":0.49311111111111106},{"$f":"AVERAGE(Data!ED102:ED119)","v":{"$error":"#DIV/0!"}},{"$f":"AVERAGE(Data!EE102:EE119)","v":{"$error":"#DIV/0!"}},{"$f":"AVERAGE(Data!EF102:EF119)","v":{"$error":"#DIV/0!"}},{"$f":"AVERAGE(Data!EG102:EG119)","v":{"$error":"#DIV/0!"}},{"$f":"AVERAGE(Data!EH102:EH119)","v":0.94407082001810139},{"$f":"AVERAGE(Data!EI102:EI119)","v":176.22222222222223},{"$f":"AVERAGE(Data!EJ102:EJ119)","v":0.62094444444444441},{"$f":"AVERAGE(Data!EK102:EK119)","v":{"$error":"#DIV/0!"}},{"$f":"AVERAGE(Data!EL102:EL119)","v":{"$error":"#DIV/0!"}},{"$f":"AVERAGE(Data!EM102:EM119)","v":{"$error":"#DIV/0!"}},{"$f":"AVERAGE(Data!EN102:EN119)","v":{"$error":"#DIV/0!"}},{"$f":"AVERAGE(Data!EO102:EO119)","v":{"$error":"#DIV/0!"}},{"$f":"AVERAGE(Data!EP102:EP119)","v":107.77777777777777},{"$f":"AVERAGE(Data!EQ102:EQ119)","v":118.94444444444444},{"$f":"AVERAGE(Data!ER102:ER119)","v":83.111111111111114},{"$f":"AVERAGE(Data!ES102:ES119)","v":143.83333333333334},{"$f":"AVERAGE(Data!ET102:ET119)","v":0.41772222222222222},{"$f":"AVERAGE(Data!EU102:EU119)","v":0.29072222222222216},{"$f":"AVERAGE(Data!EV102:EV119)","v":0.50588888888888883},{"$f":"AVERAGE(Data!EW102:EW119)","v":107.77777777777777},{"$f":"AVERAGE(Data!GW102:GW119)","v":0.56812294436259902},{"$f":"AVERAGE(Data!EY102:EY119)","v":0.60100634328982427},{"$f":"AVERAGE(Data!EZ102:EZ119)","v":0.59248772792707105},{"$f":"AVERAGE(Data!FA102:FA119)","v":0.71136987353995695},{"$f":"AVERAGE(Data!FB102:FB119)","v":0.42039300310629879},{"$f":"AVERAGE(Data!FC102:FC119)","v":0.72216035049092087},{"$f":"AVERAGE(Data!FD102:FD119)","v":0.73479458692018207},{"$f":"AVERAGE(Data!FE102:FE119)","v":0.61397217846480512},{"$f":"AVERAGE(Data!FF102:FF119)","v":0.26948115399017947},{"$f":"AVERAGE(Data!FG102:FG119)","v":0.49152477341132145},{"$f":"AVERAGE(Data!FH102:FH119)","v":0.49169802715721667},{"$f":"AVERAGE(Data!FI102:FI119)","v":0.79776130998154882},{"$f":"AVERAGE(Data!FJ102:FJ119)","v":0.61166185378614824},{"$f":"AVERAGE(Data!FK102:FK119)","v":0.69001468045639869},{"$f":"AVERAGE(Data!FL102:FL119)","v":0.7410102449173519},{"$f":"AVERAGE(Data!FM102:FM119)","v":0.50678242582440813},{"$f":"AVERAGE(Data!FN102:FN119)","v":0.48245249884262198},{"$f":"AVERAGE(Data!FO102:FO119)","v":0.47434120659596385},{"$f":"AVERAGE(Data!FP102:FP119)","v":0.53499654061488811},{"$f":"AVERAGE(Data!FQ102:FQ119)","v":0.3385405235074227},{"$f":"AVERAGE(Data!FR102:FR119)","v":0.69711015052878755},{"$f":"AVERAGE(Data!FS102:FS119)","v":0.65866522178713161},{"$f":"AVERAGE(Data!FT102:FT119)","v":0.61912170123349153},{"$f":"AVERAGE(Data!FU102:FU119)","v":8.6940586452058238E-2},{"$f":"AVERAGE(Data!FV102:FV119)","v":0.47400748891665245},{"$f":"AVERAGE(Data!FW102:FW119)","v":0.36402983443492881},{"$f":"AVERAGE(Data!FX102:FX119)","v":0.26667636574525194},{"$f":"AVERAGE(Data!FY102:FY119)","v":0.52252241986825676},{"$f":"AVERAGE(Data!FZ102:FZ119)","v":0.2614933757968419},{"$f":"AVERAGE(Data!GA102:GA119)","v":0.75040097164495922},{"$f":"AVERAGE(Data!GB102:GB119)","v":0.8792642804890749},{"$f":"AVERAGE(Data!GC102:GC119)","v":0.82462254879657937},{"$f":"AVERAGE(Data!GD102:GD119)","v":9.9828815486801309E-2},{"$f":"AVERAGE(Data!GE102:GE119)","v":0.79776130998154882},{"$f":"AVERAGE(Data!GF102:GF119)","v":0.3407164412666393},{"$f":"AVERAGE(Data!GG102:GG119)","v":0.45572301741342247},{"$f":"AVERAGE(Data!GH102:GH119)","v":0.8825151876018974},{"$f":"AVERAGE(Data!GI102:GI119)","v":0.70526804229802864},{"$f":"AVERAGE(Data!GJ102:GJ119)","v":0.89270517997769494},{"$f":"AVERAGE(Data!GK102:GK119)","v":0.90244048117945808},{"$f":"AVERAGE(Data!GL102:GL119)","v":0.41665505077992659},{"$f":"AVERAGE(Data!GM102:GM119)","v":0.6349546482522842},{"$f":"AVERAGE(Data!GN102:GN119)","v":0.55216025459447726},{"$f":"AVERAGE(Data!GO102:GO119)","v":0.60161322679712703}]
["E05004872","29UBHE","Bybrook","Maidstone",6,{"$f":"AVERAGE(Data!G120:G145)","v":1.1176029806999592},{"$f":"AVERAGE(Data!H120:H145)","v":1.0273087980462425},{"$f":"AVERAGE(Data!I120:I145)","v":1.0557377637621821},{"$f":"AVERAGE(Data!J120:J145)","v":1.168302681264481},{"$f":"AVERAGE(Data!K120:K145)","v":1.0901732959663644},{"$f":"AVERAGE(Data!L120:L145)","v":1.0645146577466531},{"$f":"AVERAGE(Data!M120:M145)","v":1.0830252276889318},{"$f":"AVERAGE(Data!N120:N145)","v":1.2120004811116525},{"$f":"AVERAGE(Data!O120:O145)","v":1.0189890458873132},{"$f":"AVERAGE(Data!P120:P145)","v":1.3376077352961735},{"$f":"AVERAGE(Data!Q120:Q145)","v":0.88754977869853569},{"$f":"AVERAGE(Data!R120:R145)","v":1.1024751456327673},{"$f":"AVERAGE(Data!S120:S145)","v":1.1914435921022291},{"$f":"AVERAGE(Data!T120:T145)","v":1.0388791507407558},{"$f":"AVERAGE(Data!U120:U145)","v":1.1228884651799496},{"$f":"AVERAGE(Data!V120:V145)","v":1.0965583472145053},{"$f":"AVERAGE(Data!W120:W145)","v":1.0359632823712384},{"$f":"AVERAGE(Data!X120:X145)","v":1.0391930100920099},{"$f":"AVERAGE(Data!Y120:Y145)","v":0.98664394134511668},{"$f":"AVERAGE(Data!Z120:Z145)","v":1.0705509695483415},{"$f":"AVERAGE(Data!AA120:AA145)","v":1.1001521053206234},{"$f":"AVERAGE(Data!AB120:AB145)","v":1.0945344321981005},{"$f":"AVERAGE(Data!AC120:AC145)","v":0.76923380705792621},{"$f":"AVERAGE(Data!AD120:AD145)","v":1.245954563952633},{"$f":"AVERAGE(Data!AE120:AE145)","v":1.1317167973367044},{"$f":"AVERAGE(Data!AF120:AF145)","v":1.2107850515545122},{"$f":"AVERAGE(Data!AG120:AG145)","v":0.88460895257771044},{"$f":"AVERAGE(Data!AH120:AH145)","v":1.1133410112418765},{"$f":"AVERAGE(Data!AI120:AI145)","v":0.96261581061623314},{"$f":"AVERAGE(Data!AJ120:AJ145)","v":1.0185653902428076},{"$f":"AVERAGE(Data!AK120:AK145)","v":0.95826324305840049},{"$f":"AVERAGE(Data!AL120:AL145)","v":1.0256009567028079},{"$f":"AVERAGE(Data!AM120:AM145)","v":0.88754977869853569},{"$f":"AVERAGE(Data!AN120:AN145)","v":1.0318256079144801},{"$f":"AVERAGE(Data!AO120:AO145)","v":0.94574936654367447},{"$f":"AVERAGE(Data!AP120:AP145)","v":0.91755345791555598},{"$f":"AVERAGE(Data!AQ120:AQ145)","v":0.999402713423858},{"$f":"AVERAGE(Data!AR120:AR145)","v":0.9169371263121906},{"$f":"AVERAGE(Data!AS120:AS145)","v":0.93336529851548988},{"$f":"AVERAGE(Data!AT120:AT145)","v":1.0663145117648407},{"$f":"AVERAGE(Data!AU120:AU145)","v":1.0668831808361279},{"$f":"AVERAGE(Data!AV120:AV145)","v":119.07692307692308},{"$f":"AVERAGE(Data!AW120:AW145)","v":0.41823076923076924},{"$f":"AVERAGE(Data!AX120:AX145)","v":{"$error":"#DIV/0!"}},{"$f":"AVERAGE(Data!AY120:AY145)","v":{"$error":"#DIV/0!"}},{"$f":"AVERAGE(Data!AZ120:AZ145)","v":{"$error":"#DIV/0!"}},{"$f":"AVERAGE(Data!BA120:BA145)","v":{"$error":"#DIV/0!"}},{"$f":"AVERAGE(Data!BB120:BB145)","v":1.1236032687556166},{"$f":"AVERAGE(Data!BC120:BC145)","v":106.57692307692308},{"$f":"AVERAGE(Data!BD120:BD145)","v":0.37392307692307691},{"$f":"AVERAGE(Data!BE120:BE145)","v":{"$error":"#DIV/0!"}},{"$f":"AVERAGE(Data!BF120:BF145)","v":{"$error":"#DIV/0!"}},{"$f":"AVERAGE(Data!BG120:BG145)","v":{"$error":"#DIV/0!"}},{"$f":"AVERAGE(Data!BH120:BH145)","v":{"$error":"#DIV/0!"}},{"$f":"AVERAGE(Data!BI120:BI145)","v":1.0995489075940286},{"$f":"AVERAGE(Data!BJ120:BJ145)","v":106.34615384615384},{"$f":"AVERAGE(Data!BK120:BK145)","v":0.37303846153846154},{"$f":"AVERAGE(Data!BL120:BL145)","v":{"$error":"#DIV/0!"}},{"$f":"AVERAGE(Data!BM120:BM145)","v":{"$error":"#DIV/0!"}},{"$f":"AVERAGE(Data!BN120:BN145)","v":{"$error":"#DIV/0!"}},{"$f":"AVERAGE(Data!BO120:BO145)","v":{"$error":"#DIV/0!"}},{"$f":"AVERAGE(Data!BP120:BP145)","v":1.0206000779361217},{"$f":"AVERAGE(Data!BQ120:BQ145)","v":137.11538461538461},{"$f":"AVERAGE(Data!BR120:BR145)","v":0.48219230769230759},{"$f":"AVERAGE(Data!BS120:BS145)","v":{"$error":"#DIV/0!"}},{"$f":"AVERAGE(Data!BT120:BT145)","v":{"$error":"#DIV/0!"}},{"$f":"AVERAGE(Data!BU120:BU145)","v":{"$error":"#DIV/0!"}},{"$f":"AVERAGE(Data!BV120:BV145)","v":{"$error":"#DIV/0!"}},{"$f":"AVERAGE(Data!BW120:BW145)","v":1.0560851756155252},{"$f":"AVERAGE(Data!BX120:BX145)","v":132.46153846153845},{"$f":"AVERAGE(Data!BY120:BY145)","v":0.4656153846153846},{"$f":"AVERAGE(Data!BZ120:BZ145)","v":{"$error":"#DIV/0!"}},{"$f":"AVERAGE(Data!CA120:CA145)","v":{"$error":"#DIV/0!"}},{"$f":"AVERAGE(Data!CB120:CB145)","v":{"$error":"#DIV/0!"}},{"$f":"AVERAGE(Data!CC120:CC145)","v":{"$error":"#DIV/0!"}},{"$f":"AVERAGE(Data!CD120:CD145)","v":1.0851129531777011},{"$f":"AVERAGE(Data!CE120:CE145)","v":115},{"$f":"AVERAGE(Data!CF120:CF145)","v":0.4038076923076922},{"$f":"AVERAGE(Data!CG120:CG145)","v":{"$error":"#DIV/0!"}},{"$f":"AVERAGE(Data!CH120:CH145)","v":{"$error":"#DIV/0!"}},{"$f":"AVERAGE(Data!CI120:CI145)","v":{"$error":"#DIV/0!"}},{"$f":"AVERAGE(Data!CJ120:CJ145)","v":{"$error":"#DIV/0!"}},{"$f":"AVERAGE(Data!CK120:CK145)","v":0.97981481463914677},{"$f":"AVERAGE(Data!CL120:CL145)","v":151.76923076923077},{"$f":"AVERAGE(Data!CM120:CM145)","v":0.53411538461538455},{"$f":"AVERAGE(Data!CN120:CN145)","v":{"$error":"#DIV/0!"}},{"$f":"AVERAGE(Data!CO120:CO145)","v":{"$error":"#DIV/0!"}},{"$f":"AVERAGE(Data!CP120:CP145)","v":{"$error":"#DIV/0!"}},{"$f":"AVERAGE(Data!CQ120:CQ145)","v":{"$error":"#DIV/0!"}},{"$f":"AVERAGE(Data!CR120:CR145)","v":0.95657536770067209},{"$f":"AVERAGE(Data!CS120:CS145)","v":133.19230769230768},{"$f":"AVERAGE(Data!CT120:CT145)","v":0.46826923076923077},{"$f":"AVERAGE(Data!CU120:CU145)","v":{"$error":"#DIV/0!"}},{"$f":"AVERAGE(Data!CV120:CV145)","v":{"$error":"#DIV/0!"}},{"$f":"AVERAGE(Data!CW120:CW145)","v":{"$error":"#DIV/0!"}},{"$f":"AVERAGE(Data!CX120:CX145)","v":{"$error":"#DIV/0!"}},{"$f":"AVERAGE(Data!CY120:CY145)","v":0.98878748722907706},{"$f":"AVERAGE(Data!CZ120:CZ145)","v":146.65384615384616},{"$f":"AVERAGE(Data!DA120:DA145)","v":0.5159999999999999},{"$f":"AVERAGE(Data!DB120:DB145)","v":{"$error":"#DIV/0!"}},{"$f":"AVERAGE(Data!DC120:DC145)","v":{"$error":"#DIV/0!"}},{"$f":"AVERAGE(Data!DD120:DD145)","v":{"$error":"#DIV/0!"}},{"$f":"AVERAGE(Data!DE120:DE145)","v":{"$error":"#DIV/0!"}},{"$f":"AVERAGE(Data!DF120:DF145)","v":0.96671462158638677},{"$f":"AVERAGE(Data!DG120:DG145)","v":157.19230769230768},{"$f":"AVERAGE(Data!DH120:DH145)","v":0.55334615384615382},{"$f":"AVERAGE(Data!DI120:DI145)","v":{"$error":"#DIV/0!"}},{"$f":"AVERAGE(Data!DJ120:DJ145)","v":{"$error":"#DIV/0!"}},{"$f":"AVERAGE(Data!DK120:DK145)","v":{"$error":"#DIV/0!"}},{"$f":"AVERAGE(Data!DL120:DL145)","v":{"$error":"#DIV/0!"}},{"$f":"AVERAGE(Data!DM120:DM145)","v":1.0882556516235291},{"$f":"AVERAGE(Data!DN120:DN145)","v":107.07692307692308},{"$f":"AVERAGE(Data!DO120:DO145)","v":0.37565384615384623},{"$f":"AVERAGE(Data!DP120:DP145)","v":{"$error":"#DIV/0!"}},{"$f":"AVERAGE(Data!DQ120:DQ145)","v":{"$error":"#DIV/0!"}},{"$f":"AVERAGE(Data!DR120:DR145)","v":{"$error":"#DIV/0!"}},{"$f":"AVERAGE(Data!DS120:DS145)","v":{"$error":"#DIV/0!"}},{"$f":"AVERAGE(Data!DT120:DT145)","v":1.0689864100876032},{"$f":"AVERAGE(Data!DU120:DU145)","v":113.11538461538461},{"$f":"AVERAGE(Data!DV120:DV145)","v":0.39715384615384619},{"$f":"AVERAGE(Data!DW120:DW145)","v":{"$error":"#DIV/0!"}},{"$f":"AVERAGE(Data!DX120:DX145)","v":{"$error":"#DIV/0!"}},{"$f":"AVERAGE(Data!DY120:DY145)","v":{"$error":"#DIV/0!"}},{"$f":"AVERAGE(Data!DZ120:DZ145)","v":{"$error":"#DIV/0!"}},{"$f":"AVERAGE(Data!EA120:EA145)","v":0.97197860514240608},{"$f":"AVERAGE(Data!EB120:EB145)","v":166.34615384615384},{"$f":"AVERAGE(Data!EC120:EC145)","v":0.58584615384615379},{"$f":"AVERAGE(Data!ED120:ED145)","v":{"$error":"#DIV/0!"}},{"$f":"AVERAGE(Data!EE120:EE145)","v":{"$error":"#DIV/0!"}},{"$f":"AVERAGE(Data!EF120:EF145)","v":{"$error":"#DIV/0!"}},{"$f":"AVERAGE(Data!EG120:EG145)","v":{"$error":"#DIV/0!"}},{"$f":"AVERAGE(Data!EH120:EH145)","v":1.0490369583336088},{"$f":"AVERAGE(Data!EI120:EI145)","v":116.34615384615384},{"$f":"AVERAGE(Data!EJ120:EJ145)","v":0.40865384615384615},{"$f":"AVERAGE(Data!EK120:EK145)","v":{"$error":"#DIV/0!"}},{"$f":"AVERAGE(Data!EL120:EL145)","v":{"$error":"#DIV/0!"}},{"$f":"AVERAGE(Data!EM120:EM145)","v":{"$error":"#DIV/0!"}},{"$f":"AVERAGE(Data!EN120:EN145)","v":{"$error":"#DIV/0!"}},{"$f":"AVERAGE(Data!EO120:EO145)","v":{"$error":"#DIV/0!"}},{"$f":"AVERAGE(Data!EP120:EP145)","v":167.65384615384616},{"$f":"AVERAGE(Data!EQ120:EQ145)","v":176.92307692307693},{"$f":"AVERAGE(Data!ER120:ER145)","v":170.88461538461539},{"$f":"AVERAGE(Data!ES120:ES145)","v":117.65384615384616},{"$f":"AVERAGE(Data!ET120:ET145)","v":0.62334615384615388},{"$f":"AVERAGE(Data!EU120:EU145)","v":0.60184615384615381},{"$f":"AVERAGE(Data!EV120:EV145)","v":0.41315384615384604},{"$f":"AVERAGE(Data!EW120:EW145)","v":167.65384615384616},{"$f":"AVERAGE(Data!GW120:GW145)","v":0.62018401163890025},{"$f":"AVERAGE(Data!EY120:EY145)","v":0.6523439305822506},{"$f":"AVERAGE(Data!EZ120:EZ145)","v":0.64240516833666406},{"$f":"AVERAGE(Data!FA120:FA145)","v":0.79681419473594772},{"$f":"AVERAGE(Data!FB120:FB145)","v":0.8112201129467459},{"$f":"AVERAGE(Data!FC120:FC145)","v":0.77289252354660376},{"$f":"AVERAGE(Data!FD120:FD145)","v":0.80807862387111229},{"$f":"AVERAGE(Data!FE120:FE145)","v":0.7136805501164889},{"$f":"AVERAGE(Data!FF120:FF145)","v":0.69133905610777702},{"$f":"AVERAGE(Data!FG120:FG145)","v":0.51669466163041544},{"$f":"AVERAGE(Data!FH120:FH145)","v":0.75613176080007127},{"$f":"AVERAGE(Data!FI120:FI145)","v":0.67715526203245902},{"$f":"AVERAGE(Data!FJ120:FJ145)","v":0.70846618455287269},{"$f":"AVERAGE(Data!FK120:FK145)","v":0.51967706030508587},{"$f":"AVERAGE(Data!FL120:FL145)","v":0.6458469890536942},{"$f":"AVERAGE(Data!FM120:FM145)","v":0.59987091959178018},{"$f":"AVERAGE(Data!FN120:FN145)","v":0.6549306752459082},{"$f":"AVERAGE(Data!FO120:FO145)","v":0.50273428874691217},{"$f":"AVERAGE(Data!FP120:FP145)","v":0.546747311594035},{"$f":"AVERAGE(Data!FQ120:FQ145)","v":0.38113477677139451},{"$f":"AVERAGE(Data!FR120:FR145)","v":0.77579109747658082},{"$f":"AVERAGE(Data!FS120:FS145)","v":0.6794434721903635},{"$f":"AVERAGE(Data!FT120:FT145)","v":0.69471443433873437},{"$f":"AVERAGE(Data!FU120:FU145)","v":0.43214241351906685},{"$f":"AVERAGE(Data!FV120:FV145)","v":0.74973898584248633},{"$f":"AVERAGE(Data!FW120:FW145)","v":0.45857643433772366},{"$f":"AVERAGE(Data!FX120:FX145)","v":0.3569817354596842},{"$f":"AVERAGE(Data!FY120:FY145)","v":0.41196687550028277},{"$f":"AVERAGE(Data!FZ120:FZ145)","v":0.38765287653275976},{"$f":"AVERAGE(Data!GA120:GA145)","v":0.56684638757967265},{"$f":"AVERAGE(Data!GB120:GB145)","v":0.83022513561324318},{"$f":"AVERAGE(Data!GC120:GC145)","v":0.6931591176736247},{"$f":"AVERAGE(Data!GD120:GD145)","v":0.14148418682514888},{"$f":"AVERAGE(Data!GE120:GE145)","v":0.67715526203245902},{"$f":"AVERAGE(Data!GF120:GF145)","v":0.35041870613677822},{"$f":"AVERAGE(Data!GG120:GG145)","v":0.45212888594387945},{"$f":"AVERAGE(Data!GH120:GH145)","v":0.79845459905666138},{"$f":"AVERAGE(Data!GI120:GI145)","v":0.7304409284857043},{"$f":"AVERAGE(Data!GJ120:GJ145)","v":0.81549764654771806},{"$f":"AVERAGE(Data!GK120:GK145)","v":0.82655129293313345},{"$f":"AVERAGE(Data!GL120:GL145)","v":0.57982594096208107},{"$f":"AVERAGE(Data!GM120:GM145)","v":0.6971877645516209},{"$f":"AVERAGE(Data!GN120:GN145)","v":0.75944217331774577},{"$f":"AVERAGE(Data!GO120:GO145)","v":0.63484668915153608}]
["E05004873","29UBHF","Charing","Sevenoaks",7,{"$f":"AVERAGE(Data!G146:G171)","v":1.1815343571855259},{"$f":"AVERAGE(Data!H146:H171)","v":1.078009535557708},{"$f":"AVERAGE(Data!I146:I171)","v":1.1393980753032231},{"$f":"AVERAGE(Data!J146:J171)","v":1.4401796289550031},{"$f":"AVERAGE(Data!K146:K171)","v":1.1117640139931897},{"$f":"AVERAGE(Data!L146:L171)","v":1.1365454557045538},{"$f":"AVERAGE(Data!M146:M171)","v":1.1589709999755249},{"$f":"AVERAGE(Data!N146:N171)","v":1.3958347606397152},{"$f":"AVERAGE(Data!O146:O171)","v":1.9721300055083257},{"$f":"AVERAGE(Data!P146:P171)","v":1.7690140854298144},{"$f":"AVERAGE(Data!Q146:Q171)","v":1.0722044596075226},{"$f":"AVERAGE(Data!R146:R171)","v":1.1973108772436998},{"$f":"AVERAGE(Data!S146:S171)","v":1.0858044481994122},{"$f":"AVERAGE(Data!T146:T171)","v":1.128986003568283},{"$f":"AVERAGE(Data!U146:U171)","v":1.3878168197062051},{"$f":"AVERAGE(Data!V146:V171)","v":1.10162043915993},{"$f":"AVERAGE(Data!W146:W171)","v":1.1709037981457486},{"$f":"AVERAGE(Data!X146:X171)","v":1.1400156738735574},{"$f":"AVERAGE(Data!Y146:Y171)","v":1.1101628665689773},{"$f":"AVERAGE(Data!Z146:Z171)","v":1.1385491582845175},{"$f":"AVERAGE(Data!AA146:AA171)","v":0.99155085377472152},{"$f":"AVERAGE(Data!AB146:AB171)","v":1.1862852366399221},{"$f":"AVERAGE(Data!AC146:AC171)","v":1.2910896893724153},{"$f":"AVERAGE(Data!AD146:AD171)","v":1.6618511074924907},{"$f":"AVERAGE(Data!AE146:AE171)","v":1.3755396944729164},{"$f":"AVERAGE(Data!AF146:AF171)","v":1.2922930451705192},{"$f":"AVERAGE(Data!AG146:AG171)","v":0.7426994543948221},{"$f":"AVERAGE(Data!AH146:AH171)","v":1.3758679988700915},{"$f":"AVERAGE(Data!AI146:AI171)","v":0.98981478045025351},{"$f":"AVERAGE(Data!AJ146:AJ171)","v":0.92991300637980434},{"$f":"AVERAGE(Data!AK146:AK171)","v":0.86961504615567509},{"$f":"AVERAGE(Data!AL146:AL171)","v":1.0590638133941361},{"$f":"AVERAGE(Data!AM146:AM171)","v":1.0722044596075226},{"$f":"AVERAGE(Data!AN146:AN171)","v":0.800777879198453},{"$f":"AVERAGE(Data!AO146:AO171)","v":0.92220156454040014},{"$f":"AVERAGE(Data!AP146:AP171)","v":1.0728801413574083},{"$f":"AVERAGE(Data!AQ146:AQ171)","v":0.90126966388773155},{"$f":"AVERAGE(Data!AR146:AR171)","v":1.0614166578647253},{"$f":"AVERAGE(Data!AS146:AS171)","v":1.0747546172843159},{"$f":"AVERAGE(Data!AT146:AT171)","v":1.0331972349274707},{"$f":"AVERAGE(Data!AU146:AU171)","v":1.132980656015486},{"$f":"AVERAGE(Data!AV146:AV171)","v":96.34615384615384},{"$f":"AVERAGE(Data!AW146:AW171)","v":0.33757692307692305},{"$f":"AVERAGE(Data!AX146:AX171)","v":{"$error":"#DIV/0!"}},{"$f":"AVERAGE(Data!AY146:AY171)","v":{"$error":"#DIV/0!"}},{"$f":"AVERAGE(Data!AZ146:AZ171)","v":{"$error":"#DIV/0!"}},{"$f":"AVERAGE(Data!BA146:BA171)","v":{"$error":"#DIV/0!"}},{"$f":"AVERAGE(Data!BB146:BB171)","v":1.2486589718535974},{"$f":"AVERAGE(Data!BC146:BC171)","v":53.115384615384613},{"$f":"AVERAGE(Data!BD146:BD171)","v":0.18434615384615385},{"$f":"AVERAGE(Data!BE146:BE171)","v":{"$error":"#DIV/0!"}},{"$f":"AVERAGE(Data!BF146:BF171)","v":{"$error":"#DIV/0!"}},{"$f":"AVERAGE(Data!BG146:BG171)","v":{"$error":"#DIV/0!"}},{"$f":"AVERAGE(Data!BH146:BH171)","v":{"$error":"#DIV/0!"}},{"$f":"AVERAGE(Data!BI146:BI171)","v":1.3393608923028992},{"$f":"AVERAGE(Data!BJ146:BJ171)","v":35.153846153846153},{"$f":"AVERAGE(Data!BK146:BK171)","v":0.12073076923076922},{"$f":"AVERAGE(Data!BL146:BL171)","v":{"$error":"#DIV/0!"}},{"$f":"AVERAGE(Data!BM146:BM171)","v":{"$error":"#DIV/0!"}},{"$f":"AVERAGE(Data!BN146:BN171)","v":{"$error":"#DIV/0!"}},{"$f":"AVERAGE(Data!BO146:BO171)","v":{"$error":"#DIV/0!"}},{"$f":"AVERAGE(Data!BP146:BP171)","v":1.1403607795294277},{"$f":"AVERAGE(Data!BQ146:BQ171)","v":112.11538461538461},{"$f":"AVERAGE(Data!BR146:BR171)","v":0.39353846153846156},{"$f":"AVERAGE(Data!BS146:BS171)","v":{"$error":"#DIV/0!"}},{"$f":"AVERAGE(Data!BT146:BT171)","v":{"$error":"#DIV/0!"}},{"$f":"AVERAGE(Data!BU146:BU171)","v":{"$error":"#DIV/0!"}},{"$f":"AVERAGE(Data!BV146:BV171)","v":{"$error":"#DIV/0!"}},{"$f":"AVERAGE(Data!BW146:BW171)","v":1.2538652091128137},{"$f":"AVERAGE(Data!BX146:BX171)","v":44.692307692307693},{"$f":"AVERAGE(Data!BY146:BY171)","v":0.15450000000000003},{"$f":"AVERAGE(Data!BZ146:BZ171)","v":{"$error":"#DIV/0!"}},{"$f":"AVERAGE(Data!CA146:CA171)","v":{"$error":"#DIV/0!"}},{"$f":"AVERAGE(Data!CB146:CB171)","v":{"$error":"#DIV/0!"}},{"$f":"AVERAGE(Data!CC146:CC171)","v":{"$error":"#DIV/0!"}},{"$f":"AVERAGE(Data!CD146:CD171)","v":1.1966000482270873},{"$f":"AVERAGE(Data!CE146:CE171)","v":88.42307692307692},{"$f":"AVERAGE(Data!CF146:CF171)","v":0.30950000000000011},{"$f":"AVERAGE(Data!CG146:CG171)","v":{"$error":"#DIV/0!"}},{"$f":"AVERAGE(Data!CH146:CH171)","v":{"$error":"#DIV/0!"}},{"$f":"AVERAGE(Data!CI146:CI171)","v":{"$error":"#DIV/0!"}},{"$f":"AVERAGE(Data!CJ146:CJ171)","v":{"$error":"#DIV/0!"}},{"$f":"AVERAGE(Data!CK146:CK171)","v":0.92978094432857739},{"$f":"AVERAGE(Data!CL146:CL171)","v":172.46153846153845},{"$f":"AVERAGE(Data!CM146:CM171)","v":0.60757692307692313},{"$f":"AVERAGE(Data!CN146:CN171)","v":{"$error":"#DIV/0!"}},{"$f":"AVERAGE(Data!CO146:CO171)","v":{"$error":"#DIV/0!"}},{"$f":"AVERAGE(Data!CP146:CP171)","v":{"$error":"#DIV/0!"}},{"$f":"AVERAGE(Data!CQ146:CQ171)","v":{"$error":"#DIV/0!"}},{"$f":"AVERAGE(Data!CR146:CR171)","v":1.0656341365008295},{"$f":"AVERAGE(Data!CS146:CS171)","v":122.57692307692308},{"$f":"AVERAGE(Data!CT146:CT171)","v":0.43065384615384616},{"$f":"AVERAGE(Data!CU146:CU171)","v":{"$error":"#DIV/0!"}},{"$f":"AVERAGE(Data!CV146:CV171)","v":{"$error":"#DIV/0!"}},{"$f":"AVERAGE(Data!CW146:CW171)","v":{"$error":"#DIV/0!"}},{"$f":"AVERAGE(Data!CX146:CX171)","v":{"$error":"#DIV/0!"}},{"$f":"AVERAGE(Data!CY146:CY171)","v":0.86148972186942663},{"$f":"AVERAGE(Data!CZ146:CZ171)","v":205.03846153846155},{"$f":"AVERAGE(Data!DA146:DA171)","v":0.72307692307692328},{"$f":"AVERAGE(Data!DB146:DB171)","v":{"$error":"#DIV/0!"}},{"$f":"AVERAGE(Data!DC146:DC171)","v":{"$error":"#DIV/0!"}},{"$f":"AVERAGE(Data!DD146:DD171)","v":{"$error":"#DIV/0!"}},{"$f":"AVERAGE(Data!DE146:DE171)","v":{"$error":"#DIV/0!"}},{"$f":"AVERAGE(Data!DF146:DF171)","v":1.0287036630643305},{"$f":"AVERAGE(Data!DG146:DG171)","v":134},{"$f":"AVERAGE(Data!DH146:DH171)","v":0.47111538461538449},{"$f":"AVERAGE(Data!DI146:DI171)","v":{"$error":"#DIV/0!"}},{"$f":"AVERAGE(Data!DJ146:DJ171)","v":{"$error":"#DIV/0!"}},{"$f":"AVERAGE(Data!DK146:DK171)","v":{"$error":"#DIV/0!"}},{"$f":"AVERAGE(Data!DL146:DL171)","v":{"$error":"#DIV/0!"}},{"$f":"AVERAGE(Data!DM146:DM171)","v":1.251484542332943},{"$f":"AVERAGE(Data!DN146:DN171)","v":48.615384615384613},{"$f":"AVERAGE(Data!DO146:DO171)","v":0.16834615384615381},{"$f":"AVERAGE(Data!DP146:DP171)","v":{"$error":"#DIV/0!"}},{"$f":"AVERAGE(Data!DQ146:DQ171)","v":{"$error":"#DIV/0!"}},{"$f":"AVERAGE(Data!DR146:DR171)","v":{"$error":"#DIV/0!"}},{"$f":"AVERAGE(Data!DS146:DS171)","v":{"$error":"#DIV/0!"}},{"$f":"AVERAGE(Data!DT146:DT171)","v":1.2284140264969352},{"$f":"AVERAGE(Data!DU146:DU171)","v":59.03846153846154},{"$f":"AVERAGE(Data!DV146:DV171)","v":0.2053076923076923},{"$f":"AVERAGE(Data!DW146:DW171)","v":{"$error":"#DIV/0!"}},{"$f":"AVERAGE(Data!DX146:DX171)","v":{"$error":"#DIV/0!"}},{"$f":"AVERAGE(Data!DY146:DY171)","v":{"$error":"#DIV/0!"}},{"$f":"AVERAGE(Data!DZ146:DZ171)","v":{"$error":"#DIV/0!"}},{"$f":"AVERAGE(Data!EA146:EA171)","v":0.98225907208732466},{"$f":"AVERAGE(Data!EB146:EB171)","v":154.80769230769232},{"$f":"AVERAGE(Data!EC146:EC171)","v":0.54492307692307684},{"$f":"AVERAGE(Data!ED146:ED171)","v":{"$error":"#DIV/0!"}},{"$f":"AVERAGE(Data!EE146:EE171)","v":{"$error":"#DIV/0!"}},{"$f":"AVERAGE(Data!EF146:EF171)","v":{"$error":"#DIV/0!"}},{"$f":"AVERAGE(Data!EG146:EG171)","v":{"$error":"#DIV/0!"}},{"$f":"AVERAGE(Data!EH146:EH171)","v":1.1655260351961561},{"$f":"AVERAGE(Data!EI146:EI171)","v":55.115384615384613},{"$f":"AVERAGE(Data!EJ146:EJ171)","v":0.19142307692307689},{"$f":"AVERAGE(Data!EK146:EK171)","v":{"$error":"#DIV/0!"}},{"$f":"AVERAGE(Data!EL146:EL171)","v":{"$error":"#DIV/0!"}},{"$f":"AVERAGE(Data!EM146:EM171)","v":{"$error":"#DIV/0!"}},{"$f":"AVERAGE(Data!EN146:EN171)","v":{"$error":"#DIV/0!"}},{"$f":"AVERAGE(Data!EO146:EO171)","v":{"$error":"#DIV/0!"}},{"$f":"AVERAGE(Data!EP146:EP171)","v":228.88461538461539},{"$f":"AVERAGE(Data!EQ146:EQ171)","v":235.38461538461539},{"$f":"AVERAGE(Data!ER146:ER171)","v":224.96153846153845},{"$f":"AVERAGE(Data!ES146:ES171)","v":129.19230769230768},{"$f":"AVERAGE(Data!ET146:ET171)","v":0.83065384615384608},{"$f":"AVERAGE(Data!EU146:EU171)","v":0.79369230769230781},{"$f":"AVERAGE(Data!EV146:EV171)","v":0.4540769230769231},{"$f":"AVERAGE(Data!EW146:EW171)","v":228.88461538461539},{"$f":"AVERAGE(Data!GW146:GW171)","v":0.68923754074746912},{"$f":"AVERAGE(Data!EY146:EY171)","v":0.68966062187991384},{"$f":"AVERAGE(Data!EZ146:EZ171)","v":0.67410976959948754},{"$f":"AVERAGE(Data!FA146:FA171)","v":0.85995650721170891},{"$f":"AVERAGE(Data!FB146:FB171)","v":1},{"$f":"AVERAGE(Data!FC146:FC171)","v":0.78819954363476719},{"$f":"AVERAGE(Data!FD146:FD171)","v":0.8627575779527491},{"$f":"AVERAGE(Data!FE146:FE171)","v":0.76372649471574527},{"$f":"AVERAGE(Data!FF146:FF171)","v":0.7962002498695272},{"$f":"AVERAGE(Data!FG146:FG171)","v":1},{"$f":"AVERAGE(Data!FH146:FH171)","v":1},{"$f":"AVERAGE(Data!FI146:FI171)","v":0.81803737573181479},{"$f":"AVERAGE(Data!FJ146:FJ171)","v":0.76940897242417183},{"$f":"AVERAGE(Data!FK146:FK171)","v":0.47359998194361952},{"$f":"AVERAGE(Data!FL146:FL171)","v":0.70186432230200124},{"$f":"AVERAGE(Data!FM146:FM171)","v":0.74140128577123277},{"$f":"AVERAGE(Data!FN146:FN171)","v":0.65795406137433032},{"$f":"AVERAGE(Data!FO146:FO171)","v":0.56821848628117322},{"$f":"AVERAGE(Data!FP146:FP171)","v":0.59979281886263147},{"$f":"AVERAGE(Data!FQ146:FQ171)","v":0.42884941426063594},{"$f":"AVERAGE(Data!FR146:FR171)","v":0.82506702264650855},{"$f":"AVERAGE(Data!FS146:FS171)","v":0.61237237258722077},{"$f":"AVERAGE(Data!FT146:FT171)","v":0.75294979572422926},{"$f":"AVERAGE(Data!FU146:FU171)","v":0.72531213438070219},{"$f":"AVERAGE(Data!FV146:FV171)","v":1},{"$f":"AVERAGE(Data!FW146:FW171)","v":0.5573745038209601},{"$f":"AVERAGE(Data!FX146:FX171)","v":0.38101313969408729},{"$f":"AVERAGE(Data!FY146:FY171)","v":0.34587890250400921},{"$f":"AVERAGE(Data!FZ146:FZ171)","v":0.47906183469917024},{"$f":"AVERAGE(Data!GA146:GA171)","v":0.58286278542632042},{"$f":"AVERAGE(Data!GB146:GB171)","v":0.757965231516606},{"$f":"AVERAGE(Data!GC146:GC171)","v":0.62903549987489238},{"$f":"AVERAGE(Data!GD146:GD171)","v":0.14610047061162251},{"$f":"AVERAGE(Data!GE146:GE171)","v":0.81803737573181479},{"$f":"AVERAGE(Data!GF146:GF171)","v":0.27195249485893036},{"$f":"AVERAGE(Data!GG146:GG171)","v":0.44087152552388087},{"$f":"AVERAGE(Data!GH146:GH171)","v":0.93361980788504906},{"$f":"AVERAGE(Data!GI146:GI171)","v":0.65871769334185382},{"$f":"AVERAGE(Data!GJ146:GJ171)","v":0.94399360834749535},{"$f":"AVERAGE(Data!GK146:GK171)","v":0.95176006641247934},{"$f":"AVERAGE(Data!GL146:GL171)","v":0.56181788049542947},{"$f":"AVERAGE(Data!GM146:GM171)","v":0.74124229956370324},{"$f":"AVERAGE(Data!GN146:GN171)","v":0.84217677323455797},{"$f":"AVERAGE(Data!GO146:GO171)","v":0.77028324994339648}]
["E05004874","29UBHG","Downs North","Folkestone & Hythe",8,{"$f":"AVERAGE(Data!G172:G193)","v":0.89114262388529475},{"$f":"AVERAGE(Data!H172:H193)","v":0.97335723956008202},{"$f":"AVERAGE(Data!I172:I193)","v":0.95546109022924175},{"$f":"AVERAGE(Data!J172:J193)","v":0.67359429993979869},{"$f":"AVERAGE(Data!K172:K193)","v":0.88740895133890441},{"$f":"AVERAGE(Data!L172:L193)","v":0.91518941838855195},{"$f":"AVERAGE(Data!M172:M193)","v":0.98702351202320426},{"$f":"AVERAGE(Data!N172:N193)","v":0.63489128634483549},{"$f":"AVERAGE(Data!O172:O193)","v":0.81370141535050455},{"$f":"AVERAGE(Data!P172:P193)","v":0.40858325544571339},{"$f":"AVERAGE(Data!Q172:Q193)","v":1.0510467254695555},{"$f":"AVERAGE(Data!R172:R193)","v":0.85244187527373372},{"$f":"AVERAGE(Data!S172:S193)","v":0.94389202169497066},{"$f":"AVERAGE(Data!T172:T193)","v":0.76710562910771418},{"$f":"AVERAGE(Data!U172:U193)","v":0.79058854909100829},{"$f":"AVERAGE(Data!V172:V193)","v":0.81884623413180035},{"$f":"AVERAGE(Data!W172:W193)","v":0.97164712567363953},{"$f":"AVERAGE(Data!X172:X193)","v":0.9578970097022832},{"$f":"AVERAGE(Data!Y172:Y193)","v":1.0899434303004807},{"$f":"AVERAGE(Data!Z172:Z193)","v":0.96008588769755976},{"$f":"AVERAGE(Data!AA172:AA193)","v":0.84494240163202683},{"$f":"AVERAGE(Data!AB172:AB193)","v":0.84690505766680857},{"$f":"AVERAGE(Data!AC172:AC193)","v":1.7464841963626063},{"$f":"AVERAGE(Data!AD172:AD193)","v":0.7707429415751047},{"$f":"AVERAGE(Data!AE172:AE193)","v":0.84500552008725616},{"$f":"AVERAGE(Data!AF172:AF193)","v":0.76619361436868938},{"$f":"AVERAGE(Data!AG172:AG193)","v":1.057838703721198},{"$f":"AVERAGE(Data!AH172:AH193)","v":1.1457593956996581},{"$f":"AVERAGE(Data!AI172:AI193)","v":0.951182758798642},{"$f":"AVERAGE(Data!AJ172:AJ193)","v":1.0196026364086574},{"$f":"AVERAGE(Data!AK172:AK193)","v":0.48922709723345953},{"$f":"AVERAGE(Data!AL172:AL193)","v":1.0323554800274963},{"$f":"AVERAGE(Data!AM172:AM193)","v":1.0510467254695555},{"$f":"AVERAGE(Data!AN172:AN193)","v":1.0255654447400617},{"$f":"AVERAGE(Data!AO172:AO193)","v":1.1918618239517169},{"$f":"AVERAGE(Data!AP172:AP193)","v":1.0615638714544495},{"$f":"AVERAGE(Data!AQ172:AQ193)","v":1.1007811958966567},{"$f":"AVERAGE(Data!AR172:AR193)","v":1.0467636037283112},{"$f":"AVERAGE(Data!AS172:AS193)","v":1.0504612227032013},{"$f":"AVERAGE(Data!AT172:AT193)","v":1.1062092546267299},{"$f":"AVERAGE(Data!AU172:AU193)","v":0.93998698455820628},{"$f":"AVERAGE(Data!AV172:AV193)","v":163.04545454545453},{"$f":"AVERAGE(Data!AW172:AW193)","v":0.57422727272727259},{"$f":"AVERAGE(Data!AX172:AX193)","v":{"$error":"#DIV/0!"}},{"$f":"AVERAGE(Data!AY172:AY193)","v":{"$error":"#DIV/0!"}},{"$f":"AVERAGE(Data!AZ172:AZ193)","v":{"$error":"#DIV/0!"}},{"$f":"AVERAGE(Data!BA172:BA193)","v":{"$error":"#DIV/0!"}},{"$f":"AVERAGE(Data!BB172:BB193)","v":0.81962149360705905},{"$f":"AVERAGE(Data!BC172:BC193)","v":210.31818181818181},{"$f":"AVERAGE(Data!BD172:BD193)","v":0.74172727272727268},{"$f":"AVERAGE(Data!BE172:BE193)","v":{"$error":"#DIV/0!"}},{"$f":"AVERAGE(Data!BF172:BF193)","v":{"$error":"#DIV/0!"}},{"$f":"AVERAGE(Data!BG172:BG193)","v":{"$error":"#DIV/0!"}},{"$f":"AVERAGE(Data!BH172:BH193)","v":{"$error":"#DIV/0!"}},{"$f":"AVERAGE(Data!BI172:BI193)","v":0.80577571319562513},{"$f":"AVERAGE(Data!BJ172:BJ193)","v":209.86363636363637},{"$f":"AVERAGE(Data!BK172:BK193)","v":0.74009090909090913},{"$f":"AVERAGE(Data!BL172:BL193)","v":{"$error":"#DIV/0!"}},{"$f":"AVERAGE(Data!BM172:BM193)","v":{"$error":"#DIV/0!"}},{"$f":"AVERAGE(Data!BN172:BN193)","v":{"$error":"#DIV/0!"}},{"$f":"AVERAGE(Data!BO172:BO193)","v":{"$error":"#DIV/0!"}},{"$f":"AVERAGE(Data!BP172:BP193)","v":1.0064958552254679},{"$f":"AVERAGE(Data!BQ172:BQ193)","v":142.13636363636363},{"$f":"AVERAGE(Data!BR172:BR193)","v":0.49995454545454548},{"$f":"AVERAGE(Data!BS172:BS193)","v":{"$error":"#DIV/0!"}},{"$f":"AVERAGE(Data!BT172:BT193)","v":{"$error":"#DIV/0!"}},{"$f":"AVERAGE(Data!BU172:BU193)","v":{"$error":"#DIV/0!"}},{"$f":"AVERAGE(Data!BV172:BV193)","v":{"$error":"#DIV/0!"}},{"$f":"AVERAGE(Data!BW172:BW193)","v":1.0338320969868215},{"$f":"AVERAGE(Data!BX172:BX193)","v":141.86363636363637},{"$f":"AVERAGE(Data!BY172:BY193)","v":0.49904545454545457},{"$f":"AVERAGE(Data!BZ172:BZ193)","v":{"$error":"#DIV/0!"}},{"$f":"AVERAGE(Data!CA172:CA193)","v":{"$error":"#DIV/0!"}},{"$f":"AVERAGE(Data!CB172:CB193)","v":{"$error":"#DIV/0!"}},{"$f":"AVERAGE(Data!CC172:CC193)","v":{"$error":"#DIV/0!"}},{"$f":"AVERAGE(Data!CD172:CD193)","v":0.9536993084692007},{"$f":"AVERAGE(Data!CE172:CE193)","v":156.18181818181819},{"$f":"AVERAGE(Data!CF172:CF193)","v":0.54977272727272741},{"$f":"AVERAGE(Data!CG172:CG193)","v":{"$error":"#DIV/0!"}},{"$f":"AVERAGE(Data!CH172:CH193)","v":{"$error":"#DIV/0!"}},{"$f":"AVERAGE(Data!CI172:CI193)","v":{"$error":"#DIV/0!"}},{"$f":"AVERAGE(Data!CJ172:CJ193)","v":{"$error":"#DIV/0!"}},{"$f":"AVERAGE(Data!CK172:CK193)","v":0.82000416414691946},{"$f":"AVERAGE(Data!CL172:CL193)","v":222},{"$f":"AVERAGE(Data!CM172:CM193)","v":0.78313636363636374},{"$f":"AVERAGE(Data!CN172:CN193)","v":{"$error":"#DIV/0!"}},{"$f":"AVERAGE(Data!CO172:CO193)","v":{"$error":"#DIV/0!"}},{"$f":"AVERAGE(Data!CP172:CP193)","v":{"$error":"#DIV/0!"}},{"$f":"AVERAGE(Data!CQ172:CQ193)","v":{"$error":"#DIV/0!"}},{"$f":"AVERAGE(Data!CR172:CR193)","v":1.0417011027485261},{"$f":"AVERAGE(Data!CS172:CS193)","v":144.18181818181819},{"$f":"AVERAGE(Data!CT172:CT193)","v":0.50731818181818178},{"$f":"AVERAGE(Data!CU172:CU193)","v":{"$error":"#DIV/0!"}},{"$f":"AVERAGE(Data!CV172:CV193)","v":{"$error":"#DIV/0!"}},{"$f":"AVERAGE(Data!CW172:CW193)","v":{"$error":"#DIV/0!"}},{"$f":"AVERAGE(Data!CX172:CX193)","v":{"$error":"#DIV/0!"}},{"$f":"AVERAGE(Data!CY172:CY193)","v":1.1087136343458892},{"$f":"AVERAGE(Data!CZ172:CZ193)","v":87.545454545454547},{"$f":"AVERAGE(Data!DA172:DA193)","v":0.30631818181818177},{"$f":"AVERAGE(Data!DB172:DB193)","v":{"$error":"#DIV/0!"}},{"$f":"AVERAGE(Data!DC172:DC193)","v":{"$error":"#DIV/0!"}},{"$f":"AVERAGE(Data!DD172:DD193)","v":{"$error":"#DIV/0!"}},{"$f":"AVERAGE(Data!DE172:DE193)","v":{"$error":"#DIV/0!"}},{"$f":"AVERAGE(Data!DF172:DF193)","v":1.0731558296818695},{"$f":"AVERAGE(Data!DG172:DG193)","v":84.045454545454547},{"$f":"AVERAGE(Data!DH172:DH193)","v":0.29409090909090907},{"$f":"AVERAGE(Data!DI172:DI193)","v":{"$error":"#DIV/0!"}},{"$f":"AVERAGE(Data!DJ172:DJ193)","v":{"$error":"#DIV/0!"}},{"$f":"AVERAGE(Data!DK172:DK193)","v":{"$error":"#DIV/0!"}},{"$f":"AVERAGE(Data!DL172:DL193)","v":{"$error":"#DIV/0!"}},{"$f":"AVERAGE(Data!DM172:DM193)","v":0.86230324699743788},{"$f":"AVERAGE(Data!DN172:DN193)","v":194.40909090909091},{"$f":"AVERAGE(Data!DO172:DO193)","v":0.68540909090909097},{"$f":"AVERAGE(Data!DP172:DP193)","v":{"$error":"#DIV/0!"}},{"$f":"AVERAGE(Data!DQ172:DQ193)","v":{"$error":"#DIV/0!"}},{"$f":"AVERAGE(Data!DR172:DR193)","v":{"$error":"#DIV/0!"}},{"$f":"AVERAGE(Data!DS172:DS193)","v":{"$error":"#DIV/0!"}},{"$f":"AVERAGE(Data!DT172:DT193)","v":0.99821752431232325},{"$f":"AVERAGE(Data!DU172:DU193)","v":147.18181818181819},{"$f":"AVERAGE(Data!DV172:DV193)","v":0.51790909090909087},{"$f":"AVERAGE(Data!DW172:DW193)","v":{"$error":"#DIV/0!"}},{"$f":"AVERAGE(Data!DX172:DX193)","v":{"$error":"#DIV/0!"}},{"$f":"AVERAGE(Data!DY172:DY193)","v":{"$error":"#DIV/0!"}},{"$f":"AVERAGE(Data!DZ172:DZ193)","v":{"$error":"#DIV/0!"}},{"$f":"AVERAGE(Data!EA172:EA193)","v":1.0105517595865785},{"$f":"AVERAGE(Data!EB172:EB193)","v":130.22727272727272},{"$f":"AVERAGE(Data!EC172:EC193)","v":0.45781818181818196},{"$f":"AVERAGE(Data!ED172:ED193)","v":{"$error":"#DIV/0!"}},{"$f":"AVERAGE(Data!EE172:EE193)","v":{"$error":"#DIV/0!"}},{"$f":"AVERAGE(Data!EF172:EF193)","v":{"$error":"#DIV/0!"}},{"$f":"AVERAGE(Data!EG172:EG193)","v":{"$error":"#DIV/0!"}},{"$f":"AVERAGE(Data!EH172:EH193)","v":0.93735851317002883},{"$f":"AVERAGE(Data!EI172:EI193)","v":179.18181818181819},{"$f":"AVERAGE(Data!EJ172:EJ193)","v":0.631318181818182},{"$f":"AVERAGE(Data!EK172:EK193)","v":{"$error":"#DIV/0!"}},{"$f":"AVERAGE(Data!EL172:EL193)","v":{"$error":"#DIV/0!"}},{"$f":"AVERAGE(Data!EM172:EM193)","v":{"$error":"#DIV/0!"}},{"$f":"AVERAGE(Data!EN172:EN193)","v":{"$error":"#DIV/0!"}},{"$f":"AVERAGE(Data!EO172:EO193)","v":{"$error":"#DIV/0!"}},{"$f":"AVERAGE(Data!EP172:EP193)","v":104.81818181818181},{"$f":"AVERAGE(Data!EQ172:EQ193)","v":89.590909090909093},{"$f":"AVERAGE(Data!ER172:ER193)","v":136.81818181818181},{"$f":"AVERAGE(Data!ES172:ES193)","v":153.77272727272728},{"$f":"AVERAGE(Data!ET172:ET193)","v":0.31359090909090903},{"$f":"AVERAGE(Data!EU172:EU193)","v":0.48109090909090907},{"$f":"AVERAGE(Data!EV172:EV193)","v":0.5411818181818181},{"$f":"AVERAGE(Data!EW172:EW193)","v":104.81818181818181},{"$f":"AVERAGE(Data!GW172:GW193)","v":0.55755797504006044},{"$f":"AVERAGE(Data!EY172:EY193)","v":0.52015920860431419},{"$f":"AVERAGE(Data!EZ172:EZ193)","v":0.60866773702366295},{"$f":"AVERAGE(Data!FA172:FA193)","v":0.72113074415328149},{"$f":"AVERAGE(Data!FB172:FB193)","v":0.46771547548451287},{"$f":"AVERAGE(Data!FC172:FC193)","v":0.62914010676641341},{"$f":"AVERAGE(Data!FD172:FD193)","v":0.69472505654199379},{"$f":"AVERAGE(Data!FE172:FE193)","v":0.65041835132667292},{"$f":"AVERAGE(Data!FF172:FF193)","v":0.36214931386009569},{"$f":"AVERAGE(Data!FG172:FG193)","v":0.41260029160236306},{"$f":"AVERAGE(Data!FH172:FH193)","v":0.23096664905663564},{"$f":"AVERAGE(Data!FI172:FI193)","v":0.80189510253422935},{"$f":"AVERAGE(Data!FJ172:FJ193)","v":0.54779125436125231},{"$f":"AVERAGE(Data!FK172:FK193)","v":0.41170143037521084},{"$f":"AVERAGE(Data!FL172:FL193)","v":0.47689171593452107},{"$f":"AVERAGE(Data!FM172:FM193)","v":0.42234923117315365},{"$f":"AVERAGE(Data!FN172:FN193)","v":0.48906427861754459},{"$f":"AVERAGE(Data!FO172:FO193)","v":0.47152281837675325},{"$f":"AVERAGE(Data!FP172:FP193)","v":0.50397530560017689},{"$f":"AVERAGE(Data!FQ172:FQ193)","v":0.42103876443479238},{"$f":"AVERAGE(Data!FR172:FR193)","v":0.69574089013520235},{"$f":"AVERAGE(Data!FS172:FS193)","v":0.52182838753775629},{"$f":"AVERAGE(Data!FT172:FT193)","v":0.53754103184679258},{"$f":"AVERAGE(Data!FU172:FU193)","v":0.98114498981219389},{"$f":"AVERAGE(Data!FV172:FV193)","v":0.46378579771689149},{"$f":"AVERAGE(Data!FW172:FW193)","v":0.34239981178084439},{"$f":"AVERAGE(Data!FX172:FX193)","v":0.22590064669554472},{"$f":"AVERAGE(Data!FY172:FY193)","v":0.49264084914063527},{"$f":"AVERAGE(Data!FZ172:FZ193)","v":0.39894059508503515},{"$f":"AVERAGE(Data!GA172:GA193)","v":0.56011391544453915},{"$f":"AVERAGE(Data!GB172:GB193)","v":0.83107058731124506},{"$f":"AVERAGE(Data!GC172:GC193)","v":0.35388211487488569},{"$f":"AVERAGE(Data!GD172:GD193)","v":0.14241599001208946},{"$f":"AVERAGE(Data!GE172:GE193)","v":0.80189510253422935},{"$f":"AVERAGE(Data!GF172:GF193)","v":0.34829268962491955},{"$f":"AVERAGE(Data!GG172:GG193)","v":0.56978643362109505},{"$f":"AVERAGE(Data!GH172:GH193)","v":0.92377239499565722},{"$f":"AVERAGE(Data!GI172:GI193)","v":0.8045361774491695},{"$f":"AVERAGE(Data!GJ172:GJ193)","v":0.9309616012228179},{"$f":"AVERAGE(Data!GK172:GK193)","v":0.93024679959969836},{"$f":"AVERAGE(Data!GL172:GL193)","v":0.60151935933359901},{"$f":"AVERAGE(Data!GM172:GM193)","v":0.61665256326041951},{"$f":"AVERAGE(Data!GN172:GN193)","v":0.56082966079593777},{"$f":"AVERAGE(Data!GO172:GO193)","v":0.47415749420686387}]
["E05004875","29UBHH","Downs West","Swale",9,{"$f":"AVERAGE(Data!G194:G218)","v":0.81236654151093757},{"$f":"AVERAGE(Data!H194:H218)","v":0.91270050737081665},{"$f":"AVERAGE(Data!I194:I218)","v":0.80182587984667164},{"$f":"AVERAGE(Data!J194:J218)","v":0.85730449970530398},{"$f":"AVERAGE(Data!K194:K218)","v":0.82507789583946733},{"$f":"AVERAGE(Data!L194:L218)","v":0.92873464894986957},{"$f":"AVERAGE(Data!M194:M218)","v":0.90196194763738691},{"$f":"AVERAGE(Data!N194:N218)","v":0.68981450511251152},{"$f":"AVERAGE(Data!O194:O218)","v":0.46972251425076367},{"$f":"AVERAGE(Data!P194:P218)","v":0.59507166664589295},{"$f":"AVERAGE(Data!Q194:Q218)","v":1.0570345719475638},{"$f":"AVERAGE(Data!R194:R218)","v":0.87797344149712275},{"$f":"AVERAGE(Data!S194:S218)","v":0.7962672662685929},{"$f":"AVERAGE(Data!T194:T218)","v":1.140807466682018},{"$f":"AVERAGE(Data!U194:U218)","v":0.69941068522039584},{"$f":"AVERAGE(Data!V194:V218)","v":0.99967001023763669},{"$f":"AVERAGE(Data!W194:W218)","v":0.87868525803017061},{"$f":"AVERAGE(Data!X194:X218)","v":0.87500089678694748},{"$f":"AVERAGE(Data!Y194:Y218)","v":0.95665865732812128},{"$f":"AVERAGE(Data!Z194:Z218)","v":0.84962071167479436},{"$f":"AVERAGE(Data!AA194:AA218)","v":1.0581839635950627},{"$f":"AVERAGE(Data!AB194:AB218)","v":0.81551284161695237},{"$f":"AVERAGE(Data!AC194:AC218)","v":0},{"$f":"AVERAGE(Data!AD194:AD218)","v":0.62138584642115557},{"$f":"AVERAGE(Data!AE194:AE218)","v":0.81104274303092305},{"$f":"AVERAGE(Data!AF194:AF218)","v":0.85406121908721166},{"$f":"AVERAGE(Data!AG194:AG218)","v":1.0491017073617075},{"$f":"AVERAGE(Data!AH194:AH218)","v":0.7772632134531865},{"$f":"AVERAGE(Data!AI194:AI218)","v":0.96092029965333647},{"$f":"AVERAGE(Data!AJ194:AJ218)","v":0.95310944908795181},{"$f":"AVERAGE(Data!AK194:AK218)","v":1.0302095539244609},{"$f":"AVERAGE(Data!AL194:AL218)","v":0.84368344837841436},{"$f":"AVERAGE(Data!AM194:AM218)","v":1.0570345719475638},{"$f":"AVERAGE(Data!AN194:AN218)","v":0.91493453345417297},{"$f":"AVERAGE(Data!AO194:AO218)","v":1.0609209944235862},{"$f":"AVERAGE(Data!AP194:AP218)","v":1.027985867382712},{"$f":"AVERAGE(Data!AQ194:AQ218)","v":0.94990362064131917},{"$f":"AVERAGE(Data!AR194:AR218)","v":1.0284018701781559},{"$f":"AVERAGE(Data!AS194:AS218)","v":1.0200971588819883},{"$f":"AVERAGE(Data!AT194:AT218)","v":0.83846636675637809},{"$f":"AVERAGE(Data!AU194:AU218)","v":0.8422976429094754},{"$f":"AVERAGE(Data!AV194:AV218)","v":193.6},{"$f":"AVERAGE(Data!AW194:AW218)","v":0.68248000000000009},{"$f":"AVERAGE(Data!AX194:AX218)","v":{"$error":"#DIV/0!"}},{"$f":"AVERAGE(Data!AY194:AY218)","v":{"$error":"#DIV/0!"}},{"$f":"AVERAGE(Data!AZ194:AZ218)","v":{"$error":"#DIV/0!"}},{"$f":"AVERAGE(Data!BA194:BA218)","v":{"$error":"#DIV/0!"}},{"$f":"AVERAGE(Data!BB194:BB218)","v":0.84057869944890784},{"$f":"AVERAGE(Data!BC194:BC218)","v":205.32},{"$f":"AVERAGE(Data!BD194:BD218)","v":0.72404000000000002},{"$f":"AVERAGE(Data!BE194:BE218)","v":{"$error":"#DIV/0!"}},{"$f":"AVERAGE(Data!BF194:BF218)","v":{"$error":"#DIV/0!"}},{"$f":"AVERAGE(Data!BG194:BG218)","v":{"$error":"#DIV/0!"}},{"$f":"AVERAGE(Data!BH194:BH218)","v":{"$error":"#DIV/0!"}},{"$f":"AVERAGE(Data!BI194:BI218)","v":0.82949470284374838},{"$f":"AVERAGE(Data!BJ194:BJ218)","v":208.96},{"$f":"AVERAGE(Data!BK194:BK218)","v":0.73699999999999999},{"$f":"AVERAGE(Data!BL194:BL218)","v":{"$error":"#DIV/0!"}},{"$f":"AVERAGE(Data!BM194:BM218)","v":{"$error":"#DIV/0!"}},{"$f":"AVERAGE(Data!BN194:BN218)","v":{"$error":"#DIV/0!"}},{"$f":"AVERAGE(Data!BO194:BO218)","v":{"$error":"#DIV/0!"}},{"$f":"AVERAGE(Data!BP194:BP218)","v":0.90344827071507983},{"$f":"AVERAGE(Data!BQ194:BQ218)","v":164.96},{"$f":"AVERAGE(Data!BR194:BR218)","v":0.58096000000000014},{"$f":"AVERAGE(Data!BS194:BS218)","v":{"$error":"#DIV/0!"}},{"$f":"AVERAGE(Data!BT194:BT218)","v":{"$error":"#DIV/0!"}},{"$f":"AVERAGE(Data!BU194:BU218)","v":{"$error":"#DIV/0!"}},{"$f":"AVERAGE(Data!BV194:BV218)","v":{"$error":"#DIV/0!"}},{"$f":"AVERAGE(Data!BW194:BW218)","v":0.66894067266159329},{"$f":"AVERAGE(Data!BX194:BX218)","v":245.2},{"$f":"AVERAGE(Data!BY194:BY218)","v":0.86539999999999995},{"$f":"AVERAGE(Data!BZ194:BZ218)","v":{"$error":"#DIV/0!"}},{"$f":"AVERAGE(Data!CA194:CA218)","v":{"$error":"#DIV/0!"}},{"$f":"AVERAGE(Data!CB194:CB218)","v":{"$error":"#DIV/0!"}},{"$f":"AVERAGE(Data!CC194:CC218)","v":{"$error":"#DIV/0!"}},{"$f":"AVERAGE(Data!CD194:CD218)","v":0.87286722073325729},{"$f":"AVERAGE(Data!CE194:CE218)","v":178.92},{"$f":"AVERAGE(Data!CF194:CF218)","v":0.63047999999999993},{"$f":"AVERAGE(Data!CG194:CG218)","v":{"$error":"#DIV/0!"}},{"$f":"AVERAGE(Data!CH194:CH218)","v":{"$error":"#DIV/0!"}},{"$f":"AVERAGE(Data!CI194:CI218)","v":{"$error":"#DIV/0!"}},{"$f":"AVERAGE(Data!CJ194:CJ218)","v":{"$error":"#DIV/0!"}},{"$f":"AVERAGE(Data!CK194:CK218)","v":0.98141310088858302},{"$f":"AVERAGE(Data!CL194:CL218)","v":142.84},{"$f":"AVERAGE(Data!CM194:CM218)","v":0.50247999999999993},{"$f":"AVERAGE(Data!CN194:CN218)","v":{"$error":"#DIV/0!"}},{"$f":"AVERAGE(Data!CO194:CO218)","v":{"$error":"#DIV/0!"}},{"$f":"AVERAGE(Data!CP194:CP218)","v":{"$error":"#DIV/0!"}},{"$f":"AVERAGE(Data!CQ194:CQ218)","v":{"$error":"#DIV/0!"}},{"$f":"AVERAGE(Data!CR194:CR218)","v":0.95035901016298918},{"$f":"AVERAGE(Data!CS194:CS218)","v":139.84},{"$f":"AVERAGE(Data!CT194:CT218)","v":0.49172000000000005},{"$f":"AVERAGE(Data!CU194:CU218)","v":{"$error":"#DIV/0!"}},{"$f":"AVERAGE(Data!CV194:CV218)","v":{"$error":"#DIV/0!"}},{"$f":"AVERAGE(Data!CW194:CW218)","v":{"$error":"#DIV/0!"}},{"$f":"AVERAGE(Data!CX194:CX218)","v":{"$error":"#DIV/0!"}},{"$f":"AVERAGE(Data!CY194:CY218)","v":0.98792776393887971},{"$f":"AVERAGE(Data!CZ194:CZ218)","v":158.80000000000001},{"$f":"AVERAGE(Data!DA194:DA218)","v":0.55908000000000002},{"$f":"AVERAGE(Data!DB194:DB218)","v":{"$error":"#DIV/0!"}},{"$f":"AVERAGE(Data!DC194:DC218)","v":{"$error":"#DIV/0!"}},{"$f":"AVERAGE(Data!DD194:DD218)","v":{"$error":"#DIV/0!"}},{"$f":"AVERAGE(Data!DE194:DE218)","v":{"$error":"#DIV/0!"}},{"$f":"AVERAGE(Data!DF194:DF218)","v":0.97297097676811062},{"$f":"AVERAGE(Data!DG194:DG218)","v":174.4},{"$f":"AVERAGE(Data!DH194:DH218)","v":0.61436000000000002},{"$f":"AVERAGE(Data!DI194:DI218)","v":{"$error":"#DIV/0!"}},{"$f":"AVERAGE(Data!DJ194:DJ218)","v":{"$error":"#DIV/0!"}},{"$f":"AVERAGE(Data!DK194:DK218)","v":{"$error":"#DIV/0!"}},{"$f":"AVERAGE(Data!DL194:DL218)","v":{"$error":"#DIV/0!"}},{"$f":"AVERAGE(Data!DM194:DM218)","v":0.8461099400456944},{"$f":"AVERAGE(Data!DN194:DN218)","v":204.08},{"$f":"AVERAGE(Data!DO194:DO218)","v":0.71967999999999999},{"$f":"AVERAGE(Data!DP194:DP218)","v":{"$error":"#DIV/0!"}},{"$f":"AVERAGE(Data!DQ194:DQ218)","v":{"$error":"#DIV/0!"}},{"$f":"AVERAGE(Data!DR194:DR218)","v":{"$error":"#DIV/0!"}},{"$f":"AVERAGE(Data!DS194:DS218)","v":{"$error":"#DIV/0!"}},{"$f":"AVERAGE(Data!DT194:DT218)","v":0.75957469402677702},{"$f":"AVERAGE(Data!DU194:DU218)","v":224.92},{"$f":"AVERAGE(Data!DV194:DV218)","v":0.79352},{"$f":"AVERAGE(Data!DW194:DW218)","v":{"$error":"#DIV/0!"}},{"$f":"AVERAGE(Data!DX194:DX218)","v":{"$error":"#DIV/0!"}},{"$f":"AVERAGE(Data!DY194:DY218)","v":{"$error":"#DIV/0!"}},{"$f":"AVERAGE(Data!DZ194:DZ218)","v":{"$error":"#DIV/0!"}},{"$f":"AVERAGE(Data!EA194:EA218)","v":0.97380564455916985},{"$f":"AVERAGE(Data!EB194:EB218)","v":159.63999999999999},{"$f":"AVERAGE(Data!EC194:EC218)","v":0.56203999999999998},{"$f":"AVERAGE(Data!ED194:ED218)","v":{"$error":"#DIV/0!"}},{"$f":"AVERAGE(Data!EE194:EE218)","v":{"$error":"#DIV/0!"}},{"$f":"AVERAGE(Data!EF194:EF218)","v":{"$error":"#DIV/0!"}},{"$f":"AVERAGE(Data!EG194:EG218)","v":{"$error":"#DIV/0!"}},{"$f":"AVERAGE(Data!EH194:EH218)","v":0.86494822104548064},{"$f":"AVERAGE(Data!EI194:EI218)","v":214.4},{"$f":"AVERAGE(Data!EJ194:EJ218)","v":0.75616000000000017},{"$f":"AVERAGE(Data!EK194:EK218)","v":{"$error":"#DIV/0!"}},{"$f":"AVERAGE(Data!EL194:EL218)","v":{"$error":"#DIV/0!"}},{"$f":"AVERAGE(Data!EM194:EM218)","v":{"$error":"#DIV/0!"}},{"$f":"AVERAGE(Data!EN194:EN218)","v":{"$error":"#DIV/0!"}},{"$f":"AVERAGE(Data!EO194:EO218)","v":{"$error":"#DIV/0!"}},{"$f":"AVERAGE(Data!EP194:EP218)","v":69.599999999999994},{"$f":"AVERAGE(Data!EQ194:EQ218)","v":79.92},{"$f":"AVERAGE(Data!ER194:ER218)","v":59.08},{"$f":"AVERAGE(Data!ES194:ES218)","v":124.36},{"$f":"AVERAGE(Data!ET194:ET218)","v":0.27932000000000001},{"$f":"AVERAGE(Data!EU194:EU218)","v":0.20548000000000005},{"$f":"AVERAGE(Data!EV194:EV218)","v":0.43695999999999996},{"$f":"AVERAGE(Data!EW194:EW218)","v":69.599999999999994},{"$f":"AVERAGE(Data!GW194:GW218)","v":0.52359395044015344},{"$f":"AVERAGE(Data!EY194:EY218)","v":0.47417767482227818},{"$f":"AVERAGE(Data!EZ194:EZ218)","v":0.57073737146376124},{"$f":"AVERAGE(Data!FA194:FA218)","v":0.605175134108767},{"$f":"AVERAGE(Data!FB194:FB218)","v":0.59527609089108313},{"$f":"AVERAGE(Data!FC194:FC218)","v":0.58494969505982364},{"$f":"AVERAGE(Data!FD194:FD218)","v":0.70500731164515595},{"$f":"AVERAGE(Data!FE194:FE218)","v":0.59436537812476364},{"$f":"AVERAGE(Data!FF194:FF218)","v":0.39347815144142984},{"$f":"AVERAGE(Data!FG194:FG218)","v":0.23818029893505455},{"$f":"AVERAGE(Data!FH194:FH218)","v":0.33638605342212924},{"$f":"AVERAGE(Data!FI194:FI218)","v":0.80646352432660673},{"$f":"AVERAGE(Data!FJ194:FJ218)","v":0.56419820138368326},{"$f":"AVERAGE(Data!FK194:FK218)","v":0.34731130780728081},{"$f":"AVERAGE(Data!FL194:FL218)","v":0.70921345078607079},{"$f":"AVERAGE(Data!FM194:FM218)","v":0.37364007550673295},{"$f":"AVERAGE(Data!FN194:FN218)","v":0.59706312618123381},{"$f":"AVERAGE(Data!FO194:FO218)","v":0.42641010134748653},{"$f":"AVERAGE(Data!FP194:FP218)","v":0.4603614374949227},{"$f":"AVERAGE(Data!FQ194:FQ218)","v":0.3695516371489449},{"$f":"AVERAGE(Data!FR194:FR218)","v":0.61569061455065921},{"$f":"AVERAGE(Data!FS194:FS218)","v":0.65352434719165986},{"$f":"AVERAGE(Data!FT194:FT218)","v":0.51761600712928024},{"$f":"AVERAGE(Data!FU194:FU218)","v":0},{"$f":"AVERAGE(Data!FV194:FV218)","v":0.37391186467886578},{"$f":"AVERAGE(Data!FW194:FW218)","v":0.32863795082821723},{"$f":"AVERAGE(Data!FX194:FX218)","v":0.25180708647429129},{"$f":"AVERAGE(Data!FY194:FY218)","v":0.488571985626437},{"$f":"AVERAGE(Data!FZ194:FZ218)","v":0.27063434965189131},{"$f":"AVERAGE(Data!GA194:GA218)","v":0.56584796821670336},{"$f":"AVERAGE(Data!GB194:GB218)","v":0.77687248084747695},{"$f":"AVERAGE(Data!GC194:GC218)","v":0.74520143665126226},{"$f":"AVERAGE(Data!GD194:GD218)","v":0.11638821692933252},{"$f":"AVERAGE(Data!GE194:GE218)","v":0.80646352432660673},{"$f":"AVERAGE(Data!GF194:GF218)","v":0.31072128172984931},{"$f":"AVERAGE(Data!GG194:GG218)","v":0.50718831463373504},{"$f":"AVERAGE(Data!GH194:GH218)","v":0.89455283122317852},{"$f":"AVERAGE(Data!GI194:GI218)","v":0.69426315669698258},{"$f":"AVERAGE(Data!GJ194:GJ218)","v":0.91463120073297011},{"$f":"AVERAGE(Data!GK194:GK218)","v":0.90335758885868889},{"$f":"AVERAGE(Data!GL194:GL218)","v":0.45592978873084195},{"$f":"AVERAGE(Data!GM194:GM218)","v":0.55003006013160205},{"$f":"AVERAGE(Data!GN194:GN218)","v":0.57461532543245131},{"$f":"AVERAGE(Data!GO194:GO218)","v":0.49655700479359899}]
["E05004876","29UBHJ","Godinton","Thanet",10,{"$f":"AVERAGE(Data!G219:G241)","v":0.72975490485325645},{"$f":"AVERAGE(Data!H219:H241)","v":0.86781677717089267},{"$f":"AVERAGE(Data!I219:I241)","v":0.85673501150132947},{"$f":"AVERAGE(Data!J219:J241)","v":0},{"$f":"AVERAGE(Data!K219:K241)","v":0.78974356840654281},{"$f":"AVERAGE(Data!L219:L241)","v":0.77768159308492801},{"$f":"AVERAGE(Data!M219:M241)","v":0.88179805663562616},{"$f":"AVERAGE(Data!N219:N241)","v":0},{"$f":"AVERAGE(Data!O219:O241)","v":0},{"$f":"AVERAGE(Data!P219:P241)","v":0},{"$f":"AVERAGE(Data!Q219:Q241)","v":0.92113449443445938},{"$f":"AVERAGE(Data!R219:R241)","v":0.69349828859980533},{"$f":"AVERAGE(Data!S219:S241)","v":0.71155838056519438},{"$f":"AVERAGE(Data!T219:T241)","v":0.6877309265844409},{"$f":"AVERAGE(Data!U219:U241)","v":0.65843516878893726},{"$f":"AVERAGE(Data!V219:V241)","v":0.75818934303853658},{"$f":"AVERAGE(Data!W219:W241)","v":0.78508501179494339},{"$f":"AVERAGE(Data!X219:X241)","v":0.78100612426630112},{"$f":"AVERAGE(Data!Y219:Y241)","v":0.97977289570260029},{"$f":"AVERAGE(Data!Z219:Z241)","v":0.81460200288554085},{"$f":"AVERAGE(Data!AA219:AA241)","v":0.7570757116205431},{"$f":"AVERAGE(Data!AB219:AB241)","v":0.69894814797082727},{"$f":"AVERAGE(Data!AC219:AC241)","v":0.48849110378092836},{"$f":"AVERAGE(Data!AD219:AD241)","v":0},{"$f":"AVERAGE(Data!AE219:AE241)","v":0.68326545625454838},{"$f":"AVERAGE(Data!AF219:AF241)","v":0.57015762206551923},{"$f":"AVERAGE(Data!AG219:AG241)","v":1.315352579996605},{"$f":"AVERAGE(Data!AH219:AH241)","v":0.73107098200874188},{"$f":"AVERAGE(Data!AI219:AI241)","v":1.0787487347750429},{"$f":"AVERAGE(Data!AJ219:AJ241)","v":1.1262626151768722},{"$f":"AVERAGE(Data!AK219:AK241)","v":1.1194150491651937},{"$f":"AVERAGE(Data!AL219:AL241)","v":0.74157921182699293},{"$f":"AVERAGE(Data!AM219:AM241)","v":0.92113449443445938},{"$f":"AVERAGE(Data!AN219:AN241)","v":0.9773526377249333},{"$f":"AVERAGE(Data!AO219:AO241)","v":1.0968896498463561},{"$f":"AVERAGE(Data!AP219:AP241)","v":0.96478515308450441},{"$f":"AVERAGE(Data!AQ219:AQ241)","v":0.9771582703310927},{"$f":"AVERAGE(Data!AR219:AR241)","v":0.97259947477135777},{"$f":"AVERAGE(Data!AS219:AS241)","v":0.95786178188241433},{"$f":"AVERAGE(Data!AT219:AT241)","v":0.78891800658386069},{"$f":"AVERAGE(Data!AU219:AU241)","v":0.81810223117515968},{"$f":"AVERAGE(Data!AV219:AV241)","v":195.65217391304347},{"$f":"AVERAGE(Data!AW219:AW241)","v":0.6898260869565217},{"$f":"AVERAGE(Data!AX219:AX241)","v":{"$error":"#DIV/0!"}},{"$f":"AVERAGE(Data!AY219:AY241)","v":{"$error":"#DIV/0!"}},{"$f":"AVERAGE(Data!AZ219:AZ241)","v":{"$error":"#DIV/0!"}},{"$f":"AVERAGE(Data!BA219:BA241)","v":{"$error":"#DIV/0!"}},{"$f":"AVERAGE(Data!BB219:BB241)","v":0.48984464362541935},{"$f":"AVERAGE(Data!BC219:BC241)","v":263.47826086956519},{"$f":"AVERAGE(Data!BD219:BD241)","v":0.93030434782608684},{"$f":"AVERAGE(Data!BE219:BE241)","v":{"$error":"#DIV/0!"}},{"$f":"AVERAGE(Data!BF219:BF241)","v":{"$error":"#DIV/0!"}},{"$f":"AVERAGE(Data!BG219:BG241)","v":{"$error":"#DIV/0!"}},{"$f":"AVERAGE(Data!BH219:BH241)","v":{"$error":"#DIV/0!"}},{"$f":"AVERAGE(Data!BI219:BI241)","v":0.55381832525142183},{"$f":"AVERAGE(Data!BJ219:BJ241)","v":262.86956521739131},{"$f":"AVERAGE(Data!BK219:BK241)","v":0.92813043478260859},{"$f":"AVERAGE(Data!BL219:BL241)","v":{"$error":"#DIV/0!"}},{"$f":"AVERAGE(Data!BM219:BM241)","v":{"$error":"#DIV/0!"}},{"$f":"AVERAGE(Data!BN219:BN241)","v":{"$error":"#DIV/0!"}},{"$f":"AVERAGE(Data!BO219:BO241)","v":{"$error":"#DIV/0!"}},{"$f":"AVERAGE(Data!BP219:BP241)","v":0.84862134392128152},{"$f":"AVERAGE(Data!BQ219:BQ241)","v":172.52173913043478},{"$f":"AVERAGE(Data!BR219:BR241)","v":0.60765217391304349},{"$f":"AVERAGE(Data!BS219:BS241)","v":{"$error":"#DIV/0!"}},{"$f":"AVERAGE(Data!BT219:BT241)","v":{"$error":"#DIV/0!"}},{"$f":"AVERAGE(Data!BU219:BU241)","v":{"$error":"#DIV/0!"}},{"$f":"AVERAGE(Data!BV219:BV241)","v":{"$error":"#DIV/0!"}},{"$f":"AVERAGE(Data!BW219:BW241)","v":0.55182339325156793},{"$f":"AVERAGE(Data!BX219:BX241)","v":266.21739130434781},{"$f":"AVERAGE(Data!BY219:BY241)","v":0.94000000000000006},{"$f":"AVERAGE(Data!BZ219:BZ241)","v":{"$error":"#DIV/0!"}},{"$f":"AVERAGE(Data!CA219:CA241)","v":{"$error":"#DIV/0!"}},{"$f":"AVERAGE(Data!CB219:CB241)","v":{"$error":"#DIV/0!"}},{"$f":"AVERAGE(Data!CC219:CC241)","v":{"$error":"#DIV/0!"}},{"$f":"AVERAGE(Data!CD219:CD241)","v":0.82496166008135385},{"$f":"AVERAGE(Data!CE219:CE241)","v":190.82608695652175},{"$f":"AVERAGE(Data!CF219:CF241)","v":0.67269565217391303},{"$f":"AVERAGE(Data!CG219:CG241)","v":{"$error":"#DIV/0!"}},{"$f":"AVERAGE(Data!CH219:CH241)","v":{"$error":"#DIV/0!"}},{"$f":"AVERAGE(Data!CI219:CI241)","v":{"$error":"#DIV/0!"}},{"$f":"AVERAGE(Data!CJ219:CJ241)","v":{"$error":"#DIV/0!"}},{"$f":"AVERAGE(Data!CK219:CK241)","v":1.1081421330390362},{"$f":"AVERAGE(Data!CL219:CL241)","v":90.391304347826093},{"$f":"AVERAGE(Data!CM219:CM241)","v":0.31647826086956521},{"$f":"AVERAGE(Data!CN219:CN241)","v":{"$error":"#DIV/0!"}},{"$f":"AVERAGE(Data!CO219:CO241)","v":{"$error":"#DIV/0!"}},{"$f":"AVERAGE(Data!CP219:CP241)","v":{"$error":"#DIV/0!"}},{"$f":"AVERAGE(Data!CQ219:CQ241)","v":{"$error":"#DIV/0!"}},{"$f":"AVERAGE(Data!CR219:CR241)","v":0.83135685313072616},{"$f":"AVERAGE(Data!CS219:CS241)","v":180.47826086956522},{"$f":"AVERAGE(Data!CT219:CT241)","v":0.63591304347826094},{"$f":"AVERAGE(Data!CU219:CU241)","v":{"$error":"#DIV/0!"}},{"$f":"AVERAGE(Data!CV219:CV241)","v":{"$error":"#DIV/0!"}},{"$f":"AVERAGE(Data!CW219:CW241)","v":{"$error":"#DIV/0!"}},{"$f":"AVERAGE(Data!CX219:CX241)","v":{"$error":"#DIV/0!"}},{"$f":"AVERAGE(Data!CY219:CY241)","v":1.0371211437856449},{"$f":"AVERAGE(Data!CZ219:CZ241)","v":112.95652173913044},{"$f":"AVERAGE(Data!DA219:DA241)","v":0.39652173913043492},{"$f":"AVERAGE(Data!DB219:DB241)","v":{"$error":"#DIV/0!"}},{"$f":"AVERAGE(Data!DC219:DC241)","v":{"$error":"#DIV/0!"}},{"$f":"AVERAGE(Data!DD219:DD241)","v":{"$error":"#DIV/0!"}},{"$f":"AVERAGE(Data!DE219:DE241)","v":{"$error":"#DIV/0!"}},{"$f":"AVERAGE(Data!DF219:DF241)","v":0.93226453733064607},{"$f":"AVERAGE(Data!DG219:DG241)","v":183.21739130434781},{"$f":"AVERAGE(Data!DH219:DH241)","v":0.64556521739130435},{"$f":"AVERAGE(Data!DI219:DI241)","v":{"$error":"#DIV/0!"}},{"$f":"AVERAGE(Data!DJ219:DJ241)","v":{"$error":"#DIV/0!"}},{"$f":"AVERAGE(Data!DK219:DK241)","v":{"$error":"#DIV/0!"}},{"$f":"AVERAGE(Data!DL219:DL241)","v":{"$error":"#DIV/0!"}},{"$f":"AVERAGE(Data!DM219:DM241)","v":0.62526002870672581},{"$f":"AVERAGE(Data!DN219:DN241)","v":250.69565217391303},{"$f":"AVERAGE(Data!DO219:DO241)","v":0.88495652173913053},{"$f":"AVERAGE(Data!DP219:DP241)","v":{"$error":"#DIV/0!"}},{"$f":"AVERAGE(Data!DQ219:DQ241)","v":{"$error":"#DIV/0!"}},{"$f":"AVERAGE(Data!DR219:DR241)","v":{"$error":"#DIV/0!"}},{"$f":"AVERAGE(Data!DS219:DS241)","v":{"$error":"#DIV/0!"}},{"$f":"AVERAGE(Data!DT219:DT241)","v":0.67321817850925025},{"$f":"AVERAGE(Data!DU219:DU241)","v":251.39130434782609},{"$f":"AVERAGE(Data!DV219:DV241)","v":0.88739130434782598},{"$f":"AVERAGE(Data!DW219:DW241)","v":{"$error":"#DIV/0!"}},{"$f":"AVERAGE(Data!DX219:DX241)","v":{"$error":"#DIV/0!"}},{"$f":"AVERAGE(Data!DY219:DY241)","v":{"$error":"#DIV/0!"}},{"$f":"AVERAGE(Data!DZ219:DZ241)","v":{"$error":"#DIV/0!"}},{"$f":"AVERAGE(Data!EA219:EA241)","v":0.97689208996692334},{"$f":"AVERAGE(Data!EB219:EB241)","v":153.2608695652174},{"$f":"AVERAGE(Data!EC219:EC241)","v":0.53939130434782601},{"$f":"AVERAGE(Data!ED219:ED241)","v":{"$error":"#DIV/0!"}},{"$f":"AVERAGE(Data!EE219:EE241)","v":{"$error":"#DIV/0!"}},{"$f":"AVERAGE(Data!EF219:EF241)","v":{"$error":"#DIV/0!"}},{"$f":"AVERAGE(Data!EG219:EG241)","v":{"$error":"#DIV/0!"}},{"$f":"AVERAGE(Data!EH219:EH241)","v":0.74154023079035314},{"$f":"AVERAGE(Data!EI219:EI241)","v":251.04347826086956},{"$f":"AVERAGE(Data!EJ219:EJ241)","v":0.88617391304347781},{"$f":"AVERAGE(Data!EK219:EK241)","v":{"$error":"#DIV/0!"}},{"$f":"AVERAGE(Data!EL219:EL241)","v":{"$error":"#DIV/0!"}},{"$f":"AVERAGE(Data!EM219:EM241)","v":{"$error":"#DIV/0!"}},{"$f":"AVERAGE(Data!EN219:EN241)","v":{"$error":"#DIV/0!"}},{"$f":"AVERAGE(Data!EO219:EO241)","v":{"$error":"#DIV/0!"}},{"$f":"AVERAGE(Data!EP219:EP241)","v":32.956521739130437},{"$f":"AVERAGE(Data!EQ219:EQ241)","v":33.304347826086953},{"$f":"AVERAGE(Data!ER219:ER241)","v":32.608695652173914},{"$f":"AVERAGE(Data!ES219:ES241)","v":130.7391304347826},{"$f":"AVERAGE(Data!ET219:ET241)","v":0.11408695652173911},{"$f":"AVERAGE(Data!EU219:EU241)","v":0.11165217391304348},{"$f":"AVERAGE(Data!EV219:EV241)","v":0.45965217391304353},{"$f":"AVERAGE(Data!EW219:EW241)","v":32.956521739130437},{"$f":"AVERAGE(Data!GW219:GW241)","v":0.45040519416485053},{"$f":"AVERAGE(Data!EY219:EY241)","v":0.42595733119421081},{"$f":"AVERAGE(Data!EZ219:EZ241)","v":0.54267030895101354},{"$f":"AVERAGE(Data!FA219:FA241)","v":0.6466175992974158},{"$f":"AVERAGE(Data!FB219:FB241)","v":0},{"$f":"AVERAGE(Data!FC219:FC241)","v":0.55989896450303933},{"$f":"AVERAGE(Data!FD219:FD241)","v":0.59034214980205968},{"$f":"AVERAGE(Data!FE219:FE241)","v":0.58107798974754765},{"$f":"AVERAGE(Data!FF219:FF241)","v":0},{"$f":"AVERAGE(Data!FG219:FG241)","v":0},{"$f":"AVERAGE(Data!FH219:FH241)","v":0},{"$f":"AVERAGE(Data!FI219:FI241)","v":0.70277868905622898},{"$f":"AVERAGE(Data!FJ219:FJ241)","v":0.44565184844712052},{"$f":"AVERAGE(Data!FK219:FK241)","v":0.31036346991057523},{"$f":"AVERAGE(Data!FL219:FL241)","v":0.42754631074938887},{"$f":"AVERAGE(Data!FM219:FM241)","v":0.35175008243556188},{"$f":"AVERAGE(Data!FN219:FN241)","v":0.45283633074505664},{"$f":"AVERAGE(Data!FO219:FO241)","v":0.3809875907060909},{"$f":"AVERAGE(Data!FP219:FP241)","v":0.4109082669284595},{"$f":"AVERAGE(Data!FQ219:FQ241)","v":0.37848053207641746},{"$f":"AVERAGE(Data!FR219:FR241)","v":0.59031377281533348},{"$f":"AVERAGE(Data!FS219:FS241)","v":0.46756275584687496},{"$f":"AVERAGE(Data!FT219:FT241)","v":0.44363096579292954},{"$f":"AVERAGE(Data!FU219:FU241)","v":0.27442595818541127},{"$f":"AVERAGE(Data!FV219:FV241)","v":0},{"$f":"AVERAGE(Data!FW219:FW241)","v":0.27686205362747474},{"$f":"AVERAGE(Data!FX219:FX241)","v":0.16810238708282577},{"$f":"AVERAGE(Data!FY219:FY241)","v":0.61256636730096192},{"$f":"AVERAGE(Data!FZ219:FZ241)","v":0.25455073177372456},{"$f":"AVERAGE(Data!GA219:GA241)","v":0.63523247454446474},{"$f":"AVERAGE(Data!GB219:GB241)","v":0.91800834917279583},{"$f":"AVERAGE(Data!GC219:GC241)","v":0.80972817585431911},{"$f":"AVERAGE(Data!GD219:GD241)","v":0.10230268513895352},{"$f":"AVERAGE(Data!GE219:GE241)","v":0.70277868905622898},{"$f":"AVERAGE(Data!GF219:GF241)","v":0.33191911901000642},{"$f":"AVERAGE(Data!GG219:GG241)","v":0.52438364003440519},{"$f":"AVERAGE(Data!GH219:GH241)","v":0.83955559857178763},{"$f":"AVERAGE(Data!GI219:GI241)","v":0.71418296615672283},{"$f":"AVERAGE(Data!GJ219:GJ241)","v":0.86500214676610598},{"$f":"AVERAGE(Data!GK219:GK241)","v":0.84824440712052596},{"$f":"AVERAGE(Data!GL219:GL241)","v":0.42898705819198019},{"$f":"AVERAGE(Data!GM219:GM241)","v":0.53841507981421355},{"$f":"AVERAGE(Data!GN219:GN241)","v":0.34626382081052937},{"$f":"AVERAGE(Data!GO219:GO241)","v":0.33636584141799158}]
["E05004877","29UBHK","Great Chart with Singleton North","Tonbridge and Malling",11,{"$f":"AVERAGE(Data!G242:G267)","v":1.1106860966328709},{"$f":"AVERAGE(Data!H242:H267)","v":1.0878787843324667},{"$f":"AVERAGE(Data!I242:I267)","v":1.0640091769474072},{"$f":"AVERAGE(Data!J242:J267)","v":1.4275880407495984},{"$f":"AVERAGE(Data!K242:K267)","v":1.1043284799123358},{"$f":"AVERAGE(Data!L242:L267)","v":1.1032540485469524},{"$f":"AVERAGE(Data!M242:M267)","v":1.0937993151152403},{"$f":"AVERAGE(Data!N242:N267)","v":1.4046956916049913},{"$f":"AVERAGE(Data!O242:O267)","v":1.6124037262705864},{"$f":"AVERAGE(Data!P242:P267)","v":1.5760713661918588},{"$f":"AVERAGE(Data!Q242:Q267)","v":0.97863060259699841},{"$f":"AVERAGE(Data!R242:R267)","v":1.1319895752499969},{"$f":"AVERAGE(Data!S242:S267)","v":1.1076167696367063},{"$f":"AVERAGE(Data!T242:T267)","v":1.2257253925978036},{"$f":"AVERAGE(Data!U242:U267)","v":1.2081562639933976},{"$f":"AVERAGE(Data!V242:V267)","v":1.153876228264469},{"$f":"AVERAGE(Data!W242:W267)","v":1.1073278605994921},{"$f":"AVERAGE(Data!X242:X267)","v":1.0991540096730466},{"$f":"AVERAGE(Data!Y242:Y267)","v":1.0272992558687499},{"$f":"AVERAGE(Data!Z242:Z267)","v":1.0786354897874892},{"$f":"AVERAGE(Data!AA242:AA267)","v":1.1076972115079537},{"$f":"AVERAGE(Data!AB242:AB267)","v":1.1273643542455989},{"$f":"AVERAGE(Data!AC242:AC267)","v":1.1775212534410535},{"$f":"AVERAGE(Data!AD242:AD267)","v":1.4444187648840481},{"$f":"AVERAGE(Data!AE242:AE267)","v":1.1848559248906345},{"$f":"AVERAGE(Data!AF242:AF267)","v":1.2011096684204383},{"$f":"AVERAGE(Data!AG242:AG267)","v":0.85164150809915007},{"$f":"AVERAGE(Data!AH242:AH267)","v":0.99497896828286969},{"$f":"AVERAGE(Data!AI242:AI267)","v":0.99901212710874754},{"$f":"AVERAGE(Data!AJ242:AJ267)","v":1.0127454531419535},{"$f":"AVERAGE(Data!AK242:AK267)","v":0.90490081592282945},{"$f":"AVERAGE(Data!AL242:AL267)","v":1.073798417169963},{"$f":"AVERAGE(Data!AM242:AM267)","v":0.97863060259699841},{"$f":"AVERAGE(Data!AN242:AN267)","v":0.97469604502641238},{"$f":"AVERAGE(Data!AO242:AO267)","v":0.91740079797063001},{"$f":"AVERAGE(Data!AP242:AP267)","v":1.0496523161887894},{"$f":"AVERAGE(Data!AQ242:AQ267)","v":1.0458837390920042},{"$f":"AVERAGE(Data!AR242:AR267)","v":1.0365392777584288},{"$f":"AVERAGE(Data!AS242:AS267)","v":1.0485572883094878},{"$f":"AVERAGE(Data!AT242:AT267)","v":1.1608042856773757},{"$f":"AVERAGE(Data!AU242:AU267)","v":1.0875246859709151},{"$f":"AVERAGE(Data!AV242:AV267)","v":111.5},{"$f":"AVERAGE(Data!AW242:AW267)","v":0.3913461538461539},{"$f":"AVERAGE(Data!AX242:AX267)","v":{"$error":"#DIV/0!"}},{"$f":"AVERAGE(Data!AY242:AY267)","v":{"$error":"#DIV/0!"}},{"$f":"AVERAGE(Data!AZ242:AZ267)","v":{"$error":"#DIV/0!"}},{"$f":"AVERAGE(Data!BA242:BA267)","v":{"$error":"#DIV/0!"}},{"$f":"AVERAGE(Data!BB242:BB267)","v":1.2267331151858234},{"$f":"AVERAGE(Data!BC242:BC267)","v":63.230769230769234},{"$f":"AVERAGE(Data!BD242:BD267)","v":0.22026923076923077},{"$f":"AVERAGE(Data!BE242:BE267)","v":{"$error":"#DIV/0!"}},{"$f":"AVERAGE(Data!BF242:BF267)","v":{"$error":"#DIV/0!"}},{"$f":"AVERAGE(Data!BG242:BG267)","v":{"$error":"#DIV/0!"}},{"$f":"AVERAGE(Data!BH242:BH267)","v":{"$error":"#DIV/0!"}},{"$f":"AVERAGE(Data!BI242:BI267)","v":1.249308740600227},{"$f":"AVERAGE(Data!BJ242:BJ267)","v":55.346153846153847},{"$f":"AVERAGE(Data!BK242:BK267)","v":0.19230769230769226},{"$f":"AVERAGE(Data!BL242:BL267)","v":{"$error":"#DIV/0!"}},{"$f":"AVERAGE(Data!BM242:BM267)","v":{"$error":"#DIV/0!"}},{"$f":"AVERAGE(Data!BN242:BN267)","v":{"$error":"#DIV/0!"}},{"$f":"AVERAGE(Data!BO242:BO267)","v":{"$error":"#DIV/0!"}},{"$f":"AVERAGE(Data!BP242:BP267)","v":1.0779270420470961},{"$f":"AVERAGE(Data!BQ242:BQ267)","v":124.23076923076923},{"$f":"AVERAGE(Data!BR242:BR267)","v":0.43646153846153857},{"$f":"AVERAGE(Data!BS242:BS267)","v":{"$error":"#DIV/0!"}},{"$f":"AVERAGE(Data!BT242:BT267)","v":{"$error":"#DIV/0!"}},{"$f":"AVERAGE(Data!BU242:BU267)","v":{"$error":"#DIV/0!"}},{"$f":"AVERAGE(Data!BV242:BV267)","v":{"$error":"#DIV/0!"}},{"$f":"AVERAGE(Data!BW242:BW267)","v":1.1871274147732289},{"$f":"AVERAGE(Data!BX242:BX267)","v":74.07692307692308},{"$f":"AVERAGE(Data!BY242:BY267)","v":0.25865384615384612},{"$f":"AVERAGE(Data!BZ242:BZ267)","v":{"$error":"#DIV/0!"}},{"$f":"AVERAGE(Data!CA242:CA267)","v":{"$error":"#DIV/0!"}},{"$f":"AVERAGE(Data!CB242:CB267)","v":{"$error":"#DIV/0!"}},{"$f":"AVERAGE(Data!CC242:CC267)","v":{"$error":"#DIV/0!"}},{"$f":"AVERAGE(Data!CD242:CD267)","v":1.0581465174232734},{"$f":"AVERAGE(Data!CE242:CE267)","v":126.30769230769231},{"$f":"AVERAGE(Data!CF242:CF267)","v":0.44384615384615383},{"$f":"AVERAGE(Data!CG242:CG267)","v":{"$error":"#DIV/0!"}},{"$f":"AVERAGE(Data!CH242:CH267)","v":{"$error":"#DIV/0!"}},{"$f":"AVERAGE(Data!CI242:CI267)","v":{"$error":"#DIV/0!"}},{"$f":"AVERAGE(Data!CJ242:CJ267)","v":{"$error":"#DIV/0!"}},{"$f":"AVERAGE(Data!CK242:CK267)","v":0.97221946539117687},{"$f":"AVERAGE(Data!CL242:CL267)","v":165},{"$f":"AVERAGE(Data!CM242:CM267)","v":0.58099999999999996},{"$f":"AVERAGE(Data!CN242:CN267)","v":{"$error":"#DIV/0!"}},{"$f":"AVERAGE(Data!CO242:CO267)","v":{"$error":"#DIV/0!"}},{"$f":"AVERAGE(Data!CP242:CP267)","v":{"$error":"#DIV/0!"}},{"$f":"AVERAGE(Data!CQ242:CQ267)","v":{"$error":"#DIV/0!"}},{"$f":"AVERAGE(Data!CR242:CR267)","v":1.0262145098834805},{"$f":"AVERAGE(Data!CS242:CS267)","v":147.46153846153845},{"$f":"AVERAGE(Data!CT242:CT267)","v":0.51888461538461539},{"$f":"AVERAGE(Data!CU242:CU267)","v":{"$error":"#DIV/0!"}},{"$f":"AVERAGE(Data!CV242:CV267)","v":{"$error":"#DIV/0!"}},{"$f":"AVERAGE(Data!CW242:CW267)","v":{"$error":"#DIV/0!"}},{"$f":"AVERAGE(Data!CX242:CX267)","v":{"$error":"#DIV/0!"}},{"$f":"AVERAGE(Data!CY242:CY267)","v":0.94604842149852131},{"$f":"AVERAGE(Data!CZ242:CZ267)","v":166.03846153846155},{"$f":"AVERAGE(Data!DA242:DA267)","v":0.58473076923076917},{"$f":"AVERAGE(Data!DB242:DB267)","v":{"$error":"#DIV/0!"}},{"$f":"AVERAGE(Data!DC242:DC267)","v":{"$error":"#DIV/0!"}},{"$f":"AVERAGE(Data!DD242:DD267)","v":{"$error":"#DIV/0!"}},{"$f":"AVERAGE(Data!DE242:DE267)","v":{"$error":"#DIV/0!"}},{"$f":"AVERAGE(Data!DF242:DF267)","v":1.068287381405217},{"$f":"AVERAGE(Data!DG242:DG267)","v":98.807692307692307},{"$f":"AVERAGE(Data!DH242:DH267)","v":0.3463461538461538},{"$f":"AVERAGE(Data!DI242:DI267)","v":{"$error":"#DIV/0!"}},{"$f":"AVERAGE(Data!DJ242:DJ267)","v":{"$error":"#DIV/0!"}},{"$f":"AVERAGE(Data!DK242:DK267)","v":{"$error":"#DIV/0!"}},{"$f":"AVERAGE(Data!DL242:DL267)","v":{"$error":"#DIV/0!"}},{"$f":"AVERAGE(Data!DM242:DM267)","v":1.1907626676202612},{"$f":"AVERAGE(Data!DN242:DN267)","v":69.65384615384616},{"$f":"AVERAGE(Data!DO242:DO267)","v":0.24303846153846154},{"$f":"AVERAGE(Data!DP242:DP267)","v":{"$error":"#DIV/0!"}},{"$f":"AVERAGE(Data!DQ242:DQ267)","v":{"$error":"#DIV/0!"}},{"$f":"AVERAGE(Data!DR242:DR267)","v":{"$error":"#DIV/0!"}},{"$f":"AVERAGE(Data!DS242:DS267)","v":{"$error":"#DIV/0!"}},{"$f":"AVERAGE(Data!DT242:DT267)","v":1.129802571506582},{"$f":"AVERAGE(Data!DU242:DU267)","v":95.038461538461533},{"$f":"AVERAGE(Data!DV242:DV267)","v":0.33303846153846156},{"$f":"AVERAGE(Data!DW242:DW267)","v":{"$error":"#DIV/0!"}},{"$f":"AVERAGE(Data!DX242:DX267)","v":{"$error":"#DIV/0!"}},{"$f":"AVERAGE(Data!DY242:DY267)","v":{"$error":"#DIV/0!"}},{"$f":"AVERAGE(Data!DZ242:DZ267)","v":{"$error":"#DIV/0!"}},{"$f":"AVERAGE(Data!EA242:EA267)","v":1.0168850971636352},{"$f":"AVERAGE(Data!EB242:EB267)","v":133.84615384615384},{"$f":"AVERAGE(Data!EC242:EC267)","v":0.47061538461538455},{"$f":"AVERAGE(Data!ED242:ED267)","v":{"$error":"#DIV/0!"}},{"$f":"AVERAGE(Data!EE242:EE267)","v":{"$error":"#DIV/0!"}},{"$f":"AVERAGE(Data!EF242:EF267)","v":{"$error":"#DIV/0!"}},{"$f":"AVERAGE(Data!EG242:EG267)","v":{"$error":"#DIV/0!"}},{"$f":"AVERAGE(Data!EH242:EH267)","v":1.1248833748576959},{"$f":"AVERAGE(Data!EI242:EI267)","v":76.65384615384616},{"$f":"AVERAGE(Data!EJ242:EJ267)","v":0.26776923076923076},{"$f":"AVERAGE(Data!EK242:EK267)","v":{"$error":"#DIV/0!"}},{"$f":"AVERAGE(Data!EL242:EL267)","v":{"$error":"#DIV/0!"}},{"$f":"AVERAGE(Data!EM242:EM267)","v":{"$error":"#DIV/0!"}},{"$f":"AVERAGE(Data!EN242:EN267)","v":{"$error":"#DIV/0!"}},{"$f":"AVERAGE(Data!EO242:EO267)","v":{"$error":"#DIV/0!"}},{"$f":"AVERAGE(Data!EP242:EP267)","v":207.34615384615384},{"$f":"AVERAGE(Data!EQ242:EQ267)","v":214.34615384615384},{"$f":"AVERAGE(Data!ER242:ER267)","v":188.96153846153845},{"$f":"AVERAGE(Data!ES242:ES267)","v":150.15384615384616},{"$f":"AVERAGE(Data!ET242:ET267)","v":0.75600000000000001},{"$f":"AVERAGE(Data!EU242:EU267)","v":0.66596153846153849},{"$f":"AVERAGE(Data!EV242:EV267)","v":0.52838461538461545},{"$f":"AVERAGE(Data!EW242:EW267)","v":207.34615384615384},{"$f":"AVERAGE(Data!GW242:GW267)","v":0.66803948648261458},{"$f":"AVERAGE(Data!EY242:EY267)","v":0.64830655110346602},{"$f":"AVERAGE(Data!EZ242:EZ267)","v":0.6802812892365846},{"$f":"AVERAGE(Data!FA242:FA267)","v":0.80305701341946878},{"$f":"AVERAGE(Data!FB242:FB267)","v":0.99125693215467803},{"$f":"AVERAGE(Data!FC242:FC267)","v":0.78292802513313842},{"$f":"AVERAGE(Data!FD242:FD267)","v":0.83748589729821221},{"$f":"AVERAGE(Data!FE242:FE267)","v":0.72078034469636143},{"$f":"AVERAGE(Data!FF242:FF267)","v":0.80125462711214257},{"$f":"AVERAGE(Data!FG242:FG267)","v":0.8175950478756514},{"$f":"AVERAGE(Data!FH242:FH267)","v":0.89093206163416372},{"$f":"AVERAGE(Data!FI242:FI267)","v":0.74664529025773174},{"$f":"AVERAGE(Data!FJ242:FJ267)","v":0.72743257615181589},{"$f":"AVERAGE(Data!FK242:FK267)","v":0.48311395571300442},{"$f":"AVERAGE(Data!FL242:FL267)","v":0.76200494894087456},{"$f":"AVERAGE(Data!FM242:FM267)","v":0.64542279270465686},{"$f":"AVERAGE(Data!FN242:FN267)","v":0.68916436525891578},{"$f":"AVERAGE(Data!FO242:FO267)","v":0.53736623090917079},{"$f":"AVERAGE(Data!FP242:FP267)","v":0.57829440150230937},{"$f":"AVERAGE(Data!FQ242:FQ267)","v":0.39683968669503999},{"$f":"AVERAGE(Data!FR242:FR267)","v":0.78164966844359052},{"$f":"AVERAGE(Data!FS242:FS267)","v":0.68410325797923},{"$f":"AVERAGE(Data!FT242:FT267)","v":0.71555198869397685},{"$f":"AVERAGE(Data!FU242:FU267)","v":0.66151132693742198},{"$f":"AVERAGE(Data!FV242:FV267)","v":0.8691625611776258},{"$f":"AVERAGE(Data!FW242:FW267)","v":0.48010863364310236},{"$f":"AVERAGE(Data!FX242:FX267)","v":0.35412909447439583},{"$f":"AVERAGE(Data!FY242:FY267)","v":0.3966137694125752},{"$f":"AVERAGE(Data!FZ242:FZ267)","v":0.34644053820869802},{"$f":"AVERAGE(Data!GA242:GA267)","v":0.58827873919644158},{"$f":"AVERAGE(Data!GB242:GB267)","v":0.82548134781610893},{"$f":"AVERAGE(Data!GC242:GC267)","v":0.65455943937211514},{"$f":"AVERAGE(Data!GD242:GD267)","v":0.14813314562015192},{"$f":"AVERAGE(Data!GE242:GE267)","v":0.74664529025773174},{"$f":"AVERAGE(Data!GF242:GF267)","v":0.33101691250436471},{"$f":"AVERAGE(Data!GG242:GG267)","v":0.43857645103834425},{"$f":"AVERAGE(Data!GH242:GH267)","v":0.91340696505614138},{"$f":"AVERAGE(Data!GI242:GI267)","v":0.7644128630121716},{"$f":"AVERAGE(Data!GJ242:GJ267)","v":0.92186837822342826},{"$f":"AVERAGE(Data!GK242:GK267)","v":0.92856075080691869},{"$f":"AVERAGE(Data!GL242:GL267)","v":0.63120629963266894},{"$f":"AVERAGE(Data!GM242:GM267)","v":0.71054828458650654},{"$f":"AVERAGE(Data!GN242:GN267)","v":0.82674116527890662},{"$f":"AVERAGE(Data!GO242:GO267)","v":0.72028887981710177}]
["E05004878","29UBHL","Highfield","Tunbridge Wells",12,{"$f":"AVERAGE(Data!G268:G287)","v":1.3207421355858115},{"$f":"AVERAGE(Data!H268:H287)","v":1.0757648974077574},{"$f":"AVERAGE(Data!I268:I287)","v":1.1380778176673463},{"$f":"AVERAGE(Data!J268:J287)","v":1.3691590904932367},{"$f":"AVERAGE(Data!K268:K287)","v":1.1800037949871234},{"$f":"AVERAGE(Data!L268:L287)","v":1.0870807554779442},{"$f":"AVERAGE(Data!M268:M287)","v":1.0313626553720316},{"$f":"AVERAGE(Data!N268:N287)","v":1.435303704864169},{"$f":"AVERAGE(Data!O268:O287)","v":1.7339519621173594},{"$f":"AVERAGE(Data!P268:P287)","v":1.54607486936412},{"$f":"AVERAGE(Data!Q268:Q287)","v":0.98611729724669117},{"$f":"AVERAGE(Data!R268:R287)","v":1.17744170945203},{"$f":"AVERAGE(Data!S268:S287)","v":1.1239032036847554},{"$f":"AVERAGE(Data!T268:T287)","v":0.88107213048195177},{"$f":"AVERAGE(Data!U268:U287)","v":1.2831551518657975},{"$f":"AVERAGE(Data!V268:V287)","v":1.1831706535624116},{"$f":"AVERAGE(Data!W268:W287)","v":1.2393802589269221},{"$f":"AVERAGE(Data!X268:X287)","v":1.225271733631645},{"$f":"AVERAGE(Data!Y268:Y287)","v":1.1994418016735904},{"$f":"AVERAGE(Data!Z268:Z287)","v":1.092666116453022},{"$f":"AVERAGE(Data!AA268:AA287)","v":1.0559985736904676},{"$f":"AVERAGE(Data!AB268:AB287)","v":1.2713477489282226},{"$f":"AVERAGE(Data!AC268:AC287)","v":1.7800470006954925},{"$f":"AVERAGE(Data!AD268:AD287)","v":1.6452770775044558},{"$f":"AVERAGE(Data!AE268:AE287)","v":1.1932808729604423},{"$f":"AVERAGE(Data!AF268:AF287)","v":1.2674621936446866},{"$f":"AVERAGE(Data!AG268:AG287)","v":0.8495526945105244},{"$f":"AVERAGE(Data!AH268:AH287)","v":1.265455791640921},{"$f":"AVERAGE(Data!AI268:AI287)","v":1.1002273303479424},{"$f":"AVERAGE(Data!AJ268:AJ287)","v":1.0360738389881665},{"$f":"AVERAGE(Data!AK268:AK287)","v":0.97674148780086811},{"$f":"AVERAGE(Data!AL268:AL287)","v":1.0763490691308504},{"$f":"AVERAGE(Data!AM268:AM287)","v":0.98611729724669117},{"$f":"AVERAGE(Data!AN268:AN287)","v":0.97325128400176697},{"$f":"AVERAGE(Data!AO268:AO287)","v":0.91657442147729518},{"$f":"AVERAGE(Data!AP268:AP287)","v":0.67658966397696119},{"$f":"AVERAGE(Data!AQ268:AQ287)","v":1.036381491747226},{"$f":"AVERAGE(Data!AR268:AR287)","v":0.75426410591219584},{"$f":"AVERAGE(Data!AS268:AS287)","v":0.70593599654900263},{"$f":"AVERAGE(Data!AT268:AT287)","v":1.2709557611300339},{"$f":"AVERAGE(Data!AU268:AU287)","v":1.1781949502203053},{"$f":"AVERAGE(Data!AV268:AV287)","v":76.849999999999994},{"$f":"AVERAGE(Data!AW268:AW287)","v":0.26859999999999995},{"$f":"AVERAGE(Data!AX268:AX287)","v":{"$error":"#DIV/0!"}},{"$f":"AVERAGE(Data!AY268:AY287)","v":{"$error":"#DIV/0!"}},{"$f":"AVERAGE(Data!AZ268:AZ287)","v":{"$error":"#DIV/0!"}},{"$f":"AVERAGE(Data!BA268:BA287)","v":{"$error":"#DIV/0!"}},{"$f":"AVERAGE(Data!BB268:BB287)","v":1.2205820002389012},{"$f":"AVERAGE(Data!BC268:BC287)","v":66.900000000000006},{"$f":"AVERAGE(Data!BD268:BD287)","v":0.23320000000000013},{"$f":"AVERAGE(Data!BE268:BE287)","v":{"$error":"#DIV/0!"}},{"$f":"AVERAGE(Data!BF268:BF287)","v":{"$error":"#DIV/0!"}},{"$f":"AVERAGE(Data!BG268:BG287)","v":{"$error":"#DIV/0!"}},{"$f":"AVERAGE(Data!BH268:BH287)","v":{"$error":"#DIV/0!"}},{"$f":"AVERAGE(Data!BI268:BI287)","v":1.2393608722218894},{"$f":"AVERAGE(Data!BJ268:BJ287)","v":58.15},{"$f":"AVERAGE(Data!BK268:BK287)","v":0.20215},{"$f":"AVERAGE(Data!BL268:BL287)","v":{"$error":"#DIV/0!"}},{"$f":"AVERAGE(Data!BM268:BM287)","v":{"$error":"#DIV/0!"}},{"$f":"AVERAGE(Data!BN268:BN287)","v":{"$error":"#DIV/0!"}},{"$f":"AVERAGE(Data!BO268:BO287)","v":{"$error":"#DIV/0!"}},{"$f":"AVERAGE(Data!BP268:BP287)","v":1.221364598077386},{"$f":"AVERAGE(Data!BQ268:BQ287)","v":96.5},{"$f":"AVERAGE(Data!BR268:BR287)","v":0.33820000000000006},{"$f":"AVERAGE(Data!BS268:BS287)","v":{"$error":"#DIV/0!"}},{"$f":"AVERAGE(Data!BT268:BT287)","v":{"$error":"#DIV/0!"}},{"$f":"AVERAGE(Data!BU268:BU287)","v":{"$error":"#DIV/0!"}},{"$f":"AVERAGE(Data!BV268:BV287)","v":{"$error":"#DIV/0!"}},{"$f":"AVERAGE(Data!BW268:BW287)","v":1.3690673034543321},{"$f":"AVERAGE(Data!BX268:BX287)","v":16.05},{"$f":"AVERAGE(Data!BY268:BY287)","v":5.2900000000000003E-2},{"$f":"AVERAGE(Data!BZ268:BZ287)","v":{"$error":"#DIV/0!"}},{"$f":"AVERAGE(Data!CA268:CA287)","v":{"$error":"#DIV/0!"}},{"$f":"AVERAGE(Data!CB268:CB287)","v":{"$error":"#DIV/0!"}},{"$f":"AVERAGE(Data!CC268:CC287)","v":{"$error":"#DIV/0!"}},{"$f":"AVERAGE(Data!CD268:CD287)","v":1.1439378881891433},{"$f":"AVERAGE(Data!CE268:CE287)","v":101.25},{"$f":"AVERAGE(Data!CF268:CF287)","v":0.35494999999999999},{"$f":"AVERAGE(Data!CG268:CG287)","v":{"$error":"#DIV/0!"}},{"$f":"AVERAGE(Data!CH268:CH287)","v":{"$error":"#DIV/0!"}},{"$f":"AVERAGE(Data!CI268:CI287)","v":{"$error":"#DIV/0!"}},{"$f":"AVERAGE(Data!CJ268:CJ287)","v":{"$error":"#DIV/0!"}},{"$f":"AVERAGE(Data!CK268:CK287)","v":1.0376808857123259},{"$f":"AVERAGE(Data!CL268:CL287)","v":126.25},{"$f":"AVERAGE(Data!CM268:CM287)","v":0.44364999999999999},{"$f":"AVERAGE(Data!CN268:CN287)","v":{"$error":"#DIV/0!"}},{"$f":"AVERAGE(Data!CO268:CO287)","v":{"$error":"#DIV/0!"}},{"$f":"AVERAGE(Data!CP268:CP287)","v":{"$error":"#DIV/0!"}},{"$f":"AVERAGE(Data!CQ268:CQ287)","v":{"$error":"#DIV/0!"}},{"$f":"AVERAGE(Data!CR268:CR287)","v":1.0312331831887707},{"$f":"AVERAGE(Data!CS268:CS287)","v":122.15},{"$f":"AVERAGE(Data!CT268:CT287)","v":0.42914999999999992},{"$f":"AVERAGE(Data!CU268:CU287)","v":{"$error":"#DIV/0!"}},{"$f":"AVERAGE(Data!CV268:CV287)","v":{"$error":"#DIV/0!"}},{"$f":"AVERAGE(Data!CW268:CW287)","v":{"$error":"#DIV/0!"}},{"$f":"AVERAGE(Data!CX268:CX287)","v":{"$error":"#DIV/0!"}},{"$f":"AVERAGE(Data!CY268:CY287)","v":0.94491285273953118},{"$f":"AVERAGE(Data!CZ268:CZ287)","v":162.1},{"$f":"AVERAGE(Data!DA268:DA287)","v":0.57084999999999986},{"$f":"AVERAGE(Data!DB268:DB287)","v":{"$error":"#DIV/0!"}},{"$f":"AVERAGE(Data!DC268:DC287)","v":{"$error":"#DIV/0!"}},{"$f":"AVERAGE(Data!DD268:DD287)","v":{"$error":"#DIV/0!"}},{"$f":"AVERAGE(Data!DE268:DE287)","v":{"$error":"#DIV/0!"}},{"$f":"AVERAGE(Data!DF268:DF287)","v":0.88882540386308384},{"$f":"AVERAGE(Data!DG268:DG287)","v":196.4},{"$f":"AVERAGE(Data!DH268:DH287)","v":0.6923999999999999},{"$f":"AVERAGE(Data!DI268:DI287)","v":{"$error":"#DIV/0!"}},{"$f":"AVERAGE(Data!DJ268:DJ287)","v":{"$error":"#DIV/0!"}},{"$f":"AVERAGE(Data!DK268:DK287)","v":{"$error":"#DIV/0!"}},{"$f":"AVERAGE(Data!DL268:DL287)","v":{"$error":"#DIV/0!"}},{"$f":"AVERAGE(Data!DM268:DM287)","v":1.2219197696769839},{"$f":"AVERAGE(Data!DN268:DN287)","v":58.4},{"$f":"AVERAGE(Data!DO268:DO287)","v":0.20295000000000005},{"$f":"AVERAGE(Data!DP268:DP287)","v":{"$error":"#DIV/0!"}},{"$f":"AVERAGE(Data!DQ268:DQ287)","v":{"$error":"#DIV/0!"}},{"$f":"AVERAGE(Data!DR268:DR287)","v":{"$error":"#DIV/0!"}},{"$f":"AVERAGE(Data!DS268:DS287)","v":{"$error":"#DIV/0!"}},{"$f":"AVERAGE(Data!DT268:DT287)","v":1.2690097855586928},{"$f":"AVERAGE(Data!DU268:DU287)","v":47.4},{"$f":"AVERAGE(Data!DV268:DV287)","v":0.16394999999999998},{"$f":"AVERAGE(Data!DW268:DW287)","v":{"$error":"#DIV/0!"}},{"$f":"AVERAGE(Data!DX268:DX287)","v":{"$error":"#DIV/0!"}},{"$f":"AVERAGE(Data!DY268:DY287)","v":{"$error":"#DIV/0!"}},{"$f":"AVERAGE(Data!DZ268:DZ287)","v":{"$error":"#DIV/0!"}},{"$f":"AVERAGE(Data!EA268:EA287)","v":0.95912181235908334},{"$f":"AVERAGE(Data!EB268:EB287)","v":177.25},{"$f":"AVERAGE(Data!EC268:EC287)","v":0.62444999999999995},{"$f":"AVERAGE(Data!ED268:ED287)","v":{"$error":"#DIV/0!"}},{"$f":"AVERAGE(Data!EE268:EE287)","v":{"$error":"#DIV/0!"}},{"$f":"AVERAGE(Data!EF268:EF287)","v":{"$error":"#DIV/0!"}},{"$f":"AVERAGE(Data!EG268:EG287)","v":{"$error":"#DIV/0!"}},{"$f":"AVERAGE(Data!EH268:EH287)","v":1.1536756360549982},{"$f":"AVERAGE(Data!EI268:EI287)","v":61},{"$f":"AVERAGE(Data!EJ268:EJ287)","v":0.21224999999999999},{"$f":"AVERAGE(Data!EK268:EK287)","v":{"$error":"#DIV/0!"}},{"$f":"AVERAGE(Data!EL268:EL287)","v":{"$error":"#DIV/0!"}},{"$f":"AVERAGE(Data!EM268:EM287)","v":{"$error":"#DIV/0!"}},{"$f":"AVERAGE(Data!EN268:EN287)","v":{"$error":"#DIV/0!"}},{"$f":"AVERAGE(Data!EO268:EO287)","v":{"$error":"#DIV/0!"}},{"$f":"AVERAGE(Data!EP268:EP287)","v":223},{"$f":"AVERAGE(Data!EQ268:EQ287)","v":225.6},{"$f":"AVERAGE(Data!ER268:ER287)","v":236.6},{"$f":"AVERAGE(Data!ES268:ES287)","v":106.75},{"$f":"AVERAGE(Data!ET268:ET287)","v":0.79605000000000015},{"$f":"AVERAGE(Data!EU268:EU287)","v":0.83505000000000007},{"$f":"AVERAGE(Data!EV268:EV287)","v":0.37454999999999999},{"$f":"AVERAGE(Data!EW268:EW287)","v":223},{"$f":"AVERAGE(Data!GW268:GW287)","v":0.67378360280509075},{"$f":"AVERAGE(Data!EY268:EY287)","v":0.77091608638519749},{"$f":"AVERAGE(Data!EZ268:EZ287)","v":0.67270613405064716},{"$f":"AVERAGE(Data!FA268:FA287)","v":0.85896004761626299},{"$f":"AVERAGE(Data!FB268:FB287)","v":0.95068633312547346},{"$f":"AVERAGE(Data!FC268:FC287)","v":0.83657902305681309},{"$f":"AVERAGE(Data!FD268:FD287)","v":0.82520866625065348},{"$f":"AVERAGE(Data!FE268:FE287)","v":0.67963649270312998},{"$f":"AVERAGE(Data!FF268:FF287)","v":0.81871379097033381},{"$f":"AVERAGE(Data!FG268:FG287)","v":0.87922802111132925},{"$f":"AVERAGE(Data!FH268:FH287)","v":0.87397544321331622},{"$f":"AVERAGE(Data!FI268:FI287)","v":0.75235725684140176},{"$f":"AVERAGE(Data!FJ268:FJ287)","v":0.75664076304424444},{"$f":"AVERAGE(Data!FK268:FK287)","v":0.49021767948561645},{"$f":"AVERAGE(Data!FL268:FL287)","v":0.54774203737282545},{"$f":"AVERAGE(Data!FM268:FM287)","v":0.68548879501163362},{"$f":"AVERAGE(Data!FN268:FN287)","v":0.70666076003814349},{"$f":"AVERAGE(Data!FO268:FO287)","v":0.60144887715750983},{"$f":"AVERAGE(Data!FP268:FP287)","v":0.64464831829069991},{"$f":"AVERAGE(Data!FQ268:FQ287)","v":0.46333734407561494},{"$f":"AVERAGE(Data!FR268:FR287)","v":0.79181717617442748},{"$f":"AVERAGE(Data!FS268:FS287)","v":0.65217467118078198},{"$f":"AVERAGE(Data!FT268:FT287)","v":0.8069400160127973},{"$f":"AVERAGE(Data!FU268:FU287)","v":1},{"$f":"AVERAGE(Data!FV268:FV287)","v":0.99002676598805339},{"$f":"AVERAGE(Data!FW268:FW287)","v":0.48352245824518014},{"$f":"AVERAGE(Data!FX268:FX287)","v":0.37369213712699012},{"$f":"AVERAGE(Data!FY268:FY287)","v":0.39564099833095623},{"$f":"AVERAGE(Data!FZ268:FZ287)","v":0.44061754017976129},{"$f":"AVERAGE(Data!GA268:GA287)","v":0.64788037018103117},{"$f":"AVERAGE(Data!GB268:GB287)","v":0.84449614302547038},{"$f":"AVERAGE(Data!GC268:GC287)","v":0.70652534445382253},{"$f":"AVERAGE(Data!GD268:GD287)","v":0.14848501436227968},{"$f":"AVERAGE(Data!GE268:GE287)","v":0.75235725684140176},{"$f":"AVERAGE(Data!GF268:GF287)","v":0.33052625663669694},{"$f":"AVERAGE(Data!GG268:GG287)","v":0.43818139004595158},{"$f":"AVERAGE(Data!GH268:GH287)","v":0.58876801587545624},{"$f":"AVERAGE(Data!GI268:GI287)","v":0.7574678844965117},{"$f":"AVERAGE(Data!GJ268:GJ287)","v":0.6708209162831853},{"$f":"AVERAGE(Data!GK268:GK287)","v":0.62514892251046628},{"$f":"AVERAGE(Data!GL268:GL287)","v":0.69110296445156072},{"$f":"AVERAGE(Data!GM268:GM287)","v":0.76752742268403584},{"$f":"AVERAGE(Data!GN268:GN287)","v":0.82216486122128063},{"$f":"AVERAGE(Data!GO268:GO287)","v":0.71153884451481375}]

{"sheet":"Charts","index":3,"n_rows":22,"n_cols":41,"rows_kept":22,"cut":false,"hidden":true,"merged":[]}
[null,"Index"]
[{"$f":"IFERROR(Data!C2,\"\")","v":""},{"$f":"IFERROR(Data!GW3,\"\")","v":""}]
[{"$f":"IFERROR(CONCATENATE(Data!D2,\" District\"),\"\")","v":""},{"$f":"IFERROR(VLOOKUP(Data!D2,Districts!$D$4:$FS$16,150,FALSE),\"\")","v":""}]
["Kent",{"$f":"IFERROR(AVERAGE(Data!GW5:GW287),\"\")","v":0.59604901167609292}]
[null,1,2,3,4,5,6,7,8,9,10,11,12,13,14,15,16,17,18,19,20,21,22,23,24,25,26,27,28,29,30,31,32,33,34,35,36,37,38,39,40]
[null,{"$f":"Data!G4","v":"education1"},{"$f":"Data!H4","v":"education7"},{"$f":"Data!I4","v":"education5"},{"$f":"Data!J4","v":"matwellbeing1b"},{"$f":"Data!K4","v":"matwellbeing4"},{"$f":"Data!L4","v":"matwellbeing5"},{"$f":"Data!M4","v":"matwellbeing6"},{"$f":"Data!N4","v":"matwellbeing7"},{"$f":"Data!O4","v":"health1"},{"$f":"Data!P4","v":"health2"},{"$f":"Data!Q4","v":"health7"},{"$f":"Data!R4","v":"health8b"},{"$f":"Data!S4","v":"health10"},{"$f":"Data!T4","v":"health11"},{"$f":"Data!U4","v":"health12"},{"$f":"Data!V4","v":"health13"},{"$f":"Data!W4","v":"lifesatisfaction1"},{"$f":"Data!X4","v":"lifesatisfaction2"},{"$f":"Data!Y4","v":"lifesatisfaction3"},{"$f":"Data!Z4","v":"strong2"},{"$f":"Data!AA4","v":"strong3"},{"$f":"Data!AB4","v":"strong7b"},{"$f":"Data!AC4","v":"strong8b"},{"$f":"Data!AD4","v":"strong12"},{"$f":"Data!AE4","v":"social4a"},{"$f":"Data!AF4","v":"social2a"},{"$f":"Data!AG4","v":"social3"},{"$f":"Data!AH4","v":"social5"},{"$f":"Data!AI4","v":"infra1"},{"$f":"Data!AJ4","v":"infra6a"},{"$f":"Data!AK4","v":"infra6e"},{"$f":"Data!AL4","v":"economy3b"},{"$f":"Data!AM4","v":"economy4a"},{"$f":"Data!AN4","v":"services2"},{"$f":"Data!AO4","v":"services3"},{"$f":"Data!AP4","v":"crime2c"},{"$f":"Data!AQ4","v":"crime3"},{"$f":"Data!AR4","v":"crime4"},{"$f":"Data!AS4","v":"crime5"},{"$f":"Data!AT4","v":"crime6"}]
[{"$f":"IFERROR(Data!C2,\"\")","v":""},{"$f":"IFERROR(Data!G2,\"\")","v":""},{"$f":"IFERROR(Data!H2,\"\")","v":""},{"$f":"IFERROR(Data!I2,\"\")","v":""},{"$f":"IFERROR(Data!J2,\"\")","v":""},{"$f":"IFERROR(Data!K2,\"\")","v":""},{"$f":"IFERROR(Data!L2,\"\")","v":""},{"$f":"IFERROR(Data!M2,\"\")","v":""},{"$f":"IFERROR(Data!N2,\"\")","v":""},{"$f":"IFERROR(Data!O2,\"\")","v":""},{"$f":"IFERROR(Data!P2,\"\")","v":""},{"$f":"IFERROR(Data!Q2,\"\")","v":""},{"$f":"IFERROR(Data!R2,\"\")","v":""},{"$f":"IFERROR(Data!S2,\"\")","v":""},{"$f":"IFERROR(Data!T2,\"\")","v":""},{"$f":"IFERROR(Data!U2,\"\")","v":""},{"$f":"IFERROR(Data!V2,\"\")","v":""},{"$f":"IFERROR(Data!W2,\"\")","v":""},{"$f":"IFERROR(Data!X2,\"\")","v":""},{"$f":"IFERROR(Data!Y2,\"\")","v":""},{"$f":"IFERROR(Data!Z2,\"\")","v":""},{"$f":"IFERROR(Data!AA2,\"\")","v":""},{"$f":"IFERROR(Data!AB2,\"\")","v":""},{"$f":"IFERROR(Data!AC2,\"\")","v":""},{"$f":"IFERROR(Data!AD2,\"\")","v":""},{"$f":"IFERROR(Data!AE2,\"\")","v":""},{"$f":"IFERROR(Data!AF2,\"\")","v":""},{"$f":"IFERROR(Data!AG2,\"\")","v":""},{"$f":"IFERROR(Data!AH2,\"\")","v":""},{"$f":"IFERROR(Data!AI2,\"\")","v":""},{"$f":"IFERROR(Data!AJ2,\"\")","v":""},{"$f":"IFERROR(Data!AK2,\"\")","v":""},{"$f":"IFERROR(Data!AL2,\"\")","v":""},{"$f":"IFERROR(Data!AM2,\"\")","v":""},{"$f":"IFERROR(Data!AN2,\"\")","v":""},{"$f":"IFERROR(Data!AO2,\"\")","v":""},{"$f":"IFERROR(Data!AP2,\"\")","v":""},{"$f":"IFERROR(Data!AQ2,\"\")","v":""},{"$f":"IFERROR(Data!AR2,\"\")","v":""},{"$f":"IFERROR(Data!AS2,\"\")","v":""},{"$f":"IFERROR(Data!AT2,\"\")","v":""}]
[{"$f":"IFERROR(CONCATENATE(Data!D2,\" District\"),\"\")","v":""},{"$f":"IFERROR(Districts!F2,\"\")","v":""},{"$f":"IFERROR(Districts!G2,\"\")","v":""},{"$f":"IFERROR(Districts!H2,\"\")","v":""},{"$f":"IFERROR(Districts!I2,\"\")","v":""},{"$f":"IFERROR(Districts!J2,\"\")","v":""},{"$f":"IFERROR(Districts!K2,\"\")","v":""},{"$f":"IFERROR(Districts!L2,\"\")","v":""},{"$f":"IFERROR(Districts!M2,\"\")","v":""},{"$f":"IFERROR(Districts!N2,\"\")","v":""},{"$f":"IFERROR(Districts!O2,\"\")","v":""},{"$f":"IFERROR(Districts!P2,\"\")","v":""},{"$f":"IFERROR(Districts!Q2,\"\")","v":""},{"$f":"IFERROR(Districts!R2,\"\")","v":""},{"$f":"IFERROR(Districts!S2,\"\")","v":""},{"$f":"IFERROR(Districts!T2,\"\")","v":""},{"$f":"IFERROR(Districts!U2,\"\")","v":""},{"$f":"IFERROR(Districts!V2,\"\")","v":""},{"$f":"IFERROR(Districts!W2,\"\")","v":""},{"$f":"IFERROR(Districts!X2,\"\")","v":""},{"$f":"IFERROR(Districts!Y2,\"\")","v":""},{"$f":"IFERROR(Districts!Z2,\"\")","v":""},{"$f":"IFERROR(Districts!AA2,\"\")","v":""},{"$f":"IFERROR(Districts!AB2,\"\")","v":""},{"$f":"IFERROR(Districts!AC2,\"\")","v":""},{"$f":"IFERROR(Districts!AD2,\"\")","v":""},{"$f":"IFERROR(Districts!AE2,\"\")","v":""},{"$f":"IFERROR(Districts!AF2,\"\")","v":""},{"$f":"IFERROR(Districts!AG2,\"\")","v":""},{"$f":"IFERROR(Districts!AH2,\"\")","v":""},{"$f":"IFERROR(Districts!AI2,\"\")","v":""},{"$f":"IFERROR(Districts!AJ2,\"\")","v":""},{"$f":"IFERROR(Districts!AK2,\"\")","v":""},{"$f":"IFERROR(Districts!AL2,\"\")","v":""},{"$f":"IFERROR(Districts!AM2,\"\")","v":""},{"$f":"IFERROR(Districts!AN2,\"\")","v":""},{"$f":"IFERROR(Districts!AO2,\"\")","v":""},{"$f":"IFERROR(Districts!AP2,\"\")","v":""},{"$f":"IFERROR(Districts!AQ2,\"\")","v":""},{"$f":"IFERROR(Districts!AR2,\"\")","v":""},{"$f":"IFERROR(Districts!AS2,\"\")","v":""}]
["Kent",{"$f":"IFERROR(AVERAGE(Data!G5:G287),\"\")","v":1},{"$f":"IFERROR(AVERAGE(Data!H5:H287),\"\")","v":1.0000000000000031},{"$f":"IFERROR(AVERAGE(Data!I5:I287),\"\")","v":1},{"$f":"IFERROR(AVERAGE(Data!J5:J287),\"\")","v":0.99999999999999578},{"$f":"IFERROR(AVERAGE(Data!K5:K287),\"\")","v":0.99999999999999956},{"$f":"IFERROR(AVERAGE(Data!L5:L287),\"\")","v":1},{"$f":"IFERROR(AVERAGE(Data!M5:M287),\"\")","v":1.0000000000000004},{"$f":"IFERROR(AVERAGE(Data!N5:N287),\"\")","v":1.0000000000000002},{"$f":"IFERROR(AVERAGE(Data!O5:O287),\"\")","v":1.0000000000000158},{"$f":"IFERROR(AVERAGE(Data!P5:P287),\"\")","v":1.0000000000000011},{"$f":"IFERROR(AVERAGE(Data!Q5:Q287),\"\")","v":0.99999999999999978},{"$f":"IFERROR(AVERAGE(Data!R5:R287),\"\")","v":0.99999999999999944},{"$f":"IFERROR(AVERAGE(Data!S5:S287),\"\")","v":1.0000000000000011},{"$f":"IFERROR(AVERAGE(Data!T5:T287),\"\")","v":1.0000000000000009},{"$f":"IFERROR(AVERAGE(Data!U5:U287),\"\")","v":1.0000000000000007},{"$f":"IFERROR(AVERAGE(Data!V5:V287),\"\")","v":0.99999999999999956},{"$f":"IFERROR(AVERAGE(Data!W5:W287),\"\")","v":1.0000000000000009},{"$f":"IFERROR(AVERAGE(Data!X5:X287),\"\")","v":1.0000000000000002},{"$f":"IFERROR(AVERAGE(Data!Y5:Y287),\"\")","v":1.0000000000000011},{"$f":"IFERROR(AVERAGE(Data!Z5:Z287),\"\")","v":1.0000000000000009},{"$f":"IFERROR(AVERAGE(Data!AA5:AA287),\"\")","v":0.99999999999999956},{"$f":"IFERROR(AVERAGE(Data!AB5:AB287),\"\")","v":1},{"$f":"IFERROR(AVERAGE(Data!AC5:AC287),\"\")","v":1.0000000000000053},{"$f":"IFERROR(AVERAGE(Data!AD5:AD287),\"\")","v":0.999999999999996},{"$f":"IFERROR(AVERAGE(Data!AE5:AE287),\"\")","v":1.0000000000000007},{"$f":"IFERROR(AVERAGE(Data!AF5:AF287),\"\")","v":1.0000000000000022},{"$f":"IFERROR(AVERAGE(Data!AG5:AG287),\"\")","v":1.0000000000000013},{"$f":"IFERROR(AVERAGE(Data!AH5:AH287),\"\")","v":1.0000000000000007},{"$f":"IFERROR(AVERAGE(Data!AI5:AI287),\"\")","v":0.999999999999999},{"$f":"IFERROR(AVERAGE(Data!AJ5:AJ287),\"\")","v":1},{"$f":"IFERROR(AVERAGE(Data!AK5:AK287),\"\")","v":1.0000000000000009},{"$f":"IFERROR(AVERAGE(Data!AL5:AL287),\"\")","v":0.99999999999999956},{"$f":"IFERROR(AVERAGE(Data!AM5:AM287),\"\")","v":0.99999999999999978},{"$f":"IFERROR(AVERAGE(Data!AN5:AN287),\"\")","v":1.0000000000000084},{"$f":"IFERROR(AVERAGE(Data!AO5:AO287),\"\")","v":1.0000000000000011},{"$f":"IFERROR(AVERAGE(Data!AP5:AP287),\"\")","v":1.0000000000000007},{"$f":"IFERROR(AVERAGE(Data!AQ5:AQ287),\"\")","v":1.0000000000000007},{"$f":"IFERROR(AVERAGE(Data!AR5:AR287),\"\")","v":1},{"$f":"IFERROR(AVERAGE(Data!AS5:AS287),\"\")","v":0.99999999999999944},{"$f":"IFERROR(AVERAGE(Data!AT5:AT287),\"\")","v":1.002486776543055}]
[]
[null,"Indicators",null,"Domains"]
["Education",3,"Self",{"$f":"SUM(B12:B15)","v":19}]
["Material Wellbeing",5,"Supports",{"$f":"SUM(B16:B17)","v":9}]
["Health",8,"Systems & Structures",{"$f":"SUM(B18:B21)","v":12}]
["Life Satisfaction",3,null,{"$f":"SUM(D12:D14)","v":40}]
["Strong & Stable Families",5]
["Social Capital",4]
["Enabling Infrastructure",3]
["Local Economy",2]
["Effective Public Services",2]
["Crime",5]
[null,{"$f":"SUM(B12:B21)","v":40}]

{"sheet":"Slicer","index":4,"n_rows":4,"n_cols":1,"rows_kept":4,"cut":false,"hidden":true,"merged":[]}
[]
[]
["Sum of Index Number"]
[40186]

{"sheet":"Sheet1","index":5,"n_rows":42,"n_cols":12,"rows_kept":42,"cut":false,"hidden":true,"merged":[]}
[]
["Number","Indicator"]
[1,"Attainment: Key Stage 4 pupils - % pupils achieving 5+ A*-C GCSEs (including English & Maths) at the end of Key Stage 4, 2019. Source: KCC, MIU.",1,"% pupils achieving 5+ A*-C GCSEs (including English & Maths) at the end of Key Stage 4, 2019. Source: KCC, MIU."]
[2,"Attainment: Early years foundation stage pupils - % pupils achieving a good level of development at early years foundation stage, 2019. Source: KCC, MIU. ",2,"% pupils achieving a good level of development at early years foundation stage, 2019. Source: KCC, MIU. ",null,null,null,null,null,null,"Number","Indicator"]
[3,"Education, skills and training IMD domain. Source: IMD 2019. ",3,"Education, skills and training IMD domain. Source: IMD 2019. ",null,null,null,null,null,null,1,"Attainment: Key Stage 4 pupils - % pupils achieving 5+ A*-C GCSEs (including English & Maths) at the end of Key Stage 4, 2019. Source: KCC, MIU."]
[4,"Working age benefits* - % of working age (16-64) claiming benefits, Jul 2021. Source: DWP. ",4,"% of working age (16-64) claiming benefits, Jul 2021. Source: DWP. ",null,null,null,null,null,null,"Grand Total"]
[5,"Income deprivation: children* - % of children affected by income deprivation (IDACI). Source: IMD 2019.",5,"% of children affected by income deprivation (IDACI).  Source: IMD 2019."]
[6,"Income deprivation: older people* - % of older people affected by income deprivation (IDAOPI). Source: IMD 2019.",6,"% of older people affected by income deprivation (IDAOPI).  Source: IMD 2019."]
[7,"Adequacy of income- \"Very difficult on present income\", modelled using Mosaic. Source: Mosaic 2019.",7,"(Modelled) Adequacy of income. Source: Mosaic 2019."]
[8,"Unemployment rate: age 16-64* - Claimant count (%): Age 18-64, Jul 2021. Source: DWP.",8,"% (aged 18 - 64) claimant count, Jul 2021. Source: DWP."]
[9,"Deaths from all causes, all ages, standardised mortality ratio, 2015-2019. Source: Fingertips.",9,"Deaths from all causes, all ages, standardised mortality ratio, 2015-2019. Source: Fingertips."]
[10,"Prevantable Deaths in under 75s, 2015-2019. Source: Fingertips.",10,"Prevantable Deaths in under 75s, 2015-2019. Source: Fingertips."]
[11,"Hospital admissions: Self-harm* - Hospital admissions for self-harm (all ages, age-standardised), 2013/14- 2020/21. Source: HES. ",11,"Hospital admissions: Self-harm* - Hospital admissions for self-harm (all ages, age-standardised), 2013/14- 2020/21. Source: HES. "]
[12,"\"Limited Day to Day activity\" modelled using Mosaic. Source: Mosaic 2019.",12,"\"Limited Day to Day activity\" modelled using Mosaic. Source: Mosaic 2019."]
[13,"Depression* - (Modelled) % with depression (based on GP-level recorded prevalence), 2020/21. Source: QOF. ",13,"(Modelled) % with depression (based on GP-level recorded prevalence), 2020/21.  Source: QOF."]
[14,"Mental Health problems* - (Modelled) % with mental health problems (based on GP-level recorded prevalence), 2020/21. Source: QOF. ",14,"(Modelled) % with mental health problems (based on GP-level recorded prevalence), 2020/21.  Source: QOF."]
[15,"Health IMD domain* - Source: IMD 2019.",15,"Health IMD domain* - Source: IMD 2019."]
[16,"Hospital admissions: Alcohol* - Alcohol-related hospital admissions (all ages, age-standardised), 2013/14- 2020/21. Source: HES. ",16,"Hospital admissions: Alcohol* - Alcohol-related hospital admissions (all ages, age-standardised), 2013/14- 2020/21. Source: HES. "]
[17,"\"Does not enjoy general happiness\". Source: ACORN Wellbeing, XXX",17,"(Modelled) subjective wellbeing: \"Does not enjoy general happiness\". Source: ACORN Wellbeing, XXX"]
[18,"\"Not satisfied with: Life overall\". Source: ACORN Wellbeing, ",18,"(Modelled) subjective wellbeing: \"Not satisfied with: Life overall\". Source: ACORN Wellbeing, "]
[19,"\"More than usual difficulties: under strain\". Source: ACORN Wellbeing, ",19,"(Modelled) subjective wellbeing: \"More than usual difficulties: under strain\". Source: ACORN Wellbeing, "]
[20,"Lone parent households with children: Dependent* - % living in households consisting of a lone parent with dependent children, 2011. Source: Census. ",20,"% living in households consisting of a lone parent with dependent children, 2011. Source: Census. "]
[21,"One person pensioner households* - % living in one person pensioner (aged 65+) households, 2011. Source: Census. ",21,"% living in one person pensioner (aged 65+) households, 2011. Source: Census. "]
[22,"Carers - % providing 50+ hours of unpaid care per week, 2011. Source: Census. ",22,"% providing 50+ hours of unpaid care per week, 2011. Source: Census. "]
[23,"Safe from harm: domestic abuse victims - Domestic abuse victims (troubled families programme), rate per 1,000 population, 2020/21. Source: KCC, MIU. ",23,"Domestic abuse victims (troubled families programme), rate per 1,000 population, 2020/21. Source: KCC, MIU. "]
[24,"Safe from harm: child safeguarding incidents - Children's social care referrals progressing to an initial assessment, 2018/19- 2020/21. Source: KCC, MIU.",24,"Children's social care referrals progressing to an initial assessment, 2018/19- 2020/21. Source: KCC, MIU."]
[25,"Sports/hobbies club organisation membership - Synthetic estimates of the % a member of a sports/hobby organisation, modelled using Mosaic. Source: Mosaic 2021.",25,"(Modelled) % a member of a sports/hobby organisation, modelled using Mosaic. Source: Mosaic 2021."]
[26,"Children's/youth  clubs organisation membership - Synthetic estimates of the % a member of a Children's/youth clubs organisation, modelled using Mosaic. Source: Mosaic 2021.",26,"(Modelled) % a member of a Children's/youth clubs organisation, modelled using Mosaic. Source: Mosaic 2021."]
[27,"Social club organisation membership - Synthetic estimates of the % a member of a Social club organisation, modelled using Mosaic. Source: Mosaic 2021.",27,"(Modelled) % a member of a Social club organisation, modelled using Mosaic. Source: Mosaic 2021."]
[28,"Local community club organisation membership - Synthetic estimates of the % a member of a Local community organisation, modelled using Mosaic. Source: Mosaic 2021.",28,"(Modelled) % a member of a Local community organisation, modelled using Mosaic. Source: Mosaic 2021."]
[29,"Barriers to housing and services IMD domain* - Source: IMD 2019.",29,"Barriers to housing and services IMD domain* - Source: IMD 2019."]
[30,"Access to services: Distance to GP* - Distance to nearest GP, 2016. Source: KCC. ",30,"Distance to GP* - Distance to nearest GP, 2016. Source: KCC. "]
[31,"Access to services: Distance to A&E* - Distance to nearest urgent care centre/A&E, 2016. Source: KCC. ",31,"Distance to A&E* - Distance to nearest urgent care centre/A&E, 2016. Source: KCC. "]
[32,"Jobs per 16-64 population, 2021. Source: Nomis. ",32,"Jobs per 16-64 population, 2021. Source: Nomis. "]
[33,"Travel time in minutes to nearest employment centre with 500 to 4999 jobs by cycle, 2017. Source: Department for Transport.",33,"Travel time in minutes to nearest employment centre with 500 to 4999 jobs by cycle, 2017. Source: Department for Transport."]
[34,"Satisfaction with local police - Synthetic estimates of the % rating local police as effective at catching criminals, modelled using Mosaic. Source: Mosaic 2021. ",34,"(Modelled) % rating local police as effective at catching criminals, modelled using Mosaic. Source: Mosaic 2021. "]
[35,"Satisfaction withGP - Synthetic estimates of the % rating able to talk about issues with local GP , modelled using Mosaic. Source: Mosaic 2021. ",35,"(Modelled) % rating able to talk about issues with local GP , modelled using Mosaic. Source: Mosaic 2021. "]
[36,"Crime: All recorded* - Reported crime rate: all recorded crime (rate per 1,000 population), Jul 2019 - Jun 2021. Excludes antisocial behaviour. Source: Police.data.uk. ",36,"Reported crime rate: all recorded crime (rate per 1,000 population), Jul 2019 - Jun 2021. Excludes antisocial behaviour. Source: Police.data.uk. "]
[37,"Crime: Burglary* - Reported crime rate: burglary (rate per 1,000 population),  Jul 2019 - Jun 2021. Source: Police.data.uk. ",37,"Reported crime rate: burglary (rate per 1,000 population),  Jul 2019 - Jun 2021. Source: Police.data.uk. "]
[38,"Crime: Antisocial behaviour* - Reported crime rate: antisocial behaviour (rate per 1,000 population),  Jul 2019 - Jun 2021. Source: Police.data.uk. ",38,"Reported crime rate: antisocial behaviour (rate per 1,000 population),  Jul 2019 - Jun 2021. Source: Police.data.uk. "]
[39,"Crime: Violence & sexual offences* - Reported crime rate: violence & sexual offences (rate per 1,000 population),  Jul 2019 - Jun 2021. Includes domestic violence. Source: Police.data.uk. ",39,"Reported crime rate: violence & sexual offences (rate per 1,000 population),  Jul 2019 - Jun 2021. Includes domestic violence. Source: Police.data.uk. "]
[40,"Crime IMD domain* - Source: IMD 2019.",40,"Crime IMD domain* - Source: IMD 2019."]